{"text_format":"1","workbook":"xlsx","n_sheets":8,"sheets":["CALCULADORA","Características","Flujos","TIR de Tenencia","Exclusión","UVR","Tabla de Amortizacion","Tablas"],"not_rendered":{"charts":0,"images":4,"macros":1,"external_links":1,"defined_names":4,"comments":0,"pivot_tables":0},"unopened":[],"bounds":{"document_bytes":16777216,"sheet_cells":100000,"rows_first":2000,"rows_last":500,"rows_between":2000,"halvings":0,"cell_chars":16384,"cell_head_chars":4096},"cells_cut":0,"cells_raw":0,"read":"whole","date_system":"1900"}

{"sheet":"CALCULADORA","index":0,"n_rows":40,"n_cols":6,"rows_kept":40,"cut":false,"hidden":false,"merged":[[22,3,23,4],[12,1,12,2],[8,1,8,2],[24,1,24,2],[28,1,28,2]]}
[null,"Exclusión de responsabilidad"]
[null,"Exclusión de responsabilidad"]
[]
[]
[]
[]
[null,null,null,"Fecha de Compra"]
[null,null,null,"Fecha de Venta "]
[null,"Calculadora Emisiones TIPS en UVR"]
[]
[null,"Emisión","TIPS UVR U-6 A 2037",null,"Seleccionar la Emisión a Calcular",3.9600000000000003E-2]
[null,null,null,null,null,99.412000000000006]
[null,"Características",null,null,null,99.438999999999993]
[null,"Identificación titulo (Nemotécnico)",{"$f":"+HLOOKUP(C11,Características!B1:F7,2,FALSE)","v":"INST15161237"}]
[null,"Fecha de Emisión ",{"$f":"+HLOOKUP(C11,Características!B1:F7,4,FALSE)","v":"2022-12-16"}]
[null,"Fecha de Vencimiento Contractual",{"$f":"+HLOOKUP(C11,Características!B1:F8,5,FALSE)","v":"2037-12-16"}]
[null,"Fecha estimada para el pago del 100% del título"]
[null,"Fecha estimada para el pago del 100% del título",{"$f":"+VLOOKUP(0,Flujos!D2:I182,6,FALSE)","v":"2033-12-16"}]
[null,"Tasa Facial Efectiva Anual",{"$f":"+HLOOKUP(C11,Características!B1:F7,6,FALSE)","v":7.8E-2}]
[null,"Tasa Facial Nominal Anual ",{"$f":"+ROUND(((1+C19)^(1/12)-1)*12,6)","v":7.5342999999999993E-2}]
[null,"Duración Macaulay (Años en los que recuperas tu inversión)",{"$f":"+SUMPRODUCT(Flujos!B2:B182,Flujos!H2:H182)/Flujos!H183/365","v":3.0705963923101178}]
[null,"Nominal Inicial UVR (Monto del título al momento de la emisión)",{"$f":"Flujos!L2","v":109099002.88641122}]
[null,"UVR*",{"$f":"IF(VLOOKUP(C30,UVR!$A:$B,2,FALSE)=0,\"Actualizar base\",VLOOKUP(C30,UVR!$A:$B,2,FALSE))","v":378.21890000000002},"UVR*: El valor de la UVR se proyecta desde el 15/02/2024 con el promedio de las expectivas de nuestros agentes colocadores"]
[]
[null,"Datos de Compra"]
[null,"Fecha de Compra","2022-03-14",null,"Fecha de Compra y Valor de Compra son datos opcionales deben incluirse solo para calcular la TIR de Tenencia"]
[null,"Valor de Compra (COP)",52000000]
[]
[null,"Datos de Venta"]
[null,"Fecha de Venta ","2025-02-01"]
[null,"Valor nominal negociado (UVR)",81012045,null,"Incluir los datos de las celdas grises"]
[null,"Tasa de negociación / tasa de valoración",3.9600000000000003E-2]
[null,"Precio Limpio (sin incluir intereses causados)",94.307000000000002]
[null,"Precio sucio (incluyendo intereses causados)",94.504999999999995]
[null,"Porcentaje del nominal inicial que falta por pagar del capital",{"$f":"+Flujos!C183*100","v":74.255531999999988}]
[null,"Valor de Giro (COP)",{"$f":"+Características!B20","v":28992114893}]
[]
[null,"TIR de Tenencia en COP*",{"$f":"+'TIR de Tenencia'!N2","v":{"$error":"#N/A"}},null,"TIR de Tenencia en COP*"]
[]
[null,"Oficina de Atención a Inversionistas al 601 618 3030 ext 257 - 239, o al correo  asalcedo@titularizadora.com - josorio@titularizadora.com"]

{"sheet":"Características","index":1,"n_rows":39,"n_cols":6,"rows_kept":39,"cut":false,"hidden":true,"merged":[[8,0,8,1],[26,0,26,1]]}
["Serie","TIPS UVR U-2 A 2027","TIPS UVR U-3 A 2028","TIPS UVR U-4 A 2029","TIPS UVR U-5 A 2036","TIPS UVR U-6 A 2037"]
["Nemo MEC","INST10091127","INST10250728","INST10150829","INST15071036","INST15161237"]
["ISIN","COT80CHGRALTITIP0AD0146","COT80CH02555","COT80CHxxxxxx","COT80CHxxxxxx","COT80CHxxxxxx"]
["Emisión","2017-11-09","2018-07-25","2019-08-15","2021-10-07","2022-12-16"]
["Vencimiento contractual","2027-11-09","2028-07-25","2029-08-15","2036-10-07","2037-12-16"]
["Cupón EA",3.1899999999999998E-2,3.1800000000000002E-2,2.2200000000000001E-2,2.58E-2,7.8E-2]
["Moneda","UVR","UVR","UVR","UVR","UVR"]
[]
["Cálculo de tasa y precio sucio a partir del limpio"]
["Fecha de liquidación",{"$f":"+CALCULADORA!C30","v":"2025-02-01"}]
["Fecha último pago cupón",{"$f":"+VLOOKUP(B10,Flujos!$A$2:$A$182,1)","v":"2025-01-16"}]
["Valor Par",{"$f":"+VLOOKUP(B11,Flujos!$A$2:$D$182,4)","v":74.255532000000002}]
["Próximo pago de interés",{"$f":"+VLOOKUP(EDATE(B10,1),Flujos!$A$2:$F$182,6)","v":0.46625}]
["Días corridos",{"$f":"+DAYS360(B11,B10,TRUE)","v":15}]
["Días entre flujos",30]
["Cupón corrido",{"$f":"ROUND(B13/B12*B14/B15*100,4)","v":0.31390000000000001}]
["Precio limpio",{"$f":"+CALCULADORA!C33","v":94.307000000000002}]
["Nominal",{"$f":"+CALCULADORA!C31","v":81012045}]
["Moneda",{"$f":"+CALCULADORA!$C$23","v":378.21890000000002}]
["Contravalor",{"$f":"ROUND(B18*B19*(B17+B16)/100,0)","v":28992114893}]
["Precio unitario",{"$f":"TRUNC(B20/B18,5)","v":357.87412}]
["Precio sucio MEC",{"$f":"TRUNC(B21/B19*100,3)","v":94.62}]
["Precio sucio modelo",{"$f":"TRUNC(Flujos!H183/VLOOKUP(CALCULADORA!C30,Flujos!A2:D182,4)*100,3)","v":111.79600000000001}]
["Diferencia",{"$f":"+B22-B23","v":-17.176000000000002}]
["Tasa de descuento equivalente",{"$f":"TRUNC(CALCULADORA!C32,5)","v":3.9600000000000003E-2}]
[]
["Cálculo de precio limpio y sucio a partir de tasa"]
["Tasa de descuento",{"$f":"TRUNC(CALCULADORA!C32,5)","v":3.9600000000000003E-2}]
["Precio sucio modelo",{"$f":"TRUNC(Flujos!H183/VLOOKUP(CALCULADORA!C30,Flujos!A2:D182,4)*100,3)","v":111.79600000000001}]
["Moneda",{"$f":"+CALCULADORA!$C$23","v":378.21890000000002}]
["Nominal",{"$f":"+CALCULADORA!C31","v":81012045}]
["Contravalor",{"$f":"+ROUND(B29/100*B31*B30,0)","v":34254614748}]
["Valor Par",{"$f":"+VLOOKUP(B11,Flujos!$A$2:$D$182,4)","v":74.255532000000002}]
["Próximo pago de interés",{"$f":"+VLOOKUP(EDATE(B10,1),Flujos!$A$2:$F$182,6)","v":0.46625}]
["Días corridos",{"$f":"+DAYS360(B11,B10,TRUE)","v":15}]
["Días entre flujos",30]
["Precio unitario",{"$f":"TRUNC(B32/(B30*B31),5)","v":1.1179600000000001}]
["Cupón corrido",{"$f":"ROUND(B34/B33*B35/B36,6)*100","v":0.31390000000000001}]
["Precio limpio",{"$f":"ROUND((B37-(B38/100))*100,3)","v":111.482}]

{"sheet":"Flujos","index":2,"n_rows":183,"n_cols":18,"rows_kept":183,"cut":false,"hidden":false,"merged":[]}
["Fecha","Días 365 / Days 365","Amortización / Amortization","Factor Saldo","Factor Capital","Factor Intereses","Factor Total","VPN","Control","Mes inicial","Días iniciales","Saldo / Balance","Pago de Capital en UVR","Pago de Intereses en UVR","Pago Total UVR","Pago de Capital en COP","Pago de Intereses en COP","Pago Total COP"]
[{"$f":"+CALCULADORA!C15","v":"2022-12-16"},{"$f":"IF(DIAS365(CALCULADORA!$C$30,A2)<0,0,DIAS365(CALCULADORA!$C$30,A2))","v":0},0,{"$f":"+CALCULADORA!C35/Flujos!C183","v":100},0,0,{"$f":"F2+E2","v":0},{"$f":"IF($B2<0,0,G2/POWER(1+CALCULADORA!$C$32,Flujos!$B2/365))","v":0},{"$f":"+A2","v":"2022-12-16"},0,0,{"$f":"+Características!B18/Flujos!C183","v":109099002.88641122},0,0,{"$f":"+N2+M2","v":0},0,0,{"$f":"+Q2+P2","v":0}]
[{"$f":"EDATE(A2,1)","v":"2023-01-16"},{"$f":"IF(DIAS365(CALCULADORA!$C$30,A3)<0,0,DIAS365(CALCULADORA!$C$30,A3))","v":0},{"$f":"+HLOOKUP(CALCULADORA!$C$11,Tablas!$B$1:$B$181,Flujos!J3+1,FALSE)","v":1.013202E-2},{"$f":"+ROUND(D2-E3,6)","v":98.986797999999993},{"$f":"ROUND(C3*$D$2,6)","v":1.0132019999999999},{"$f":"ROUND(D2*ROUND(((1+CALCULADORA!$C$19)^(1/12)-1),6),6)","v":0.62790000000000001},{"$f":"F3+E3","v":1.6411020000000001},{"$f":"IF($B3=0,0,G3/POWER(1+CALCULADORA!$C$32,Flujos!$B3/365))","v":0},{"$f":"+A3","v":"2023-01-16"},1,{"$f":"+DIAS365($A$2,A3)","v":31},{"$f":"+L2-M3","v":107993609.60718605},{"$f":"+$L$2*C3","v":1105393.2792251762},{"$f":"+L2*$F$3%","v":685032.639123776},{"$f":"+N3+M3","v":1790425.9183489522},{"$f":"M3*IFERROR(VLOOKUP($A3,UVR!$A:$B,2,0),CALCULADORA!$C$23)","v":360060968.77462381},{"$f":"N3*IFERROR(VLOOKUP($A3,UVR!$A:$B,2,0),CALCULADORA!$C$23)","v":223136435.0776906},{"$f":"O3*IFERROR(VLOOKUP($A3,UVR!$A:$B,2,0),CALCULADORA!$C$23)","v":583197403.85231447}]
[{"$f":"EDATE(A3,1)","v":"2023-02-16"},{"$f":"IF(DIAS365(CALCULADORA!$C$30,A4)<0,0,DIAS365(CALCULADORA!$C$30,A4))","v":0},{"$f":"+HLOOKUP(CALCULADORA!$C$11,Tablas!$B$1:$B$181,Flujos!J4+1,FALSE)","v":6.7386900000000003E-3},{"$f":"+ROUND(D3-E4,6)","v":98.312928999999997},{"$f":"ROUND(C4*$D$2,6)","v":0.67386900000000005},{"$f":"ROUND(D3*ROUND(((1+CALCULADORA!$C$19)^(1/12)-1),6),6)","v":0.62153800000000003},{"$f":"F4+E4","v":1.295407},{"$f":"IF($B4=0,0,G4/POWER(1+CALCULADORA!$C$32,Flujos!$B4/365))","v":0},"2023-02-16",2,{"$f":"+DIAS365($A$2,A4)","v":62},{"$f":"+L3-M4","v":107258425.24742542},{"$f":"+$L$2*C4","v":735184.35976063041},{"$f":"+L3*$F$3%","v":678091.87472352118},{"$f":"+N4+M4","v":1413276.2344841515},{"$f":"M4*IFERROR(VLOOKUP($A4,UVR!$A:$B,2,0),CALCULADORA!$C$23)","v":242544672.1286296},{"$f":"N4*IFERROR(VLOOKUP($A4,UVR!$A:$B,2,0),CALCULADORA!$C$23)","v":223709290.39003688},{"$f":"O4*IFERROR(VLOOKUP($A4,UVR!$A:$B,2,0),CALCULADORA!$C$23)","v":466253962.51866645}]
["2023-03-16",{"$f":"IF(DIAS365(CALCULADORA!$C$30,A5)<0,0,DIAS365(CALCULADORA!$C$30,A5))","v":0},{"$f":"+HLOOKUP(CALCULADORA!$C$11,Tablas!$B$1:$B$181,Flujos!J5+1,FALSE)","v":1.048377E-2},{"$f":"+ROUND(D4-E5,6)","v":97.264551999999995},1.0483769999999999,{"$f":"ROUND(D4*ROUND(((1+CALCULADORA!$C$19)^(1/12)-1),6),6)","v":0.61730700000000005},1.6656839999999999,{"$f":"IF($B5=0,0,G5/POWER(1+CALCULADORA!$C$32,Flujos!$B5/365))","v":0},"2023-03-16",3,90,106114656.39393495,1143768.8534904714,673475.65212858422,1817244.5056190556,{"$f":"M5*IFERROR(VLOOKUP($A5,UVR!$A:$B,2,0),CALCULADORA!$C$23)","v":384019477.54434294},{"$f":"N5*IFERROR(VLOOKUP($A5,UVR!$A:$B,2,0),CALCULADORA!$C$23)","v":226118911.42165044},{"$f":"O5*IFERROR(VLOOKUP($A5,UVR!$A:$B,2,0),CALCULADORA!$C$23)","v":610138388.9659934}]
["2023-04-16",{"$f":"IF(DIAS365(CALCULADORA!$C$30,A6)<0,0,DIAS365(CALCULADORA!$C$30,A6))","v":0},{"$f":"+HLOOKUP(CALCULADORA!$C$11,Tablas!$B$1:$B$181,Flujos!J6+1,FALSE)","v":5.95883E-3},96.668668999999994,0.59588300000000005,{"$f":"ROUND(D5*ROUND(((1+CALCULADORA!$C$19)^(1/12)-1),6),6)","v":0.61072400000000004},1.206607,{"$f":"IF($B6=0,0,G6/POWER(1+CALCULADORA!$C$32,Flujos!$B6/365))","v":0},"2023-04-16",4,121,105464553.98256531,650102.41136963374,666293.92749751755,1316396.3388671512,{"$f":"M6*IFERROR(VLOOKUP($A6,UVR!$A:$B,2,0),CALCULADORA!$C$23)","v":221854078.92448348},{"$f":"N6*IFERROR(VLOOKUP($A6,UVR!$A:$B,2,0),CALCULADORA!$C$23)","v":227379598.95658833},{"$f":"O6*IFERROR(VLOOKUP($A6,UVR!$A:$B,2,0),CALCULADORA!$C$23)","v":449233677.88107181}]
["2023-05-16",{"$f":"IF(DIAS365(CALCULADORA!$C$30,A7)<0,0,DIAS365(CALCULADORA!$C$30,A7))","v":0},{"$f":"+HLOOKUP(CALCULADORA!$C$11,Tablas!$B$1:$B$181,Flujos!J7+1,FALSE)","v":8.6504000000000008E-3},95.803629000000001,0.86504000000000003,{"$f":"ROUND(D6*ROUND(((1+CALCULADORA!$C$19)^(1/12)-1),6),6)","v":0.60698300000000005},1.4720230000000001,{"$f":"IF($B7=0,0,G7/POWER(1+CALCULADORA!$C$32,Flujos!$B7/365))","v":0},"2023-05-16",5,151,104520803.9679967,943750.01456861175,662211.93445652758,1605961.9490251392,{"$f":"M7*IFERROR(VLOOKUP($A7,UVR!$A:$B,2,0),CALCULADORA!$C$23)","v":325414253.77340013},{"$f":"N7*IFERROR(VLOOKUP($A7,UVR!$A:$B,2,0),CALCULADORA!$C$23)","v":228337164.67756838},{"$f":"O7*IFERROR(VLOOKUP($A7,UVR!$A:$B,2,0),CALCULADORA!$C$23)","v":553751418.45096838}]
["2023-06-16",{"$f":"IF(DIAS365(CALCULADORA!$C$30,A8)<0,0,DIAS365(CALCULADORA!$C$30,A8))","v":0},{"$f":"+HLOOKUP(CALCULADORA!$C$11,Tablas!$B$1:$B$181,Flujos!J8+1,FALSE)","v":1.1264980000000001E-2},94.677131000000003,1.126498,{"$f":"ROUND(D7*ROUND(((1+CALCULADORA!$C$19)^(1/12)-1),6),6)","v":0.60155099999999995},1.7280489999999999,{"$f":"IF($B8=0,0,G8/POWER(1+CALCULADORA!$C$32,Flujos!$B8/365))","v":0},"2023-06-16",6,182,103291805.88246134,1228998.0855353647,656286.12811505131,1885284.2136504161,{"$f":"M8*IFERROR(VLOOKUP($A8,UVR!$A:$B,2,0),CALCULADORA!$C$23)","v":427030009.89648032},{"$f":"N8*IFERROR(VLOOKUP($A8,UVR!$A:$B,2,0),CALCULADORA!$C$23)","v":228034425.01849917},{"$f":"O8*IFERROR(VLOOKUP($A8,UVR!$A:$B,2,0),CALCULADORA!$C$23)","v":655064434.91497958}]
["2023-07-16",{"$f":"IF(DIAS365(CALCULADORA!$C$30,A9)<0,0,DIAS365(CALCULADORA!$C$30,A9))","v":0},{"$f":"+HLOOKUP(CALCULADORA!$C$11,Tablas!$B$1:$B$181,Flujos!J9+1,FALSE)","v":8.9572300000000001E-3},93.781407999999999,0.89572300000000005,{"$f":"ROUND(D8*ROUND(((1+CALCULADORA!$C$19)^(1/12)-1),6),6)","v":0.59447799999999995},1.4902009999999999,{"$f":"IF($B9=0,0,G9/POWER(1+CALCULADORA!$C$32,Flujos!$B9/365))","v":0},"2023-07-16",7,212,102314581.02083708,977224.86162424914,648569.24913597468,1625794.1107602238,{"$f":"M9*IFERROR(VLOOKUP($A9,UVR!$A:$B,2,0),CALCULADORA!$C$23)","v":340992647.77019316},{"$f":"N9*IFERROR(VLOOKUP($A9,UVR!$A:$B,2,0),CALCULADORA!$C$23)","v":226311624.07965717},{"$f":"O9*IFERROR(VLOOKUP($A9,UVR!$A:$B,2,0),CALCULADORA!$C$23)","v":567304271.8498503}]
["2023-08-16",{"$f":"IF(DIAS365(CALCULADORA!$C$30,A10)<0,0,DIAS365(CALCULADORA!$C$30,A10))","v":0},{"$f":"+HLOOKUP(CALCULADORA!$C$11,Tablas!$B$1:$B$181,Flujos!J10+1,FALSE)","v":7.1490199999999999E-3},93.066506000000004,0.71490200000000004,{"$f":"ROUND(D9*ROUND(((1+CALCULADORA!$C$19)^(1/12)-1),6),6)","v":0.58885299999999996},1.303755,{"$f":"IF($B10=0,0,G10/POWER(1+CALCULADORA!$C$32,Flujos!$B10/365))","v":0},"2023-08-16",8,243,101534630.06722207,779950.95361501153,642433.25422983605,1422384.2078448476,{"$f":"M10*IFERROR(VLOOKUP($A10,UVR!$A:$B,2,0),CALCULADORA!$C$23)","v":272989931.31893194},{"$f":"N10*IFERROR(VLOOKUP($A10,UVR!$A:$B,2,0),CALCULADORA!$C$23)","v":224857485.12305611},{"$f":"O10*IFERROR(VLOOKUP($A10,UVR!$A:$B,2,0),CALCULADORA!$C$23)","v":497847416.44198805}]
["2023-09-16",{"$f":"IF(DIAS365(CALCULADORA!$C$30,A11)<0,0,DIAS365(CALCULADORA!$C$30,A11))","v":0},{"$f":"+HLOOKUP(CALCULADORA!$C$11,Tablas!$B$1:$B$181,Flujos!J11+1,FALSE)","v":8.6948200000000007E-3},92.197023999999999,0.86948199999999998,{"$f":"ROUND(D10*ROUND(((1+CALCULADORA!$C$19)^(1/12)-1),6),6)","v":0.58436500000000002},1.4538470000000001,{"$f":"IF($B11=0,0,G11/POWER(1+CALCULADORA!$C$32,Flujos!$B11/365))","v":0},"2023-09-16",9,274,100586033.87494525,948596.19227682613,637535.94219208742,1586132.1344689135,{"$f":"M11*IFERROR(VLOOKUP($A11,UVR!$A:$B,2,0),CALCULADORA!$C$23)","v":333701342.34238791},{"$f":"N11*IFERROR(VLOOKUP($A11,UVR!$A:$B,2,0),CALCULADORA!$C$23)","v":224275198.90247816},{"$f":"O11*IFERROR(VLOOKUP($A11,UVR!$A:$B,2,0),CALCULADORA!$C$23)","v":557976541.24486613}]
["2023-10-16",{"$f":"IF(DIAS365(CALCULADORA!$C$30,A12)<0,0,DIAS365(CALCULADORA!$C$30,A12))","v":0},{"$f":"+HLOOKUP(CALCULADORA!$C$11,Tablas!$B$1:$B$181,Flujos!J12+1,FALSE)","v":4.2568500000000004E-3},91.771338999999998,0.42568499999999998,{"$f":"ROUND(D11*ROUND(((1+CALCULADORA!$C$19)^(1/12)-1),6),6)","v":0.578905},1.0045899999999999,{"$f":"IF($B12=0,0,G12/POWER(1+CALCULADORA!$C$32,Flujos!$B12/365))","v":0},"2023-10-16",10,304,100121615.78450823,464418.09043701965,631579.70670078124,1095997.7971378008,{"$f":"M12*IFERROR(VLOOKUP($A12,UVR!$A:$B,2,0),CALCULADORA!$C$23)","v":164508962.50314373},{"$f":"N12*IFERROR(VLOOKUP($A12,UVR!$A:$B,2,0),CALCULADORA!$C$23)","v":223721953.18579093},{"$f":"O12*IFERROR(VLOOKUP($A12,UVR!$A:$B,2,0),CALCULADORA!$C$23)","v":388230915.68893462}]
["2023-11-16",{"$f":"IF(DIAS365(CALCULADORA!$C$30,A13)<0,0,DIAS365(CALCULADORA!$C$30,A13))","v":0},{"$f":"+HLOOKUP(CALCULADORA!$C$11,Tablas!$B$1:$B$181,Flujos!J13+1,FALSE)","v":1.0520750000000001E-2},90.719263999999995,1.0520750000000001,{"$f":"ROUND(D12*ROUND(((1+CALCULADORA!$C$19)^(1/12)-1),6),6)","v":0.57623199999999997},1.6283069999999999,{"$f":"IF($B13=0,0,G13/POWER(1+CALCULADORA!$C$32,Flujos!$B13/365))","v":0},"2023-11-16",11,335,98973812.449891016,1147803.334617211,628663.62551092717,1776466.9601281383,{"$f":"M13*IFERROR(VLOOKUP($A13,UVR!$A:$B,2,0),CALCULADORA!$C$23)","v":408740342.95919734},{"$f":"N13*IFERROR(VLOOKUP($A13,UVR!$A:$B,2,0),CALCULADORA!$C$23)","v":223871266.22436956},{"$f":"O13*IFERROR(VLOOKUP($A13,UVR!$A:$B,2,0),CALCULADORA!$C$23)","v":632611609.18356693}]
["2023-12-16",{"$f":"IF(DIAS365(CALCULADORA!$C$30,A14)<0,0,DIAS365(CALCULADORA!$C$30,A14))","v":0},{"$f":"+HLOOKUP(CALCULADORA!$C$11,Tablas!$B$1:$B$181,Flujos!J14+1,FALSE)","v":7.7276000000000003E-3},89.946504000000004,0.77276,{"$f":"ROUND(D13*ROUND(((1+CALCULADORA!$C$19)^(1/12)-1),6),6)","v":0.56962599999999997},1.3423859999999999,{"$f":"IF($B14=0,0,G14/POWER(1+CALCULADORA!$C$32,Flujos!$B14/365))","v":0},"2023-12-16",12,365,98130738.995185986,843073.45470503136,621456.56837286567,1464530.023077897,{"$f":"M14*IFERROR(VLOOKUP($A14,UVR!$A:$B,2,0),CALCULADORA!$C$23)","v":300224021.50526273},{"$f":"N14*IFERROR(VLOOKUP($A14,UVR!$A:$B,2,0),CALCULADORA!$C$23)","v":221304785.61092874},{"$f":"O14*IFERROR(VLOOKUP($A14,UVR!$A:$B,2,0),CALCULADORA!$C$23)","v":521528807.11619145}]
["2024-01-16",{"$f":"IF(DIAS365(CALCULADORA!$C$30,A15)<0,0,DIAS365(CALCULADORA!$C$30,A15))","v":0},{"$f":"+HLOOKUP(CALCULADORA!$C$11,Tablas!$B$1:$B$181,Flujos!J15+1,FALSE)","v":1.009764E-2},88.93674,1.0097640000000001,{"$f":"ROUND(D14*ROUND(((1+CALCULADORA!$C$19)^(1/12)-1),6),6)","v":0.564774},1.574538,{"$f":"IF($B15=0,0,G15/POWER(1+CALCULADORA!$C$32,Flujos!$B15/365))","v":0},"2024-01-16",13,396,97029096.539680049,1101642.4555059413,616162.91015077278,1717805.365656714,{"$f":"M15*IFERROR(VLOOKUP($A15,UVR!$A:$B,2,0),CALCULADORA!$C$23)","v":396818883.31344634},{"$f":"N15*IFERROR(VLOOKUP($A15,UVR!$A:$B,2,0),CALCULADORA!$C$23)","v":221945946.91151533},{"$f":"O15*IFERROR(VLOOKUP($A15,UVR!$A:$B,2,0),CALCULADORA!$C$23)","v":618764830.22496164}]
["2024-02-16",{"$f":"IF(DIAS365(CALCULADORA!$C$30,A16)<0,0,DIAS365(CALCULADORA!$C$30,A16))","v":0},{"$f":"+HLOOKUP(CALCULADORA!$C$11,Tablas!$B$1:$B$181,Flujos!J16+1,FALSE)","v":1.548427E-2},87.388312999999997,1.548427,{"$f":"ROUND(D15*ROUND(((1+CALCULADORA!$C$19)^(1/12)-1),6),6)","v":0.55843399999999999},2.1068609999999999,{"$f":"IF($B16=0,0,G16/POWER(1+CALCULADORA!$C$32,Flujos!$B16/365))","v":0},"2024-02-16",14,427,95339778.122256085,1689318.4174239705,609245.69717265107,2298564.1145966216,{"$f":"M16*IFERROR(VLOOKUP($A16,UVR!$A:$B,2,0),CALCULADORA!$C$23)","v":608784070.31496155},{"$f":"N16*IFERROR(VLOOKUP($A16,UVR!$A:$B,2,0),CALCULADORA!$C$23)","v":219555455.92892089},{"$f":"O16*IFERROR(VLOOKUP($A16,UVR!$A:$B,2,0),CALCULADORA!$C$23)","v":828339526.24388242}]
["2024-03-16",{"$f":"IF(DIAS365(CALCULADORA!$C$30,A17)<0,0,DIAS365(CALCULADORA!$C$30,A17))","v":0},{"$f":"+HLOOKUP(CALCULADORA!$C$11,Tablas!$B$1:$B$181,Flujos!J17+1,FALSE)","v":9.2886300000000008E-3},86.459450000000004,0.92886299999999999,{"$f":"ROUND(D16*ROUND(((1+CALCULADORA!$C$19)^(1/12)-1),6),6)","v":0.54871099999999995},1.4775739999999999,{"$f":"IF($B17=0,0,G17/POWER(1+CALCULADORA!$C$32,Flujos!$B17/365))","v":0},"2024-03-16",15,455,94326397.851075277,1013380.271180806,598638.46682964591,1612018.7380104519,{"$f":"M17*IFERROR(VLOOKUP($A17,UVR!$A:$B,2,0),CALCULADORA!$C$23)","v":368566809.98056763},{"$f":"N17*IFERROR(VLOOKUP($A17,UVR!$A:$B,2,0),CALCULADORA!$C$23)","v":217725049.84132895},{"$f":"O17*IFERROR(VLOOKUP($A17,UVR!$A:$B,2,0),CALCULADORA!$C$23)","v":586291859.82189655}]
["2024-04-16",{"$f":"IF(DIAS365(CALCULADORA!$C$30,A18)<0,0,DIAS365(CALCULADORA!$C$30,A18))","v":0},{"$f":"+HLOOKUP(CALCULADORA!$C$11,Tablas!$B$1:$B$181,Flujos!J18+1,FALSE)","v":7.5426800000000004E-3},85.705181999999994,0.75426800000000005,{"$f":"ROUND(D17*ROUND(((1+CALCULADORA!$C$19)^(1/12)-1),6),6)","v":0.542879},1.297147,{"$f":"IF($B18=0,0,G18/POWER(1+CALCULADORA!$C$32,Flujos!$B18/365))","v":0},"2024-04-16",16,486,93503498.983983994,822898.86709127622,592275.45210690168,1415174.3191981779,{"$f":"M18*IFERROR(VLOOKUP($A18,UVR!$A:$B,2,0),CALCULADORA!$C$23)","v":302515398.15828228},{"$f":"N18*IFERROR(VLOOKUP($A18,UVR!$A:$B,2,0),CALCULADORA!$C$23)","v":217733249.34426257},{"$f":"O18*IFERROR(VLOOKUP($A18,UVR!$A:$B,2,0),CALCULADORA!$C$23)","v":520248647.50254488}]
["2024-05-16",{"$f":"IF(DIAS365(CALCULADORA!$C$30,A19)<0,0,DIAS365(CALCULADORA!$C$30,A19))","v":0},{"$f":"+HLOOKUP(CALCULADORA!$C$11,Tablas!$B$1:$B$181,Flujos!J19+1,FALSE)","v":1.463474E-2},84.241708000000003,1.4634739999999999,{"$f":"ROUND(D18*ROUND(((1+CALCULADORA!$C$19)^(1/12)-1),6),6)","v":0.53814300000000004},2.001617,{"$f":"IF($B19=0,0,G19/POWER(1+CALCULADORA!$C$32,Flujos!$B19/365))","v":0},"2024-05-16",17,516,91906863.442482114,1596635.5415018778,587108.47012043546,2183744.0116223134,{"$f":"M19*IFERROR(VLOOKUP($A19,UVR!$A:$B,2,0),CALCULADORA!$C$23)","v":591041107.78117776},{"$f":"N19*IFERROR(VLOOKUP($A19,UVR!$A:$B,2,0),CALCULADORA!$C$23)","v":217335285.0715597},{"$f":"O19*IFERROR(VLOOKUP($A19,UVR!$A:$B,2,0),CALCULADORA!$C$23)","v":808376392.85273755}]
["2024-06-16",{"$f":"IF(DIAS365(CALCULADORA!$C$30,A20)<0,0,DIAS365(CALCULADORA!$C$30,A20))","v":0},{"$f":"+HLOOKUP(CALCULADORA!$C$11,Tablas!$B$1:$B$181,Flujos!J20+1,FALSE)","v":1.2428130000000001E-2},82.998895000000005,1.2428129999999999,{"$f":"ROUND(D19*ROUND(((1+CALCULADORA!$C$19)^(1/12)-1),6),6)","v":0.52895400000000004},1.7717670000000001,{"$f":"IF($B20=0,0,G20/POWER(1+CALCULADORA!$C$32,Flujos!$B20/365))","v":0},"2024-06-16",18,547,90550966.851739421,1355896.590742694,577083.19555534516,1932979.7862980391,{"$f":"M20*IFERROR(VLOOKUP($A20,UVR!$A:$B,2,0),CALCULADORA!$C$23)","v":504862400.79736096},{"$f":"N20*IFERROR(VLOOKUP($A20,UVR!$A:$B,2,0),CALCULADORA!$C$23)","v":214874504.11561143},{"$f":"O20*IFERROR(VLOOKUP($A20,UVR!$A:$B,2,0),CALCULADORA!$C$23)","v":719736904.91297245}]
["2024-07-16",{"$f":"IF(DIAS365(CALCULADORA!$C$30,A21)<0,0,DIAS365(CALCULADORA!$C$30,A21))","v":0},{"$f":"+HLOOKUP(CALCULADORA!$C$11,Tablas!$B$1:$B$181,Flujos!J21+1,FALSE)","v":9.6018200000000005E-3},82.038713000000001,0.96018199999999998,{"$f":"ROUND(D20*ROUND(((1+CALCULADORA!$C$19)^(1/12)-1),6),6)","v":0.52115},1.4813320000000001,{"$f":"IF($B21=0,0,G21/POWER(1+CALCULADORA!$C$32,Flujos!$B21/365))","v":0},"2024-07-16",19,577,89503417.863844618,1047548.9878948011,568569.52086207177,1616118.5087568727,{"$f":"M21*IFERROR(VLOOKUP($A21,UVR!$A:$B,2,0),CALCULADORA!$C$23)","v":391711983.38657993},{"$f":"N21*IFERROR(VLOOKUP($A21,UVR!$A:$B,2,0),CALCULADORA!$C$23)","v":212606281.21804413},{"$f":"O21*IFERROR(VLOOKUP($A21,UVR!$A:$B,2,0),CALCULADORA!$C$23)","v":604318264.60462403}]
["2024-08-16",{"$f":"IF(DIAS365(CALCULADORA!$C$30,A22)<0,0,DIAS365(CALCULADORA!$C$30,A22))","v":0},{"$f":"+HLOOKUP(CALCULADORA!$C$11,Tablas!$B$1:$B$181,Flujos!J22+1,FALSE)","v":7.3403499999999998E-3},81.304677999999996,0.73403499999999999,{"$f":"ROUND(D21*ROUND(((1+CALCULADORA!$C$19)^(1/12)-1),6),6)","v":0.51512100000000005},1.2491560000000002,{"$f":"IF($B22=0,0,G22/POWER(1+CALCULADORA!$C$32,Flujos!$B22/365))","v":0},"2024-08-16",20,608,88702592.998007357,800824.86583726853,561991.96076708031,1362816.8266043488,{"$f":"M22*IFERROR(VLOOKUP($A22,UVR!$A:$B,2,0),CALCULADORA!$C$23)","v":300400698.80616772},{"$f":"N22*IFERROR(VLOOKUP($A22,UVR!$A:$B,2,0),CALCULADORA!$C$23)","v":210811108.57037863},{"$f":"O22*IFERROR(VLOOKUP($A22,UVR!$A:$B,2,0),CALCULADORA!$C$23)","v":511211807.37654638}]
["2024-09-16",{"$f":"IF(DIAS365(CALCULADORA!$C$30,A23)<0,0,DIAS365(CALCULADORA!$C$30,A23))","v":0},{"$f":"+HLOOKUP(CALCULADORA!$C$11,Tablas!$B$1:$B$181,Flujos!J23+1,FALSE)","v":1.5514790000000001E-2},79.753198999999995,1.5514790000000001,{"$f":"ROUND(D22*ROUND(((1+CALCULADORA!$C$19)^(1/12)-1),6),6)","v":0.51051199999999997},2.0619909999999999,{"$f":"IF($B23=0,0,G23/POWER(1+CALCULADORA!$C$32,Flujos!$B23/365))","v":0},"2024-09-16",21,639,87009944.879015297,1692648.1189920639,556963.58143448818,2249611.700426552,{"$f":"M23*IFERROR(VLOOKUP($A23,UVR!$A:$B,2,0),CALCULADORA!$C$23)","v":636165038.30678916},{"$f":"N23*IFERROR(VLOOKUP($A23,UVR!$A:$B,2,0),CALCULADORA!$C$23)","v":209329248.14269617},{"$f":"O23*IFERROR(VLOOKUP($A23,UVR!$A:$B,2,0),CALCULADORA!$C$23)","v":845494286.4494853}]
["2024-10-16",{"$f":"IF(DIAS365(CALCULADORA!$C$30,A24)<0,0,DIAS365(CALCULADORA!$C$30,A24))","v":0},{"$f":"+HLOOKUP(CALCULADORA!$C$11,Tablas!$B$1:$B$181,Flujos!J24+1,FALSE)","v":1.5878860000000002E-2},78.165312999999998,1.5878859999999999,{"$f":"ROUND(D23*ROUND(((1+CALCULADORA!$C$19)^(1/12)-1),6),6)","v":0.50077000000000005},2.0886559999999998,{"$f":"IF($B24=0,0,G24/POWER(1+CALCULADORA!$C$32,Flujos!$B24/365))","v":0},"2024-10-16",22,669,85277577.086042374,1732367.7929729198,546335.44389533706,2278703.2368682567,{"$f":"M24*IFERROR(VLOOKUP($A24,UVR!$A:$B,2,0),CALCULADORA!$C$23)","v":651143696.45049691},{"$f":"N24*IFERROR(VLOOKUP($A24,UVR!$A:$B,2,0),CALCULADORA!$C$23)","v":205350666.22858521},{"$f":"O24*IFERROR(VLOOKUP($A24,UVR!$A:$B,2,0),CALCULADORA!$C$23)","v":856494362.67908216}]
["2024-11-16",{"$f":"IF(DIAS365(CALCULADORA!$C$30,A25)<0,0,DIAS365(CALCULADORA!$C$30,A25))","v":0},{"$f":"+HLOOKUP(CALCULADORA!$C$11,Tablas!$B$1:$B$181,Flujos!J25+1,FALSE)","v":1.2802610000000001E-2},76.885052000000002,1.2802610000000001,{"$f":"ROUND(D24*ROUND(((1+CALCULADORA!$C$19)^(1/12)-1),6),6)","v":0.49080000000000001},1.771061,{"$f":"IF($B25=0,0,G25/POWER(1+CALCULADORA!$C$32,Flujos!$B25/365))","v":0},"2024-11-16",23,700,83880825.100698784,1396751.9853435971,535457.90652326006,1932209.8918668572,{"$f":"M25*IFERROR(VLOOKUP($A25,UVR!$A:$B,2,0),CALCULADORA!$C$23)","v":526192509.0801549},{"$f":"N25*IFERROR(VLOOKUP($A25,UVR!$A:$B,2,0),CALCULADORA!$C$23)","v":201720808.20130035},{"$f":"O25*IFERROR(VLOOKUP($A25,UVR!$A:$B,2,0),CALCULADORA!$C$23)","v":727913317.28145528}]
["2024-12-16",{"$f":"IF(DIAS365(CALCULADORA!$C$30,A26)<0,0,DIAS365(CALCULADORA!$C$30,A26))","v":0},{"$f":"+HLOOKUP(CALCULADORA!$C$11,Tablas!$B$1:$B$181,Flujos!J26+1,FALSE)","v":1.2297829999999999E-2},75.655269000000004,1.2297830000000001,{"$f":"ROUND(D25*ROUND(((1+CALCULADORA!$C$19)^(1/12)-1),6),6)","v":0.482761},1.7125440000000001,{"$f":"IF($B26=0,0,G26/POWER(1+CALCULADORA!$C$32,Flujos!$B26/365))","v":0},"2024-12-16",24,730,82539144.110032186,1341680.9906665944,526687.70080728771,1868368.6914738822,{"$f":"M26*IFERROR(VLOOKUP($A26,UVR!$A:$B,2,0),CALCULADORA!$C$23)","v":504854431.57297951},{"$f":"N26*IFERROR(VLOOKUP($A26,UVR!$A:$B,2,0),CALCULADORA!$C$23)","v":198184681.49827027},{"$f":"O26*IFERROR(VLOOKUP($A26,UVR!$A:$B,2,0),CALCULADORA!$C$23)","v":703039113.07124984}]
["2025-01-16",{"$f":"IF(DIAS365(CALCULADORA!$C$30,A27)<0,0,DIAS365(CALCULADORA!$C$30,A27))","v":0},{"$f":"+HLOOKUP(CALCULADORA!$C$11,Tablas!$B$1:$B$181,Flujos!J27+1,FALSE)","v":1.399737E-2},74.255532000000002,1.399737,{"$f":"ROUND(D26*ROUND(((1+CALCULADORA!$C$19)^(1/12)-1),6),6)","v":0.47503899999999999},1.874776,{"$f":"IF($B27=0,0,G27/POWER(1+CALCULADORA!$C$32,Flujos!$B27/365))","v":0},"2025-01-16",25,761,81012045.000000015,1527099.1100321659,518263.28586689208,2045362.3958990579,{"$f":"M27*IFERROR(VLOOKUP($A27,UVR!$A:$B,2,0),CALCULADORA!$C$23)","v":576211297.30368793},{"$f":"N27*IFERROR(VLOOKUP($A27,UVR!$A:$B,2,0),CALCULADORA!$C$23)","v":195553227.90276778},{"$f":"O27*IFERROR(VLOOKUP($A27,UVR!$A:$B,2,0),CALCULADORA!$C$23)","v":771764525.20645571}]
["2025-02-16",{"$f":"IF(DIAS365(CALCULADORA!$C$30,A28)<0,0,DIAS365(CALCULADORA!$C$30,A28))","v":15},{"$f":"+HLOOKUP(CALCULADORA!$C$11,Tablas!$B$1:$B$181,Flujos!J28+1,FALSE)","v":1.5820130000000002E-2},72.673518999999999,1.5820129999999999,{"$f":"ROUND(D27*ROUND(((1+CALCULADORA!$C$19)^(1/12)-1),6),6)","v":0.46625},2.0482629999999999,{"$f":"IF($B28=0,0,G28/POWER(1+CALCULADORA!$C$32,Flujos!$B28/365))","v":2.0449965775499459},"2025-02-16",26,792,79286084.591466621,1725960.4085334009,508674.6305550001,2234635.039088401,{"$f":"M28*IFERROR(VLOOKUP($A28,UVR!$A:$B,2,0),CALCULADORA!$C$23)","v":654363887.47539079},{"$f":"N28*IFERROR(VLOOKUP($A28,UVR!$A:$B,2,0),CALCULADORA!$C$23)","v":192853965.28470635},{"$f":"O28*IFERROR(VLOOKUP($A28,UVR!$A:$B,2,0),CALCULADORA!$C$23)","v":847217852.76009715}]
["2025-03-16",{"$f":"IF(DIAS365(CALCULADORA!$C$30,A29)<0,0,DIAS365(CALCULADORA!$C$30,A29))","v":43},{"$f":"+HLOOKUP(CALCULADORA!$C$11,Tablas!$B$1:$B$181,Flujos!J29+1,FALSE)","v":1.340969E-2},71.332549999999998,1.3409690000000001,{"$f":"ROUND(D28*ROUND(((1+CALCULADORA!$C$19)^(1/12)-1),6),6)","v":0.45631699999999997},1.7972860000000002,{"$f":"IF($B29=0,0,G29/POWER(1+CALCULADORA!$C$32,Flujos!$B29/365))","v":1.7890818342288757},"2025-03-16",27,820,77823100.783450738,1462983.8080158797,497837.32514981891,1960821.1331656985,{"$f":"M29*IFERROR(VLOOKUP($A29,UVR!$A:$B,2,0),CALCULADORA!$C$23)","v":554311983.19646788},{"$f":"N29*IFERROR(VLOOKUP($A29,UVR!$A:$B,2,0),CALCULADORA!$C$23)","v":188626281.09827009},{"$f":"O29*IFERROR(VLOOKUP($A29,UVR!$A:$B,2,0),CALCULADORA!$C$23)","v":742938264.29473794}]
["2025-04-16",{"$f":"IF(DIAS365(CALCULADORA!$C$30,A30)<0,0,DIAS365(CALCULADORA!$C$30,A30))","v":74},{"$f":"+HLOOKUP(CALCULADORA!$C$11,Tablas!$B$1:$B$181,Flujos!J30+1,FALSE)","v":1.0733120000000001E-2},70.259237999999996,1.073312,{"$f":"ROUND(D29*ROUND(((1+CALCULADORA!$C$19)^(1/12)-1),6),6)","v":0.44789699999999999},1.521209,{"$f":"IF($B30=0,0,G30/POWER(1+CALCULADORA!$C$32,Flujos!$B30/365))","v":1.5092786306228161},"2025-04-16",28,851,76652128.093590543,1170972.6898601979,488651.24981928716,1659623.939679485,{"$f":"M30*IFERROR(VLOOKUP($A30,UVR!$A:$B,2,0),CALCULADORA!$C$23)","v":430374735.63772666},{"$f":"N30*IFERROR(VLOOKUP($A30,UVR!$A:$B,2,0),CALCULADORA!$C$23)","v":179596974.61870649},{"$f":"O30*IFERROR(VLOOKUP($A30,UVR!$A:$B,2,0),CALCULADORA!$C$23)","v":609971710.25643313}]
["2025-05-16",{"$f":"IF(DIAS365(CALCULADORA!$C$30,A31)<0,0,DIAS365(CALCULADORA!$C$30,A31))","v":104},{"$f":"+HLOOKUP(CALCULADORA!$C$11,Tablas!$B$1:$B$181,Flujos!J31+1,FALSE)","v":1.0678989999999999E-2},69.191338999999999,1.0678989999999999,{"$f":"ROUND(D30*ROUND(((1+CALCULADORA!$C$19)^(1/12)-1),6),6)","v":0.44115799999999999},1.5090569999999999,{"$f":"IF($B31=0,0,G31/POWER(1+CALCULADORA!$C$32,Flujos!$B31/365))","v":1.4924504190338594},"2025-05-16",29,881,75487060.932756588,1165067.1608339564,481298.71229965502,1646365.8731336114,{"$f":"M31*IFERROR(VLOOKUP($A31,UVR!$A:$B,2,0),CALCULADORA!$C$23)","v":439810095.4869979},{"$f":"N31*IFERROR(VLOOKUP($A31,UVR!$A:$B,2,0),CALCULADORA!$C$23)","v":181689124.65334579},{"$f":"O31*IFERROR(VLOOKUP($A31,UVR!$A:$B,2,0),CALCULADORA!$C$23)","v":621499220.14034367}]
["2025-06-16",{"$f":"IF(DIAS365(CALCULADORA!$C$30,A32)<0,0,DIAS365(CALCULADORA!$C$30,A32))","v":135},{"$f":"+HLOOKUP(CALCULADORA!$C$11,Tablas!$B$1:$B$181,Flujos!J32+1,FALSE)","v":1.0669680000000001E-2},68.124370999999996,1.0669679999999999,{"$f":"ROUND(D31*ROUND(((1+CALCULADORA!$C$19)^(1/12)-1),6),6)","v":0.434452},1.50142,{"$f":"IF($B32=0,0,G32/POWER(1+CALCULADORA!$C$32,Flujos!$B32/365))","v":1.4800077410052093},"2025-06-16",30,912,74323009.483639508,1164051.4491170843,473983.25559677859,1638034.7047138629,{"$f":"M32*IFERROR(VLOOKUP($A32,UVR!$A:$B,2,0),CALCULADORA!$C$23)","v":443061098.28473032},{"$f":"N32*IFERROR(VLOOKUP($A32,UVR!$A:$B,2,0),CALCULADORA!$C$23)","v":180407439.85376707},{"$f":"O32*IFERROR(VLOOKUP($A32,UVR!$A:$B,2,0),CALCULADORA!$C$23)","v":623468538.13849735}]
["2025-07-16",{"$f":"IF(DIAS365(CALCULADORA!$C$30,A33)<0,0,DIAS365(CALCULADORA!$C$30,A33))","v":165},{"$f":"+HLOOKUP(CALCULADORA!$C$11,Tablas!$B$1:$B$181,Flujos!J33+1,FALSE)","v":1.0596400000000001E-2},67.064730999999995,1.0596399999999999,{"$f":"ROUND(D32*ROUND(((1+CALCULADORA!$C$19)^(1/12)-1),6),6)","v":0.42775299999999999},1.487393,{"$f":"IF($B33=0,0,G33/POWER(1+CALCULADORA!$C$32,Flujos!$B33/365))","v":1.4615081942966845},"2025-07-16",31,942,73166952.809453934,1156056.674185568,466674.17654777248,1622730.8507333405,{"$f":"M33*IFERROR(VLOOKUP($A33,UVR!$A:$B,2,0),CALCULADORA!$C$23)","v":443116458.88189071},{"$f":"N33*IFERROR(VLOOKUP($A33,UVR!$A:$B,2,0),CALCULADORA!$C$23)","v":178876185.90079394},{"$f":"O33*IFERROR(VLOOKUP($A33,UVR!$A:$B,2,0),CALCULADORA!$C$23)","v":621992644.78268456}]
["2025-08-16",{"$f":"IF(DIAS365(CALCULADORA!$C$30,A34)<0,0,DIAS365(CALCULADORA!$C$30,A34))","v":196},{"$f":"+HLOOKUP(CALCULADORA!$C$11,Tablas!$B$1:$B$181,Flujos!J34+1,FALSE)","v":1.048296E-2},66.016435000000001,1.0482959999999999,{"$f":"ROUND(D33*ROUND(((1+CALCULADORA!$C$19)^(1/12)-1),6),6)","v":0.421099},1.469395,{"$f":"IF($B34=0,0,G34/POWER(1+CALCULADORA!$C$32,Flujos!$B34/365))","v":1.4390689452514585},"2025-08-16",32,973,72023272.326155797,1143680.4832981334,459415.29669056123,1603095.7799886945,{"$f":"M34*IFERROR(VLOOKUP($A34,UVR!$A:$B,2,0),CALCULADORA!$C$23)","v":440955976.53653473},{"$f":"N34*IFERROR(VLOOKUP($A34,UVR!$A:$B,2,0),CALCULADORA!$C$23)","v":177131571.05191189},{"$f":"O34*IFERROR(VLOOKUP($A34,UVR!$A:$B,2,0),CALCULADORA!$C$23)","v":618087547.58844662}]
[{"$f":"EDATE(A34,1)","v":"2025-09-16"},{"$f":"IF(DIAS365(CALCULADORA!$C$30,A35)<0,0,DIAS365(CALCULADORA!$C$30,A35))","v":227},{"$f":"+HLOOKUP(CALCULADORA!$C$11,Tablas!$B$1:$B$181,Flujos!J35+1,FALSE)","v":1.047287E-2},64.969148000000004,1.0472870000000001,{"$f":"ROUND(D34*ROUND(((1+CALCULADORA!$C$19)^(1/12)-1),6),6)","v":0.41451700000000002},1.4618040000000001,{"$f":"IF($B35=0,0,G35/POWER(1+CALCULADORA!$C$32,Flujos!$B35/365))","v":1.4269202844780249},"2025-09-16",33,1004,70880692.651796788,1142579.6743590096,452234.12693593226,1594813.8012949419,{"$f":"M35*IFERROR(VLOOKUP($A35,UVR!$A:$B,2,0),CALCULADORA!$C$23)","v":441804107.21454221},{"$f":"N35*IFERROR(VLOOKUP($A35,UVR!$A:$B,2,0),CALCULADORA!$C$23)","v":174866487.81404698},{"$f":"O35*IFERROR(VLOOKUP($A35,UVR!$A:$B,2,0),CALCULADORA!$C$23)","v":616670595.02858925}]
["2025-10-16",{"$f":"IF(DIAS365(CALCULADORA!$C$30,A36)<0,0,DIAS365(CALCULADORA!$C$30,A36))","v":257},{"$f":"+HLOOKUP(CALCULADORA!$C$11,Tablas!$B$1:$B$181,Flujos!J36+1,FALSE)","v":1.043738E-2},63.925409999999999,1.0437380000000001,{"$f":"ROUND(D35*ROUND(((1+CALCULADORA!$C$19)^(1/12)-1),6),6)","v":0.407941},1.4516789999999999,{"$f":"IF($B36=0,0,G36/POWER(1+CALCULADORA!$C$32,Flujos!$B36/365))","v":1.4125209288794709},"2025-10-16",34,1034,69741984.90105021,1138707.7507465708,445059.86916063202,1583767.6199072027,{"$f":"M36*IFERROR(VLOOKUP($A36,UVR!$A:$B,2,0),CALCULADORA!$C$23)","v":440306940.9396773},{"$f":"N36*IFERROR(VLOOKUP($A36,UVR!$A:$B,2,0),CALCULADORA!$C$23)","v":172092399.82484686},{"$f":"O36*IFERROR(VLOOKUP($A36,UVR!$A:$B,2,0),CALCULADORA!$C$23)","v":612399340.7645241}]
["2025-11-16",{"$f":"IF(DIAS365(CALCULADORA!$C$30,A37)<0,0,DIAS365(CALCULADORA!$C$30,A37))","v":288},{"$f":"+HLOOKUP(CALCULADORA!$C$11,Tablas!$B$1:$B$181,Flujos!J37+1,FALSE)","v":1.039328E-2},62.886082000000002,1.039328,{"$f":"ROUND(D36*ROUND(((1+CALCULADORA!$C$19)^(1/12)-1),6),6)","v":0.40138800000000002},1.4407160000000001,{"$f":"IF($B37=0,0,G37/POWER(1+CALCULADORA!$C$32,Flujos!$B37/365))","v":1.3972373888989198},"2025-11-16",35,1065,68608088.416330934,1133896.4847192799,437909.92319369427,1571806.4079129742,{"$f":"M37*IFERROR(VLOOKUP($A37,UVR!$A:$B,2,0),CALCULADORA!$C$23)","v":438531417.16132081},{"$f":"N37*IFERROR(VLOOKUP($A37,UVR!$A:$B,2,0),CALCULADORA!$C$23)","v":169360485.5426276},{"$f":"O37*IFERROR(VLOOKUP($A37,UVR!$A:$B,2,0),CALCULADORA!$C$23)","v":607891902.70394838}]
["2025-12-16",{"$f":"IF(DIAS365(CALCULADORA!$C$30,A38)<0,0,DIAS365(CALCULADORA!$C$30,A38))","v":318},{"$f":"+HLOOKUP(CALCULADORA!$C$11,Tablas!$B$1:$B$181,Flujos!J38+1,FALSE)","v":9.37524E-3},61.948557999999998,0.93752400000000002,{"$f":"ROUND(D37*ROUND(((1+CALCULADORA!$C$19)^(1/12)-1),6),6)","v":0.39486199999999999},1.3323860000000001,{"$f":"IF($B38=0,0,G38/POWER(1+CALCULADORA!$C$32,Flujos!$B38/365))","v":1.2880585686524799},"2025-12-16",36,1095,67585259.080510139,1022829.3358207979,430790.18716614193,1453619.5229869399,{"$f":"M38*IFERROR(VLOOKUP($A38,UVR!$A:$B,2,0),CALCULADORA!$C$23)","v":396133504.34330964},{"$f":"N38*IFERROR(VLOOKUP($A38,UVR!$A:$B,2,0),CALCULADORA!$C$23)","v":166841544.8232044},{"$f":"O38*IFERROR(VLOOKUP($A38,UVR!$A:$B,2,0),CALCULADORA!$C$23)","v":562975049.16651404}]
["2026-01-16",{"$f":"IF(DIAS365(CALCULADORA!$C$30,A39)<0,0,DIAS365(CALCULADORA!$C$30,A39))","v":349},{"$f":"+HLOOKUP(CALCULADORA!$C$11,Tablas!$B$1:$B$181,Flujos!J39+1,FALSE)","v":1.026734E-2},60.921824000000001,1.026734,{"$f":"ROUND(D38*ROUND(((1+CALCULADORA!$C$19)^(1/12)-1),6),6)","v":0.38897500000000002},1.4157090000000001,{"$f":"IF($B39=0,0,G39/POWER(1+CALCULADORA!$C$32,Flujos!$B39/365))","v":1.364102690577631},"2026-01-16",37,1126,66465102.524214372,1120156.5562957653,424367.84176652314,1544524.3980622885,{"$f":"M39*IFERROR(VLOOKUP($A39,UVR!$A:$B,2,0),CALCULADORA!$C$23)","v":423664380.54997247},{"$f":"N39*IFERROR(VLOOKUP($A39,UVR!$A:$B,2,0),CALCULADORA!$C$23)","v":160503938.30830845},{"$f":"O39*IFERROR(VLOOKUP($A39,UVR!$A:$B,2,0),CALCULADORA!$C$23)","v":584168318.8582809}]
["2026-02-16",{"$f":"IF(DIAS365(CALCULADORA!$C$30,A40)<0,0,DIAS365(CALCULADORA!$C$30,A40))","v":380},{"$f":"+HLOOKUP(CALCULADORA!$C$11,Tablas!$B$1:$B$181,Flujos!J40+1,FALSE)","v":1.0297250000000001E-2},{"$f":"+ROUND(D39-E40,6)","v":59.892099000000002},{"$f":"ROUND(C40*$D$2,6)","v":1.029725},{"$f":"ROUND(D39*ROUND(((1+CALCULADORA!$C$19)^(1/12)-1),6),6)","v":0.38252799999999998},{"$f":"F40+E40","v":1.412253},{"$f":"IF($B40=0,0,G40/POWER(1+CALCULADORA!$C$32,Flujos!$B40/365))","v":1.3562916896248325},{"$f":"+A40","v":"2026-02-16"},38,1157,65341682.816742271,1123419.7074720981,417334.37874954205,1540754.08622164,{"$f":"M40*IFERROR(VLOOKUP($A40,UVR!$A:$B,2,0),CALCULADORA!$C$23)","v":424898565.99841875},{"$f":"N40*IFERROR(VLOOKUP($A40,UVR!$A:$B,2,0),CALCULADORA!$C$23)","v":157843749.66283518},{"$f":"O40*IFERROR(VLOOKUP($A40,UVR!$A:$B,2,0),CALCULADORA!$C$23)","v":582742315.66125381}]
["2026-03-16",{"$f":"IF(DIAS365(CALCULADORA!$C$30,A41)<0,0,DIAS365(CALCULADORA!$C$30,A41))","v":408},{"$f":"+HLOOKUP(CALCULADORA!$C$11,Tablas!$B$1:$B$181,Flujos!J41+1,FALSE)","v":1.0179519999999999E-2},58.874147000000001,1.017952,{"$f":"ROUND(D40*ROUND(((1+CALCULADORA!$C$19)^(1/12)-1),6),6)","v":0.37606200000000001},1.3940139999999999,{"$f":"IF($B41=0,0,G41/POWER(1+CALCULADORA!$C$32,Flujos!$B41/365))","v":1.3347928733177823},"2026-03-16",39,1185,64231107.334879987,1110575.4818622808,410280.42640632472,1520855.9082686054,{"$f":"M41*IFERROR(VLOOKUP($A41,UVR!$A:$B,2,0),CALCULADORA!$C$23)","v":420040637.11692178},{"$f":"N41*IFERROR(VLOOKUP($A41,UVR!$A:$B,2,0),CALCULADORA!$C$23)","v":155175811.5669311},{"$f":"O41*IFERROR(VLOOKUP($A41,UVR!$A:$B,2,0),CALCULADORA!$C$23)","v":575216448.68385291}]
["2026-04-16",{"$f":"IF(DIAS365(CALCULADORA!$C$30,A42)<0,0,DIAS365(CALCULADORA!$C$30,A42))","v":439},{"$f":"+HLOOKUP(CALCULADORA!$C$11,Tablas!$B$1:$B$181,Flujos!J42+1,FALSE)","v":1.0187460000000001E-2},57.855401000000001,1.0187459999999999,{"$f":"ROUND(D41*ROUND(((1+CALCULADORA!$C$19)^(1/12)-1),6),6)","v":0.36967100000000003},1.388417,{"$f":"IF($B42=0,0,G42/POWER(1+CALCULADORA!$C$32,Flujos!$B42/365))","v":1.3250558647609525},"2026-04-16",40,1216,63119665.606934786,1111441.727945199,403307.12295571144,1514748.8509009103,{"$f":"M42*IFERROR(VLOOKUP($A42,UVR!$A:$B,2,0),CALCULADORA!$C$23)","v":420368267.75753248},{"$f":"N42*IFERROR(VLOOKUP($A42,UVR!$A:$B,2,0),CALCULADORA!$C$23)","v":152538376.40647393},{"$f":"O42*IFERROR(VLOOKUP($A42,UVR!$A:$B,2,0),CALCULADORA!$C$23)","v":572906644.16400635}]
["2026-05-16",{"$f":"IF(DIAS365(CALCULADORA!$C$30,A43)<0,0,DIAS365(CALCULADORA!$C$30,A43))","v":469},{"$f":"+HLOOKUP(CALCULADORA!$C$11,Tablas!$B$1:$B$181,Flujos!J43+1,FALSE)","v":1.0141010000000001E-2},56.841299999999997,1.0141009999999999,{"$f":"ROUND(D42*ROUND(((1+CALCULADORA!$C$19)^(1/12)-1),6),6)","v":0.36327399999999999},1.3773749999999998,{"$f":"IF($B43=0,0,G43/POWER(1+CALCULADORA!$C$32,Flujos!$B43/365))","v":1.3103285185116533},"2026-05-16",41,1246,62013291.527673662,1106374.0792611251,396328.3803459435,1502702.4596070684,{"$f":"M43*IFERROR(VLOOKUP($A43,UVR!$A:$B,2,0),CALCULADORA!$C$23)","v":418451587.24665558},{"$f":"N43*IFERROR(VLOOKUP($A43,UVR!$A:$B,2,0),CALCULADORA!$C$23)","v":149898884.05322438},{"$f":"O43*IFERROR(VLOOKUP($A43,UVR!$A:$B,2,0),CALCULADORA!$C$23)","v":568350471.29987991}]
["2026-06-16",{"$f":"IF(DIAS365(CALCULADORA!$C$30,A44)<0,0,DIAS365(CALCULADORA!$C$30,A44))","v":500},{"$f":"+HLOOKUP(CALCULADORA!$C$11,Tablas!$B$1:$B$181,Flujos!J44+1,FALSE)","v":1.007983E-2},55.833317000000001,1.0079830000000001,{"$f":"ROUND(D43*ROUND(((1+CALCULADORA!$C$19)^(1/12)-1),6),6)","v":0.35690699999999997},1.3648899999999999,{"$f":"IF($B44=0,0,G44/POWER(1+CALCULADORA!$C$32,Flujos!$B44/365))","v":1.2941754920774524},"2026-06-16",42,1277,60913592.125409126,1099699.4022645343,389381.4575022629,1489080.8597667972,{"$f":"M44*IFERROR(VLOOKUP($A44,UVR!$A:$B,2,0),CALCULADORA!$C$23)","v":415927098.25514966},{"$f":"N44*IFERROR(VLOOKUP($A44,UVR!$A:$B,2,0),CALCULADORA!$C$23)","v":147271426.53690264},{"$f":"O44*IFERROR(VLOOKUP($A44,UVR!$A:$B,2,0),CALCULADORA!$C$23)","v":563198524.79205227}]
["2026-07-16",{"$f":"IF(DIAS365(CALCULADORA!$C$30,A45)<0,0,DIAS365(CALCULADORA!$C$30,A45))","v":530},{"$f":"+HLOOKUP(CALCULADORA!$C$11,Tablas!$B$1:$B$181,Flujos!J45+1,FALSE)","v":1.005705E-2},54.827612000000002,1.0057050000000001,{"$f":"ROUND(D44*ROUND(((1+CALCULADORA!$C$19)^(1/12)-1),6),6)","v":0.35057700000000003},1.3562820000000002,{"$f":"IF($B45=0,0,G45/POWER(1+CALCULADORA!$C$32,Flujos!$B45/365))","v":1.2819150568050757},"2026-07-16",43,1307,59816377.998430341,1097214.126978782,382476.44495544391,1479690.571934226,{"$f":"M45*IFERROR(VLOOKUP($A45,UVR!$A:$B,2,0),CALCULADORA!$C$23)","v":414987120.17037529},{"$f":"N45*IFERROR(VLOOKUP($A45,UVR!$A:$B,2,0),CALCULADORA!$C$23)","v":144659820.28695855},{"$f":"O45*IFERROR(VLOOKUP($A45,UVR!$A:$B,2,0),CALCULADORA!$C$23)","v":559646940.4573338}]
["2026-08-16",{"$f":"IF(DIAS365(CALCULADORA!$C$30,A46)<0,0,DIAS365(CALCULADORA!$C$30,A46))","v":561},{"$f":"+HLOOKUP(CALCULADORA!$C$11,Tablas!$B$1:$B$181,Flujos!J46+1,FALSE)","v":1.006308E-2},53.821303999999998,1.006308,{"$f":"ROUND(D45*ROUND(((1+CALCULADORA!$C$19)^(1/12)-1),6),6)","v":0.34426299999999999},1.350571,{"$f":"IF($B46=0,0,G46/POWER(1+CALCULADORA!$C$32,Flujos!$B46/365))","v":1.2723136687302969},"2026-08-16",44,1338,58718506.004464157,1097871.9939661871,375587.03745214408,1473459.0314183312,{"$f":"M46*IFERROR(VLOOKUP($A46,UVR!$A:$B,2,0),CALCULADORA!$C$23)","v":415235937.89869797},{"$f":"N46*IFERROR(VLOOKUP($A46,UVR!$A:$B,2,0),CALCULADORA!$C$23)","v":142054116.15940875},{"$f":"O46*IFERROR(VLOOKUP($A46,UVR!$A:$B,2,0),CALCULADORA!$C$23)","v":557290054.05810666}]
["2026-09-16",{"$f":"IF(DIAS365(CALCULADORA!$C$30,A47)<0,0,DIAS365(CALCULADORA!$C$30,A47))","v":592},{"$f":"+HLOOKUP(CALCULADORA!$C$11,Tablas!$B$1:$B$181,Flujos!J47+1,FALSE)","v":9.9862200000000005E-3},52.822682,0.99862200000000001,{"$f":"ROUND(D46*ROUND(((1+CALCULADORA!$C$19)^(1/12)-1),6),6)","v":0.33794400000000002},1.3365659999999999,{"$f":"IF($B47=0,0,G47/POWER(1+CALCULADORA!$C$32,Flujos!$B47/365))","v":1.2549739300707083},"2026-09-16",45,1369,57629019.359859817,1089486.6446043374,368693.49920203042,1458180.1438063679,{"$f":"M47*IFERROR(VLOOKUP($A47,UVR!$A:$B,2,0),CALCULADORA!$C$23)","v":412064440.28694344},{"$f":"N47*IFERROR(VLOOKUP($A47,UVR!$A:$B,2,0),CALCULADORA!$C$23)","v":139446849.70534283},{"$f":"O47*IFERROR(VLOOKUP($A47,UVR!$A:$B,2,0),CALCULADORA!$C$23)","v":551511289.99228632}]
["2026-10-16",{"$f":"IF(DIAS365(CALCULADORA!$C$30,A48)<0,0,DIAS365(CALCULADORA!$C$30,A48))","v":622},{"$f":"+HLOOKUP(CALCULADORA!$C$11,Tablas!$B$1:$B$181,Flujos!J48+1,FALSE)","v":9.9255999999999997E-3},51.830122000000003,0.99256,{"$f":"ROUND(D47*ROUND(((1+CALCULADORA!$C$19)^(1/12)-1),6),6)","v":0.33167400000000002},1.3242340000000001,{"$f":"IF($B48=0,0,G48/POWER(1+CALCULADORA!$C$32,Flujos!$B48/365))","v":1.2394321591046116},"2026-10-16",46,1399,56546146.296810456,1082873.0630493632,361852.61256055976,1444725.675609923,{"$f":"M48*IFERROR(VLOOKUP($A48,UVR!$A:$B,2,0),CALCULADORA!$C$23)","v":409563058.74616081},{"$f":"N48*IFERROR(VLOOKUP($A48,UVR!$A:$B,2,0),CALCULADORA!$C$23)","v":136859497.08478111},{"$f":"O48*IFERROR(VLOOKUP($A48,UVR!$A:$B,2,0),CALCULADORA!$C$23)","v":546422555.83094192}]
["2026-11-16",{"$f":"IF(DIAS365(CALCULADORA!$C$30,A49)<0,0,DIAS365(CALCULADORA!$C$30,A49))","v":653},{"$f":"+HLOOKUP(CALCULADORA!$C$11,Tablas!$B$1:$B$181,Flujos!J49+1,FALSE)","v":9.8783699999999992E-3},50.842284999999997,0.98783699999999997,{"$f":"ROUND(D48*ROUND(((1+CALCULADORA!$C$19)^(1/12)-1),6),6)","v":0.32544099999999998},1.3132779999999999,{"$f":"IF($B49=0,0,G49/POWER(1+CALCULADORA!$C$32,Flujos!$B49/365))","v":1.2251301205609846},"2026-11-16",47,1430,55468425.979667418,1077720.3171430379,355053.25259767286,1432773.5697407108,{"$f":"M49*IFERROR(VLOOKUP($A49,UVR!$A:$B,2,0),CALCULADORA!$C$23)","v":407614192.85749096},{"$f":"N49*IFERROR(VLOOKUP($A49,UVR!$A:$B,2,0),CALCULADORA!$C$23)","v":134287850.63891399},{"$f":"O49*IFERROR(VLOOKUP($A49,UVR!$A:$B,2,0),CALCULADORA!$C$23)","v":541902043.49640489}]
["2026-12-16",{"$f":"IF(DIAS365(CALCULADORA!$C$30,A50)<0,0,DIAS365(CALCULADORA!$C$30,A50))","v":683},{"$f":"+HLOOKUP(CALCULADORA!$C$11,Tablas!$B$1:$B$181,Flujos!J50+1,FALSE)","v":8.7763200000000006E-3},49.964652999999998,0.87763199999999997,{"$f":"ROUND(D49*ROUND(((1+CALCULADORA!$C$19)^(1/12)-1),6),6)","v":0.31923899999999999},1.196871,{"$f":"IF($B50=0,0,G50/POWER(1+CALCULADORA!$C$32,Flujos!$B50/365))","v":1.112978112562333},"2026-12-16",48,1460,54510938.218655348,957487.7610120686,348286.24672633171,1305774.0077384003,{"$f":"M50*IFERROR(VLOOKUP($A50,UVR!$A:$B,2,0),CALCULADORA!$C$23)","v":362139967.73344749},{"$f":"N50*IFERROR(VLOOKUP($A50,UVR!$A:$B,2,0),CALCULADORA!$C$23)","v":131728441.12196179},{"$f":"O50*IFERROR(VLOOKUP($A50,UVR!$A:$B,2,0),CALCULADORA!$C$23)","v":493868408.85540926}]
["2027-01-16",{"$f":"IF(DIAS365(CALCULADORA!$C$30,A51)<0,0,DIAS365(CALCULADORA!$C$30,A51))","v":714},{"$f":"+HLOOKUP(CALCULADORA!$C$11,Tablas!$B$1:$B$181,Flujos!J51+1,FALSE)","v":9.7390900000000006E-3},48.990743999999999,0.97390900000000002,{"$f":"ROUND(D50*ROUND(((1+CALCULADORA!$C$19)^(1/12)-1),6),6)","v":0.31372800000000001},1.2876370000000001,{"$f":"IF($B51=0,0,G51/POWER(1+CALCULADORA!$C$32,Flujos!$B51/365))","v":1.1934390642352406},"2027-01-16",49,1491,53448413.210634328,1062525.0080210187,342274.18107493693,1404799.1890959556,{"$f":"M51*IFERROR(VLOOKUP($A51,UVR!$A:$B,2,0),CALCULADORA!$C$23)","v":401867039.75620091},{"$f":"N51*IFERROR(VLOOKUP($A51,UVR!$A:$B,2,0),CALCULADORA!$C$23)","v":129454564.26456347},{"$f":"O51*IFERROR(VLOOKUP($A51,UVR!$A:$B,2,0),CALCULADORA!$C$23)","v":531321604.02076435}]
["2027-02-16",{"$f":"IF(DIAS365(CALCULADORA!$C$30,A52)<0,0,DIAS365(CALCULADORA!$C$30,A52))","v":745},{"$f":"+HLOOKUP(CALCULADORA!$C$11,Tablas!$B$1:$B$181,Flujos!J52+1,FALSE)","v":9.6124399999999999E-3},48.029499999999999,0.96124399999999999,{"$f":"ROUND(D51*ROUND(((1+CALCULADORA!$C$19)^(1/12)-1),6),6)","v":0.30761300000000003},1.2688570000000001,{"$f":"IF($B52=0,0,G52/POWER(1+CALCULADORA!$C$32,Flujos!$B52/365))","v":1.1721602884347984},"2027-02-16",50,1522,52399705.591328874,1048707.6193054547,335602.58654957294,1384310.2058550275,{"$f":"M52*IFERROR(VLOOKUP($A52,UVR!$A:$B,2,0),CALCULADORA!$C$23)","v":396641042.19532782},{"$f":"N52*IFERROR(VLOOKUP($A52,UVR!$A:$B,2,0),CALCULADORA!$C$23)","v":126931241.12193428},{"$f":"O52*IFERROR(VLOOKUP($A52,UVR!$A:$B,2,0),CALCULADORA!$C$23)","v":523572283.31726211}]
["2027-03-16",{"$f":"IF(DIAS365(CALCULADORA!$C$30,A53)<0,0,DIAS365(CALCULADORA!$C$30,A53))","v":773},{"$f":"+HLOOKUP(CALCULADORA!$C$11,Tablas!$B$1:$B$181,Flujos!J53+1,FALSE)","v":9.4827699999999997E-3},47.081223000000001,0.94827700000000004,{"$f":"ROUND(D52*ROUND(((1+CALCULADORA!$C$19)^(1/12)-1),6),6)","v":0.30157699999999998},1.249854,{"$f":"IF($B53=0,0,G53/POWER(1+CALCULADORA!$C$32,Flujos!$B53/365))","v":1.1511707800702802},"2027-03-16",51,1550,51365144.8397277,1034560.7516011737,329017.75140795397,1363578.5030091277,{"$f":"M53*IFERROR(VLOOKUP($A53,UVR!$A:$B,2,0),CALCULADORA!$C$23)","v":391290429.45376915},{"$f":"N53*IFERROR(VLOOKUP($A53,UVR!$A:$B,2,0),CALCULADORA!$C$23)","v":124440732.01798981},{"$f":"O53*IFERROR(VLOOKUP($A53,UVR!$A:$B,2,0),CALCULADORA!$C$23)","v":515731161.47175896}]
["2027-04-16",{"$f":"IF(DIAS365(CALCULADORA!$C$30,A54)<0,0,DIAS365(CALCULADORA!$C$30,A54))","v":804},{"$f":"+HLOOKUP(CALCULADORA!$C$11,Tablas!$B$1:$B$181,Flujos!J54+1,FALSE)","v":9.4523899999999998E-3},46.135984000000001,0.94523900000000005,{"$f":"ROUND(D53*ROUND(((1+CALCULADORA!$C$19)^(1/12)-1),6),6)","v":0.29562300000000002},1.2408620000000001,{"$f":"IF($B54=0,0,G54/POWER(1+CALCULADORA!$C$32,Flujos!$B54/365))","v":1.1391252542160759},"2027-04-16",52,1581,50333898.515834212,1031246.3238934845,322521.74444865022,1353768.0683421348,{"$f":"M54*IFERROR(VLOOKUP($A54,UVR!$A:$B,2,0),CALCULADORA!$C$23)","v":390036850.25203747},{"$f":"N54*IFERROR(VLOOKUP($A54,UVR!$A:$B,2,0),CALCULADORA!$C$23)","v":121983819.4114496},{"$f":"O54*IFERROR(VLOOKUP($A54,UVR!$A:$B,2,0),CALCULADORA!$C$23)","v":512020669.66348708}]
["2027-05-16",{"$f":"IF(DIAS365(CALCULADORA!$C$30,A55)<0,0,DIAS365(CALCULADORA!$C$30,A55))","v":834},{"$f":"+HLOOKUP(CALCULADORA!$C$11,Tablas!$B$1:$B$181,Flujos!J55+1,FALSE)","v":9.3506400000000003E-3},45.200920000000004,0.93506400000000001,{"$f":"ROUND(D54*ROUND(((1+CALCULADORA!$C$19)^(1/12)-1),6),6)","v":0.289688},1.2247520000000001,{"$f":"IF($B55=0,0,G55/POWER(1+CALCULADORA!$C$32,Flujos!$B55/365))","v":1.1207529320209719},"2027-05-16",53,1611,49313753.015484422,1020145.5003497923,316046.54878092301,1336192.0491307154,{"$f":"M55*IFERROR(VLOOKUP($A55,UVR!$A:$B,2,0),CALCULADORA!$C$23)","v":385838308.98224807},{"$f":"N55*IFERROR(VLOOKUP($A55,UVR!$A:$B,2,0),CALCULADORA!$C$23)","v":119534778.02871704},{"$f":"O55*IFERROR(VLOOKUP($A55,UVR!$A:$B,2,0),CALCULADORA!$C$23)","v":505373087.01096517}]
["2027-06-16",{"$f":"IF(DIAS365(CALCULADORA!$C$30,A56)<0,0,DIAS365(CALCULADORA!$C$30,A56))","v":865},{"$f":"+HLOOKUP(CALCULADORA!$C$11,Tablas!$B$1:$B$181,Flujos!J56+1,FALSE)","v":9.2965700000000005E-3},44.271262999999998,0.92965699999999996,{"$f":"ROUND(D55*ROUND(((1+CALCULADORA!$C$19)^(1/12)-1),6),6)","v":0.28381699999999999},1.2134739999999999,{"$f":"IF($B56=0,0,G56/POWER(1+CALCULADORA!$C$32,Flujos!$B56/365))","v":1.106775977198079},"2027-06-16",54,1642,48299506.498220697,1014246.517263724,309641.05518422666,1323887.5724479507,{"$f":"M56*IFERROR(VLOOKUP($A56,UVR!$A:$B,2,0),CALCULADORA!$C$23)","v":383607202.08831674},{"$f":"N56*IFERROR(VLOOKUP($A56,UVR!$A:$B,2,0),CALCULADORA!$C$23)","v":117112099.2866175},{"$f":"O56*IFERROR(VLOOKUP($A56,UVR!$A:$B,2,0),CALCULADORA!$C$23)","v":500719301.37493426}]
["2027-07-16",{"$f":"IF(DIAS365(CALCULADORA!$C$30,A57)<0,0,DIAS365(CALCULADORA!$C$30,A57))","v":895},{"$f":"+HLOOKUP(CALCULADORA!$C$11,Tablas!$B$1:$B$181,Flujos!J57+1,FALSE)","v":9.1769399999999998E-3},43.353569,0.91769400000000001,{"$f":"ROUND(D56*ROUND(((1+CALCULADORA!$C$19)^(1/12)-1),6),6)","v":0.27797899999999998},1.195673,{"$f":"IF($B57=0,0,G57/POWER(1+CALCULADORA!$C$32,Flujos!$B57/365))","v":1.0870647222457182},"2027-07-16",55,1672,47298311.494672276,1001195.0035484226,303272.60130232776,1304467.6048507504,{"$f":"M57*IFERROR(VLOOKUP($A57,UVR!$A:$B,2,0),CALCULADORA!$C$23)","v":378670872.92758054},{"$f":"N57*IFERROR(VLOOKUP($A57,UVR!$A:$B,2,0),CALCULADORA!$C$23)","v":114703429.66470498},{"$f":"O57*IFERROR(VLOOKUP($A57,UVR!$A:$B,2,0),CALCULADORA!$C$23)","v":493374302.59228551}]
["2027-08-16",{"$f":"IF(DIAS365(CALCULADORA!$C$30,A58)<0,0,DIAS365(CALCULADORA!$C$30,A58))","v":926},{"$f":"+HLOOKUP(CALCULADORA!$C$11,Tablas!$B$1:$B$181,Flujos!J58+1,FALSE)","v":9.1304400000000001E-3},42.440525000000001,0.91304399999999997,{"$f":"ROUND(D57*ROUND(((1+CALCULADORA!$C$19)^(1/12)-1),6),6)","v":0.27221699999999999},1.1852609999999999,{"$f":"IF($B58=0,0,G58/POWER(1+CALCULADORA!$C$32,Flujos!$B58/365))","v":1.0740499927167741},"2027-08-16",56,1703,46302189.594758071,996121.89991420449,296986.09787504724,1293107.9977892516,{"$f":"M58*IFERROR(VLOOKUP($A58,UVR!$A:$B,2,0),CALCULADORA!$C$23)","v":376752129.25146055},{"$f":"N58*IFERROR(VLOOKUP($A58,UVR!$A:$B,2,0),CALCULADORA!$C$23)","v":112325755.25359271},{"$f":"O58*IFERROR(VLOOKUP($A58,UVR!$A:$B,2,0),CALCULADORA!$C$23)","v":489077884.50505322}]
["2027-09-16",{"$f":"IF(DIAS365(CALCULADORA!$C$30,A59)<0,0,DIAS365(CALCULADORA!$C$30,A59))","v":957},{"$f":"+HLOOKUP(CALCULADORA!$C$11,Tablas!$B$1:$B$181,Flujos!J59+1,FALSE)","v":9.01128E-3},41.539397000000001,0.90112800000000004,{"$f":"ROUND(D58*ROUND(((1+CALCULADORA!$C$19)^(1/12)-1),6),6)","v":0.266484},1.1676120000000001,{"$f":"IF($B59=0,0,G59/POWER(1+CALCULADORA!$C$32,Flujos!$B59/365))","v":1.0545728201025188},"2027-09-16",57,1734,45319067.932027809,983121.6627302597,290731.44846548594,1273853.1111957456,{"$f":"M59*IFERROR(VLOOKUP($A59,UVR!$A:$B,2,0),CALCULADORA!$C$23)","v":371835193.84400982},{"$f":"N59*IFERROR(VLOOKUP($A59,UVR!$A:$B,2,0),CALCULADORA!$C$23)","v":109960128.63402279},{"$f":"O59*IFERROR(VLOOKUP($A59,UVR!$A:$B,2,0),CALCULADORA!$C$23)","v":481795322.47803265}]
["2027-10-16",{"$f":"IF(DIAS365(CALCULADORA!$C$30,A60)<0,0,DIAS365(CALCULADORA!$C$30,A60))","v":987},{"$f":"+HLOOKUP(CALCULADORA!$C$11,Tablas!$B$1:$B$181,Flujos!J60+1,FALSE)","v":8.9400199999999999E-3},40.645395000000001,0.89400199999999996,{"$f":"ROUND(D59*ROUND(((1+CALCULADORA!$C$19)^(1/12)-1),6),6)","v":0.260826},1.154828,{"$f":"IF($B60=0,0,G60/POWER(1+CALCULADORA!$C$32,Flujos!$B60/365))","v":1.0397024337491605},"2027-10-16",58,1764,44343720.664243236,975347.26778457407,284558.4275452026,1259905.6953297767,{"$f":"M60*IFERROR(VLOOKUP($A60,UVR!$A:$B,2,0),CALCULADORA!$C$23)","v":368894770.73948705},{"$f":"N60*IFERROR(VLOOKUP($A60,UVR!$A:$B,2,0),CALCULADORA!$C$23)","v":107625375.45187624},{"$f":"O60*IFERROR(VLOOKUP($A60,UVR!$A:$B,2,0),CALCULADORA!$C$23)","v":476520146.19136333}]
["2027-11-16",{"$f":"IF(DIAS365(CALCULADORA!$C$30,A61)<0,0,DIAS365(CALCULADORA!$C$30,A61))","v":1018},{"$f":"+HLOOKUP(CALCULADORA!$C$11,Tablas!$B$1:$B$181,Flujos!J61+1,FALSE)","v":8.8245200000000006E-3},39.762943,0.88245200000000001,{"$f":"ROUND(D60*ROUND(((1+CALCULADORA!$C$19)^(1/12)-1),6),6)","v":0.25521199999999999},1.137664,{"$f":"IF($B61=0,0,G61/POWER(1+CALCULADORA!$C$32,Flujos!$B61/365))","v":1.0208767030665542},"2027-11-16",59,1795,43380974.331292041,962746.33295119356,278434.22205078328,1241180.5550019769,{"$f":"M61*IFERROR(VLOOKUP($A61,UVR!$A:$B,2,0),CALCULADORA!$C$23)","v":364128859.02783418},{"$f":"N61*IFERROR(VLOOKUP($A61,UVR!$A:$B,2,0),CALCULADORA!$C$23)","v":105309085.18640301},{"$f":"O61*IFERROR(VLOOKUP($A61,UVR!$A:$B,2,0),CALCULADORA!$C$23)","v":469437944.21423721}]
["2027-12-16",{"$f":"IF(DIAS365(CALCULADORA!$C$30,A62)<0,0,DIAS365(CALCULADORA!$C$30,A62))","v":1048},{"$f":"+HLOOKUP(CALCULADORA!$C$11,Tablas!$B$1:$B$181,Flujos!J62+1,FALSE)","v":7.6692000000000001E-3},38.996023000000001,0.76692000000000005,{"$f":"ROUND(D61*ROUND(((1+CALCULADORA!$C$19)^(1/12)-1),6),6)","v":0.24967200000000001},1.0165920000000002,{"$f":"IF($B62=0,0,G62/POWER(1+CALCULADORA!$C$32,Flujos!$B62/365))","v":0.90932618329642179},"2027-12-16",60,1825,42544272.258355573,836702.07293646492,272389.1378261827,1109091.2107626477,{"$f":"M62*IFERROR(VLOOKUP($A62,UVR!$A:$B,2,0),CALCULADORA!$C$23)","v":316456537.65374953},{"$f":"N62*IFERROR(VLOOKUP($A62,UVR!$A:$B,2,0),CALCULADORA!$C$23)","v":103022720.08056723},{"$f":"O62*IFERROR(VLOOKUP($A62,UVR!$A:$B,2,0),CALCULADORA!$C$23)","v":419479257.73431677}]
["2028-01-16",{"$f":"IF(DIAS365(CALCULADORA!$C$30,A63)<0,0,DIAS365(CALCULADORA!$C$30,A63))","v":1079},{"$f":"+HLOOKUP(CALCULADORA!$C$11,Tablas!$B$1:$B$181,Flujos!J63+1,FALSE)","v":8.5573300000000001E-3},38.14029,0.85573299999999997,{"$f":"ROUND(D62*ROUND(((1+CALCULADORA!$C$19)^(1/12)-1),6),6)","v":0.24485599999999999},1.100589,{"$f":"IF($B63=0,0,G63/POWER(1+CALCULADORA!$C$32,Flujos!$B63/365))","v":0.98121843430135558},"2028-01-16",61,1856,41610676.087985598,933596.17036997329,267135.48551021464,1200731.6558801879,{"$f":"M63*IFERROR(VLOOKUP($A63,UVR!$A:$B,2,0),CALCULADORA!$C$23)","v":353103716.6015439},{"$f":"N63*IFERROR(VLOOKUP($A63,UVR!$A:$B,2,0),CALCULADORA!$C$23)","v":101035689.48063932},{"$f":"O63*IFERROR(VLOOKUP($A63,UVR!$A:$B,2,0),CALCULADORA!$C$23)","v":454139406.08218318}]
["2028-02-16",{"$f":"IF(DIAS365(CALCULADORA!$C$30,A64)<0,0,DIAS365(CALCULADORA!$C$30,A64))","v":1110},{"$f":"+HLOOKUP(CALCULADORA!$C$11,Tablas!$B$1:$B$181,Flujos!J64+1,FALSE)","v":8.3971099999999993E-3},37.300578999999999,0.83971099999999999,{"$f":"ROUND(D63*ROUND(((1+CALCULADORA!$C$19)^(1/12)-1),6),6)","v":0.239483},1.079194,{"$f":"IF($B64=0,0,G64/POWER(1+CALCULADORA!$C$32,Flujos!$B64/365))","v":0.95897563977965472},"2028-02-16",62,1887,40694559.759858087,916116.32812751248,261273.43515646155,1177389.763283974,{"$f":"M64*IFERROR(VLOOKUP($A64,UVR!$A:$B,2,0),CALCULADORA!$C$23)","v":346492509.89642686},{"$f":"N64*IFERROR(VLOOKUP($A64,UVR!$A:$B,2,0),CALCULADORA!$C$23)","v":98818551.244098216},{"$f":"O64*IFERROR(VLOOKUP($A64,UVR!$A:$B,2,0),CALCULADORA!$C$23)","v":445311061.14052504}]
["2028-03-16",{"$f":"IF(DIAS365(CALCULADORA!$C$30,A65)<0,0,DIAS365(CALCULADORA!$C$30,A65))","v":1138},{"$f":"+HLOOKUP(CALCULADORA!$C$11,Tablas!$B$1:$B$181,Flujos!J65+1,FALSE)","v":8.3030599999999993E-3},36.470272999999999,0.83030599999999999,{"$f":"ROUND(D64*ROUND(((1+CALCULADORA!$C$19)^(1/12)-1),6),6)","v":0.23421},1.064516,{"$f":"IF($B65=0,0,G65/POWER(1+CALCULADORA!$C$32,Flujos!$B65/365))","v":0.94311878583732112},"2028-03-16",63,1915,39788704.192952044,905855.56690604542,255521.14073214892,1161376.7076381943,{"$f":"M65*IFERROR(VLOOKUP($A65,UVR!$A:$B,2,0),CALCULADORA!$C$23)","v":342611696.07408094},{"$f":"N65*IFERROR(VLOOKUP($A65,UVR!$A:$B,2,0),CALCULADORA!$C$23)","v":96642924.774458572},{"$f":"O65*IFERROR(VLOOKUP($A65,UVR!$A:$B,2,0),CALCULADORA!$C$23)","v":439254620.84853947}]
["2028-04-16",{"$f":"IF(DIAS365(CALCULADORA!$C$30,A66)<0,0,DIAS365(CALCULADORA!$C$30,A66))","v":1169},{"$f":"+HLOOKUP(CALCULADORA!$C$11,Tablas!$B$1:$B$181,Flujos!J66+1,FALSE)","v":8.2190800000000001E-3},35.648364999999998,0.82190799999999997,{"$f":"ROUND(D65*ROUND(((1+CALCULADORA!$C$19)^(1/12)-1),6),6)","v":0.22899700000000001},1.050905,{"$f":"IF($B66=0,0,G66/POWER(1+CALCULADORA!$C$32,Flujos!$B66/365))","v":0.92799403086600929},"2028-04-16",64,1946,38892010.7603084,896693.43264364474,249833.27362754589,1146526.7062711907,{"$f":"M66*IFERROR(VLOOKUP($A66,UVR!$A:$B,2,0),CALCULADORA!$C$23)","v":339146403.7317034},{"$f":"N66*IFERROR(VLOOKUP($A66,UVR!$A:$B,2,0),CALCULADORA!$C$23)","v":94491665.934809417},{"$f":"O66*IFERROR(VLOOKUP($A66,UVR!$A:$B,2,0),CALCULADORA!$C$23)","v":433638069.66651285}]
[{"$f":"EDATE(A66,1)","v":"2028-05-16"},{"$f":"IF(DIAS365(CALCULADORA!$C$30,A67)<0,0,DIAS365(CALCULADORA!$C$30,A67))","v":1199},{"$f":"+HLOOKUP(CALCULADORA!$C$11,Tablas!$B$1:$B$181,Flujos!J67+1,FALSE)","v":8.1051300000000003E-3},34.837851999999998,0.81051300000000004,{"$f":"ROUND(D66*ROUND(((1+CALCULADORA!$C$19)^(1/12)-1),6),6)","v":0.22383600000000001},1.034349,{"$f":"IF($B67=0,0,G67/POWER(1+CALCULADORA!$C$32,Flujos!$B67/365))","v":0.91046353065056673},{"$f":"+A67","v":"2028-05-16"},65,1976,38007749.159043662,884261.60126473824,244202.93556397644,1128464.5368287147,{"$f":"M67*IFERROR(VLOOKUP($A67,UVR!$A:$B,2,0),CALCULADORA!$C$23)","v":334444450.1425879},{"$f":"N67*IFERROR(VLOOKUP($A67,UVR!$A:$B,2,0),CALCULADORA!$C$23)","v":92362165.665778056},{"$f":"O67*IFERROR(VLOOKUP($A67,UVR!$A:$B,2,0),CALCULADORA!$C$23)","v":426806615.80836594}]
["2028-06-16",{"$f":"IF(DIAS365(CALCULADORA!$C$30,A68)<0,0,DIAS365(CALCULADORA!$C$30,A68))","v":1230},{"$f":"+HLOOKUP(CALCULADORA!$C$11,Tablas!$B$1:$B$181,Flujos!J68+1,FALSE)","v":7.9514500000000005E-3},{"$f":"+ROUND(D67-E68,6)","v":34.042707},{"$f":"ROUND(C68*$D$2,6)","v":0.79514499999999999},{"$f":"ROUND(D67*ROUND(((1+CALCULADORA!$C$19)^(1/12)-1),6),6)","v":0.218747},{"$f":"F68+E68","v":1.013892},{"$f":"IF($B68=0,0,G68/POWER(1+CALCULADORA!$C$32,Flujos!$B68/365))","v":0.8895178634245049},"2028-06-16",66,{"$f":"+DIAS365($A$2,A68)","v":2007},{"$f":"+L67-M68","v":37140253.892542511},{"$f":"+$L$2*C68","v":867495.26650115452},{"$f":"+L67*$F$3%","v":238650.65696963514},{"$f":"+N68+M68","v":1106145.9234707896},{"$f":"M68*IFERROR(VLOOKUP($A68,UVR!$A:$B,2,0),CALCULADORA!$C$23)","v":328103105.4512735},{"$f":"N68*IFERROR(VLOOKUP($A68,UVR!$A:$B,2,0),CALCULADORA!$C$23)","v":90262188.963332742},{"$f":"O68*IFERROR(VLOOKUP($A68,UVR!$A:$B,2,0),CALCULADORA!$C$23)","v":418365294.41460621}]
["2028-07-16",{"$f":"IF(DIAS365(CALCULADORA!$C$30,A69)<0,0,DIAS365(CALCULADORA!$C$30,A69))","v":1260},{"$f":"+HLOOKUP(CALCULADORA!$C$11,Tablas!$B$1:$B$181,Flujos!J69+1,FALSE)","v":7.8276999999999999E-3},33.259937000000001,0.78276999999999997,{"$f":"ROUND(D68*ROUND(((1+CALCULADORA!$C$19)^(1/12)-1),6),6)","v":0.213754},0.99652399999999997,{"$f":"IF($B69=0,0,G69/POWER(1+CALCULADORA!$C$32,Flujos!$B69/365))","v":0.87149414056786256},"2028-07-16",67,2037,36286259.627648547,853994.26489396114,233203.65419127443,1087197.9190852356,{"$f":"M69*IFERROR(VLOOKUP($A69,UVR!$A:$B,2,0),CALCULADORA!$C$23)","v":322996771.47450262},{"$f":"N69*IFERROR(VLOOKUP($A69,UVR!$A:$B,2,0),CALCULADORA!$C$23)","v":88202029.564204201},{"$f":"O69*IFERROR(VLOOKUP($A69,UVR!$A:$B,2,0),CALCULADORA!$C$23)","v":411198801.03870684}]
["2028-08-16",{"$f":"IF(DIAS365(CALCULADORA!$C$30,A70)<0,0,DIAS365(CALCULADORA!$C$30,A70))","v":1291},{"$f":"+HLOOKUP(CALCULADORA!$C$11,Tablas!$B$1:$B$181,Flujos!J70+1,FALSE)","v":7.7417199999999997E-3},32.485765000000001,0.77417199999999997,{"$f":"ROUND(D69*ROUND(((1+CALCULADORA!$C$19)^(1/12)-1),6),6)","v":0.208839},0.98301099999999997,{"$f":"IF($B70=0,0,G70/POWER(1+CALCULADORA!$C$32,Flujos!$B70/365))","v":0.85684567470388273},"2028-08-16",68,2068,35441645.695022762,844613.93262578745,227841.42420200523,1072455.3568277927,{"$f":"M70*IFERROR(VLOOKUP($A70,UVR!$A:$B,2,0),CALCULADORA!$C$23)","v":319448952.52239949},{"$f":"N70*IFERROR(VLOOKUP($A70,UVR!$A:$B,2,0),CALCULADORA!$C$23)","v":86173932.836115807},{"$f":"O70*IFERROR(VLOOKUP($A70,UVR!$A:$B,2,0),CALCULADORA!$C$23)","v":405622885.35851526}]
["2028-09-16",{"$f":"IF(DIAS365(CALCULADORA!$C$30,A71)<0,0,DIAS365(CALCULADORA!$C$30,A71))","v":1322},{"$f":"+HLOOKUP(CALCULADORA!$C$11,Tablas!$B$1:$B$181,Flujos!J71+1,FALSE)","v":7.6557300000000003E-3},31.720192000000001,0.76557299999999995,{"$f":"ROUND(D70*ROUND(((1+CALCULADORA!$C$19)^(1/12)-1),6),6)","v":0.20397799999999999},0.96955099999999994,{"$f":"IF($B71=0,0,G71/POWER(1+CALCULADORA!$C$32,Flujos!$B71/365))","v":0.84233027808325422},"2028-09-16",69,2099,34606413.185655177,835232.50936758495,222538.09331904791,1057770.6026866329,{"$f":"M71*IFERROR(VLOOKUP($A71,UVR!$A:$B,2,0),CALCULADORA!$C$23)","v":315900720.93724769},{"$f":"N71*IFERROR(VLOOKUP($A71,UVR!$A:$B,2,0),CALCULADORA!$C$23)","v":84168112.863227651},{"$f":"O71*IFERROR(VLOOKUP($A71,UVR!$A:$B,2,0),CALCULADORA!$C$23)","v":400068833.80047536}]
["2028-10-16",{"$f":"IF(DIAS365(CALCULADORA!$C$30,A72)<0,0,DIAS365(CALCULADORA!$C$30,A72))","v":1352},{"$f":"+HLOOKUP(CALCULADORA!$C$11,Tablas!$B$1:$B$181,Flujos!J72+1,FALSE)","v":7.5446899999999997E-3},30.965723000000001,0.75446899999999995,{"$f":"ROUND(D71*ROUND(((1+CALCULADORA!$C$19)^(1/12)-1),6),6)","v":0.19917099999999999},0.95363999999999993,{"$f":"IF($B72=0,0,G72/POWER(1+CALCULADORA!$C$32,Flujos!$B72/365))","v":0.82586667793662849},"2028-10-16",70,2129,33783295.029568098,823118.1560870778,217293.66839272884,1040411.8244798067,{"$f":"M72*IFERROR(VLOOKUP($A72,UVR!$A:$B,2,0),CALCULADORA!$C$23)","v":311318843.56528288},{"$f":"N72*IFERROR(VLOOKUP($A72,UVR!$A:$B,2,0),CALCULADORA!$C$23)","v":82184572.236462668},{"$f":"O72*IFERROR(VLOOKUP($A72,UVR!$A:$B,2,0),CALCULADORA!$C$23)","v":393503415.80174559}]
["2028-11-16",{"$f":"IF(DIAS365(CALCULADORA!$C$30,A73)<0,0,DIAS365(CALCULADORA!$C$30,A73))","v":1383},{"$f":"+HLOOKUP(CALCULADORA!$C$11,Tablas!$B$1:$B$181,Flujos!J73+1,FALSE)","v":7.4390999999999997E-3},30.221813000000001,0.74390999999999996,{"$f":"ROUND(D72*ROUND(((1+CALCULADORA!$C$19)^(1/12)-1),6),6)","v":0.194434},0.93834399999999996,{"$f":"IF($B73=0,0,G73/POWER(1+CALCULADORA!$C$32,Flujos!$B73/365))","v":0.80994417812057939},"2028-11-16",71,2160,32971696.637195796,811598.39237230166,212125.30949065808,1023723.7018629598,{"$f":"M73*IFERROR(VLOOKUP($A73,UVR!$A:$B,2,0),CALCULADORA!$C$23)","v":306961851.20482033},{"$f":"N73*IFERROR(VLOOKUP($A73,UVR!$A:$B,2,0),CALCULADORA!$C$23)","v":80229801.217716262},{"$f":"O73*IFERROR(VLOOKUP($A73,UVR!$A:$B,2,0),CALCULADORA!$C$23)","v":387191652.42253661}]
["2028-12-16",{"$f":"IF(DIAS365(CALCULADORA!$C$30,A74)<0,0,DIAS365(CALCULADORA!$C$30,A74))","v":1413},{"$f":"+HLOOKUP(CALCULADORA!$C$11,Tablas!$B$1:$B$181,Flujos!J74+1,FALSE)","v":6.2479800000000002E-3},29.597014999999999,0.62479799999999996,{"$f":"ROUND(D73*ROUND(((1+CALCULADORA!$C$19)^(1/12)-1),6),6)","v":0.18976299999999999},0.81456099999999998,{"$f":"IF($B74=0,0,G74/POWER(1+CALCULADORA!$C$32,Flujos!$B74/365))","v":0.70085850950800821},"2028-12-16",72,2190,32290048.249141555,681648.38805423956,207029.28318495239,888677.6712391919,{"$f":"M74*IFERROR(VLOOKUP($A74,UVR!$A:$B,2,0),CALCULADORA!$C$23)","v":257812303.51664764},{"$f":"N74*IFERROR(VLOOKUP($A74,UVR!$A:$B,2,0),CALCULADORA!$C$23)","v":78302387.7540012},{"$f":"O74*IFERROR(VLOOKUP($A74,UVR!$A:$B,2,0),CALCULADORA!$C$23)","v":336114691.27064884}]
["2029-01-16",{"$f":"IF(DIAS365(CALCULADORA!$C$30,A75)<0,0,DIAS365(CALCULADORA!$C$30,A75))","v":1444},{"$f":"+HLOOKUP(CALCULADORA!$C$11,Tablas!$B$1:$B$181,Flujos!J75+1,FALSE)","v":7.1897000000000003E-3},28.878045,0.71897,{"$f":"ROUND(D74*ROUND(((1+CALCULADORA!$C$19)^(1/12)-1),6),6)","v":0.18584000000000001},0.90481,{"$f":"IF($B75=0,0,G75/POWER(1+CALCULADORA!$C$32,Flujos!$B75/365))","v":0.77594627365749058},"2029-01-16",73,2221,31505659.148089126,784389.10105243081,202749.21295635981,987138.31400879065,{"$f":"M75*IFERROR(VLOOKUP($A75,UVR!$A:$B,2,0),CALCULADORA!$C$23)","v":296670782.97203922},{"$f":"N75*IFERROR(VLOOKUP($A75,UVR!$A:$B,2,0),CALCULADORA!$C$23)","v":76683584.300220162},{"$f":"O75*IFERROR(VLOOKUP($A75,UVR!$A:$B,2,0),CALCULADORA!$C$23)","v":373354367.27225941}]
["2029-02-16",{"$f":"IF(DIAS365(CALCULADORA!$C$30,A76)<0,0,DIAS365(CALCULADORA!$C$30,A76))","v":1475},{"$f":"+HLOOKUP(CALCULADORA!$C$11,Tablas!$B$1:$B$181,Flujos!J76+1,FALSE)","v":7.0945899999999996E-3},28.168586000000001,0.70945899999999995,{"$f":"ROUND(D75*ROUND(((1+CALCULADORA!$C$19)^(1/12)-1),6),6)","v":0.18132499999999999},0.89078399999999991,{"$f":"IF($B76=0,0,G76/POWER(1+CALCULADORA!$C$32,Flujos!$B76/365))","v":0.76140230991766811},"2029-02-16",74,2252,30731646.453201223,774012.6948879041,197824.03379085162,971836.7286787557,{"$f":"M76*IFERROR(VLOOKUP($A76,UVR!$A:$B,2,0),CALCULADORA!$C$23)","v":292746230.04653871},{"$f":"N76*IFERROR(VLOOKUP($A76,UVR!$A:$B,2,0),CALCULADORA!$C$23)","v":74820788.453938738},{"$f":"O76*IFERROR(VLOOKUP($A76,UVR!$A:$B,2,0),CALCULADORA!$C$23)","v":367567018.50047743}]
["2029-03-16",{"$f":"IF(DIAS365(CALCULADORA!$C$30,A77)<0,0,DIAS365(CALCULADORA!$C$30,A77))","v":1503},{"$f":"+HLOOKUP(CALCULADORA!$C$11,Tablas!$B$1:$B$181,Flujos!J77+1,FALSE)","v":6.9927599999999998E-3},27.46931,0.69927600000000001,{"$f":"ROUND(D76*ROUND(((1+CALCULADORA!$C$19)^(1/12)-1),6),6)","v":0.176871},0.87614700000000001,{"$f":"IF($B77=0,0,G77/POWER(1+CALCULADORA!$C$32,Flujos!$B77/365))","v":0.7466634791187392},"2029-03-16",75,2280,29968743.309777241,762903.14342398092,192964.00807965046,955867.15150363138,{"$f":"M77*IFERROR(VLOOKUP($A77,UVR!$A:$B,2,0),CALCULADORA!$C$23)","v":288544387.71236032},{"$f":"N77*IFERROR(VLOOKUP($A77,UVR!$A:$B,2,0),CALCULADORA!$C$23)","v":72982634.875476509},{"$f":"O77*IFERROR(VLOOKUP($A77,UVR!$A:$B,2,0),CALCULADORA!$C$23)","v":361527022.5878368}]
["2029-04-16",{"$f":"IF(DIAS365(CALCULADORA!$C$30,A78)<0,0,DIAS365(CALCULADORA!$C$30,A78))","v":1534},{"$f":"+HLOOKUP(CALCULADORA!$C$11,Tablas!$B$1:$B$181,Flujos!J78+1,FALSE)","v":6.9260099999999998E-3},26.776709,0.69260100000000002,{"$f":"ROUND(D77*ROUND(((1+CALCULADORA!$C$19)^(1/12)-1),6),6)","v":0.17247999999999999},0.86508099999999999,{"$f":"IF($B78=0,0,G78/POWER(1+CALCULADORA!$C$32,Flujos!$B78/365))","v":0.7348052103840953},"2029-04-16",76,2311,29213122.524795927,755620.78498131293,188173.73924209128,943794.52422340424,{"$f":"M78*IFERROR(VLOOKUP($A78,UVR!$A:$B,2,0),CALCULADORA!$C$23)","v":285790062.11276871},{"$f":"N78*IFERROR(VLOOKUP($A78,UVR!$A:$B,2,0),CALCULADORA!$C$23)","v":71170864.665030599},{"$f":"O78*IFERROR(VLOOKUP($A78,UVR!$A:$B,2,0),CALCULADORA!$C$23)","v":356960926.77779931}]
["2029-05-16",{"$f":"IF(DIAS365(CALCULADORA!$C$30,A79)<0,0,DIAS365(CALCULADORA!$C$30,A79))","v":1564},{"$f":"+HLOOKUP(CALCULADORA!$C$11,Tablas!$B$1:$B$181,Flujos!J79+1,FALSE)","v":6.8545300000000002E-3},26.091256000000001,0.68545299999999998,{"$f":"ROUND(D78*ROUND(((1+CALCULADORA!$C$19)^(1/12)-1),6),6)","v":0.168131},0.85358400000000001,{"$f":"IF($B79=0,0,G79/POWER(1+CALCULADORA!$C$32,Flujos!$B79/365))","v":0.72272894866254545},"2029-05-16",77,2341,28465300.136540934,747822.38825499231,183429.19633319363,931251.58458818588,{"$f":"M79*IFERROR(VLOOKUP($A79,UVR!$A:$B,2,0),CALCULADORA!$C$23)","v":282840561.0811761},{"$f":"N79*IFERROR(VLOOKUP($A79,UVR!$A:$B,2,0),CALCULADORA!$C$23)","v":69376388.865024537},{"$f":"O79*IFERROR(VLOOKUP($A79,UVR!$A:$B,2,0),CALCULADORA!$C$23)","v":352216949.94620061}]
["2029-06-16",{"$f":"IF(DIAS365(CALCULADORA!$C$30,A80)<0,0,DIAS365(CALCULADORA!$C$30,A80))","v":1595},{"$f":"+HLOOKUP(CALCULADORA!$C$11,Tablas!$B$1:$B$181,Flujos!J80+1,FALSE)","v":6.7874399999999996E-3},25.412512,0.67874400000000001,{"$f":"ROUND(D79*ROUND(((1+CALCULADORA!$C$19)^(1/12)-1),6),6)","v":0.163827},0.84257099999999996,{"$f":"IF($B80=0,0,G80/POWER(1+CALCULADORA!$C$32,Flujos!$B80/365))","v":0.71105503205893927},"2029-06-16",78,2372,27724797.20038959,740502.93615134293,178733.61955734051,919236.55570868345,{"$f":"M80*IFERROR(VLOOKUP($A80,UVR!$A:$B,2,0),CALCULADORA!$C$23)","v":280072205.95793116},{"$f":"N80*IFERROR(VLOOKUP($A80,UVR!$A:$B,2,0),CALCULADORA!$C$23)","v":67600432.981995821},{"$f":"O80*IFERROR(VLOOKUP($A80,UVR!$A:$B,2,0),CALCULADORA!$C$23)","v":347672638.93992698}]
["2029-07-16",{"$f":"IF(DIAS365(CALCULADORA!$C$30,A81)<0,0,DIAS365(CALCULADORA!$C$30,A81))","v":1625},{"$f":"+HLOOKUP(CALCULADORA!$C$11,Tablas!$B$1:$B$181,Flujos!J81+1,FALSE)","v":6.7162699999999999E-3},24.740884999999999,0.67162699999999997,{"$f":"ROUND(D80*ROUND(((1+CALCULADORA!$C$19)^(1/12)-1),6),6)","v":0.15956500000000001},0.83119199999999993,{"$f":"IF($B81=0,0,G81/POWER(1+CALCULADORA!$C$32,Flujos!$B81/365))","v":0.69921670049725659},"2029-07-16",79,2402,26992058.840273675,732738.36011591705,174084.00162124622,906822.36173716327,{"$f":"M81*IFERROR(VLOOKUP($A81,UVR!$A:$B,2,0),CALCULADORA!$C$23)","v":277135496.55084604},{"$f":"N81*IFERROR(VLOOKUP($A81,UVR!$A:$B,2,0),CALCULADORA!$C$23)","v":65841859.600785963},{"$f":"O81*IFERROR(VLOOKUP($A81,UVR!$A:$B,2,0),CALCULADORA!$C$23)","v":342977356.15163201}]
["2029-08-16",{"$f":"IF(DIAS365(CALCULADORA!$C$30,A82)<0,0,DIAS365(CALCULADORA!$C$30,A82))","v":1656},{"$f":"+HLOOKUP(CALCULADORA!$C$11,Tablas!$B$1:$B$181,Flujos!J82+1,FALSE)","v":6.6741400000000003E-3},24.073471000000001,0.66741399999999995,{"$f":"ROUND(D81*ROUND(((1+CALCULADORA!$C$19)^(1/12)-1),6),6)","v":0.15534800000000001},0.82276199999999999,{"$f":"IF($B82=0,0,G82/POWER(1+CALCULADORA!$C$32,Flujos!$B82/365))","v":0.6898460557127587},"2029-08-16",80,2433,26263916.82114936,728142.01912431256,169483.13745807839,897625.15658239089,{"$f":"M82*IFERROR(VLOOKUP($A82,UVR!$A:$B,2,0),CALCULADORA!$C$23)","v":275397073.51697648},{"$f":"N82*IFERROR(VLOOKUP($A82,UVR!$A:$B,2,0),CALCULADORA!$C$23)","v":64101725.817943208},{"$f":"O82*IFERROR(VLOOKUP($A82,UVR!$A:$B,2,0),CALCULADORA!$C$23)","v":339498799.33491963}]
["2029-09-16",{"$f":"IF(DIAS365(CALCULADORA!$C$30,A83)<0,0,DIAS365(CALCULADORA!$C$30,A83))","v":1687},{"$f":"+HLOOKUP(CALCULADORA!$C$11,Tablas!$B$1:$B$181,Flujos!J83+1,FALSE)","v":6.6208899999999999E-3},23.411382,0.66208900000000004,{"$f":"ROUND(D82*ROUND(((1+CALCULADORA!$C$19)^(1/12)-1),6),6)","v":0.15115700000000001},0.81324600000000002,{"$f":"IF($B83=0,0,G83/POWER(1+CALCULADORA!$C$32,Flujos!$B83/365))","v":0.67962198342678093},"2029-09-16",81,2464,25541584.323928751,722332.4972206112,164911.13371999684,887243.63094060798,{"$f":"M83*IFERROR(VLOOKUP($A83,UVR!$A:$B,2,0),CALCULADORA!$C$23)","v":273199802.53303266},{"$f":"N83*IFERROR(VLOOKUP($A83,UVR!$A:$B,2,0),CALCULADORA!$C$23)","v":62372507.593330115},{"$f":"O83*IFERROR(VLOOKUP($A83,UVR!$A:$B,2,0),CALCULADORA!$C$23)","v":335572310.12636274}]
["2029-10-16",{"$f":"IF(DIAS365(CALCULADORA!$C$30,A84)<0,0,DIAS365(CALCULADORA!$C$30,A84))","v":1717},{"$f":"+HLOOKUP(CALCULADORA!$C$11,Tablas!$B$1:$B$181,Flujos!J84+1,FALSE)","v":6.5896799999999997E-3},22.752414000000002,0.658968,{"$f":"ROUND(D83*ROUND(((1+CALCULADORA!$C$19)^(1/12)-1),6),6)","v":0.14699999999999999},0.80596800000000002,{"$f":"IF($B84=0,0,G84/POWER(1+CALCULADORA!$C$32,Flujos!$B84/365))","v":0.67139331493779653},"2029-10-16",82,2494,24822656.806588225,718927.51734052622,160375.60796994861,879303.12531047477,{"$f":"M84*IFERROR(VLOOKUP($A84,UVR!$A:$B,2,0),CALCULADORA!$C$23)","v":271911974.78826475},{"$f":"N84*IFERROR(VLOOKUP($A84,UVR!$A:$B,2,0),CALCULADORA!$C$23)","v":60657086.033225201},{"$f":"O84*IFERROR(VLOOKUP($A84,UVR!$A:$B,2,0),CALCULADORA!$C$23)","v":332569060.82148993}]
["2029-11-16",{"$f":"IF(DIAS365(CALCULADORA!$C$30,A85)<0,0,DIAS365(CALCULADORA!$C$30,A85))","v":1748},{"$f":"+HLOOKUP(CALCULADORA!$C$11,Tablas!$B$1:$B$181,Flujos!J85+1,FALSE)","v":6.5582799999999997E-3},22.096585999999999,0.65582799999999997,{"$f":"ROUND(D84*ROUND(((1+CALCULADORA!$C$19)^(1/12)-1),6),6)","v":0.14286199999999999},0.7986899999999999,{"$f":"IF($B85=0,0,G85/POWER(1+CALCULADORA!$C$32,Flujos!$B85/365))","v":0.66313963017292188},"2029-11-16",83,2525,24107154.997938331,715501.80864989292,155861.46208856747,871363.27073846036,{"$f":"M85*IFERROR(VLOOKUP($A85,UVR!$A:$B,2,0),CALCULADORA!$C$23)","v":270616307.01557302},{"$f":"N85*IFERROR(VLOOKUP($A85,UVR!$A:$B,2,0),CALCULADORA!$C$23)","v":58949750.743529692},{"$f":"O85*IFERROR(VLOOKUP($A85,UVR!$A:$B,2,0),CALCULADORA!$C$23)","v":329566057.7591027}]
["2029-12-16",{"$f":"IF(DIAS365(CALCULADORA!$C$30,A86)<0,0,DIAS365(CALCULADORA!$C$30,A86))","v":1778},{"$f":"+HLOOKUP(CALCULADORA!$C$11,Tablas!$B$1:$B$181,Flujos!J86+1,FALSE)","v":5.4421900000000004E-3},21.552367,0.54421900000000001,{"$f":"ROUND(D85*ROUND(((1+CALCULADORA!$C$19)^(1/12)-1),6),6)","v":0.13874400000000001},0.68296299999999999,{"$f":"IF($B86=0,0,G86/POWER(1+CALCULADORA!$C$32,Flujos!$B86/365))","v":0.56524618927532588},"2029-12-16",84,2555,23513417.495419934,593737.50251839834,151368.82623205477,745106.32875045307,{"$f":"M86*IFERROR(VLOOKUP($A86,UVR!$A:$B,2,0),CALCULADORA!$C$23)","v":224562745.09125587},{"$f":"N86*IFERROR(VLOOKUP($A86,UVR!$A:$B,2,0),CALCULADORA!$C$23)","v":57250550.951778904},{"$f":"O86*IFERROR(VLOOKUP($A86,UVR!$A:$B,2,0),CALCULADORA!$C$23)","v":281813296.04303473}]
["2030-01-16",{"$f":"IF(DIAS365(CALCULADORA!$C$30,A87)<0,0,DIAS365(CALCULADORA!$C$30,A87))","v":1809},{"$f":"+HLOOKUP(CALCULADORA!$C$11,Tablas!$B$1:$B$181,Flujos!J87+1,FALSE)","v":6.4758999999999997E-3},20.904776999999999,0.64759,{"$f":"ROUND(D86*ROUND(((1+CALCULADORA!$C$19)^(1/12)-1),6),6)","v":0.135327},0.78291699999999997,{"$f":"IF($B87=0,0,G87/POWER(1+CALCULADORA!$C$32,Flujos!$B87/365))","v":0.64583817540624466},"2030-01-16",85,2586,22806903.262627825,706514.23279211042,147640.74845374178,854154.98124585219,{"$f":"M87*IFERROR(VLOOKUP($A87,UVR!$A:$B,2,0),CALCULADORA!$C$23)","v":267217035.96097594},{"$f":"N87*IFERROR(VLOOKUP($A87,UVR!$A:$B,2,0),CALCULADORA!$C$23)","v":55840521.475350916},{"$f":"O87*IFERROR(VLOOKUP($A87,UVR!$A:$B,2,0),CALCULADORA!$C$23)","v":323057557.43632686}]
["2030-02-16",{"$f":"IF(DIAS365(CALCULADORA!$C$30,A88)<0,0,DIAS365(CALCULADORA!$C$30,A88))","v":1840},{"$f":"+HLOOKUP(CALCULADORA!$C$11,Tablas!$B$1:$B$181,Flujos!J88+1,FALSE)","v":6.4227700000000004E-3},20.262499999999999,0.64227699999999999,{"$f":"ROUND(D87*ROUND(((1+CALCULADORA!$C$19)^(1/12)-1),6),6)","v":0.13126099999999999},0.77353799999999995,{"$f":"IF($B88=0,0,G88/POWER(1+CALCULADORA!$C$32,Flujos!$B88/365))","v":0.63600007180826468},"2030-02-16",86,2617,22106185.459859069,700717.80276875547,143204.5455860401,843922.3483547956,{"$f":"M88*IFERROR(VLOOKUP($A88,UVR!$A:$B,2,0),CALCULADORA!$C$23)","v":265024716.57361567},{"$f":"N88*IFERROR(VLOOKUP($A88,UVR!$A:$B,2,0),CALCULADORA!$C$23)","v":54162665.706551947},{"$f":"O88*IFERROR(VLOOKUP($A88,UVR!$A:$B,2,0),CALCULADORA!$C$23)","v":319187382.28016764}]
["2030-03-16",{"$f":"IF(DIAS365(CALCULADORA!$C$30,A89)<0,0,DIAS365(CALCULADORA!$C$30,A89))","v":1868},{"$f":"+HLOOKUP(CALCULADORA!$C$11,Tablas!$B$1:$B$181,Flujos!J89+1,FALSE)","v":6.3734799999999999E-3},19.625152,0.63734800000000003,{"$f":"ROUND(D88*ROUND(((1+CALCULADORA!$C$19)^(1/12)-1),6),6)","v":0.12722800000000001},0.76457600000000003,{"$f":"IF($B89=0,0,G89/POWER(1+CALCULADORA!$C$32,Flujos!$B89/365))","v":0.62676151540963065},"2030-03-16",87,2645,21410845.146942586,695340.3129164842,138804.73850245509,834145.05141893926,{"$f":"M89*IFERROR(VLOOKUP($A89,UVR!$A:$B,2,0),CALCULADORA!$C$23)","v":262990848.27692845},{"$f":"N89*IFERROR(VLOOKUP($A89,UVR!$A:$B,2,0),CALCULADORA!$C$23)","v":52498575.511186212},{"$f":"O89*IFERROR(VLOOKUP($A89,UVR!$A:$B,2,0),CALCULADORA!$C$23)","v":315489423.78811467}]
["2030-04-16",{"$f":"IF(DIAS365(CALCULADORA!$C$30,A90)<0,0,DIAS365(CALCULADORA!$C$30,A90))","v":1899},{"$f":"+HLOOKUP(CALCULADORA!$C$11,Tablas!$B$1:$B$181,Flujos!J90+1,FALSE)","v":6.2885700000000003E-3},18.996295,0.628857,{"$f":"ROUND(D89*ROUND(((1+CALCULADORA!$C$19)^(1/12)-1),6),6)","v":0.123226},0.75208300000000006,{"$f":"IF($B90=0,0,G90/POWER(1+CALCULADORA!$C$32,Flujos!$B90/365))","v":0.61449019108848713},"2030-04-16",88,2676,20724768.430361185,686076.71658139909,134438.69667765248,820515.41325905151,{"$f":"M90*IFERROR(VLOOKUP($A90,UVR!$A:$B,2,0),CALCULADORA!$C$23)","v":259487181.06102854},{"$f":"N90*IFERROR(VLOOKUP($A90,UVR!$A:$B,2,0),CALCULADORA!$C$23)","v":50847255.974855378},{"$f":"O90*IFERROR(VLOOKUP($A90,UVR!$A:$B,2,0),CALCULADORA!$C$23)","v":310334437.0358839}]
["2030-05-16",{"$f":"IF(DIAS365(CALCULADORA!$C$30,A91)<0,0,DIAS365(CALCULADORA!$C$30,A91))","v":1929},{"$f":"+HLOOKUP(CALCULADORA!$C$11,Tablas!$B$1:$B$181,Flujos!J91+1,FALSE)","v":6.2375599999999996E-3},18.372539,0.62375599999999998,{"$f":"ROUND(D90*ROUND(((1+CALCULADORA!$C$19)^(1/12)-1),6),6)","v":0.119278},0.74303399999999997,{"$f":"IF($B91=0,0,G91/POWER(1+CALCULADORA!$C$32,Flujos!$B91/365))","v":0.60516193198951063},"2030-05-16",89,2706,20044256.853917021,680511.5764441631,130130.82097423788,810642.39741840097,{"$f":"M91*IFERROR(VLOOKUP($A91,UVR!$A:$B,2,0),CALCULADORA!$C$23)","v":257382339.87997729},{"$f":"N91*IFERROR(VLOOKUP($A91,UVR!$A:$B,2,0),CALCULADORA!$C$23)","v":49217935.964973181},{"$f":"O91*IFERROR(VLOOKUP($A91,UVR!$A:$B,2,0),CALCULADORA!$C$23)","v":306600275.8449505}]
["2030-06-16",{"$f":"IF(DIAS365(CALCULADORA!$C$30,A92)<0,0,DIAS365(CALCULADORA!$C$30,A92))","v":1960},{"$f":"+HLOOKUP(CALCULADORA!$C$11,Tablas!$B$1:$B$181,Flujos!J92+1,FALSE)","v":6.1893900000000003E-3},17.753599999999999,0.61893900000000002,{"$f":"ROUND(D91*ROUND(((1+CALCULADORA!$C$19)^(1/12)-1),6),6)","v":0.11536100000000001},0.73430000000000006,{"$f":"IF($B92=0,0,G92/POWER(1+CALCULADORA!$C$32,Flujos!$B92/365))","v":0.59607919558392852},"2030-06-16",90,2737,19369000.576441895,675256.27747512481,125857.88878574497,801114.16626086982,{"$f":"M92*IFERROR(VLOOKUP($A92,UVR!$A:$B,2,0),CALCULADORA!$C$23)","v":255394686.4847365},{"$f":"N92*IFERROR(VLOOKUP($A92,UVR!$A:$B,2,0),CALCULADORA!$C$23)","v":47601832.252866805},{"$f":"O92*IFERROR(VLOOKUP($A92,UVR!$A:$B,2,0),CALCULADORA!$C$23)","v":302996518.73760331}]
["2030-07-16",{"$f":"IF(DIAS365(CALCULADORA!$C$30,A93)<0,0,DIAS365(CALCULADORA!$C$30,A93))","v":1990},{"$f":"+HLOOKUP(CALCULADORA!$C$11,Tablas!$B$1:$B$181,Flujos!J93+1,FALSE)","v":6.14899E-3},17.138701000000001,0.61489899999999997,{"$f":"ROUND(D92*ROUND(((1+CALCULADORA!$C$19)^(1/12)-1),6),6)","v":0.111475},0.72637399999999996,{"$f":"IF($B93=0,0,G93/POWER(1+CALCULADORA!$C$32,Flujos!$B93/365))","v":0.58776599677232522},"2030-07-16",91,2767,18698151.89868338,670848.67775851372,121617.95461947865,792466.63237799238,{"$f":"M93*IFERROR(VLOOKUP($A93,UVR!$A:$B,2,0),CALCULADORA!$C$23)","v":253727648.96827954},{"$f":"N93*IFERROR(VLOOKUP($A93,UVR!$A:$B,2,0),CALCULADORA!$C$23)","v":45998209.016429134},{"$f":"O93*IFERROR(VLOOKUP($A93,UVR!$A:$B,2,0),CALCULADORA!$C$23)","v":299725857.98470867}]
["2030-08-16",{"$f":"IF(DIAS365(CALCULADORA!$C$30,A94)<0,0,DIAS365(CALCULADORA!$C$30,A94))","v":2021},{"$f":"+HLOOKUP(CALCULADORA!$C$11,Tablas!$B$1:$B$181,Flujos!J94+1,FALSE)","v":6.1029600000000002E-3},16.528404999999999,0.61029599999999995,{"$f":"ROUND(D93*ROUND(((1+CALCULADORA!$C$19)^(1/12)-1),6),6)","v":0.107614},0.71790999999999994,{"$f":"IF($B94=0,0,G94/POWER(1+CALCULADORA!$C$32,Flujos!$B94/365))","v":0.57900417097513113},"2030-08-16",92,2798,18032325.048027728,665826.85065565223,117405.69577183294,783232.54642748518,{"$f":"M94*IFERROR(VLOOKUP($A94,UVR!$A:$B,2,0),CALCULADORA!$C$23)","v":251828299.04544508},{"$f":"N94*IFERROR(VLOOKUP($A94,UVR!$A:$B,2,0),CALCULADORA!$C$23)","v":44405053.108557306},{"$f":"O94*IFERROR(VLOOKUP($A94,UVR!$A:$B,2,0),CALCULADORA!$C$23)","v":296233352.15400237}]
["2030-09-16",{"$f":"IF(DIAS365(CALCULADORA!$C$30,A95)<0,0,DIAS365(CALCULADORA!$C$30,A95))","v":2052},{"$f":"+HLOOKUP(CALCULADORA!$C$11,Tablas!$B$1:$B$181,Flujos!J95+1,FALSE)","v":6.0347300000000003E-3},15.924932,0.60347300000000004,{"$f":"ROUND(D94*ROUND(((1+CALCULADORA!$C$19)^(1/12)-1),6),6)","v":0.103782},0.70725500000000008,{"$f":"IF($B95=0,0,G95/POWER(1+CALCULADORA!$C$32,Flujos!$B95/365))","v":0.56853242411892724},"2030-09-16",93,2829,17373942.022339016,658383.02568871237,113224.9689765661,771607.99466527847,{"$f":"M95*IFERROR(VLOOKUP($A95,UVR!$A:$B,2,0),CALCULADORA!$C$23)","v":249012903.75465655},{"$f":"N95*IFERROR(VLOOKUP($A95,UVR!$A:$B,2,0),CALCULADORA!$C$23)","v":42823823.218850963},{"$f":"O95*IFERROR(VLOOKUP($A95,UVR!$A:$B,2,0),CALCULADORA!$C$23)","v":291836726.97350752}]
["2030-10-16",{"$f":"IF(DIAS365(CALCULADORA!$C$30,A96)<0,0,DIAS365(CALCULADORA!$C$30,A96))","v":2082},{"$f":"+HLOOKUP(CALCULADORA!$C$11,Tablas!$B$1:$B$181,Flujos!J96+1,FALSE)","v":5.9394799999999996E-3},15.330984000000001,0.59394800000000003,{"$f":"ROUND(D95*ROUND(((1+CALCULADORA!$C$19)^(1/12)-1),6),6)","v":9.9992999999999999E-2},0.69394100000000003,{"$f":"IF($B96=0,0,G96/POWER(1+CALCULADORA!$C$32,Flujos!$B96/365))","v":0.55605210662467397},"2030-10-16",94,2859,16725950.676675234,647991.34566378163,109090.98195826668,757082.32762204832,{"$f":"M96*IFERROR(VLOOKUP($A96,UVR!$A:$B,2,0),CALCULADORA!$C$23)","v":245082573.96647528},{"$f":"N96*IFERROR(VLOOKUP($A96,UVR!$A:$B,2,0),CALCULADORA!$C$23)","v":41260271.196175471},{"$f":"O96*IFERROR(VLOOKUP($A96,UVR!$A:$B,2,0),CALCULADORA!$C$23)","v":286342845.16265076}]
["2030-11-16",{"$f":"IF(DIAS365(CALCULADORA!$C$30,A97)<0,0,DIAS365(CALCULADORA!$C$30,A97))","v":2113},{"$f":"+HLOOKUP(CALCULADORA!$C$11,Tablas!$B$1:$B$181,Flujos!J97+1,FALSE)","v":5.8843100000000002E-3},14.742552999999999,0.58843100000000004,{"$f":"ROUND(D96*ROUND(((1+CALCULADORA!$C$19)^(1/12)-1),6),6)","v":9.6263000000000001E-2},0.68469400000000002,{"$f":"IF($B97=0,0,G97/POWER(1+CALCULADORA!$C$32,Flujos!$B97/365))","v":0.5468358606389021},"2030-11-16",95,2890,16083978.323000696,641972.35367453843,105022.2442988438,746994.59797338222,{"$f":"M97*IFERROR(VLOOKUP($A97,UVR!$A:$B,2,0),CALCULADORA!$C$23)","v":242806077.43719488},{"$f":"N97*IFERROR(VLOOKUP($A97,UVR!$A:$B,2,0),CALCULADORA!$C$23)","v":39721397.714239977},{"$f":"O97*IFERROR(VLOOKUP($A97,UVR!$A:$B,2,0),CALCULADORA!$C$23)","v":282527475.15143484}]
["2030-12-16",{"$f":"IF(DIAS365(CALCULADORA!$C$30,A98)<0,0,DIAS365(CALCULADORA!$C$30,A98))","v":2143},{"$f":"+HLOOKUP(CALCULADORA!$C$11,Tablas!$B$1:$B$181,Flujos!J98+1,FALSE)","v":4.7071300000000003E-3},14.271839999999999,0.47071299999999999,{"$f":"ROUND(D97*ROUND(((1+CALCULADORA!$C$19)^(1/12)-1),6),6)","v":9.2567999999999998E-2},0.56328100000000003,{"$f":"IF($B98=0,0,G98/POWER(1+CALCULADORA!$C$32,Flujos!$B98/365))","v":0.44843479031958383},"2030-12-16",96,2920,15570435.133543983,513543.18945671286,100991.29989012137,614534.48934683425,{"$f":"M98*IFERROR(VLOOKUP($A98,UVR!$A:$B,2,0),CALCULADORA!$C$23)","v":194231740.21880955},{"$f":"N98*IFERROR(VLOOKUP($A98,UVR!$A:$B,2,0),CALCULADORA!$C$23)","v":38196818.354011826},{"$f":"O98*IFERROR(VLOOKUP($A98,UVR!$A:$B,2,0),CALCULADORA!$C$23)","v":232428558.57282138}]
[{"$f":"EDATE(A98,1)","v":"2031-01-16"},{"$f":"IF(DIAS365(CALCULADORA!$C$30,A99)<0,0,DIAS365(CALCULADORA!$C$30,A99))","v":2174},{"$f":"+HLOOKUP(CALCULADORA!$C$11,Tablas!$B$1:$B$181,Flujos!J99+1,FALSE)","v":5.6815700000000004E-3},13.703683,0.56815700000000002,{"$f":"ROUND(D98*ROUND(((1+CALCULADORA!$C$19)^(1/12)-1),6),6)","v":8.9612999999999998E-2},0.65776999999999997,{"$f":"IF($B99=0,0,G99/POWER(1+CALCULADORA!$C$32,Flujos!$B99/365))","v":0.52193423036701214},"2031-01-16",97,2951,14950581.511714635,619853.62182934745,97766.762203522667,717620.38403287018,{"$f":"M99*IFERROR(VLOOKUP($A99,UVR!$A:$B,2,0),CALCULADORA!$C$23)","v":234440355.0093118},{"$f":"N99*IFERROR(VLOOKUP($A99,UVR!$A:$B,2,0),CALCULADORA!$C$23)","v":36977237.257177919},{"$f":"O99*IFERROR(VLOOKUP($A99,UVR!$A:$B,2,0),CALCULADORA!$C$23)","v":271417592.26648974}]
["2031-02-16",{"$f":"IF(DIAS365(CALCULADORA!$C$30,A100)<0,0,DIAS365(CALCULADORA!$C$30,A100))","v":2205},{"$f":"+HLOOKUP(CALCULADORA!$C$11,Tablas!$B$1:$B$181,Flujos!J100+1,FALSE)","v":5.5966499999999999E-3},13.144018000000001,0.55966499999999997,{"$f":"ROUND(D99*ROUND(((1+CALCULADORA!$C$19)^(1/12)-1),6),6)","v":8.6044999999999996E-2},0.64571000000000001,{"$f":"IF($B100=0,0,G100/POWER(1+CALCULADORA!$C$32,Flujos!$B100/365))","v":0.51067753441226238},"2031-02-16",98,2982,14339992.577210402,610588.9345042333,93874.70131205619,704463.63581628946,{"$f":"M100*IFERROR(VLOOKUP($A100,UVR!$A:$B,2,0),CALCULADORA!$C$23)","v":230936275.16036317},{"$f":"N100*IFERROR(VLOOKUP($A100,UVR!$A:$B,2,0),CALCULADORA!$C$23)","v":35505186.268074453},{"$f":"O100*IFERROR(VLOOKUP($A100,UVR!$A:$B,2,0),CALCULADORA!$C$23)","v":266441461.42843762}]
["2031-03-16",{"$f":"IF(DIAS365(CALCULADORA!$C$30,A101)<0,0,DIAS365(CALCULADORA!$C$30,A101))","v":2233},{"$f":"+HLOOKUP(CALCULADORA!$C$11,Tablas!$B$1:$B$181,Flujos!J101+1,FALSE)","v":5.54844E-3},12.589174,0.554844,{"$f":"ROUND(D100*ROUND(((1+CALCULADORA!$C$19)^(1/12)-1),6),6)","v":8.2530999999999993E-2},0.63737500000000002,{"$f":"IF($B101=0,0,G101/POWER(1+CALCULADORA!$C$32,Flujos!$B101/365))","v":0.50258603231312071},"2031-03-16",99,3010,13734663.305635322,605329.27157507942,90040.813392304117,695370.08496738353,{"$f":"M101*IFERROR(VLOOKUP($A101,UVR!$A:$B,2,0),CALCULADORA!$C$23)","v":228946971.23292783},{"$f":"N101*IFERROR(VLOOKUP($A101,UVR!$A:$B,2,0),CALCULADORA!$C$23)","v":34055137.396342531},{"$f":"O101*IFERROR(VLOOKUP($A101,UVR!$A:$B,2,0),CALCULADORA!$C$23)","v":263002108.62927034}]
["2031-04-16",{"$f":"IF(DIAS365(CALCULADORA!$C$30,A102)<0,0,DIAS365(CALCULADORA!$C$30,A102))","v":2264},{"$f":"+HLOOKUP(CALCULADORA!$C$11,Tablas!$B$1:$B$181,Flujos!J102+1,FALSE)","v":5.4979399999999998E-3},12.03938,0.549794,{"$f":"ROUND(D101*ROUND(((1+CALCULADORA!$C$19)^(1/12)-1),6),6)","v":7.9047000000000006E-2},0.62884099999999998,{"$f":"IF($B102=0,0,G102/POWER(1+CALCULADORA!$C$32,Flujos!$B102/365))","v":0.49422392058228815},"2031-04-16",100,3041,13134843.533706006,599819.77192931564,86239.950896084178,686059.72282539983,{"$f":"M102*IFERROR(VLOOKUP($A102,UVR!$A:$B,2,0),CALCULADORA!$C$23)","v":226863174.33735666},{"$f":"N102*IFERROR(VLOOKUP($A102,UVR!$A:$B,2,0),CALCULADORA!$C$23)","v":32617579.363970973},{"$f":"O102*IFERROR(VLOOKUP($A102,UVR!$A:$B,2,0),CALCULADORA!$C$23)","v":259480753.70132762}]
["2031-05-16",{"$f":"IF(DIAS365(CALCULADORA!$C$30,A103)<0,0,DIAS365(CALCULADORA!$C$30,A103))","v":2294},{"$f":"+HLOOKUP(CALCULADORA!$C$11,Tablas!$B$1:$B$181,Flujos!J103+1,FALSE)","v":5.4505700000000001E-3},11.494323,0.54505700000000001,{"$f":"ROUND(D102*ROUND(((1+CALCULADORA!$C$19)^(1/12)-1),6),6)","v":7.5594999999999996E-2},0.62065199999999998,{"$f":"IF($B103=0,0,G103/POWER(1+CALCULADORA!$C$32,Flujos!$B103/365))","v":0.48623341622273525},"2031-05-16",101,3071,12540191.781543419,594651.75216258643,82473.682548140001,677125.43471072637,{"$f":"M103*IFERROR(VLOOKUP($A103,UVR!$A:$B,2,0),CALCULADORA!$C$23)","v":224908531.58600608},{"$f":"N103*IFERROR(VLOOKUP($A103,UVR!$A:$B,2,0),CALCULADORA!$C$23)","v":31193105.492306709},{"$f":"O103*IFERROR(VLOOKUP($A103,UVR!$A:$B,2,0),CALCULADORA!$C$23)","v":256101637.07831275}]
["2031-06-16",{"$f":"IF(DIAS365(CALCULADORA!$C$30,A104)<0,0,DIAS365(CALCULADORA!$C$30,A104))","v":2325},{"$f":"+HLOOKUP(CALCULADORA!$C$11,Tablas!$B$1:$B$181,Flujos!J104+1,FALSE)","v":5.4137500000000002E-3},10.952947999999999,0.54137500000000005,{"$f":"ROUND(D103*ROUND(((1+CALCULADORA!$C$19)^(1/12)-1),6),6)","v":7.2173000000000001E-2},0.61354800000000009,{"$f":"IF($B104=0,0,G104/POWER(1+CALCULADORA!$C$32,Flujos!$B104/365))","v":0.47908515067016078},"2031-06-16",102,3102,11949557.05466711,590634.72687630879,78739.864196311129,669374.59107261989,{"$f":"M104*IFERROR(VLOOKUP($A104,UVR!$A:$B,2,0),CALCULADORA!$C$23)","v":223389216.70095795},{"$f":"N104*IFERROR(VLOOKUP($A104,UVR!$A:$B,2,0),CALCULADORA!$C$23)","v":29780904.822478183},{"$f":"O104*IFERROR(VLOOKUP($A104,UVR!$A:$B,2,0),CALCULADORA!$C$23)","v":253170121.52343613}]
["2031-07-16",{"$f":"IF(DIAS365(CALCULADORA!$C$30,A105)<0,0,DIAS365(CALCULADORA!$C$30,A105))","v":2355},{"$f":"+HLOOKUP(CALCULADORA!$C$11,Tablas!$B$1:$B$181,Flujos!J105+1,FALSE)","v":5.3798300000000004E-3},10.414965,0.53798299999999999,{"$f":"ROUND(D104*ROUND(((1+CALCULADORA!$C$19)^(1/12)-1),6),6)","v":6.8774000000000002E-2},0.60675699999999999,{"$f":"IF($B105=0,0,G105/POWER(1+CALCULADORA!$C$32,Flujos!$B105/365))","v":0.47227253705009753},"2031-07-16",103,3132,11362622.965968708,586934.0886984017,75031.268746254776,661965.35744465643,{"$f":"M105*IFERROR(VLOOKUP($A105,UVR!$A:$B,2,0),CALCULADORA!$C$23)","v":221989565.40001193},{"$f":"N105*IFERROR(VLOOKUP($A105,UVR!$A:$B,2,0),CALCULADORA!$C$23)","v":28378243.930812862},{"$f":"O105*IFERROR(VLOOKUP($A105,UVR!$A:$B,2,0),CALCULADORA!$C$23)","v":250367809.33082479}]
["2031-08-16",{"$f":"IF(DIAS365(CALCULADORA!$C$30,A106)<0,0,DIAS365(CALCULADORA!$C$30,A106))","v":2386},{"$f":"+HLOOKUP(CALCULADORA!$C$11,Tablas!$B$1:$B$181,Flujos!J106+1,FALSE)","v":5.3444800000000004E-3},9.8805169999999993,0.53444800000000003,{"$f":"ROUND(D105*ROUND(((1+CALCULADORA!$C$19)^(1/12)-1),6),6)","v":6.5395999999999996E-2},0.59984400000000004,{"$f":"IF($B106=0,0,G106/POWER(1+CALCULADORA!$C$32,Flujos!$B106/365))","v":0.46535430697148367},"2031-08-16",104,3163,10779545.527022341,583077.43894636713,71345.909603317516,654423.34854968463,{"$f":"M106*IFERROR(VLOOKUP($A106,UVR!$A:$B,2,0),CALCULADORA!$C$23)","v":220530907.57311213},{"$f":"N106*IFERROR(VLOOKUP($A106,UVR!$A:$B,2,0),CALCULADORA!$C$23)","v":26984371.449666187},{"$f":"O106*IFERROR(VLOOKUP($A106,UVR!$A:$B,2,0),CALCULADORA!$C$23)","v":247515279.02277833}]
["2031-09-16",{"$f":"IF(DIAS365(CALCULADORA!$C$30,A107)<0,0,DIAS365(CALCULADORA!$C$30,A107))","v":2417},{"$f":"+HLOOKUP(CALCULADORA!$C$11,Tablas!$B$1:$B$181,Flujos!J107+1,FALSE)","v":5.3076699999999996E-3},9.3497500000000002,0.53076699999999999,{"$f":"ROUND(D106*ROUND(((1+CALCULADORA!$C$19)^(1/12)-1),6),6)","v":6.2039999999999998E-2},0.59280699999999997,{"$f":"IF($B107=0,0,G107/POWER(1+CALCULADORA!$C$32,Flujos!$B107/365))","v":0.45838063730648249},"2031-09-16",105,3194,10200484.022372223,579061.50465011818,67684.76636417328,646746.27101429144,{"$f":"M107*IFERROR(VLOOKUP($A107,UVR!$A:$B,2,0),CALCULADORA!$C$23)","v":219012005.3211126},{"$f":"N107*IFERROR(VLOOKUP($A107,UVR!$A:$B,2,0),CALCULADORA!$C$23)","v":25599657.881014619},{"$f":"O107*IFERROR(VLOOKUP($A107,UVR!$A:$B,2,0),CALCULADORA!$C$23)","v":244611663.20212722}]
["2031-10-16",{"$f":"IF(DIAS365(CALCULADORA!$C$30,A108)<0,0,DIAS365(CALCULADORA!$C$30,A108))","v":2447},{"$f":"+HLOOKUP(CALCULADORA!$C$11,Tablas!$B$1:$B$181,Flujos!J108+1,FALSE)","v":5.2732200000000003E-3},8.8224280000000004,0.52732199999999996,{"$f":"ROUND(D107*ROUND(((1+CALCULADORA!$C$19)^(1/12)-1),6),6)","v":5.8707000000000002E-2},0.58602899999999991,{"$f":"IF($B108=0,0,G108/POWER(1+CALCULADORA!$C$32,Flujos!$B108/365))","v":0.45169551657813689},"2031-10-16",106,3224,9625180.9783715419,575303.04400068137,64048.839176475187,639351.88317715656,{"$f":"M108*IFERROR(VLOOKUP($A108,UVR!$A:$B,2,0),CALCULADORA!$C$23)","v":217590484.46858931},{"$f":"N108*IFERROR(VLOOKUP($A108,UVR!$A:$B,2,0),CALCULADORA!$C$23)","v":24224481.499603353},{"$f":"O108*IFERROR(VLOOKUP($A108,UVR!$A:$B,2,0),CALCULADORA!$C$23)","v":241814965.96819267}]
["2031-11-16",{"$f":"IF(DIAS365(CALCULADORA!$C$30,A109)<0,0,DIAS365(CALCULADORA!$C$30,A109))","v":2478},{"$f":"+HLOOKUP(CALCULADORA!$C$11,Tablas!$B$1:$B$181,Flujos!J109+1,FALSE)","v":5.2463900000000001E-3},8.2977889999999999,0.52463899999999997,{"$f":"ROUND(D108*ROUND(((1+CALCULADORA!$C$19)^(1/12)-1),6),6)","v":5.5396000000000001E-2},0.58003499999999997,{"$f":"IF($B109=0,0,G109/POWER(1+CALCULADORA!$C$32,Flujos!$B109/365))","v":0.44560329587281},"2031-11-16",107,3255,9052805.0606183037,572375.91775323893,60436.511363194913,632812.42911643384,{"$f":"M109*IFERROR(VLOOKUP($A109,UVR!$A:$B,2,0),CALCULADORA!$C$23)","v":216483389.9991205},{"$f":"N109*IFERROR(VLOOKUP($A109,UVR!$A:$B,2,0),CALCULADORA!$C$23)","v":22858230.84762508},{"$f":"O109*IFERROR(VLOOKUP($A109,UVR!$A:$B,2,0),CALCULADORA!$C$23)","v":239341620.84674558}]
["2031-12-16",{"$f":"IF(DIAS365(CALCULADORA!$C$30,A110)<0,0,DIAS365(CALCULADORA!$C$30,A110))","v":2508},{"$f":"+HLOOKUP(CALCULADORA!$C$11,Tablas!$B$1:$B$181,Flujos!J110+1,FALSE)","v":4.0574000000000001E-3},7.8920490000000001,0.40573999999999999,{"$f":"ROUND(D109*ROUND(((1+CALCULADORA!$C$19)^(1/12)-1),6),6)","v":5.2102000000000002E-2},0.45784199999999997,{"$f":"IF($B110=0,0,G110/POWER(1+CALCULADORA!$C$32,Flujos!$B110/365))","v":0.35060939989039952},"2031-12-16",108,3285,8610146.7663069796,442658.29431132489,56842.562975622328,499500.8572869472,{"$f":"M110*IFERROR(VLOOKUP($A110,UVR!$A:$B,2,0),CALCULADORA!$C$23)","v":167421733.15030557},{"$f":"N110*IFERROR(VLOOKUP($A110,UVR!$A:$B,2,0),CALCULADORA!$C$23)","v":21498931.641820606},{"$f":"O110*IFERROR(VLOOKUP($A110,UVR!$A:$B,2,0),CALCULADORA!$C$23)","v":188920664.79212615}]
["2032-01-16",{"$f":"IF(DIAS365(CALCULADORA!$C$30,A111)<0,0,DIAS365(CALCULADORA!$C$30,A111))","v":2539},{"$f":"+HLOOKUP(CALCULADORA!$C$11,Tablas!$B$1:$B$181,Flujos!J111+1,FALSE)","v":5.1535799999999996E-3},7.3766910000000001,0.51535799999999998,{"$f":"ROUND(D110*ROUND(((1+CALCULADORA!$C$19)^(1/12)-1),6),6)","v":4.9554000000000001E-2},0.56491199999999997,{"$f":"IF($B111=0,0,G111/POWER(1+CALCULADORA!$C$32,Flujos!$B111/365))","v":0.43117765655160833},"2032-01-16",109,3316,8047896.3270116281,562250.43929535104,54063.111545641521,616313.5508409926,{"$f":"M111*IFERROR(VLOOKUP($A111,UVR!$A:$B,2,0),CALCULADORA!$C$23)","v":212653742.67480445},{"$f":"N111*IFERROR(VLOOKUP($A111,UVR!$A:$B,2,0),CALCULADORA!$C$23)","v":20447690.579369836},{"$f":"O111*IFERROR(VLOOKUP($A111,UVR!$A:$B,2,0),CALCULADORA!$C$23)","v":233101433.25417429}]
["2032-02-16",{"$f":"IF(DIAS365(CALCULADORA!$C$30,A112)<0,0,DIAS365(CALCULADORA!$C$30,A112))","v":2570},{"$f":"+HLOOKUP(CALCULADORA!$C$11,Tablas!$B$1:$B$181,Flujos!J112+1,FALSE)","v":5.0872699999999996E-3},6.8679639999999997,0.50872700000000004,{"$f":"ROUND(D111*ROUND(((1+CALCULADORA!$C$19)^(1/12)-1),6),6)","v":4.6317999999999998E-2},0.55504500000000001,{"$f":"IF($B112=0,0,G112/POWER(1+CALCULADORA!$C$32,Flujos!$B112/365))","v":0.42225146452550988},"2032-02-16",110,3347,7492880.242597675,555016.08441395313,50532.741037306012,605548.82545125915,{"$f":"M112*IFERROR(VLOOKUP($A112,UVR!$A:$B,2,0),CALCULADORA!$C$23)","v":209917572.92935249},{"$f":"N112*IFERROR(VLOOKUP($A112,UVR!$A:$B,2,0),CALCULADORA!$C$23)","v":19112437.729114741},{"$f":"O112*IFERROR(VLOOKUP($A112,UVR!$A:$B,2,0),CALCULADORA!$C$23)","v":229030010.65846726}]
["2032-03-16",{"$f":"IF(DIAS365(CALCULADORA!$C$30,A113)<0,0,DIAS365(CALCULADORA!$C$30,A113))","v":2598},{"$f":"+HLOOKUP(CALCULADORA!$C$11,Tablas!$B$1:$B$181,Flujos!J113+1,FALSE)","v":5.0219100000000001E-3},6.3657729999999999,0.50219100000000005,{"$f":"ROUND(D112*ROUND(((1+CALCULADORA!$C$19)^(1/12)-1),6),6)","v":4.3124000000000003E-2},0.54531500000000011,{"$f":"IF($B113=0,0,G113/POWER(1+CALCULADORA!$C$32,Flujos!$B113/365))","v":0.41361526909301177},"2032-03-16",111,3375,6944994.8690123772,547885.37358529738,47047.795043270802,594933.16862856818,{"$f":"M113*IFERROR(VLOOKUP($A113,UVR!$A:$B,2,0),CALCULADORA!$C$23)","v":207220603.32352024},{"$f":"N113*IFERROR(VLOOKUP($A113,UVR!$A:$B,2,0),CALCULADORA!$C$23)","v":17794365.288691334},{"$f":"O113*IFERROR(VLOOKUP($A113,UVR!$A:$B,2,0),CALCULADORA!$C$23)","v":225014968.61221159}]
["2032-04-16",{"$f":"IF(DIAS365(CALCULADORA!$C$30,A114)<0,0,DIAS365(CALCULADORA!$C$30,A114))","v":2629},{"$f":"+HLOOKUP(CALCULADORA!$C$11,Tablas!$B$1:$B$181,Flujos!J114+1,FALSE)","v":3.9646000000000004E-3},5.9693129999999996,0.39645999999999998,{"$f":"ROUND(D113*ROUND(((1+CALCULADORA!$C$19)^(1/12)-1),6),6)","v":3.9971E-2},0.43643099999999996,{"$f":"IF($B114=0,0,G114/POWER(1+CALCULADORA!$C$32,Flujos!$B114/365))","v":0.32993792010328227},"2032-04-16",112,3406,6512460.9621689115,432533.90684346599,43607.622782528713,476141.52962599468,{"$f":"M114*IFERROR(VLOOKUP($A114,UVR!$A:$B,2,0),CALCULADORA!$C$23)","v":163592498.4590382},{"$f":"N114*IFERROR(VLOOKUP($A114,UVR!$A:$B,2,0),CALCULADORA!$C$23)","v":16493227.12042295},{"$f":"O114*IFERROR(VLOOKUP($A114,UVR!$A:$B,2,0),CALCULADORA!$C$23)","v":180085725.57946113}]
["2032-05-16",{"$f":"IF(DIAS365(CALCULADORA!$C$30,A115)<0,0,DIAS365(CALCULADORA!$C$30,A115))","v":2659},{"$f":"+HLOOKUP(CALCULADORA!$C$11,Tablas!$B$1:$B$181,Flujos!J115+1,FALSE)","v":3.49125E-3},5.6201879999999997,0.34912500000000002,{"$f":"ROUND(D114*ROUND(((1+CALCULADORA!$C$19)^(1/12)-1),6),6)","v":3.7481E-2},0.38660600000000001,{"$f":"IF($B115=0,0,G115/POWER(1+CALCULADORA!$C$32,Flujos!$B115/365))","v":0.29133922599125711},"2032-05-16",113,3436,6131569.0683417283,380891.89382718317,40891.742381458593,421783.63620864175,{"$f":"M115*IFERROR(VLOOKUP($A115,UVR!$A:$B,2,0),CALCULADORA!$C$23)","v":144060513.10223401},{"$f":"N115*IFERROR(VLOOKUP($A115,UVR!$A:$B,2,0),CALCULADORA!$C$23)","v":15466029.822598649},{"$f":"O115*IFERROR(VLOOKUP($A115,UVR!$A:$B,2,0),CALCULADORA!$C$23)","v":159526542.92483267}]
["2032-06-16",{"$f":"IF(DIAS365(CALCULADORA!$C$30,A116)<0,0,DIAS365(CALCULADORA!$C$30,A116))","v":2690},{"$f":"+HLOOKUP(CALCULADORA!$C$11,Tablas!$B$1:$B$181,Flujos!J116+1,FALSE)","v":3.4118400000000002E-3},5.2790039999999996,0.34118399999999999,{"$f":"ROUND(D115*ROUND(((1+CALCULADORA!$C$19)^(1/12)-1),6),6)","v":3.5289000000000001E-2},0.376473,{"$f":"IF($B116=0,0,G116/POWER(1+CALCULADORA!$C$32,Flujos!$B116/365))","v":0.28276895654353407},"2032-06-16",114,3467,5759340.7263337551,372228.34200797329,38500.122180117709,410728.46418809099,{"$f":"M116*IFERROR(VLOOKUP($A116,UVR!$A:$B,2,0),CALCULADORA!$C$23)","v":140783794.06307945},{"$f":"N116*IFERROR(VLOOKUP($A116,UVR!$A:$B,2,0),CALCULADORA!$C$23)","v":14561473.860829722},{"$f":"O116*IFERROR(VLOOKUP($A116,UVR!$A:$B,2,0),CALCULADORA!$C$23)","v":155345267.92390919}]
["2032-07-16",{"$f":"IF(DIAS365(CALCULADORA!$C$30,A117)<0,0,DIAS365(CALCULADORA!$C$30,A117))","v":2720},{"$f":"+HLOOKUP(CALCULADORA!$C$11,Tablas!$B$1:$B$181,Flujos!J117+1,FALSE)","v":3.3483599999999999E-3},4.9441680000000003,0.33483600000000002,{"$f":"ROUND(D116*ROUND(((1+CALCULADORA!$C$19)^(1/12)-1),6),6)","v":3.3147000000000003E-2},0.367983,{"$f":"IF($B117=0,0,G117/POWER(1+CALCULADORA!$C$32,Flujos!$B117/365))","v":0.27551127799087544},"2032-07-16",115,3497,5394037.9890290108,365302.73730474385,36162.900420649647,401465.63772539352,{"$f":"M117*IFERROR(VLOOKUP($A117,UVR!$A:$B,2,0),CALCULADORA!$C$23)","v":138164399.47038919},{"$f":"N117*IFERROR(VLOOKUP($A117,UVR!$A:$B,2,0),CALCULADORA!$C$23)","v":13677492.417907648},{"$f":"O117*IFERROR(VLOOKUP($A117,UVR!$A:$B,2,0),CALCULADORA!$C$23)","v":151841891.88829684}]
["2032-08-16",{"$f":"IF(DIAS365(CALCULADORA!$C$30,A118)<0,0,DIAS365(CALCULADORA!$C$30,A118))","v":2751},{"$f":"+HLOOKUP(CALCULADORA!$C$11,Tablas!$B$1:$B$181,Flujos!J118+1,FALSE)","v":3.28999E-3},4.6151689999999999,0.32899899999999999,{"$f":"ROUND(D117*ROUND(((1+CALCULADORA!$C$19)^(1/12)-1),6),6)","v":3.1043999999999999E-2},0.360043,{"$f":"IF($B118=0,0,G118/POWER(1+CALCULADORA!$C$32,Flujos!$B118/365))","v":0.26867887398981699},"2032-08-16",116,3528,5035103.360522747,358934.62850626407,33869.164533113159,392803.7930393772,{"$f":"M118*IFERROR(VLOOKUP($A118,UVR!$A:$B,2,0),CALCULADORA!$C$23)","v":135755860.36554784},{"$f":"N118*IFERROR(VLOOKUP($A118,UVR!$A:$B,2,0),CALCULADORA!$C$23)","v":12809958.153633073},{"$f":"O118*IFERROR(VLOOKUP($A118,UVR!$A:$B,2,0),CALCULADORA!$C$23)","v":148565818.51918089}]
["2032-09-16",{"$f":"IF(DIAS365(CALCULADORA!$C$30,A119)<0,0,DIAS365(CALCULADORA!$C$30,A119))","v":2782},{"$f":"+HLOOKUP(CALCULADORA!$C$11,Tablas!$B$1:$B$181,Flujos!J119+1,FALSE)","v":3.2190000000000001E-3},4.2932689999999996,0.32190000000000002,{"$f":"ROUND(D118*ROUND(((1+CALCULADORA!$C$19)^(1/12)-1),6),6)","v":2.8979000000000001E-2},0.350879,{"$f":"IF($B119=0,0,G119/POWER(1+CALCULADORA!$C$32,Flujos!$B119/365))","v":0.26097808894581648},{"$f":"+A119","v":"2032-09-16"},117,3559,4683913.6702313889,351189.69029135775,31615.414000722329,382805.1042920801,{"$f":"M119*IFERROR(VLOOKUP($A119,UVR!$A:$B,2,0),CALCULADORA!$C$23)","v":132826578.35333802},{"$f":"N119*IFERROR(VLOOKUP($A119,UVR!$A:$B,2,0),CALCULADORA!$C$23)","v":11957547.106397798},{"$f":"O119*IFERROR(VLOOKUP($A119,UVR!$A:$B,2,0),CALCULADORA!$C$23)","v":144784125.45973581}]
["2032-10-16",{"$f":"IF(DIAS365(CALCULADORA!$C$30,A120)<0,0,DIAS365(CALCULADORA!$C$30,A120))","v":2812},{"$f":"+HLOOKUP(CALCULADORA!$C$11,Tablas!$B$1:$B$181,Flujos!J120+1,FALSE)","v":3.1506500000000001E-3},3.9782039999999999,0.31506499999999998,{"$f":"ROUND(D119*ROUND(((1+CALCULADORA!$C$19)^(1/12)-1),6),6)","v":2.6956999999999998E-2},0.34202199999999999,{"$f":"IF($B120=0,0,G120/POWER(1+CALCULADORA!$C$32,Flujos!$B120/365))","v":0.25357967646648288},{"$f":"+A120","v":"2032-10-16"},118,3589,4340180.8967873175,343732.77344407153,29410.293935382892,373143.06737945444,{"$f":"M120*IFERROR(VLOOKUP($A120,UVR!$A:$B,2,0),CALCULADORA!$C$23)","v":130006231.46596596},{"$f":"N120*IFERROR(VLOOKUP($A120,UVR!$A:$B,2,0),CALCULADORA!$C$23)","v":11123529.020917188},{"$f":"O120*IFERROR(VLOOKUP($A120,UVR!$A:$B,2,0),CALCULADORA!$C$23)","v":141129760.48688316}]
["2032-11-16",{"$f":"IF(DIAS365(CALCULADORA!$C$30,A121)<0,0,DIAS365(CALCULADORA!$C$30,A121))","v":2843},{"$f":"+HLOOKUP(CALCULADORA!$C$11,Tablas!$B$1:$B$181,Flujos!J121+1,FALSE)","v":2.9396700000000001E-3},3.684237,0.29396699999999998,{"$f":"ROUND(D120*ROUND(((1+CALCULADORA!$C$19)^(1/12)-1),6),6)","v":2.4979000000000001E-2},0.31894599999999995,{"$f":"IF($B121=0,0,G121/POWER(1+CALCULADORA!$C$32,Flujos!$B121/365))","v":0.23569213111071671},"2032-11-16",119,3620,4019465.8309722207,320715.06581509649,27251.995850927568,347967.06166602403,{"$f":"M121*IFERROR(VLOOKUP($A121,UVR!$A:$B,2,0),CALCULADORA!$C$23)","v":121300499.4060134},{"$f":"N121*IFERROR(VLOOKUP($A121,UVR!$A:$B,2,0),CALCULADORA!$C$23)","v":10307219.893542388},{"$f":"O121*IFERROR(VLOOKUP($A121,UVR!$A:$B,2,0),CALCULADORA!$C$23)","v":131607719.29955578}]
["2032-12-16",{"$f":"IF(DIAS365(CALCULADORA!$C$30,A122)<0,0,DIAS365(CALCULADORA!$C$30,A122))","v":2873},{"$f":"+HLOOKUP(CALCULADORA!$C$11,Tablas!$B$1:$B$181,Flujos!J122+1,FALSE)","v":2.9396700000000001E-3},3.3902700000000001,0.29396699999999998,{"$f":"ROUND(D121*ROUND(((1+CALCULADORA!$C$19)^(1/12)-1),6),6)","v":2.3133000000000001E-2},0.31709999999999999,{"$f":"IF($B122=0,0,G122/POWER(1+CALCULADORA!$C$32,Flujos!$B122/365))","v":0.23358120608761551},"2032-12-16",120,3650,3698750.765157124,320715.06581509649,25238.225952674573,345953.29176777106,{"$f":"M122*IFERROR(VLOOKUP($A122,UVR!$A:$B,2,0),CALCULADORA!$C$23)","v":121300499.4060134},{"$f":"N122*IFERROR(VLOOKUP($A122,UVR!$A:$B,2,0),CALCULADORA!$C$23)","v":9545574.0577720292},{"$f":"O122*IFERROR(VLOOKUP($A122,UVR!$A:$B,2,0),CALCULADORA!$C$23)","v":130846073.46378544}]
["2033-01-16",{"$f":"IF(DIAS365(CALCULADORA!$C$30,A123)<0,0,DIAS365(CALCULADORA!$C$30,A123))","v":2904},{"$f":"+HLOOKUP(CALCULADORA!$C$11,Tablas!$B$1:$B$181,Flujos!J123+1,FALSE)","v":2.9396700000000001E-3},3.0963029999999998,0.29396699999999998,{"$f":"ROUND(D122*ROUND(((1+CALCULADORA!$C$19)^(1/12)-1),6),6)","v":2.1288000000000001E-2},0.31525499999999995,{"$f":"IF($B123=0,0,G123/POWER(1+CALCULADORA!$C$32,Flujos!$B123/365))","v":0.23145744781774372},"2033-01-16",121,3681,3378035.6993420273,320715.06581509649,23224.456054421582,343939.5218695181,{"$f":"M123*IFERROR(VLOOKUP($A123,UVR!$A:$B,2,0),CALCULADORA!$C$23)","v":121300499.4060134},{"$f":"N123*IFERROR(VLOOKUP($A123,UVR!$A:$B,2,0),CALCULADORA!$C$23)","v":8783928.2220016718},{"$f":"O123*IFERROR(VLOOKUP($A123,UVR!$A:$B,2,0),CALCULADORA!$C$23)","v":130084427.62801509}]
["2033-02-16",{"$f":"IF(DIAS365(CALCULADORA!$C$30,A124)<0,0,DIAS365(CALCULADORA!$C$30,A124))","v":2935},{"$f":"+HLOOKUP(CALCULADORA!$C$11,Tablas!$B$1:$B$181,Flujos!J124+1,FALSE)","v":2.9396700000000001E-3},2.8023359999999999,0.29396699999999998,{"$f":"ROUND(D123*ROUND(((1+CALCULADORA!$C$19)^(1/12)-1),6),6)","v":1.9442000000000001E-2},0.31340899999999999,{"$f":"IF($B124=0,0,G124/POWER(1+CALCULADORA!$C$32,Flujos!$B124/365))","v":0.22934441184100737},"2033-02-16",122,3712,3057320.6335269306,320715.06581509649,21210.686156168587,341925.75197126507,{"$f":"M124*IFERROR(VLOOKUP($A124,UVR!$A:$B,2,0),CALCULADORA!$C$23)","v":121300499.4060134},{"$f":"N124*IFERROR(VLOOKUP($A124,UVR!$A:$B,2,0),CALCULADORA!$C$23)","v":8022282.3862313116},{"$f":"O124*IFERROR(VLOOKUP($A124,UVR!$A:$B,2,0),CALCULADORA!$C$23)","v":129322781.79224472}]
["2033-03-16",{"$f":"IF(DIAS365(CALCULADORA!$C$30,A125)<0,0,DIAS365(CALCULADORA!$C$30,A125))","v":2963},{"$f":"+HLOOKUP(CALCULADORA!$C$11,Tablas!$B$1:$B$181,Flujos!J125+1,FALSE)","v":2.9396700000000001E-3},2.5083690000000001,0.29396699999999998,{"$f":"ROUND(D124*ROUND(((1+CALCULADORA!$C$19)^(1/12)-1),6),6)","v":1.7596000000000001E-2},0.31156299999999998,{"$f":"IF($B125=0,0,G125/POWER(1+CALCULADORA!$C$32,Flujos!$B125/365))","v":0.22731532986239347},"2033-03-16",123,3740,2736605.5677118339,320715.06581509649,19196.916257915596,339911.9820730121,{"$f":"M125*IFERROR(VLOOKUP($A125,UVR!$A:$B,2,0),CALCULADORA!$C$23)","v":121300499.4060134},{"$f":"N125*IFERROR(VLOOKUP($A125,UVR!$A:$B,2,0),CALCULADORA!$C$23)","v":7260636.5504609533},{"$f":"O125*IFERROR(VLOOKUP($A125,UVR!$A:$B,2,0),CALCULADORA!$C$23)","v":128561135.95647436}]
["2033-04-16",{"$f":"IF(DIAS365(CALCULADORA!$C$30,A126)<0,0,DIAS365(CALCULADORA!$C$30,A126))","v":2994},{"$f":"+HLOOKUP(CALCULADORA!$C$11,Tablas!$B$1:$B$181,Flujos!J126+1,FALSE)","v":2.9396700000000001E-3},2.2144020000000002,0.29396699999999998,{"$f":"ROUND(D125*ROUND(((1+CALCULADORA!$C$19)^(1/12)-1),6),6)","v":1.575E-2},0.30971699999999996,{"$f":"IF($B126=0,0,G126/POWER(1+CALCULADORA!$C$32,Flujos!$B126/365))","v":0.22522438731274461},"2033-04-16",124,3771,2415890.5018967371,320715.06581509649,17183.146359662605,337898.21217475907,{"$f":"M126*IFERROR(VLOOKUP($A126,UVR!$A:$B,2,0),CALCULADORA!$C$23)","v":121300499.4060134},{"$f":"N126*IFERROR(VLOOKUP($A126,UVR!$A:$B,2,0),CALCULADORA!$C$23)","v":6498990.7146905949},{"$f":"O126*IFERROR(VLOOKUP($A126,UVR!$A:$B,2,0),CALCULADORA!$C$23)","v":127799490.120704}]
["2033-05-16",{"$f":"IF(DIAS365(CALCULADORA!$C$30,A127)<0,0,DIAS365(CALCULADORA!$C$30,A127))","v":3024},{"$f":"+HLOOKUP(CALCULADORA!$C$11,Tablas!$B$1:$B$181,Flujos!J127+1,FALSE)","v":2.9396700000000001E-3},1.9204349999999999,0.29396699999999998,{"$f":"ROUND(D126*ROUND(((1+CALCULADORA!$C$19)^(1/12)-1),6),6)","v":1.3904E-2},0.30787100000000001,{"$f":"IF($B127=0,0,G127/POWER(1+CALCULADORA!$C$32,Flujos!$B127/365))","v":0.22316849453158499},"2033-05-16",125,3801,2095175.4360816407,320715.06581509649,15169.376461409613,335884.4422765061,{"$f":"M127*IFERROR(VLOOKUP($A127,UVR!$A:$B,2,0),CALCULADORA!$C$23)","v":121300499.4060134},{"$f":"N127*IFERROR(VLOOKUP($A127,UVR!$A:$B,2,0),CALCULADORA!$C$23)","v":5737344.8789202366},{"$f":"O127*IFERROR(VLOOKUP($A127,UVR!$A:$B,2,0),CALCULADORA!$C$23)","v":127037844.28493364}]
["2033-06-16",{"$f":"IF(DIAS365(CALCULADORA!$C$30,A128)<0,0,DIAS365(CALCULADORA!$C$30,A128))","v":3055},{"$f":"+HLOOKUP(CALCULADORA!$C$11,Tablas!$B$1:$B$181,Flujos!J128+1,FALSE)","v":2.74348E-3},1.6460870000000001,0.27434799999999998,{"$f":"ROUND(D127*ROUND(((1+CALCULADORA!$C$19)^(1/12)-1),6),6)","v":1.2057999999999999E-2},0.28640599999999999,{"$f":"IF($B128=0,0,G128/POWER(1+CALCULADORA!$C$32,Flujos!$B128/365))","v":0.20692536765171482},"2033-06-16",126,3832,1795864.5036428291,299310.93243881146,13155.606563156622,312466.53900196811,{"$f":"M128*IFERROR(VLOOKUP($A128,UVR!$A:$B,2,0),CALCULADORA!$C$23)","v":113205051.6249816},{"$f":"N128*IFERROR(VLOOKUP($A128,UVR!$A:$B,2,0),CALCULADORA!$C$23)","v":4975699.0431498783},{"$f":"O128*IFERROR(VLOOKUP($A128,UVR!$A:$B,2,0),CALCULADORA!$C$23)","v":118180750.66813149}]
["2033-07-16",{"$f":"IF(DIAS365(CALCULADORA!$C$30,A129)<0,0,DIAS365(CALCULADORA!$C$30,A129))","v":3085},{"$f":"+HLOOKUP(CALCULADORA!$C$11,Tablas!$B$1:$B$181,Flujos!J129+1,FALSE)","v":2.74348E-3},1.371739,0.27434799999999998,{"$f":"ROUND(D128*ROUND(((1+CALCULADORA!$C$19)^(1/12)-1),6),6)","v":1.0336E-2},0.28468399999999999,{"$f":"IF($B129=0,0,G129/POWER(1+CALCULADORA!$C$32,Flujos!$B129/365))","v":0.20502575228735473},"2033-07-16",127,3862,1496553.5712040176,299310.93243881146,11276.233218373323,310587.16565718479,{"$f":"M129*IFERROR(VLOOKUP($A129,UVR!$A:$B,2,0),CALCULADORA!$C$23)","v":113205051.6249816},{"$f":"N129*IFERROR(VLOOKUP($A129,UVR!$A:$B,2,0),CALCULADORA!$C$23)","v":4264884.5239966186},{"$f":"O129*IFERROR(VLOOKUP($A129,UVR!$A:$B,2,0),CALCULADORA!$C$23)","v":117469936.14897822}]
["2033-08-16",{"$f":"IF(DIAS365(CALCULADORA!$C$30,A130)<0,0,DIAS365(CALCULADORA!$C$30,A130))","v":3116},{"$f":"+HLOOKUP(CALCULADORA!$C$11,Tablas!$B$1:$B$181,Flujos!J130+1,FALSE)","v":2.74348E-3},1.097391,0.27434799999999998,{"$f":"ROUND(D129*ROUND(((1+CALCULADORA!$C$19)^(1/12)-1),6),6)","v":8.6130000000000009E-3},0.28296099999999996,{"$f":"IF($B130=0,0,G130/POWER(1+CALCULADORA!$C$32,Flujos!$B130/365))","v":0.20311381275619819},"2033-08-16",128,3893,1197242.6387652061,299310.93243881146,9396.8598735900268,308707.79231240146,{"$f":"M130*IFERROR(VLOOKUP($A130,UVR!$A:$B,2,0),CALCULADORA!$C$23)","v":113205051.6249816},{"$f":"N130*IFERROR(VLOOKUP($A130,UVR!$A:$B,2,0),CALCULADORA!$C$23)","v":3554070.0048433593},{"$f":"O130*IFERROR(VLOOKUP($A130,UVR!$A:$B,2,0),CALCULADORA!$C$23)","v":116759121.62982494}]
[{"$f":"EDATE(A130,1)","v":"2033-09-16"},{"$f":"IF(DIAS365(CALCULADORA!$C$30,A131)<0,0,DIAS365(CALCULADORA!$C$30,A131))","v":3147},{"$f":"+HLOOKUP(CALCULADORA!$C$11,Tablas!$B$1:$B$181,Flujos!J131+1,FALSE)","v":2.74348E-3},0.82304299999999997,0.27434799999999998,{"$f":"ROUND(D130*ROUND(((1+CALCULADORA!$C$19)^(1/12)-1),6),6)","v":6.8910000000000004E-3},0.28123899999999996,{"$f":"IF($B131=0,0,G131/POWER(1+CALCULADORA!$C$32,Flujos!$B131/365))","v":0.20121295736383377},{"$f":"+A131","v":"2033-09-16"},129,3924,897931.70632639457,299310.93243881146,7517.4865288067285,306828.4189676182,{"$f":"M131*IFERROR(VLOOKUP($A131,UVR!$A:$B,2,0),CALCULADORA!$C$23)","v":113205051.6249816},{"$f":"N131*IFERROR(VLOOKUP($A131,UVR!$A:$B,2,0),CALCULADORA!$C$23)","v":2843255.4856900992},{"$f":"O131*IFERROR(VLOOKUP($A131,UVR!$A:$B,2,0),CALCULADORA!$C$23)","v":116048307.1106717}]
["2033-10-16",{"$f":"IF(DIAS365(CALCULADORA!$C$30,A132)<0,0,DIAS365(CALCULADORA!$C$30,A132))","v":3177},{"$f":"+HLOOKUP(CALCULADORA!$C$11,Tablas!$B$1:$B$181,Flujos!J132+1,FALSE)","v":2.74348E-3},{"$f":"+ROUND(D131-E132,6)","v":0.54869500000000004},{"$f":"ROUND(C132*$D$2,6)","v":0.27434799999999998},{"$f":"ROUND(D131*ROUND(((1+CALCULADORA!$C$19)^(1/12)-1),6),6)","v":5.1679999999999999E-3},{"$f":"F132+E132","v":0.27951599999999999},{"$f":"IF($B132=0,0,G132/POWER(1+CALCULADORA!$C$32,Flujos!$B132/365))","v":0.19934291426624007},"2033-10-16",130,{"$f":"+DIAS365($A$2,A132)","v":3954},{"$f":"+L131-M132","v":598620.77388758305},{"$f":"+$L$2*C132","v":299310.93243881146},{"$f":"+L131*$F$3%","v":5638.1131840234311},{"$f":"+N132+M132","v":304949.04562283488},{"$f":"M132*IFERROR(VLOOKUP($A132,UVR!$A:$B,2,0),CALCULADORA!$C$23)","v":113205051.6249816},{"$f":"N132*IFERROR(VLOOKUP($A132,UVR!$A:$B,2,0),CALCULADORA!$C$23)","v":2132440.96653684},{"$f":"O132*IFERROR(VLOOKUP($A132,UVR!$A:$B,2,0),CALCULADORA!$C$23)","v":115337492.59151843}]
["2033-11-16",{"$f":"IF(DIAS365(CALCULADORA!$C$30,A133)<0,0,DIAS365(CALCULADORA!$C$30,A133))","v":3208},{"$f":"+HLOOKUP(CALCULADORA!$C$11,Tablas!$B$1:$B$181,Flujos!J133+1,FALSE)","v":2.74348E-3},0.27434700000000001,0.27434799999999998,{"$f":"ROUND(D132*ROUND(((1+CALCULADORA!$C$19)^(1/12)-1),6),6)","v":3.4450000000000001E-3},0.27779299999999996,{"$f":"IF($B133=0,0,G133/POWER(1+CALCULADORA!$C$32,Flujos!$B133/365))","v":0.19746173583627652},"2033-11-16",131,3985,299309.84144877159,299310.93243881146,3758.7398392401337,303069.67227805161,{"$f":"M133*IFERROR(VLOOKUP($A133,UVR!$A:$B,2,0),CALCULADORA!$C$23)","v":113205051.6249816},{"$f":"N133*IFERROR(VLOOKUP($A133,UVR!$A:$B,2,0),CALCULADORA!$C$23)","v":1421626.4473835803},{"$f":"O133*IFERROR(VLOOKUP($A133,UVR!$A:$B,2,0),CALCULADORA!$C$23)","v":114626678.07236518}]
["2033-12-16",{"$f":"IF(DIAS365(CALCULADORA!$C$30,A134)<0,0,DIAS365(CALCULADORA!$C$30,A134))","v":3238},{"$f":"+HLOOKUP(CALCULADORA!$C$11,Tablas!$B$1:$B$181,Flujos!J134+1,FALSE)","v":2.74347E-3},0,0.27434700000000001,{"$f":"ROUND(D133*ROUND(((1+CALCULADORA!$C$19)^(1/12)-1),6),6)","v":1.7229999999999999E-3},0.27606999999999998,{"$f":"IF($B134=0,0,G134/POWER(1+CALCULADORA!$C$32,Flujos!$B134/365))","v":0.19561159710472545},"2033-12-16",132,4015,-1.100124791264534E-8,299309.84144878259,1879.3664944568368,301189.20794323942,{"$f":"M134*IFERROR(VLOOKUP($A134,UVR!$A:$B,2,0),CALCULADORA!$C$23)","v":113204638.99193296},{"$f":"N134*IFERROR(VLOOKUP($A134,UVR!$A:$B,2,0),CALCULADORA!$C$23)","v":710811.92823032092},{"$f":"O134*IFERROR(VLOOKUP($A134,UVR!$A:$B,2,0),CALCULADORA!$C$23)","v":113915450.92016329}]
["2034-01-16",{"$f":"IF(DIAS365(CALCULADORA!$C$30,A135)<0,0,DIAS365(CALCULADORA!$C$30,A135))","v":3269},{"$f":"+HLOOKUP(CALCULADORA!$C$11,Tablas!$B$1:$B$181,Flujos!J135+1,FALSE)","v":0},0,0,{"$f":"ROUND(D134*ROUND(((1+CALCULADORA!$C$19)^(1/12)-1),6),6)","v":0},0,{"$f":"IF($B135=0,0,G135/POWER(1+CALCULADORA!$C$32,Flujos!$B135/365))","v":0},"2034-01-16",133,4046,-1.100124791264534E-8,0,-6.9076835643500089E-11,-6.9076835643500089E-11,{"$f":"M135*IFERROR(VLOOKUP($A135,UVR!$A:$B,2,0),CALCULADORA!$C$23)","v":0},{"$f":"N135*IFERROR(VLOOKUP($A135,UVR!$A:$B,2,0),CALCULADORA!$C$23)","v":-2.6126164792565398E-8},{"$f":"O135*IFERROR(VLOOKUP($A135,UVR!$A:$B,2,0),CALCULADORA!$C$23)","v":-2.6126164792565398E-8}]
["2034-02-16",{"$f":"IF(DIAS365(CALCULADORA!$C$30,A136)<0,0,DIAS365(CALCULADORA!$C$30,A136))","v":3300},{"$f":"+HLOOKUP(CALCULADORA!$C$11,Tablas!$B$1:$B$181,Flujos!J136+1,FALSE)","v":0},0,0,{"$f":"ROUND(D135*ROUND(((1+CALCULADORA!$C$19)^(1/12)-1),6),6)","v":0},0,{"$f":"IF($B136=0,0,G136/POWER(1+CALCULADORA!$C$32,Flujos!$B136/365))","v":0},"2034-02-16",134,4077,-1.100124791264534E-8,0,-6.9076835643500089E-11,-6.9076835643500089E-11,{"$f":"M136*IFERROR(VLOOKUP($A136,UVR!$A:$B,2,0),CALCULADORA!$C$23)","v":0},{"$f":"N136*IFERROR(VLOOKUP($A136,UVR!$A:$B,2,0),CALCULADORA!$C$23)","v":-2.6126164792565398E-8},{"$f":"O136*IFERROR(VLOOKUP($A136,UVR!$A:$B,2,0),CALCULADORA!$C$23)","v":-2.6126164792565398E-8}]
["2034-03-16",{"$f":"IF(DIAS365(CALCULADORA!$C$30,A137)<0,0,DIAS365(CALCULADORA!$C$30,A137))","v":3328},{"$f":"+HLOOKUP(CALCULADORA!$C$11,Tablas!$B$1:$B$181,Flujos!J137+1,FALSE)","v":0},0,0,{"$f":"ROUND(D136*ROUND(((1+CALCULADORA!$C$19)^(1/12)-1),6),6)","v":0},0,{"$f":"IF($B137=0,0,G137/POWER(1+CALCULADORA!$C$32,Flujos!$B137/365))","v":0},"2034-03-16",135,4105,-1.100124791264534E-8,0,-6.9076835643500089E-11,-6.9076835643500089E-11,{"$f":"M137*IFERROR(VLOOKUP($A137,UVR!$A:$B,2,0),CALCULADORA!$C$23)","v":0},{"$f":"N137*IFERROR(VLOOKUP($A137,UVR!$A:$B,2,0),CALCULADORA!$C$23)","v":-2.6126164792565398E-8},{"$f":"O137*IFERROR(VLOOKUP($A137,UVR!$A:$B,2,0),CALCULADORA!$C$23)","v":-2.6126164792565398E-8}]
["2034-04-16",{"$f":"IF(DIAS365(CALCULADORA!$C$30,A138)<0,0,DIAS365(CALCULADORA!$C$30,A138))","v":3359},{"$f":"+HLOOKUP(CALCULADORA!$C$11,Tablas!$B$1:$B$181,Flujos!J138+1,FALSE)","v":0},0,0,{"$f":"ROUND(D137*ROUND(((1+CALCULADORA!$C$19)^(1/12)-1),6),6)","v":0},0,{"$f":"IF($B138=0,0,G138/POWER(1+CALCULADORA!$C$32,Flujos!$B138/365))","v":0},"2034-04-16",136,4136,-1.100124791264534E-8,0,-6.9076835643500089E-11,-6.9076835643500089E-11,{"$f":"M138*IFERROR(VLOOKUP($A138,UVR!$A:$B,2,0),CALCULADORA!$C$23)","v":0},{"$f":"N138*IFERROR(VLOOKUP($A138,UVR!$A:$B,2,0),CALCULADORA!$C$23)","v":-2.6126164792565398E-8},{"$f":"O138*IFERROR(VLOOKUP($A138,UVR!$A:$B,2,0),CALCULADORA!$C$23)","v":-2.6126164792565398E-8}]
["2034-05-16",{"$f":"IF(DIAS365(CALCULADORA!$C$30,A139)<0,0,DIAS365(CALCULADORA!$C$30,A139))","v":3389},{"$f":"+HLOOKUP(CALCULADORA!$C$11,Tablas!$B$1:$B$181,Flujos!J139+1,FALSE)","v":0},0,0,{"$f":"ROUND(D138*ROUND(((1+CALCULADORA!$C$19)^(1/12)-1),6),6)","v":0},0,{"$f":"IF($B139=0,0,G139/POWER(1+CALCULADORA!$C$32,Flujos!$B139/365))","v":0},"2034-05-16",137,4166,-1.100124791264534E-8,0,-6.9076835643500089E-11,-6.9076835643500089E-11,{"$f":"M139*IFERROR(VLOOKUP($A139,UVR!$A:$B,2,0),CALCULADORA!$C$23)","v":0},{"$f":"N139*IFERROR(VLOOKUP($A139,UVR!$A:$B,2,0),CALCULADORA!$C$23)","v":-2.6126164792565398E-8},{"$f":"O139*IFERROR(VLOOKUP($A139,UVR!$A:$B,2,0),CALCULADORA!$C$23)","v":-2.6126164792565398E-8}]
["2034-06-16",{"$f":"IF(DIAS365(CALCULADORA!$C$30,A140)<0,0,DIAS365(CALCULADORA!$C$30,A140))","v":3420},{"$f":"+HLOOKUP(CALCULADORA!$C$11,Tablas!$B$1:$B$181,Flujos!J140+1,FALSE)","v":0},0,0,{"$f":"ROUND(D139*ROUND(((1+CALCULADORA!$C$19)^(1/12)-1),6),6)","v":0},0,{"$f":"IF($B140=0,0,G140/POWER(1+CALCULADORA!$C$32,Flujos!$B140/365))","v":0},"2034-06-16",138,4197,-1.100124791264534E-8,0,-6.9076835643500089E-11,-6.9076835643500089E-11,{"$f":"M140*IFERROR(VLOOKUP($A140,UVR!$A:$B,2,0),CALCULADORA!$C$23)","v":0},{"$f":"N140*IFERROR(VLOOKUP($A140,UVR!$A:$B,2,0),CALCULADORA!$C$23)","v":-2.6126164792565398E-8},{"$f":"O140*IFERROR(VLOOKUP($A140,UVR!$A:$B,2,0),CALCULADORA!$C$23)","v":-2.6126164792565398E-8}]
["2034-07-16",{"$f":"IF(DIAS365(CALCULADORA!$C$30,A141)<0,0,DIAS365(CALCULADORA!$C$30,A141))","v":3450},{"$f":"+HLOOKUP(CALCULADORA!$C$11,Tablas!$B$1:$B$181,Flujos!J141+1,FALSE)","v":0},0,0,{"$f":"ROUND(D140*ROUND(((1+CALCULADORA!$C$19)^(1/12)-1),6),6)","v":0},0,{"$f":"IF($B141=0,0,G141/POWER(1+CALCULADORA!$C$32,Flujos!$B141/365))","v":0},"2034-07-16",139,4227,-1.100124791264534E-8,0,-6.9076835643500089E-11,-6.9076835643500089E-11,{"$f":"M141*IFERROR(VLOOKUP($A141,UVR!$A:$B,2,0),CALCULADORA!$C$23)","v":0},{"$f":"N141*IFERROR(VLOOKUP($A141,UVR!$A:$B,2,0),CALCULADORA!$C$23)","v":-2.6126164792565398E-8},{"$f":"O141*IFERROR(VLOOKUP($A141,UVR!$A:$B,2,0),CALCULADORA!$C$23)","v":-2.6126164792565398E-8}]
["2034-08-16",{"$f":"IF(DIAS365(CALCULADORA!$C$30,A142)<0,0,DIAS365(CALCULADORA!$C$30,A142))","v":3481},{"$f":"+HLOOKUP(CALCULADORA!$C$11,Tablas!$B$1:$B$181,Flujos!J142+1,FALSE)","v":0},0,0,{"$f":"ROUND(D141*ROUND(((1+CALCULADORA!$C$19)^(1/12)-1),6),6)","v":0},0,{"$f":"IF($B142=0,0,G142/POWER(1+CALCULADORA!$C$32,Flujos!$B142/365))","v":0},"2034-08-16",140,4258,-1.100124791264534E-8,0,-6.9076835643500089E-11,-6.9076835643500089E-11,{"$f":"M142*IFERROR(VLOOKUP($A142,UVR!$A:$B,2,0),CALCULADORA!$C$23)","v":0},{"$f":"N142*IFERROR(VLOOKUP($A142,UVR!$A:$B,2,0),CALCULADORA!$C$23)","v":-2.6126164792565398E-8},{"$f":"O142*IFERROR(VLOOKUP($A142,UVR!$A:$B,2,0),CALCULADORA!$C$23)","v":-2.6126164792565398E-8}]
["2034-09-16",{"$f":"IF(DIAS365(CALCULADORA!$C$30,A143)<0,0,DIAS365(CALCULADORA!$C$30,A143))","v":3512},{"$f":"+HLOOKUP(CALCULADORA!$C$11,Tablas!$B$1:$B$181,Flujos!J143+1,FALSE)","v":0},0,0,{"$f":"ROUND(D142*ROUND(((1+CALCULADORA!$C$19)^(1/12)-1),6),6)","v":0},0,{"$f":"IF($B143=0,0,G143/POWER(1+CALCULADORA!$C$32,Flujos!$B143/365))","v":0},"2034-09-16",141,4289,-1.100124791264534E-8,0,-6.9076835643500089E-11,-6.9076835643500089E-11,{"$f":"M143*IFERROR(VLOOKUP($A143,UVR!$A:$B,2,0),CALCULADORA!$C$23)","v":0},{"$f":"N143*IFERROR(VLOOKUP($A143,UVR!$A:$B,2,0),CALCULADORA!$C$23)","v":-2.6126164792565398E-8},{"$f":"O143*IFERROR(VLOOKUP($A143,UVR!$A:$B,2,0),CALCULADORA!$C$23)","v":-2.6126164792565398E-8}]
["2034-10-16",{"$f":"IF(DIAS365(CALCULADORA!$C$30,A144)<0,0,DIAS365(CALCULADORA!$C$30,A144))","v":3542},{"$f":"+HLOOKUP(CALCULADORA!$C$11,Tablas!$B$1:$B$181,Flujos!J144+1,FALSE)","v":0},0,0,{"$f":"ROUND(D143*ROUND(((1+CALCULADORA!$C$19)^(1/12)-1),6),6)","v":0},0,{"$f":"IF($B144=0,0,G144/POWER(1+CALCULADORA!$C$32,Flujos!$B144/365))","v":0},"2034-10-16",142,4319,-1.100124791264534E-8,0,-6.9076835643500089E-11,-6.9076835643500089E-11,{"$f":"M144*IFERROR(VLOOKUP($A144,UVR!$A:$B,2,0),CALCULADORA!$C$23)","v":0},{"$f":"N144*IFERROR(VLOOKUP($A144,UVR!$A:$B,2,0),CALCULADORA!$C$23)","v":-2.6126164792565398E-8},{"$f":"O144*IFERROR(VLOOKUP($A144,UVR!$A:$B,2,0),CALCULADORA!$C$23)","v":-2.6126164792565398E-8}]
["2034-11-16",{"$f":"IF(DIAS365(CALCULADORA!$C$30,A145)<0,0,DIAS365(CALCULADORA!$C$30,A145))","v":3573},{"$f":"+HLOOKUP(CALCULADORA!$C$11,Tablas!$B$1:$B$181,Flujos!J145+1,FALSE)","v":0},0,0,{"$f":"ROUND(D144*ROUND(((1+CALCULADORA!$C$19)^(1/12)-1),6),6)","v":0},0,{"$f":"IF($B145=0,0,G145/POWER(1+CALCULADORA!$C$32,Flujos!$B145/365))","v":0},"2034-11-16",143,4350,-1.100124791264534E-8,0,-6.9076835643500089E-11,-6.9076835643500089E-11,{"$f":"M145*IFERROR(VLOOKUP($A145,UVR!$A:$B,2,0),CALCULADORA!$C$23)","v":0},{"$f":"N145*IFERROR(VLOOKUP($A145,UVR!$A:$B,2,0),CALCULADORA!$C$23)","v":-2.6126164792565398E-8},{"$f":"O145*IFERROR(VLOOKUP($A145,UVR!$A:$B,2,0),CALCULADORA!$C$23)","v":-2.6126164792565398E-8}]
["2034-12-16",{"$f":"IF(DIAS365(CALCULADORA!$C$30,A146)<0,0,DIAS365(CALCULADORA!$C$30,A146))","v":3603},{"$f":"+HLOOKUP(CALCULADORA!$C$11,Tablas!$B$1:$B$181,Flujos!J146+1,FALSE)","v":0},0,0,{"$f":"ROUND(D145*ROUND(((1+CALCULADORA!$C$19)^(1/12)-1),6),6)","v":0},0,{"$f":"IF($B146=0,0,G146/POWER(1+CALCULADORA!$C$32,Flujos!$B146/365))","v":0},"2034-12-16",144,4380,-1.100124791264534E-8,0,-6.9076835643500089E-11,-6.9076835643500089E-11,{"$f":"M146*IFERROR(VLOOKUP($A146,UVR!$A:$B,2,0),CALCULADORA!$C$23)","v":0},{"$f":"N146*IFERROR(VLOOKUP($A146,UVR!$A:$B,2,0),CALCULADORA!$C$23)","v":-2.6126164792565398E-8},{"$f":"O146*IFERROR(VLOOKUP($A146,UVR!$A:$B,2,0),CALCULADORA!$C$23)","v":-2.6126164792565398E-8}]
["2035-01-16",{"$f":"IF(DIAS365(CALCULADORA!$C$30,A147)<0,0,DIAS365(CALCULADORA!$C$30,A147))","v":3634},{"$f":"+HLOOKUP(CALCULADORA!$C$11,Tablas!$B$1:$B$181,Flujos!J147+1,FALSE)","v":0},0,0,{"$f":"ROUND(D146*ROUND(((1+CALCULADORA!$C$19)^(1/12)-1),6),6)","v":0},0,{"$f":"IF($B147=0,0,G147/POWER(1+CALCULADORA!$C$32,Flujos!$B147/365))","v":0},"2035-01-16",145,4411,-1.100124791264534E-8,0,-6.9076835643500089E-11,-6.9076835643500089E-11,{"$f":"M147*IFERROR(VLOOKUP($A147,UVR!$A:$B,2,0),CALCULADORA!$C$23)","v":0},{"$f":"N147*IFERROR(VLOOKUP($A147,UVR!$A:$B,2,0),CALCULADORA!$C$23)","v":-2.6126164792565398E-8},{"$f":"O147*IFERROR(VLOOKUP($A147,UVR!$A:$B,2,0),CALCULADORA!$C$23)","v":-2.6126164792565398E-8}]
["2035-02-16",{"$f":"IF(DIAS365(CALCULADORA!$C$30,A148)<0,0,DIAS365(CALCULADORA!$C$30,A148))","v":3665},{"$f":"+HLOOKUP(CALCULADORA!$C$11,Tablas!$B$1:$B$181,Flujos!J148+1,FALSE)","v":0},0,0,{"$f":"ROUND(D147*ROUND(((1+CALCULADORA!$C$19)^(1/12)-1),6),6)","v":0},0,{"$f":"IF($B148=0,0,G148/POWER(1+CALCULADORA!$C$32,Flujos!$B148/365))","v":0},"2035-02-16",146,4442,-1.100124791264534E-8,0,-6.9076835643500089E-11,-6.9076835643500089E-11,{"$f":"M148*IFERROR(VLOOKUP($A148,UVR!$A:$B,2,0),CALCULADORA!$C$23)","v":0},{"$f":"N148*IFERROR(VLOOKUP($A148,UVR!$A:$B,2,0),CALCULADORA!$C$23)","v":-2.6126164792565398E-8},{"$f":"O148*IFERROR(VLOOKUP($A148,UVR!$A:$B,2,0),CALCULADORA!$C$23)","v":-2.6126164792565398E-8}]
["2035-03-16",{"$f":"IF(DIAS365(CALCULADORA!$C$30,A149)<0,0,DIAS365(CALCULADORA!$C$30,A149))","v":3693},{"$f":"+HLOOKUP(CALCULADORA!$C$11,Tablas!$B$1:$B$181,Flujos!J149+1,FALSE)","v":0},0,0,{"$f":"ROUND(D148*ROUND(((1+CALCULADORA!$C$19)^(1/12)-1),6),6)","v":0},0,{"$f":"IF($B149=0,0,G149/POWER(1+CALCULADORA!$C$32,Flujos!$B149/365))","v":0},"2035-03-16",147,4470,-1.100124791264534E-8,0,-6.9076835643500089E-11,-6.9076835643500089E-11,{"$f":"M149*IFERROR(VLOOKUP($A149,UVR!$A:$B,2,0),CALCULADORA!$C$23)","v":0},{"$f":"N149*IFERROR(VLOOKUP($A149,UVR!$A:$B,2,0),CALCULADORA!$C$23)","v":-2.6126164792565398E-8},{"$f":"O149*IFERROR(VLOOKUP($A149,UVR!$A:$B,2,0),CALCULADORA!$C$23)","v":-2.6126164792565398E-8}]
["2035-04-16",{"$f":"IF(DIAS365(CALCULADORA!$C$30,A150)<0,0,DIAS365(CALCULADORA!$C$30,A150))","v":3724},{"$f":"+HLOOKUP(CALCULADORA!$C$11,Tablas!$B$1:$B$181,Flujos!J150+1,FALSE)","v":0},0,0,{"$f":"ROUND(D149*ROUND(((1+CALCULADORA!$C$19)^(1/12)-1),6),6)","v":0},0,{"$f":"IF($B150=0,0,G150/POWER(1+CALCULADORA!$C$32,Flujos!$B150/365))","v":0},"2035-04-16",148,4501,-1.100124791264534E-8,0,-6.9076835643500089E-11,-6.9076835643500089E-11,{"$f":"M150*IFERROR(VLOOKUP($A150,UVR!$A:$B,2,0),CALCULADORA!$C$23)","v":0},{"$f":"N150*IFERROR(VLOOKUP($A150,UVR!$A:$B,2,0),CALCULADORA!$C$23)","v":-2.6126164792565398E-8},{"$f":"O150*IFERROR(VLOOKUP($A150,UVR!$A:$B,2,0),CALCULADORA!$C$23)","v":-2.6126164792565398E-8}]
["2035-05-16",{"$f":"IF(DIAS365(CALCULADORA!$C$30,A151)<0,0,DIAS365(CALCULADORA!$C$30,A151))","v":3754},{"$f":"+HLOOKUP(CALCULADORA!$C$11,Tablas!$B$1:$B$181,Flujos!J151+1,FALSE)","v":0},0,0,{"$f":"ROUND(D150*ROUND(((1+CALCULADORA!$C$19)^(1/12)-1),6),6)","v":0},0,{"$f":"IF($B151=0,0,G151/POWER(1+CALCULADORA!$C$32,Flujos!$B151/365))","v":0},"2035-05-16",149,4531,-1.100124791264534E-8,0,-6.9076835643500089E-11,-6.9076835643500089E-11,{"$f":"M151*IFERROR(VLOOKUP($A151,UVR!$A:$B,2,0),CALCULADORA!$C$23)","v":0},{"$f":"N151*IFERROR(VLOOKUP($A151,UVR!$A:$B,2,0),CALCULADORA!$C$23)","v":-2.6126164792565398E-8},{"$f":"O151*IFERROR(VLOOKUP($A151,UVR!$A:$B,2,0),CALCULADORA!$C$23)","v":-2.6126164792565398E-8}]
["2035-06-16",{"$f":"IF(DIAS365(CALCULADORA!$C$30,A152)<0,0,DIAS365(CALCULADORA!$C$30,A152))","v":3785},{"$f":"+HLOOKUP(CALCULADORA!$C$11,Tablas!$B$1:$B$181,Flujos!J152+1,FALSE)","v":0},0,0,{"$f":"ROUND(D151*ROUND(((1+CALCULADORA!$C$19)^(1/12)-1),6),6)","v":0},0,{"$f":"IF($B152=0,0,G152/POWER(1+CALCULADORA!$C$32,Flujos!$B152/365))","v":0},"2035-06-16",150,4562,-1.100124791264534E-8,0,-6.9076835643500089E-11,-6.9076835643500089E-11,{"$f":"M152*IFERROR(VLOOKUP($A152,UVR!$A:$B,2,0),CALCULADORA!$C$23)","v":0},{"$f":"N152*IFERROR(VLOOKUP($A152,UVR!$A:$B,2,0),CALCULADORA!$C$23)","v":-2.6126164792565398E-8},{"$f":"O152*IFERROR(VLOOKUP($A152,UVR!$A:$B,2,0),CALCULADORA!$C$23)","v":-2.6126164792565398E-8}]
["2035-07-16",{"$f":"IF(DIAS365(CALCULADORA!$C$30,A153)<0,0,DIAS365(CALCULADORA!$C$30,A153))","v":3815},{"$f":"+HLOOKUP(CALCULADORA!$C$11,Tablas!$B$1:$B$181,Flujos!J153+1,FALSE)","v":0},0,0,{"$f":"ROUND(D152*ROUND(((1+CALCULADORA!$C$19)^(1/12)-1),6),6)","v":0},0,{"$f":"IF($B153=0,0,G153/POWER(1+CALCULADORA!$C$32,Flujos!$B153/365))","v":0},"2035-07-16",151,4592,-1.100124791264534E-8,0,-6.9076835643500089E-11,-6.9076835643500089E-11,{"$f":"M153*IFERROR(VLOOKUP($A153,UVR!$A:$B,2,0),CALCULADORA!$C$23)","v":0},{"$f":"N153*IFERROR(VLOOKUP($A153,UVR!$A:$B,2,0),CALCULADORA!$C$23)","v":-2.6126164792565398E-8},{"$f":"O153*IFERROR(VLOOKUP($A153,UVR!$A:$B,2,0),CALCULADORA!$C$23)","v":-2.6126164792565398E-8}]
["2035-08-16",{"$f":"IF(DIAS365(CALCULADORA!$C$30,A154)<0,0,DIAS365(CALCULADORA!$C$30,A154))","v":3846},{"$f":"+HLOOKUP(CALCULADORA!$C$11,Tablas!$B$1:$B$181,Flujos!J154+1,FALSE)","v":0},0,0,{"$f":"ROUND(D153*ROUND(((1+CALCULADORA!$C$19)^(1/12)-1),6),6)","v":0},0,{"$f":"IF($B154=0,0,G154/POWER(1+CALCULADORA!$C$32,Flujos!$B154/365))","v":0},"2035-08-16",152,4623,-1.100124791264534E-8,0,-6.9076835643500089E-11,-6.9076835643500089E-11,{"$f":"M154*IFERROR(VLOOKUP($A154,UVR!$A:$B,2,0),CALCULADORA!$C$23)","v":0},{"$f":"N154*IFERROR(VLOOKUP($A154,UVR!$A:$B,2,0),CALCULADORA!$C$23)","v":-2.6126164792565398E-8},{"$f":"O154*IFERROR(VLOOKUP($A154,UVR!$A:$B,2,0),CALCULADORA!$C$23)","v":-2.6126164792565398E-8}]
["2035-09-16",{"$f":"IF(DIAS365(CALCULADORA!$C$30,A155)<0,0,DIAS365(CALCULADORA!$C$30,A155))","v":3877},{"$f":"+HLOOKUP(CALCULADORA!$C$11,Tablas!$B$1:$B$181,Flujos!J155+1,FALSE)","v":0},0,0,{"$f":"ROUND(D154*ROUND(((1+CALCULADORA!$C$19)^(1/12)-1),6),6)","v":0},0,{"$f":"IF($B155=0,0,G155/POWER(1+CALCULADORA!$C$32,Flujos!$B155/365))","v":0},"2035-09-16",153,4654,-1.100124791264534E-8,0,-6.9076835643500089E-11,-6.9076835643500089E-11,{"$f":"M155*IFERROR(VLOOKUP($A155,UVR!$A:$B,2,0),CALCULADORA!$C$23)","v":0},{"$f":"N155*IFERROR(VLOOKUP($A155,UVR!$A:$B,2,0),CALCULADORA!$C$23)","v":-2.6126164792565398E-8},{"$f":"O155*IFERROR(VLOOKUP($A155,UVR!$A:$B,2,0),CALCULADORA!$C$23)","v":-2.6126164792565398E-8}]
["2035-10-16",{"$f":"IF(DIAS365(CALCULADORA!$C$30,A156)<0,0,DIAS365(CALCULADORA!$C$30,A156))","v":3907},{"$f":"+HLOOKUP(CALCULADORA!$C$11,Tablas!$B$1:$B$181,Flujos!J156+1,FALSE)","v":0},0,0,{"$f":"ROUND(D155*ROUND(((1+CALCULADORA!$C$19)^(1/12)-1),6),6)","v":0},0,{"$f":"IF($B156=0,0,G156/POWER(1+CALCULADORA!$C$32,Flujos!$B156/365))","v":0},"2035-10-16",154,4684,-1.100124791264534E-8,0,-6.9076835643500089E-11,-6.9076835643500089E-11,{"$f":"M156*IFERROR(VLOOKUP($A156,UVR!$A:$B,2,0),CALCULADORA!$C$23)","v":0},{"$f":"N156*IFERROR(VLOOKUP($A156,UVR!$A:$B,2,0),CALCULADORA!$C$23)","v":-2.6126164792565398E-8},{"$f":"O156*IFERROR(VLOOKUP($A156,UVR!$A:$B,2,0),CALCULADORA!$C$23)","v":-2.6126164792565398E-8}]
["2035-11-16",{"$f":"IF(DIAS365(CALCULADORA!$C$30,A157)<0,0,DIAS365(CALCULADORA!$C$30,A157))","v":3938},{"$f":"+HLOOKUP(CALCULADORA!$C$11,Tablas!$B$1:$B$181,Flujos!J157+1,FALSE)","v":0},0,0,{"$f":"ROUND(D156*ROUND(((1+CALCULADORA!$C$19)^(1/12)-1),6),6)","v":0},0,{"$f":"IF($B157=0,0,G157/POWER(1+CALCULADORA!$C$32,Flujos!$B157/365))","v":0},"2035-11-16",155,4715,-1.100124791264534E-8,0,-6.9076835643500089E-11,-6.9076835643500089E-11,{"$f":"M157*IFERROR(VLOOKUP($A157,UVR!$A:$B,2,0),CALCULADORA!$C$23)","v":0},{"$f":"N157*IFERROR(VLOOKUP($A157,UVR!$A:$B,2,0),CALCULADORA!$C$23)","v":-2.6126164792565398E-8},{"$f":"O157*IFERROR(VLOOKUP($A157,UVR!$A:$B,2,0),CALCULADORA!$C$23)","v":-2.6126164792565398E-8}]
["2035-12-16",{"$f":"IF(DIAS365(CALCULADORA!$C$30,A158)<0,0,DIAS365(CALCULADORA!$C$30,A158))","v":3968},{"$f":"+HLOOKUP(CALCULADORA!$C$11,Tablas!$B$1:$B$181,Flujos!J158+1,FALSE)","v":0},0,0,{"$f":"ROUND(D157*ROUND(((1+CALCULADORA!$C$19)^(1/12)-1),6),6)","v":0},0,{"$f":"IF($B158=0,0,G158/POWER(1+CALCULADORA!$C$32,Flujos!$B158/365))","v":0},"2035-12-16",156,4745,-1.100124791264534E-8,0,-6.9076835643500089E-11,-6.9076835643500089E-11,{"$f":"M158*IFERROR(VLOOKUP($A158,UVR!$A:$B,2,0),CALCULADORA!$C$23)","v":0},{"$f":"N158*IFERROR(VLOOKUP($A158,UVR!$A:$B,2,0),CALCULADORA!$C$23)","v":-2.6126164792565398E-8},{"$f":"O158*IFERROR(VLOOKUP($A158,UVR!$A:$B,2,0),CALCULADORA!$C$23)","v":-2.6126164792565398E-8}]
["2036-01-16",{"$f":"IF(DIAS365(CALCULADORA!$C$30,A159)<0,0,DIAS365(CALCULADORA!$C$30,A159))","v":3999},{"$f":"+HLOOKUP(CALCULADORA!$C$11,Tablas!$B$1:$B$181,Flujos!J159+1,FALSE)","v":0},0,0,{"$f":"ROUND(D158*ROUND(((1+CALCULADORA!$C$19)^(1/12)-1),6),6)","v":0},0,{"$f":"IF($B159=0,0,G159/POWER(1+CALCULADORA!$C$32,Flujos!$B159/365))","v":0},"2036-01-16",157,4776,-1.100124791264534E-8,0,-6.9076835643500089E-11,-6.9076835643500089E-11,{"$f":"M159*IFERROR(VLOOKUP($A159,UVR!$A:$B,2,0),CALCULADORA!$C$23)","v":0},{"$f":"N159*IFERROR(VLOOKUP($A159,UVR!$A:$B,2,0),CALCULADORA!$C$23)","v":-2.6126164792565398E-8},{"$f":"O159*IFERROR(VLOOKUP($A159,UVR!$A:$B,2,0),CALCULADORA!$C$23)","v":-2.6126164792565398E-8}]
["2036-02-16",{"$f":"IF(DIAS365(CALCULADORA!$C$30,A160)<0,0,DIAS365(CALCULADORA!$C$30,A160))","v":4030},{"$f":"+HLOOKUP(CALCULADORA!$C$11,Tablas!$B$1:$B$181,Flujos!J160+1,FALSE)","v":0},0,0,{"$f":"ROUND(D159*ROUND(((1+CALCULADORA!$C$19)^(1/12)-1),6),6)","v":0},0,{"$f":"IF($B160=0,0,G160/POWER(1+CALCULADORA!$C$32,Flujos!$B160/365))","v":0},"2036-02-16",158,4807,-1.100124791264534E-8,0,-6.9076835643500089E-11,-6.9076835643500089E-11,{"$f":"M160*IFERROR(VLOOKUP($A160,UVR!$A:$B,2,0),CALCULADORA!$C$23)","v":0},{"$f":"N160*IFERROR(VLOOKUP($A160,UVR!$A:$B,2,0),CALCULADORA!$C$23)","v":-2.6126164792565398E-8},{"$f":"O160*IFERROR(VLOOKUP($A160,UVR!$A:$B,2,0),CALCULADORA!$C$23)","v":-2.6126164792565398E-8}]
["2036-03-16",{"$f":"IF(DIAS365(CALCULADORA!$C$30,A161)<0,0,DIAS365(CALCULADORA!$C$30,A161))","v":4058},{"$f":"+HLOOKUP(CALCULADORA!$C$11,Tablas!$B$1:$B$181,Flujos!J161+1,FALSE)","v":0},0,0,{"$f":"ROUND(D160*ROUND(((1+CALCULADORA!$C$19)^(1/12)-1),6),6)","v":0},0,{"$f":"IF($B161=0,0,G161/POWER(1+CALCULADORA!$C$32,Flujos!$B161/365))","v":0},"2036-03-16",159,4835,-1.100124791264534E-8,0,-6.9076835643500089E-11,-6.9076835643500089E-11,{"$f":"M161*IFERROR(VLOOKUP($A161,UVR!$A:$B,2,0),CALCULADORA!$C$23)","v":0},{"$f":"N161*IFERROR(VLOOKUP($A161,UVR!$A:$B,2,0),CALCULADORA!$C$23)","v":-2.6126164792565398E-8},{"$f":"O161*IFERROR(VLOOKUP($A161,UVR!$A:$B,2,0),CALCULADORA!$C$23)","v":-2.6126164792565398E-8}]
["2036-04-16",{"$f":"IF(DIAS365(CALCULADORA!$C$30,A162)<0,0,DIAS365(CALCULADORA!$C$30,A162))","v":4089},{"$f":"+HLOOKUP(CALCULADORA!$C$11,Tablas!$B$1:$B$181,Flujos!J162+1,FALSE)","v":0},0,0,{"$f":"ROUND(D161*ROUND(((1+CALCULADORA!$C$19)^(1/12)-1),6),6)","v":0},0,{"$f":"IF($B162=0,0,G162/POWER(1+CALCULADORA!$C$32,Flujos!$B162/365))","v":0},"2036-04-16",160,4866,-1.100124791264534E-8,0,-6.9076835643500089E-11,-6.9076835643500089E-11,{"$f":"M162*IFERROR(VLOOKUP($A162,UVR!$A:$B,2,0),CALCULADORA!$C$23)","v":0},{"$f":"N162*IFERROR(VLOOKUP($A162,UVR!$A:$B,2,0),CALCULADORA!$C$23)","v":-2.6126164792565398E-8},{"$f":"O162*IFERROR(VLOOKUP($A162,UVR!$A:$B,2,0),CALCULADORA!$C$23)","v":-2.6126164792565398E-8}]
[{"$f":"EDATE(A162,1)","v":"2036-05-16"},{"$f":"IF(DIAS365(CALCULADORA!$C$30,A163)<0,0,DIAS365(CALCULADORA!$C$30,A163))","v":4119},{"$f":"+HLOOKUP(CALCULADORA!$C$11,Tablas!$B$1:$B$181,Flujos!J163+1,FALSE)","v":0},0,0,{"$f":"ROUND(D162*ROUND(((1+CALCULADORA!$C$19)^(1/12)-1),6),6)","v":0},0,{"$f":"IF($B163=0,0,G163/POWER(1+CALCULADORA!$C$32,Flujos!$B163/365))","v":0},"2036-05-16",161,4896,-1.100124791264534E-8,0,-6.9076835643500089E-11,-6.9076835643500089E-11,{"$f":"M163*IFERROR(VLOOKUP($A163,UVR!$A:$B,2,0),CALCULADORA!$C$23)","v":0},{"$f":"N163*IFERROR(VLOOKUP($A163,UVR!$A:$B,2,0),CALCULADORA!$C$23)","v":-2.6126164792565398E-8},{"$f":"O163*IFERROR(VLOOKUP($A163,UVR!$A:$B,2,0),CALCULADORA!$C$23)","v":-2.6126164792565398E-8}]
["2036-06-16",{"$f":"IF(DIAS365(CALCULADORA!$C$30,A164)<0,0,DIAS365(CALCULADORA!$C$30,A164))","v":4150},{"$f":"+HLOOKUP(CALCULADORA!$C$11,Tablas!$B$1:$B$181,Flujos!J164+1,FALSE)","v":0},0,0,{"$f":"ROUND(D163*ROUND(((1+CALCULADORA!$C$19)^(1/12)-1),6),6)","v":0},0,{"$f":"IF($B164=0,0,G164/POWER(1+CALCULADORA!$C$32,Flujos!$B164/365))","v":0},"2036-06-16",162,4927,-1.100124791264534E-8,0,-6.9076835643500089E-11,-6.9076835643500089E-11,{"$f":"M164*IFERROR(VLOOKUP($A164,UVR!$A:$B,2,0),CALCULADORA!$C$23)","v":0},{"$f":"N164*IFERROR(VLOOKUP($A164,UVR!$A:$B,2,0),CALCULADORA!$C$23)","v":-2.6126164792565398E-8},{"$f":"O164*IFERROR(VLOOKUP($A164,UVR!$A:$B,2,0),CALCULADORA!$C$23)","v":-2.6126164792565398E-8}]
["2036-07-16",{"$f":"IF(DIAS365(CALCULADORA!$C$30,A165)<0,0,DIAS365(CALCULADORA!$C$30,A165))","v":4180},{"$f":"+HLOOKUP(CALCULADORA!$C$11,Tablas!$B$1:$B$181,Flujos!J165+1,FALSE)","v":0},0,0,{"$f":"ROUND(D164*ROUND(((1+CALCULADORA!$C$19)^(1/12)-1),6),6)","v":0},0,{"$f":"IF($B165=0,0,G165/POWER(1+CALCULADORA!$C$32,Flujos!$B165/365))","v":0},"2036-07-16",163,4957,-1.100124791264534E-8,0,-6.9076835643500089E-11,-6.9076835643500089E-11,{"$f":"M165*IFERROR(VLOOKUP($A165,UVR!$A:$B,2,0),CALCULADORA!$C$23)","v":0},{"$f":"N165*IFERROR(VLOOKUP($A165,UVR!$A:$B,2,0),CALCULADORA!$C$23)","v":-2.6126164792565398E-8},{"$f":"O165*IFERROR(VLOOKUP($A165,UVR!$A:$B,2,0),CALCULADORA!$C$23)","v":-2.6126164792565398E-8}]
["2036-08-16",{"$f":"IF(DIAS365(CALCULADORA!$C$30,A166)<0,0,DIAS365(CALCULADORA!$C$30,A166))","v":4211},{"$f":"+HLOOKUP(CALCULADORA!$C$11,Tablas!$B$1:$B$181,Flujos!J166+1,FALSE)","v":0},0,0,{"$f":"ROUND(D165*ROUND(((1+CALCULADORA!$C$19)^(1/12)-1),6),6)","v":0},0,{"$f":"IF($B166=0,0,G166/POWER(1+CALCULADORA!$C$32,Flujos!$B166/365))","v":0},"2036-08-16",164,4988,-1.100124791264534E-8,0,-6.9076835643500089E-11,-6.9076835643500089E-11,{"$f":"M166*IFERROR(VLOOKUP($A166,UVR!$A:$B,2,0),CALCULADORA!$C$23)","v":0},{"$f":"N166*IFERROR(VLOOKUP($A166,UVR!$A:$B,2,0),CALCULADORA!$C$23)","v":-2.6126164792565398E-8},{"$f":"O166*IFERROR(VLOOKUP($A166,UVR!$A:$B,2,0),CALCULADORA!$C$23)","v":-2.6126164792565398E-8}]
["2036-09-16",{"$f":"IF(DIAS365(CALCULADORA!$C$30,A167)<0,0,DIAS365(CALCULADORA!$C$30,A167))","v":4242},{"$f":"+HLOOKUP(CALCULADORA!$C$11,Tablas!$B$1:$B$181,Flujos!J167+1,FALSE)","v":0},0,0,{"$f":"ROUND(D166*ROUND(((1+CALCULADORA!$C$19)^(1/12)-1),6),6)","v":0},0,{"$f":"IF($B167=0,0,G167/POWER(1+CALCULADORA!$C$32,Flujos!$B167/365))","v":0},"2036-09-16",165,5019,-1.100124791264534E-8,0,-6.9076835643500089E-11,-6.9076835643500089E-11,{"$f":"M167*IFERROR(VLOOKUP($A167,UVR!$A:$B,2,0),CALCULADORA!$C$23)","v":0},{"$f":"N167*IFERROR(VLOOKUP($A167,UVR!$A:$B,2,0),CALCULADORA!$C$23)","v":-2.6126164792565398E-8},{"$f":"O167*IFERROR(VLOOKUP($A167,UVR!$A:$B,2,0),CALCULADORA!$C$23)","v":-2.6126164792565398E-8}]
["2036-10-16",{"$f":"IF(DIAS365(CALCULADORA!$C$30,A168)<0,0,DIAS365(CALCULADORA!$C$30,A168))","v":4272},{"$f":"+HLOOKUP(CALCULADORA!$C$11,Tablas!$B$1:$B$181,Flujos!J168+1,FALSE)","v":0},0,0,{"$f":"ROUND(D167*ROUND(((1+CALCULADORA!$C$19)^(1/12)-1),6),6)","v":0},0,{"$f":"IF($B168=0,0,G168/POWER(1+CALCULADORA!$C$32,Flujos!$B168/365))","v":0},"2036-10-16",166,5049,-1.100124791264534E-8,0,-6.9076835643500089E-11,-6.9076835643500089E-11,{"$f":"M168*IFERROR(VLOOKUP($A168,UVR!$A:$B,2,0),CALCULADORA!$C$23)","v":0},{"$f":"N168*IFERROR(VLOOKUP($A168,UVR!$A:$B,2,0),CALCULADORA!$C$23)","v":-2.6126164792565398E-8},{"$f":"O168*IFERROR(VLOOKUP($A168,UVR!$A:$B,2,0),CALCULADORA!$C$23)","v":-2.6126164792565398E-8}]
["2036-11-16",{"$f":"IF(DIAS365(CALCULADORA!$C$30,A169)<0,0,DIAS365(CALCULADORA!$C$30,A169))","v":4303},{"$f":"+HLOOKUP(CALCULADORA!$C$11,Tablas!$B$1:$B$181,Flujos!J169+1,FALSE)","v":0},0,0,{"$f":"ROUND(D168*ROUND(((1+CALCULADORA!$C$19)^(1/12)-1),6),6)","v":0},0,{"$f":"IF($B169=0,0,G169/POWER(1+CALCULADORA!$C$32,Flujos!$B169/365))","v":0},"2036-11-16",167,5080,-1.100124791264534E-8,0,-6.9076835643500089E-11,-6.9076835643500089E-11,{"$f":"M169*IFERROR(VLOOKUP($A169,UVR!$A:$B,2,0),CALCULADORA!$C$23)","v":0},{"$f":"N169*IFERROR(VLOOKUP($A169,UVR!$A:$B,2,0),CALCULADORA!$C$23)","v":-2.6126164792565398E-8},{"$f":"O169*IFERROR(VLOOKUP($A169,UVR!$A:$B,2,0),CALCULADORA!$C$23)","v":-2.6126164792565398E-8}]
["2036-12-16",{"$f":"IF(DIAS365(CALCULADORA!$C$30,A170)<0,0,DIAS365(CALCULADORA!$C$30,A170))","v":4333},{"$f":"+HLOOKUP(CALCULADORA!$C$11,Tablas!$B$1:$B$181,Flujos!J170+1,FALSE)","v":0},0,0,{"$f":"ROUND(D169*ROUND(((1+CALCULADORA!$C$19)^(1/12)-1),6),6)","v":0},0,{"$f":"IF($B170=0,0,G170/POWER(1+CALCULADORA!$C$32,Flujos!$B170/365))","v":0},"2036-12-16",168,5110,-1.100124791264534E-8,0,-6.9076835643500089E-11,-6.9076835643500089E-11,{"$f":"M170*IFERROR(VLOOKUP($A170,UVR!$A:$B,2,0),CALCULADORA!$C$23)","v":0},{"$f":"N170*IFERROR(VLOOKUP($A170,UVR!$A:$B,2,0),CALCULADORA!$C$23)","v":-2.6126164792565398E-8},{"$f":"O170*IFERROR(VLOOKUP($A170,UVR!$A:$B,2,0),CALCULADORA!$C$23)","v":-2.6126164792565398E-8}]
["2037-01-16",{"$f":"IF(DIAS365(CALCULADORA!$C$30,A171)<0,0,DIAS365(CALCULADORA!$C$30,A171))","v":4364},{"$f":"+HLOOKUP(CALCULADORA!$C$11,Tablas!$B$1:$B$181,Flujos!J171+1,FALSE)","v":0},0,0,{"$f":"ROUND(D170*ROUND(((1+CALCULADORA!$C$19)^(1/12)-1),6),6)","v":0},0,{"$f":"IF($B171=0,0,G171/POWER(1+CALCULADORA!$C$32,Flujos!$B171/365))","v":0},"2037-01-16",169,5141,-1.100124791264534E-8,0,-6.9076835643500089E-11,-6.9076835643500089E-11,{"$f":"M171*IFERROR(VLOOKUP($A171,UVR!$A:$B,2,0),CALCULADORA!$C$23)","v":0},{"$f":"N171*IFERROR(VLOOKUP($A171,UVR!$A:$B,2,0),CALCULADORA!$C$23)","v":-2.6126164792565398E-8},{"$f":"O171*IFERROR(VLOOKUP($A171,UVR!$A:$B,2,0),CALCULADORA!$C$23)","v":-2.6126164792565398E-8}]
["2037-02-16",{"$f":"IF(DIAS365(CALCULADORA!$C$30,A172)<0,0,DIAS365(CALCULADORA!$C$30,A172))","v":4395},{"$f":"+HLOOKUP(CALCULADORA!$C$11,Tablas!$B$1:$B$181,Flujos!J172+1,FALSE)","v":0},0,0,{"$f":"ROUND(D171*ROUND(((1+CALCULADORA!$C$19)^(1/12)-1),6),6)","v":0},0,{"$f":"IF($B172=0,0,G172/POWER(1+CALCULADORA!$C$32,Flujos!$B172/365))","v":0},"2037-02-16",170,5172,-1.100124791264534E-8,0,-6.9076835643500089E-11,-6.9076835643500089E-11,{"$f":"M172*IFERROR(VLOOKUP($A172,UVR!$A:$B,2,0),CALCULADORA!$C$23)","v":0},{"$f":"N172*IFERROR(VLOOKUP($A172,UVR!$A:$B,2,0),CALCULADORA!$C$23)","v":-2.6126164792565398E-8},{"$f":"O172*IFERROR(VLOOKUP($A172,UVR!$A:$B,2,0),CALCULADORA!$C$23)","v":-2.6126164792565398E-8}]
["2037-03-16",{"$f":"IF(DIAS365(CALCULADORA!$C$30,A173)<0,0,DIAS365(CALCULADORA!$C$30,A173))","v":4423},{"$f":"+HLOOKUP(CALCULADORA!$C$11,Tablas!$B$1:$B$181,Flujos!J173+1,FALSE)","v":0},0,0,{"$f":"ROUND(D172*ROUND(((1+CALCULADORA!$C$19)^(1/12)-1),6),6)","v":0},0,{"$f":"IF($B173=0,0,G173/POWER(1+CALCULADORA!$C$32,Flujos!$B173/365))","v":0},"2037-03-16",171,5200,-1.100124791264534E-8,0,-6.9076835643500089E-11,-6.9076835643500089E-11,{"$f":"M173*IFERROR(VLOOKUP($A173,UVR!$A:$B,2,0),CALCULADORA!$C$23)","v":0},{"$f":"N173*IFERROR(VLOOKUP($A173,UVR!$A:$B,2,0),CALCULADORA!$C$23)","v":-2.6126164792565398E-8},{"$f":"O173*IFERROR(VLOOKUP($A173,UVR!$A:$B,2,0),CALCULADORA!$C$23)","v":-2.6126164792565398E-8}]
["2037-04-16",{"$f":"IF(DIAS365(CALCULADORA!$C$30,A174)<0,0,DIAS365(CALCULADORA!$C$30,A174))","v":4454},{"$f":"+HLOOKUP(CALCULADORA!$C$11,Tablas!$B$1:$B$181,Flujos!J174+1,FALSE)","v":0},0,0,{"$f":"ROUND(D173*ROUND(((1+CALCULADORA!$C$19)^(1/12)-1),6),6)","v":0},0,{"$f":"IF($B174=0,0,G174/POWER(1+CALCULADORA!$C$32,Flujos!$B174/365))","v":0},"2037-04-16",172,5231,-1.100124791264534E-8,0,-6.9076835643500089E-11,-6.9076835643500089E-11,{"$f":"M174*IFERROR(VLOOKUP($A174,UVR!$A:$B,2,0),CALCULADORA!$C$23)","v":0},{"$f":"N174*IFERROR(VLOOKUP($A174,UVR!$A:$B,2,0),CALCULADORA!$C$23)","v":-2.6126164792565398E-8},{"$f":"O174*IFERROR(VLOOKUP($A174,UVR!$A:$B,2,0),CALCULADORA!$C$23)","v":-2.6126164792565398E-8}]
["2037-05-16",{"$f":"IF(DIAS365(CALCULADORA!$C$30,A175)<0,0,DIAS365(CALCULADORA!$C$30,A175))","v":4484},{"$f":"+HLOOKUP(CALCULADORA!$C$11,Tablas!$B$1:$B$181,Flujos!J175+1,FALSE)","v":0},0,0,{"$f":"ROUND(D174*ROUND(((1+CALCULADORA!$C$19)^(1/12)-1),6),6)","v":0},0,{"$f":"IF($B175=0,0,G175/POWER(1+CALCULADORA!$C$32,Flujos!$B175/365))","v":0},"2037-05-16",173,5261,-1.100124791264534E-8,0,-6.9076835643500089E-11,-6.9076835643500089E-11,{"$f":"M175*IFERROR(VLOOKUP($A175,UVR!$A:$B,2,0),CALCULADORA!$C$23)","v":0},{"$f":"N175*IFERROR(VLOOKUP($A175,UVR!$A:$B,2,0),CALCULADORA!$C$23)","v":-2.6126164792565398E-8},{"$f":"O175*IFERROR(VLOOKUP($A175,UVR!$A:$B,2,0),CALCULADORA!$C$23)","v":-2.6126164792565398E-8}]
["2037-06-16",{"$f":"IF(DIAS365(CALCULADORA!$C$30,A176)<0,0,DIAS365(CALCULADORA!$C$30,A176))","v":4515},{"$f":"+HLOOKUP(CALCULADORA!$C$11,Tablas!$B$1:$B$181,Flujos!J176+1,FALSE)","v":0},0,0,{"$f":"ROUND(D175*ROUND(((1+CALCULADORA!$C$19)^(1/12)-1),6),6)","v":0},0,{"$f":"IF($B176=0,0,G176/POWER(1+CALCULADORA!$C$32,Flujos!$B176/365))","v":0},"2037-06-16",174,5292,-1.100124791264534E-8,0,-6.9076835643500089E-11,-6.9076835643500089E-11,{"$f":"M176*IFERROR(VLOOKUP($A176,UVR!$A:$B,2,0),CALCULADORA!$C$23)","v":0},{"$f":"N176*IFERROR(VLOOKUP($A176,UVR!$A:$B,2,0),CALCULADORA!$C$23)","v":-2.6126164792565398E-8},{"$f":"O176*IFERROR(VLOOKUP($A176,UVR!$A:$B,2,0),CALCULADORA!$C$23)","v":-2.6126164792565398E-8}]
["2037-07-16",{"$f":"IF(DIAS365(CALCULADORA!$C$30,A177)<0,0,DIAS365(CALCULADORA!$C$30,A177))","v":4545},{"$f":"+HLOOKUP(CALCULADORA!$C$11,Tablas!$B$1:$B$181,Flujos!J177+1,FALSE)","v":0},0,0,{"$f":"ROUND(D176*ROUND(((1+CALCULADORA!$C$19)^(1/12)-1),6),6)","v":0},0,{"$f":"IF($B177=0,0,G177/POWER(1+CALCULADORA!$C$32,Flujos!$B177/365))","v":0},"2037-07-16",175,5322,-1.100124791264534E-8,0,-6.9076835643500089E-11,-6.9076835643500089E-11,{"$f":"M177*IFERROR(VLOOKUP($A177,UVR!$A:$B,2,0),CALCULADORA!$C$23)","v":0},{"$f":"N177*IFERROR(VLOOKUP($A177,UVR!$A:$B,2,0),CALCULADORA!$C$23)","v":-2.6126164792565398E-8},{"$f":"O177*IFERROR(VLOOKUP($A177,UVR!$A:$B,2,0),CALCULADORA!$C$23)","v":-2.6126164792565398E-8}]
["2037-08-16",{"$f":"IF(DIAS365(CALCULADORA!$C$30,A178)<0,0,DIAS365(CALCULADORA!$C$30,A178))","v":4576},{"$f":"+HLOOKUP(CALCULADORA!$C$11,Tablas!$B$1:$B$181,Flujos!J178+1,FALSE)","v":0},0,0,{"$f":"ROUND(D177*ROUND(((1+CALCULADORA!$C$19)^(1/12)-1),6),6)","v":0},0,{"$f":"IF($B178=0,0,G178/POWER(1+CALCULADORA!$C$32,Flujos!$B178/365))","v":0},"2037-08-16",176,5353,-1.100124791264534E-8,0,-6.9076835643500089E-11,-6.9076835643500089E-11,{"$f":"M178*IFERROR(VLOOKUP($A178,UVR!$A:$B,2,0),CALCULADORA!$C$23)","v":0},{"$f":"N178*IFERROR(VLOOKUP($A178,UVR!$A:$B,2,0),CALCULADORA!$C$23)","v":-2.6126164792565398E-8},{"$f":"O178*IFERROR(VLOOKUP($A178,UVR!$A:$B,2,0),CALCULADORA!$C$23)","v":-2.6126164792565398E-8}]
["2037-09-16",{"$f":"IF(DIAS365(CALCULADORA!$C$30,A179)<0,0,DIAS365(CALCULADORA!$C$30,A179))","v":4607},{"$f":"+HLOOKUP(CALCULADORA!$C$11,Tablas!$B$1:$B$181,Flujos!J179+1,FALSE)","v":0},0,0,{"$f":"ROUND(D178*ROUND(((1+CALCULADORA!$C$19)^(1/12)-1),6),6)","v":0},0,{"$f":"IF($B179=0,0,G179/POWER(1+CALCULADORA!$C$32,Flujos!$B179/365))","v":0},"2037-09-16",177,5384,-1.100124791264534E-8,0,-6.9076835643500089E-11,-6.9076835643500089E-11,{"$f":"M179*IFERROR(VLOOKUP($A179,UVR!$A:$B,2,0),CALCULADORA!$C$23)","v":0},{"$f":"N179*IFERROR(VLOOKUP($A179,UVR!$A:$B,2,0),CALCULADORA!$C$23)","v":-2.6126164792565398E-8},{"$f":"O179*IFERROR(VLOOKUP($A179,UVR!$A:$B,2,0),CALCULADORA!$C$23)","v":-2.6126164792565398E-8}]
["2037-10-16",{"$f":"IF(DIAS365(CALCULADORA!$C$30,A180)<0,0,DIAS365(CALCULADORA!$C$30,A180))","v":4637},{"$f":"+HLOOKUP(CALCULADORA!$C$11,Tablas!$B$1:$B$181,Flujos!J180+1,FALSE)","v":0},0,0,{"$f":"ROUND(D179*ROUND(((1+CALCULADORA!$C$19)^(1/12)-1),6),6)","v":0},0,{"$f":"IF($B180=0,0,G180/POWER(1+CALCULADORA!$C$32,Flujos!$B180/365))","v":0},"2037-10-16",178,5414,-1.100124791264534E-8,0,-6.9076835643500089E-11,-6.9076835643500089E-11,{"$f":"M180*IFERROR(VLOOKUP($A180,UVR!$A:$B,2,0),CALCULADORA!$C$23)","v":0},{"$f":"N180*IFERROR(VLOOKUP($A180,UVR!$A:$B,2,0),CALCULADORA!$C$23)","v":-2.6126164792565398E-8},{"$f":"O180*IFERROR(VLOOKUP($A180,UVR!$A:$B,2,0),CALCULADORA!$C$23)","v":-2.6126164792565398E-8}]
["2037-11-16",{"$f":"IF(DIAS365(CALCULADORA!$C$30,A181)<0,0,DIAS365(CALCULADORA!$C$30,A181))","v":4668},{"$f":"+HLOOKUP(CALCULADORA!$C$11,Tablas!$B$1:$B$181,Flujos!J181+1,FALSE)","v":0},0,0,{"$f":"ROUND(D180*ROUND(((1+CALCULADORA!$C$19)^(1/12)-1),6),6)","v":0},0,{"$f":"IF($B181=0,0,G181/POWER(1+CALCULADORA!$C$32,Flujos!$B181/365))","v":0},"2037-11-16",179,5445,-1.100124791264534E-8,0,-6.9076835643500089E-11,-6.9076835643500089E-11,{"$f":"M181*IFERROR(VLOOKUP($A181,UVR!$A:$B,2,0),CALCULADORA!$C$23)","v":0},{"$f":"N181*IFERROR(VLOOKUP($A181,UVR!$A:$B,2,0),CALCULADORA!$C$23)","v":-2.6126164792565398E-8},{"$f":"O181*IFERROR(VLOOKUP($A181,UVR!$A:$B,2,0),CALCULADORA!$C$23)","v":-2.6126164792565398E-8}]
["2037-12-16",{"$f":"IF(DIAS365(CALCULADORA!$C$30,A182)<0,0,DIAS365(CALCULADORA!$C$30,A182))","v":4698},{"$f":"+HLOOKUP(CALCULADORA!$C$11,Tablas!$B$1:$B$181,Flujos!J182+1,FALSE)","v":0},0,0,{"$f":"ROUND(D181*ROUND(((1+CALCULADORA!$C$19)^(1/12)-1),6),6)","v":0},0,{"$f":"IF($B182=0,0,G182/POWER(1+CALCULADORA!$C$32,Flujos!$B182/365))","v":0},"2037-12-16",180,5475,-1.100124791264534E-8,0,-6.9076835643500089E-11,-6.9076835643500089E-11,{"$f":"M182*IFERROR(VLOOKUP($A182,UVR!$A:$B,2,0),CALCULADORA!$C$23)","v":0},{"$f":"N182*IFERROR(VLOOKUP($A182,UVR!$A:$B,2,0),CALCULADORA!$C$23)","v":-2.6126164792565398E-8},{"$f":"O182*IFERROR(VLOOKUP($A182,UVR!$A:$B,2,0),CALCULADORA!$C$23)","v":-2.6126164792565398E-8}]
[null,null,{"$f":"+SUMIF(B2:B182,\">0\",C2:C182)","v":0.74255531999999991},null,{"$f":"SUM(E2:E182)","v":99.999999999999886},{"$f":"SUM(F2:F182)","v":33.601337999999998},{"$f":"SUM(G2:G182)","v":133.60133800000003},{"$f":"SUM(H2:H182)","v":83.015258077560546},null,null,null,"Totales",{"$f":"SUM(M2:M182)","v":109099002.88641118},36658728.024444193,145757730.91085538,40826141585.49791,13567230743.009668,54393372328.507545]

{"sheet":"TIR de Tenencia","index":3,"n_rows":65536,"n_cols":20,"rows_kept":4500,"cut":true,"hidden":true,"merged":[],"bounds":{"rows_first":2000,"rows_last":500,"rows_between":2000,"halvings":0}}
[{"$f":"+Flujos!A1","v":"Fecha"},{"$f":"+Flujos!L1","v":"Saldo / Balance"},{"$f":"+Flujos!M1","v":"Pago de Capital en UVR"},{"$f":"+Flujos!N1","v":"Pago de Intereses en UVR"},{"$f":"+Flujos!O1","v":"Pago Total UVR"},{"$f":"+Flujos!P1","v":"Pago de Capital en COP"},{"$f":"+Flujos!Q1","v":"Pago de Intereses en COP"},{"$f":"+Flujos!R1","v":"Pago Total COP"},{"$f":"+CALCULADORA!C30","v":"2025-02-01"},"Fecha","Flujo ","Fecha","Flujo 1","TIR",{"$f":"+DAY(A2)","v":16},{"$f":"+MONTH(J2)","v":3},{"$f":"+YEAR(J2)","v":2022},null,{"$f":"MATCH(MAX('TIR de Tenencia'!L:L),'TIR de Tenencia'!L:L,0)","v":{"$error":"#N/A"}}]
[{"$f":"+Flujos!A2","v":"2022-12-16"},{"$f":"+Flujos!L2","v":109099002.88641122},{"$f":"+Flujos!M2","v":0},{"$f":"+Flujos!N2","v":0},{"$f":"+Flujos!O2","v":0},{"$f":"+Flujos!P2","v":0},{"$f":"+Flujos!Q2","v":0},{"$f":"+Flujos!R2","v":0},null,{"$f":"+CALCULADORA!C26","v":"2022-03-14"},{"$f":"-CALCULADORA!C27","v":-52000000},{"$f":"IF(K2=K1, \" \", IF(J2 > CALCULADORA!$C$30, CALCULADORA!$C$30, J2))","v":"2022-03-14"},{"$f":"+K2","v":-52000000},{"$f":"+XIRR(M2:M19,L2:L19)","v":{"$error":"#N/A"}},{"$f":"+O1","v":16},{"$f":"+IF(P1=12,1,P1+1)","v":4},{"$f":"+IF(P2=1,Q1+1,Q1)","v":2022},null,1,"Enero"]
[{"$f":"+Flujos!A3","v":"2023-01-16"},{"$f":"+Flujos!L3","v":107993609.60718605},{"$f":"+Flujos!M3","v":1105393.2792251762},{"$f":"+Flujos!N3","v":685032.639123776},{"$f":"+Flujos!O3","v":1790425.9183489522},{"$f":"+Flujos!P3","v":360060968.77462381},{"$f":"+Flujos!Q3","v":223136435.0776906},{"$f":"+Flujos!R3","v":583197403.85231447},null,{"$f":"+DATE(Q2,P2,O2)","v":"2022-04-16"},{"$f":"IF(J3<CALCULADORA!$C$26,0,IF(CALCULADORA!$C$30>'TIR de Tenencia'!J3,VLOOKUP(J3,A:H,7),CALCULADORA!$C$36))","v":{"$error":"#N/A"}},{"$f":"IF(K3=K2, \" \", IF(J3 > CALCULADORA!$C$30, CALCULADORA!$C$30, J3))","v":{"$error":"#N/A"}},{"$f":"+IF(K3=K2,\" \",K3)","v":{"$error":"#N/A"}},null,{"$f":"+O2","v":16},{"$f":"+IF(P2=12,1,P2+1)","v":5},{"$f":"+IF(P3=1,Q2+1,Q2)","v":2022},null,2,"Febrero"]
[{"$f":"+Flujos!A4","v":"2023-02-16"},{"$f":"+Flujos!L4","v":107258425.24742542},{"$f":"+Flujos!M4","v":735184.35976063041},{"$f":"+Flujos!N4","v":678091.87472352118},{"$f":"+Flujos!O4","v":1413276.2344841515},{"$f":"+Flujos!P4","v":242544672.1286296},{"$f":"+Flujos!Q4","v":223709290.39003688},{"$f":"+Flujos!R4","v":466253962.51866645},null,{"$f":"+DATE(Q3,P3,O3)","v":"2022-05-16"},{"$f":"IF(J4<CALCULADORA!$C$26,0,IF(CALCULADORA!$C$30>'TIR de Tenencia'!J4,VLOOKUP(J4,A:H,7),CALCULADORA!$C$36))","v":{"$error":"#N/A"}},{"$f":"IF(K4=K3, \" \", IF(J4 > CALCULADORA!$C$30, CALCULADORA!$C$30, J4))","v":{"$error":"#N/A"}},{"$f":"+IF(K4=K3,\" \",K4)","v":{"$error":"#N/A"}},null,16,{"$f":"+IF(P3=12,1,P3+1)","v":6},{"$f":"+IF(P4=1,Q3+1,Q3)","v":2022},null,3,"Marzo"]
[{"$f":"+Flujos!A5","v":"2023-03-16"},{"$f":"+Flujos!L5","v":106114656.39393495},{"$f":"+Flujos!M5","v":1143768.8534904714},{"$f":"+Flujos!N5","v":673475.65212858422},{"$f":"+Flujos!O5","v":1817244.5056190556},{"$f":"+Flujos!P5","v":384019477.54434294},{"$f":"+Flujos!Q5","v":226118911.42165044},{"$f":"+Flujos!R5","v":610138388.9659934},null,"2022-06-16",{"$f":"IF(J5<CALCULADORA!$C$26,0,IF(CALCULADORA!$C$30>'TIR de Tenencia'!J5,VLOOKUP(J5,A:H,7),CALCULADORA!$C$36))","v":{"$error":"#N/A"}},{"$f":"IF(K5=K4, \" \", IF(J5 > CALCULADORA!$C$30, CALCULADORA!$C$30, J5))","v":{"$error":"#N/A"}},{"$error":"#N/A"},null,16,7,2022,null,4,"Abril"]
[{"$f":"+Flujos!A6","v":"2023-04-16"},{"$f":"+Flujos!L6","v":105464553.98256531},{"$f":"+Flujos!M6","v":650102.41136963374},{"$f":"+Flujos!N6","v":666293.92749751755},{"$f":"+Flujos!O6","v":1316396.3388671512},{"$f":"+Flujos!P6","v":221854078.92448348},{"$f":"+Flujos!Q6","v":227379598.95658833},{"$f":"+Flujos!R6","v":449233677.88107181},null,"2022-07-16",{"$f":"IF(J6<CALCULADORA!$C$26,0,IF(CALCULADORA!$C$30>'TIR de Tenencia'!J6,VLOOKUP(J6,A:H,7),CALCULADORA!$C$36))","v":{"$error":"#N/A"}},{"$f":"IF(K6=K5, \" \", IF(J6 > CALCULADORA!$C$30, CALCULADORA!$C$30, J6))","v":{"$error":"#N/A"}},{"$error":"#N/A"},null,16,{"$f":"+IF(P5=12,1,P5+1)","v":8},2022,null,5,"Mayo"]
[{"$f":"+Flujos!A7","v":"2023-05-16"},{"$f":"+Flujos!L7","v":104520803.9679967},{"$f":"+Flujos!M7","v":943750.01456861175},{"$f":"+Flujos!N7","v":662211.93445652758},{"$f":"+Flujos!O7","v":1605961.9490251392},{"$f":"+Flujos!P7","v":325414253.77340013},{"$f":"+Flujos!Q7","v":228337164.67756838},{"$f":"+Flujos!R7","v":553751418.45096838},null,"2022-08-16",{"$f":"IF(J7<CALCULADORA!$C$26,0,IF(CALCULADORA!$C$30>'TIR de Tenencia'!J7,VLOOKUP(J7,A:H,7),CALCULADORA!$C$36))","v":{"$error":"#N/A"}},{"$f":"IF(K7=K6, \" \", IF(J7 > CALCULADORA!$C$30, CALCULADORA!$C$30, J7))","v":{"$error":"#N/A"}},{"$error":"#N/A"},null,16,9,2022,null,6,"Junio"]
[{"$f":"+Flujos!A8","v":"2023-06-16"},{"$f":"+Flujos!L8","v":103291805.88246134},{"$f":"+Flujos!M8","v":1228998.0855353647},{"$f":"+Flujos!N8","v":656286.12811505131},{"$f":"+Flujos!O8","v":1885284.2136504161},{"$f":"+Flujos!P8","v":427030009.89648032},{"$f":"+Flujos!Q8","v":228034425.01849917},{"$f":"+Flujos!R8","v":655064434.91497958},null,"2022-09-16",{"$f":"IF(J8<CALCULADORA!$C$26,0,IF(CALCULADORA!$C$30>'TIR de Tenencia'!J8,VLOOKUP(J8,A:H,7),CALCULADORA!$C$36))","v":{"$error":"#N/A"}},{"$f":"IF(K8=K7, \" \", IF(J8 > CALCULADORA!$C$30, CALCULADORA!$C$30, J8))","v":{"$error":"#N/A"}},{"$error":"#N/A"},null,{"$f":"+O7","v":16},10,2022,null,7,"Julio"]
[{"$f":"+Flujos!A9","v":"2023-07-16"},{"$f":"+Flujos!L9","v":102314581.02083708},{"$f":"+Flujos!M9","v":977224.86162424914},{"$f":"+Flujos!N9","v":648569.24913597468},{"$f":"+Flujos!O9","v":1625794.1107602238},{"$f":"+Flujos!P9","v":340992647.77019316},{"$f":"+Flujos!Q9","v":226311624.07965717},{"$f":"+Flujos!R9","v":567304271.8498503},null,"2022-10-16",{"$f":"IF(J9<CALCULADORA!$C$26,0,IF(CALCULADORA!$C$30>'TIR de Tenencia'!J9,VLOOKUP(J9,A:H,7),CALCULADORA!$C$36))","v":{"$error":"#N/A"}},{"$f":"IF(K9=K8, \" \", IF(J9 > CALCULADORA!$C$30, CALCULADORA!$C$30, J9))","v":{"$error":"#N/A"}},{"$error":"#N/A"},null,{"$f":"+O8","v":16},{"$f":"+IF(P8=12,1,P8+1)","v":11},2022,null,8,"Agosto"]
[{"$f":"+Flujos!A10","v":"2023-08-16"},{"$f":"+Flujos!L10","v":101534630.06722207},{"$f":"+Flujos!M10","v":779950.95361501153},{"$f":"+Flujos!N10","v":642433.25422983605},{"$f":"+Flujos!O10","v":1422384.2078448476},{"$f":"+Flujos!P10","v":272989931.31893194},{"$f":"+Flujos!Q10","v":224857485.12305611},{"$f":"+Flujos!R10","v":497847416.44198805},null,"2022-11-16",{"$f":"IF(J10<CALCULADORA!$C$26,0,IF(CALCULADORA!$C$30>'TIR de Tenencia'!J10,VLOOKUP(J10,A:H,7),CALCULADORA!$C$36))","v":{"$error":"#N/A"}},{"$f":"IF(K10=K9, \" \", IF(J10 > CALCULADORA!$C$30, CALCULADORA!$C$30, J10))","v":{"$error":"#N/A"}},{"$f":"+IF(K10=K9,\" \",K10)","v":{"$error":"#N/A"}},null,16,{"$f":"+IF(P9=12,1,P9+1)","v":12},2022,null,9,"Septiembre"]
[{"$f":"+Flujos!A11","v":"2023-09-16"},{"$f":"+Flujos!L11","v":100586033.87494525},{"$f":"+Flujos!M11","v":948596.19227682613},{"$f":"+Flujos!N11","v":637535.94219208742},{"$f":"+Flujos!O11","v":1586132.1344689135},{"$f":"+Flujos!P11","v":333701342.34238791},{"$f":"+Flujos!Q11","v":224275198.90247816},{"$f":"+Flujos!R11","v":557976541.24486613},null,"2022-12-16",{"$f":"IF(J11<CALCULADORA!$C$26,0,IF(CALCULADORA!$C$30>'TIR de Tenencia'!J11,VLOOKUP(J11,A:H,7),CALCULADORA!$C$36))","v":0},{"$f":"IF(K11=K10, \" \", IF(J11 > CALCULADORA!$C$30, CALCULADORA!$C$30, J11))","v":{"$error":"#N/A"}},{"$error":"#N/A"},null,16,{"$f":"+IF(P10=12,1,P10+1)","v":1},2023,null,10,"Octubre"]
[{"$f":"+Flujos!A12","v":"2023-10-16"},{"$f":"+Flujos!L12","v":100121615.78450823},{"$f":"+Flujos!M12","v":464418.09043701965},{"$f":"+Flujos!N12","v":631579.70670078124},{"$f":"+Flujos!O12","v":1095997.7971378008},{"$f":"+Flujos!P12","v":164508962.50314373},{"$f":"+Flujos!Q12","v":223721953.18579093},{"$f":"+Flujos!R12","v":388230915.68893462},null,"2023-01-16",{"$f":"IF(J12<CALCULADORA!$C$26,0,IF(CALCULADORA!$C$30>'TIR de Tenencia'!J12,VLOOKUP(J12,A:H,7),CALCULADORA!$C$36))","v":223136435.0776906},{"$f":"IF(K12=K11, \" \", IF(J12 > CALCULADORA!$C$30, CALCULADORA!$C$30, J12))","v":"2023-01-16"},223136435.0776906,null,16,2,{"$f":"+IF(P12=1,Q11+1,Q11)","v":2023},null,11,"Noviembre"]
[{"$f":"+Flujos!A13","v":"2023-11-16"},{"$f":"+Flujos!L13","v":98973812.449891016},{"$f":"+Flujos!M13","v":1147803.334617211},{"$f":"+Flujos!N13","v":628663.62551092717},{"$f":"+Flujos!O13","v":1776466.9601281383},{"$f":"+Flujos!P13","v":408740342.95919734},{"$f":"+Flujos!Q13","v":223871266.22436956},{"$f":"+Flujos!R13","v":632611609.18356693},null,"2023-02-16",{"$f":"IF(J13<CALCULADORA!$C$26,0,IF(CALCULADORA!$C$30>'TIR de Tenencia'!J13,VLOOKUP(J13,A:H,7),CALCULADORA!$C$36))","v":223709290.39003688},{"$f":"IF(K13=K12, \" \", IF(J13 > CALCULADORA!$C$30, CALCULADORA!$C$30, J13))","v":"2023-02-16"},223709290.39003688,null,16,3,2023,null,12,"Diciembre"]
[{"$f":"+Flujos!A14","v":"2023-12-16"},{"$f":"+Flujos!L14","v":98130738.995185986},{"$f":"+Flujos!M14","v":843073.45470503136},{"$f":"+Flujos!N14","v":621456.56837286567},{"$f":"+Flujos!O14","v":1464530.023077897},{"$f":"+Flujos!P14","v":300224021.50526273},{"$f":"+Flujos!Q14","v":221304785.61092874},{"$f":"+Flujos!R14","v":521528807.11619145},null,"2023-03-16",{"$f":"IF(J14<CALCULADORA!$C$26,0,IF(CALCULADORA!$C$30>'TIR de Tenencia'!J14,VLOOKUP(J14,A:H,7),CALCULADORA!$C$36))","v":226118911.42165044},{"$f":"IF(K14=K13, \" \", IF(J14 > CALCULADORA!$C$30, CALCULADORA!$C$30, J14))","v":"2023-03-16"},226118911.42165044,null,16,4,2023]
[{"$f":"+Flujos!A15","v":"2024-01-16"},{"$f":"+Flujos!L15","v":97029096.539680049},{"$f":"+Flujos!M15","v":1101642.4555059413},{"$f":"+Flujos!N15","v":616162.91015077278},{"$f":"+Flujos!O15","v":1717805.365656714},{"$f":"+Flujos!P15","v":396818883.31344634},{"$f":"+Flujos!Q15","v":221945946.91151533},{"$f":"+Flujos!R15","v":618764830.22496164},null,"2023-04-16",{"$f":"IF(J15<CALCULADORA!$C$26,0,IF(CALCULADORA!$C$30>'TIR de Tenencia'!J15,VLOOKUP(J15,A:H,7),CALCULADORA!$C$36))","v":227379598.95658833},{"$f":"IF(K15=K14, \" \", IF(J15 > CALCULADORA!$C$30, CALCULADORA!$C$30, J15))","v":"2023-04-16"},227379598.95658833,null,16,{"$f":"+IF(P14=12,1,P14+1)","v":5},2023]
[{"$f":"+Flujos!A16","v":"2024-02-16"},{"$f":"+Flujos!L16","v":95339778.122256085},{"$f":"+Flujos!M16","v":1689318.4174239705},{"$f":"+Flujos!N16","v":609245.69717265107},{"$f":"+Flujos!O16","v":2298564.1145966216},{"$f":"+Flujos!P16","v":608784070.31496155},{"$f":"+Flujos!Q16","v":219555455.92892089},{"$f":"+Flujos!R16","v":828339526.24388242},null,"2023-05-16",{"$f":"IF(J16<CALCULADORA!$C$26,0,IF(CALCULADORA!$C$30>'TIR de Tenencia'!J16,VLOOKUP(J16,A:H,7),CALCULADORA!$C$36))","v":228337164.67756838},{"$f":"IF(K16=K15, \" \", IF(J16 > CALCULADORA!$C$30, CALCULADORA!$C$30, J16))","v":"2023-05-16"},228337164.67756838,null,16,6,2023]
[{"$f":"+Flujos!A17","v":"2024-03-16"},{"$f":"+Flujos!L17","v":94326397.851075277},{"$f":"+Flujos!M17","v":1013380.271180806},{"$f":"+Flujos!N17","v":598638.46682964591},{"$f":"+Flujos!O17","v":1612018.7380104519},{"$f":"+Flujos!P17","v":368566809.98056763},{"$f":"+Flujos!Q17","v":217725049.84132895},{"$f":"+Flujos!R17","v":586291859.82189655},null,"2023-06-16",{"$f":"IF(J17<CALCULADORA!$C$26,0,IF(CALCULADORA!$C$30>'TIR de Tenencia'!J17,VLOOKUP(J17,A:H,7),CALCULADORA!$C$36))","v":228034425.01849917},{"$f":"IF(K17=K16, \" \", IF(J17 > CALCULADORA!$C$30, CALCULADORA!$C$30, J17))","v":"2023-06-16"},228034425.01849917,null,16,7,2023]
[{"$f":"+Flujos!A18","v":"2024-04-16"},{"$f":"+Flujos!L18","v":93503498.983983994},{"$f":"+Flujos!M18","v":822898.86709127622},{"$f":"+Flujos!N18","v":592275.45210690168},{"$f":"+Flujos!O18","v":1415174.3191981779},{"$f":"+Flujos!P18","v":302515398.15828228},{"$f":"+Flujos!Q18","v":217733249.34426257},{"$f":"+Flujos!R18","v":520248647.50254488},null,"2023-07-16",{"$f":"IF(J18<CALCULADORA!$C$26,0,IF(CALCULADORA!$C$30>'TIR de Tenencia'!J18,VLOOKUP(J18,A:H,7),CALCULADORA!$C$36))","v":226311624.07965717},{"$f":"IF(K18=K17, \" \", IF(J18 > CALCULADORA!$C$30, CALCULADORA!$C$30, J18))","v":"2023-07-16"},226311624.07965717,null,16,8,2023]
[{"$f":"+Flujos!A19","v":"2024-05-16"},{"$f":"+Flujos!L19","v":91906863.442482114},{"$f":"+Flujos!M19","v":1596635.5415018778},{"$f":"+Flujos!N19","v":587108.47012043546},{"$f":"+Flujos!O19","v":2183744.0116223134},{"$f":"+Flujos!P19","v":591041107.78117776},{"$f":"+Flujos!Q19","v":217335285.0715597},{"$f":"+Flujos!R19","v":808376392.85273755},null,"2023-08-16",{"$f":"IF(J19<CALCULADORA!$C$26,0,IF(CALCULADORA!$C$30>'TIR de Tenencia'!J19,VLOOKUP(J19,A:H,7),CALCULADORA!$C$36))","v":224857485.12305611},{"$f":"IF(K19=K18, \" \", IF(J19 > CALCULADORA!$C$30, CALCULADORA!$C$30, J19))","v":"2023-08-16"},224857485.12305611,null,16,9,2023]
[{"$f":"+Flujos!A20","v":"2024-06-16"},{"$f":"+Flujos!L20","v":90550966.851739421},{"$f":"+Flujos!M20","v":1355896.590742694},{"$f":"+Flujos!N20","v":577083.19555534516},{"$f":"+Flujos!O20","v":1932979.7862980391},{"$f":"+Flujos!P20","v":504862400.79736096},{"$f":"+Flujos!Q20","v":214874504.11561143},{"$f":"+Flujos!R20","v":719736904.91297245},null,"2023-09-16",{"$f":"IF(J20<CALCULADORA!$C$26,0,IF(CALCULADORA!$C$30>'TIR de Tenencia'!J20,VLOOKUP(J20,A:H,7),CALCULADORA!$C$36))","v":224275198.90247816},{"$f":"IF(K20=K19, \" \", IF(J20 > CALCULADORA!$C$30, CALCULADORA!$C$30, J20))","v":"2023-09-16"},224275198.90247816,null,16,{"$f":"+IF(P19=12,1,P19+1)","v":10},2023]
[{"$f":"+Flujos!A21","v":"2024-07-16"},{"$f":"+Flujos!L21","v":89503417.863844618},{"$f":"+Flujos!M21","v":1047548.9878948011},{"$f":"+Flujos!N21","v":568569.52086207177},{"$f":"+Flujos!O21","v":1616118.5087568727},{"$f":"+Flujos!P21","v":391711983.38657993},{"$f":"+Flujos!Q21","v":212606281.21804413},{"$f":"+Flujos!R21","v":604318264.60462403},null,"2023-10-16",{"$f":"IF(J21<CALCULADORA!$C$26,0,IF(CALCULADORA!$C$30>'TIR de Tenencia'!J21,VLOOKUP(J21,A:H,7),CALCULADORA!$C$36))","v":223721953.18579093},{"$f":"IF(K21=K20, \" \", IF(J21 > CALCULADORA!$C$30, CALCULADORA!$C$30, J21))","v":"2023-10-16"},223721953.18579093,null,16,11,2023]
[{"$f":"+Flujos!A22","v":"2024-08-16"},{"$f":"+Flujos!L22","v":88702592.998007357},{"$f":"+Flujos!M22","v":800824.86583726853},{"$f":"+Flujos!N22","v":561991.96076708031},{"$f":"+Flujos!O22","v":1362816.8266043488},{"$f":"+Flujos!P22","v":300400698.80616772},{"$f":"+Flujos!Q22","v":210811108.57037863},{"$f":"+Flujos!R22","v":511211807.37654638},null,"2023-11-16",{"$f":"IF(J22<CALCULADORA!$C$26,0,IF(CALCULADORA!$C$30>'TIR de Tenencia'!J22,VLOOKUP(J22,A:H,7),CALCULADORA!$C$36))","v":223871266.22436956},{"$f":"IF(K22=K21, \" \", IF(J22 > CALCULADORA!$C$30, CALCULADORA!$C$30, J22))","v":"2023-11-16"},223871266.22436956,null,16,12,2023]
[{"$f":"+Flujos!A23","v":"2024-09-16"},{"$f":"+Flujos!L23","v":87009944.879015297},{"$f":"+Flujos!M23","v":1692648.1189920639},{"$f":"+Flujos!N23","v":556963.58143448818},{"$f":"+Flujos!O23","v":2249611.700426552},{"$f":"+Flujos!P23","v":636165038.30678916},{"$f":"+Flujos!Q23","v":209329248.14269617},{"$f":"+Flujos!R23","v":845494286.4494853},null,"2023-12-16",{"$f":"IF(J23<CALCULADORA!$C$26,0,IF(CALCULADORA!$C$30>'TIR de Tenencia'!J23,VLOOKUP(J23,A:H,7),CALCULADORA!$C$36))","v":221304785.61092874},{"$f":"IF(K23=K22, \" \", IF(J23 > CALCULADORA!$C$30, CALCULADORA!$C$30, J23))","v":"2023-12-16"},221304785.61092874,null,16,1,2024]
[{"$f":"+Flujos!A24","v":"2024-10-16"},{"$f":"+Flujos!L24","v":85277577.086042374},{"$f":"+Flujos!M24","v":1732367.7929729198},{"$f":"+Flujos!N24","v":546335.44389533706},{"$f":"+Flujos!O24","v":2278703.2368682567},{"$f":"+Flujos!P24","v":651143696.45049691},{"$f":"+Flujos!Q24","v":205350666.22858521},{"$f":"+Flujos!R24","v":856494362.67908216},null,"2024-01-16",{"$f":"IF(J24<CALCULADORA!$C$26,0,IF(CALCULADORA!$C$30>'TIR de Tenencia'!J24,VLOOKUP(J24,A:H,7),CALCULADORA!$C$36))","v":221945946.91151533},{"$f":"IF(K24=K23, \" \", IF(J24 > CALCULADORA!$C$30, CALCULADORA!$C$30, J24))","v":"2024-01-16"},221945946.91151533,null,16,2,2024]
[{"$f":"+Flujos!A25","v":"2024-11-16"},{"$f":"+Flujos!L25","v":83880825.100698784},{"$f":"+Flujos!M25","v":1396751.9853435971},{"$f":"+Flujos!N25","v":535457.90652326006},{"$f":"+Flujos!O25","v":1932209.8918668572},{"$f":"+Flujos!P25","v":526192509.0801549},{"$f":"+Flujos!Q25","v":201720808.20130035},{"$f":"+Flujos!R25","v":727913317.28145528},null,"2024-02-16",{"$f":"IF(J25<CALCULADORA!$C$26,0,IF(CALCULADORA!$C$30>'TIR de Tenencia'!J25,VLOOKUP(J25,A:H,7),CALCULADORA!$C$36))","v":219555455.92892089},{"$f":"IF(K25=K24, \" \", IF(J25 > CALCULADORA!$C$30, CALCULADORA!$C$30, J25))","v":"2024-02-16"},219555455.92892089,null,16,3,2024]
[{"$f":"+Flujos!A26","v":"2024-12-16"},{"$f":"+Flujos!L26","v":82539144.110032186},{"$f":"+Flujos!M26","v":1341680.9906665944},{"$f":"+Flujos!N26","v":526687.70080728771},{"$f":"+Flujos!O26","v":1868368.6914738822},{"$f":"+Flujos!P26","v":504854431.57297951},{"$f":"+Flujos!Q26","v":198184681.49827027},{"$f":"+Flujos!R26","v":703039113.07124984},null,"2024-03-16",{"$f":"IF(J26<CALCULADORA!$C$26,0,IF(CALCULADORA!$C$30>'TIR de Tenencia'!J26,VLOOKUP(J26,A:H,7),CALCULADORA!$C$36))","v":217725049.84132895},{"$f":"IF(K26=K25, \" \", IF(J26 > CALCULADORA!$C$30, CALCULADORA!$C$30, J26))","v":"2024-03-16"},{"$f":"+IF(K26=K25,\" \",K26)","v":217725049.84132895},null,16,4,2024]
[{"$f":"+Flujos!A27","v":"2025-01-16"},{"$f":"+Flujos!L27","v":81012045.000000015},{"$f":"+Flujos!M27","v":1527099.1100321659},{"$f":"+Flujos!N27","v":518263.28586689208},{"$f":"+Flujos!O27","v":2045362.3958990579},{"$f":"+Flujos!P27","v":576211297.30368793},{"$f":"+Flujos!Q27","v":195553227.90276778},{"$f":"+Flujos!R27","v":771764525.20645571},null,"2024-04-16",{"$f":"IF(J27<CALCULADORA!$C$26,0,IF(CALCULADORA!$C$30>'TIR de Tenencia'!J27,VLOOKUP(J27,A:H,7),CALCULADORA!$C$36))","v":217733249.34426257},{"$f":"IF(K27=K26, \" \", IF(J27 > CALCULADORA!$C$30, CALCULADORA!$C$30, J27))","v":"2024-04-16"},217733249.34426257,null,16,5,2024]
[{"$f":"+Flujos!A28","v":"2025-02-16"},{"$f":"+Flujos!L28","v":79286084.591466621},{"$f":"+Flujos!M28","v":1725960.4085334009},{"$f":"+Flujos!N28","v":508674.6305550001},{"$f":"+Flujos!O28","v":2234635.039088401},{"$f":"+Flujos!P28","v":654363887.47539079},{"$f":"+Flujos!Q28","v":192853965.28470635},{"$f":"+Flujos!R28","v":847217852.76009715},null,"2024-05-16",{"$f":"IF(J28<CALCULADORA!$C$26,0,IF(CALCULADORA!$C$30>'TIR de Tenencia'!J28,VLOOKUP(J28,A:H,7),CALCULADORA!$C$36))","v":217335285.0715597},{"$f":"IF(K28=K27, \" \", IF(J28 > CALCULADORA!$C$30, CALCULADORA!$C$30, J28))","v":"2024-05-16"},217335285.0715597,null,16,6,2024]
[{"$f":"+Flujos!A29","v":"2025-03-16"},{"$f":"+Flujos!L29","v":77823100.783450738},{"$f":"+Flujos!M29","v":1462983.8080158797},{"$f":"+Flujos!N29","v":497837.32514981891},{"$f":"+Flujos!O29","v":1960821.1331656985},{"$f":"+Flujos!P29","v":554311983.19646788},{"$f":"+Flujos!Q29","v":188626281.09827009},{"$f":"+Flujos!R29","v":742938264.29473794},null,"2024-06-16",{"$f":"IF(J29<CALCULADORA!$C$26,0,IF(CALCULADORA!$C$30>'TIR de Tenencia'!J29,VLOOKUP(J29,A:H,7),CALCULADORA!$C$36))","v":214874504.11561143},{"$f":"IF(K29=K28, \" \", IF(J29 > CALCULADORA!$C$30, CALCULADORA!$C$30, J29))","v":"2024-06-16"},214874504.11561143,null,16,7,2024]
[{"$f":"+Flujos!A30","v":"2025-04-16"},{"$f":"+Flujos!L30","v":76652128.093590543},{"$f":"+Flujos!M30","v":1170972.6898601979},{"$f":"+Flujos!N30","v":488651.24981928716},{"$f":"+Flujos!O30","v":1659623.939679485},{"$f":"+Flujos!P30","v":430374735.63772666},{"$f":"+Flujos!Q30","v":179596974.61870649},{"$f":"+Flujos!R30","v":609971710.25643313},null,"2024-07-16",{"$f":"IF(J30<CALCULADORA!$C$26,0,IF(CALCULADORA!$C$30>'TIR de Tenencia'!J30,VLOOKUP(J30,A:H,7),CALCULADORA!$C$36))","v":212606281.21804413},{"$f":"IF(K30=K29, \" \", IF(J30 > CALCULADORA!$C$30, CALCULADORA!$C$30, J30))","v":"2024-07-16"},212606281.21804413,null,16,8,2024]
[{"$f":"+Flujos!A31","v":"2025-05-16"},{"$f":"+Flujos!L31","v":75487060.932756588},{"$f":"+Flujos!M31","v":1165067.1608339564},{"$f":"+Flujos!N31","v":481298.71229965502},{"$f":"+Flujos!O31","v":1646365.8731336114},{"$f":"+Flujos!P31","v":439810095.4869979},{"$f":"+Flujos!Q31","v":181689124.65334579},{"$f":"+Flujos!R31","v":621499220.14034367},null,"2024-08-16",{"$f":"IF(J31<CALCULADORA!$C$26,0,IF(CALCULADORA!$C$30>'TIR de Tenencia'!J31,VLOOKUP(J31,A:H,7),CALCULADORA!$C$36))","v":210811108.57037863},{"$f":"IF(K31=K30, \" \", IF(J31 > CALCULADORA!$C$30, CALCULADORA!$C$30, J31))","v":"2024-08-16"},210811108.57037863,null,16,9,2024]
[{"$f":"+Flujos!A32","v":"2025-06-16"},{"$f":"+Flujos!L32","v":74323009.483639508},{"$f":"+Flujos!M32","v":1164051.4491170843},{"$f":"+Flujos!N32","v":473983.25559677859},{"$f":"+Flujos!O32","v":1638034.7047138629},{"$f":"+Flujos!P32","v":443061098.28473032},{"$f":"+Flujos!Q32","v":180407439.85376707},{"$f":"+Flujos!R32","v":623468538.13849735},null,"2024-09-16",{"$f":"IF(J32<CALCULADORA!$C$26,0,IF(CALCULADORA!$C$30>'TIR de Tenencia'!J32,VLOOKUP(J32,A:H,7),CALCULADORA!$C$36))","v":209329248.14269617},{"$f":"IF(K32=K31, \" \", IF(J32 > CALCULADORA!$C$30, CALCULADORA!$C$30, J32))","v":"2024-09-16"},209329248.14269617,null,16,10,2024]
[{"$f":"+Flujos!A33","v":"2025-07-16"},{"$f":"+Flujos!L33","v":73166952.809453934},{"$f":"+Flujos!M33","v":1156056.674185568},{"$f":"+Flujos!N33","v":466674.17654777248},{"$f":"+Flujos!O33","v":1622730.8507333405},{"$f":"+Flujos!P33","v":443116458.88189071},{"$f":"+Flujos!Q33","v":178876185.90079394},{"$f":"+Flujos!R33","v":621992644.78268456},null,"2024-10-16",{"$f":"IF(J33<CALCULADORA!$C$26,0,IF(CALCULADORA!$C$30>'TIR de Tenencia'!J33,VLOOKUP(J33,A:H,7),CALCULADORA!$C$36))","v":205350666.22858521},{"$f":"IF(K33=K32, \" \", IF(J33 > CALCULADORA!$C$30, CALCULADORA!$C$30, J33))","v":"2024-10-16"},205350666.22858521,null,16,11,2024]
[{"$f":"+Flujos!A34","v":"2025-08-16"},{"$f":"+Flujos!L34","v":72023272.326155797},{"$f":"+Flujos!M34","v":1143680.4832981334},{"$f":"+Flujos!N34","v":459415.29669056123},{"$f":"+Flujos!O34","v":1603095.7799886945},{"$f":"+Flujos!P34","v":440955976.53653473},{"$f":"+Flujos!Q34","v":177131571.05191189},{"$f":"+Flujos!R34","v":618087547.58844662},null,"2024-11-16",{"$f":"IF(J34<CALCULADORA!$C$26,0,IF(CALCULADORA!$C$30>'TIR de Tenencia'!J34,VLOOKUP(J34,A:H,7),CALCULADORA!$C$36))","v":201720808.20130035},{"$f":"IF(K34=K33, \" \", IF(J34 > CALCULADORA!$C$30, CALCULADORA!$C$30, J34))","v":"2024-11-16"},201720808.20130035,null,16,12,2024]
[{"$f":"+Flujos!A35","v":"2025-09-16"},{"$f":"+Flujos!L35","v":70880692.651796788},{"$f":"+Flujos!M35","v":1142579.6743590096},{"$f":"+Flujos!N35","v":452234.12693593226},{"$f":"+Flujos!O35","v":1594813.8012949419},{"$f":"+Flujos!P35","v":441804107.21454221},{"$f":"+Flujos!Q35","v":174866487.81404698},{"$f":"+Flujos!R35","v":616670595.02858925},null,{"$f":"+DATE(Q34,P34,O34)","v":"2024-12-16"},{"$f":"IF(J35<CALCULADORA!$C$26,0,IF(CALCULADORA!$C$30>'TIR de Tenencia'!J35,VLOOKUP(J35,A:H,7),CALCULADORA!$C$36))","v":198184681.49827027},{"$f":"IF(K35=K34, \" \", IF(J35 > CALCULADORA!$C$30, CALCULADORA!$C$30, J35))","v":"2024-12-16"},198184681.49827027,null,16,1,2025]
[{"$f":"+Flujos!A36","v":"2025-10-16"},{"$f":"+Flujos!L36","v":69741984.90105021},{"$f":"+Flujos!M36","v":1138707.7507465708},{"$f":"+Flujos!N36","v":445059.86916063202},{"$f":"+Flujos!O36","v":1583767.6199072027},{"$f":"+Flujos!P36","v":440306940.9396773},{"$f":"+Flujos!Q36","v":172092399.82484686},{"$f":"+Flujos!R36","v":612399340.7645241},null,"2025-01-16",{"$f":"IF(J36<CALCULADORA!$C$26,0,IF(CALCULADORA!$C$30>'TIR de Tenencia'!J36,VLOOKUP(J36,A:H,7),CALCULADORA!$C$36))","v":195553227.90276778},{"$f":"IF(K36=K35, \" \", IF(J36 > CALCULADORA!$C$30, CALCULADORA!$C$30, J36))","v":"2025-01-16"},195553227.90276778,null,16,2,2025]
[{"$f":"+Flujos!A37","v":"2025-11-16"},{"$f":"+Flujos!L37","v":68608088.416330934},{"$f":"+Flujos!M37","v":1133896.4847192799},{"$f":"+Flujos!N37","v":437909.92319369427},{"$f":"+Flujos!O37","v":1571806.4079129742},{"$f":"+Flujos!P37","v":438531417.16132081},{"$f":"+Flujos!Q37","v":169360485.5426276},{"$f":"+Flujos!R37","v":607891902.70394838},null,"2025-02-16",{"$f":"IF(J37<CALCULADORA!$C$26,0,IF(CALCULADORA!$C$30>'TIR de Tenencia'!J37,VLOOKUP(J37,A:H,7),CALCULADORA!$C$36))","v":28992114893},{"$f":"IF(K37=K36, \" \", IF(J37 > CALCULADORA!$C$30, CALCULADORA!$C$30, J37))","v":"2025-02-01"},28992114893,null,16,3,2025]
[{"$f":"+Flujos!A38","v":"2025-12-16"},{"$f":"+Flujos!L38","v":67585259.080510139},{"$f":"+Flujos!M38","v":1022829.3358207979},{"$f":"+Flujos!N38","v":430790.18716614193},{"$f":"+Flujos!O38","v":1453619.5229869399},{"$f":"+Flujos!P38","v":396133504.34330964},{"$f":"+Flujos!Q38","v":166841544.8232044},{"$f":"+Flujos!R38","v":562975049.16651404},null,"2025-03-16",{"$f":"IF(J38<CALCULADORA!$C$26,0,IF(CALCULADORA!$C$30>'TIR de Tenencia'!J38,VLOOKUP(J38,A:H,7),CALCULADORA!$C$36))","v":28992114893},{"$f":"IF(K38=K37, \" \", IF(J38 > CALCULADORA!$C$30, CALCULADORA!$C$30, J38))","v":" "}," ",null,16,4,2025]
[{"$f":"+Flujos!A39","v":"2026-01-16"},{"$f":"+Flujos!L39","v":66465102.524214372},{"$f":"+Flujos!M39","v":1120156.5562957653},{"$f":"+Flujos!N39","v":424367.84176652314},{"$f":"+Flujos!O39","v":1544524.3980622885},{"$f":"+Flujos!P39","v":423664380.54997247},{"$f":"+Flujos!Q39","v":160503938.30830845},{"$f":"+Flujos!R39","v":584168318.8582809},null,"2025-04-16",{"$f":"IF(J39<CALCULADORA!$C$26,0,IF(CALCULADORA!$C$30>'TIR de Tenencia'!J39,VLOOKUP(J39,A:H,7),CALCULADORA!$C$36))","v":28992114893},{"$f":"IF(K39=K38, \" \", IF(J39 > CALCULADORA!$C$30, CALCULADORA!$C$30, J39))","v":" "}," ",null,16,5,2025]
[{"$f":"+Flujos!A40","v":"2026-02-16"},{"$f":"+Flujos!L40","v":65341682.816742271},{"$f":"+Flujos!M40","v":1123419.7074720981},{"$f":"+Flujos!N40","v":417334.37874954205},{"$f":"+Flujos!O40","v":1540754.08622164},{"$f":"+Flujos!P40","v":424898565.99841875},{"$f":"+Flujos!Q40","v":157843749.66283518},{"$f":"+Flujos!R40","v":582742315.66125381},null,"2025-05-16",{"$f":"IF(J40<CALCULADORA!$C$26,0,IF(CALCULADORA!$C$30>'TIR de Tenencia'!J40,VLOOKUP(J40,A:H,7),CALCULADORA!$C$36))","v":28992114893},{"$f":"IF(K40=K39, \" \", IF(J40 > CALCULADORA!$C$30, CALCULADORA!$C$30, J40))","v":" "}," ",null,16,6,2025]
[{"$f":"+Flujos!A41","v":"2026-03-16"},{"$f":"+Flujos!L41","v":64231107.334879987},{"$f":"+Flujos!M41","v":1110575.4818622808},{"$f":"+Flujos!N41","v":410280.42640632472},{"$f":"+Flujos!O41","v":1520855.9082686054},{"$f":"+Flujos!P41","v":420040637.11692178},{"$f":"+Flujos!Q41","v":155175811.5669311},{"$f":"+Flujos!R41","v":575216448.68385291},null,"2025-06-16",{"$f":"IF(J41<CALCULADORA!$C$26,0,IF(CALCULADORA!$C$30>'TIR de Tenencia'!J41,VLOOKUP(J41,A:H,7),CALCULADORA!$C$36))","v":28992114893},{"$f":"IF(K41=K40, \" \", IF(J41 > CALCULADORA!$C$30, CALCULADORA!$C$30, J41))","v":" "}," ",null,16,7,2025]
[{"$f":"+Flujos!A42","v":"2026-04-16"},{"$f":"+Flujos!L42","v":63119665.606934786},{"$f":"+Flujos!M42","v":1111441.727945199},{"$f":"+Flujos!N42","v":403307.12295571144},{"$f":"+Flujos!O42","v":1514748.8509009103},{"$f":"+Flujos!P42","v":420368267.75753248},{"$f":"+Flujos!Q42","v":152538376.40647393},{"$f":"+Flujos!R42","v":572906644.16400635},null,"2025-07-16",{"$f":"IF(J42<CALCULADORA!$C$26,0,IF(CALCULADORA!$C$30>'TIR de Tenencia'!J42,VLOOKUP(J42,A:H,7),CALCULADORA!$C$36))","v":28992114893},{"$f":"IF(K42=K41, \" \", IF(J42 > CALCULADORA!$C$30, CALCULADORA!$C$30, J42))","v":" "},{"$f":"+IF(K42=K41,\" \",K42)","v":" "},null,16,8,2025]
[{"$f":"+Flujos!A43","v":"2026-05-16"},{"$f":"+Flujos!L43","v":62013291.527673662},{"$f":"+Flujos!M43","v":1106374.0792611251},{"$f":"+Flujos!N43","v":396328.3803459435},{"$f":"+Flujos!O43","v":1502702.4596070684},{"$f":"+Flujos!P43","v":418451587.24665558},{"$f":"+Flujos!Q43","v":149898884.05322438},{"$f":"+Flujos!R43","v":568350471.29987991},null,"2025-08-16",{"$f":"IF(J43<CALCULADORA!$C$26,0,IF(CALCULADORA!$C$30>'TIR de Tenencia'!J43,VLOOKUP(J43,A:H,7),CALCULADORA!$C$36))","v":28992114893},{"$f":"IF(K43=K42, \" \", IF(J43 > CALCULADORA!$C$30, CALCULADORA!$C$30, J43))","v":" "}," ",null,16,9,2025]
[{"$f":"+Flujos!A44","v":"2026-06-16"},{"$f":"+Flujos!L44","v":60913592.125409126},{"$f":"+Flujos!M44","v":1099699.4022645343},{"$f":"+Flujos!N44","v":389381.4575022629},{"$f":"+Flujos!O44","v":1489080.8597667972},{"$f":"+Flujos!P44","v":415927098.25514966},{"$f":"+Flujos!Q44","v":147271426.53690264},{"$f":"+Flujos!R44","v":563198524.79205227},null,"2025-09-16",{"$f":"IF(J44<CALCULADORA!$C$26,0,IF(CALCULADORA!$C$30>'TIR de Tenencia'!J44,VLOOKUP(J44,A:H,7),CALCULADORA!$C$36))","v":28992114893},{"$f":"IF(K44=K43, \" \", IF(J44 > CALCULADORA!$C$30, CALCULADORA!$C$30, J44))","v":" "}," ",null,16,10,2025]
[{"$f":"+Flujos!A45","v":"2026-07-16"},{"$f":"+Flujos!L45","v":59816377.998430341},{"$f":"+Flujos!M45","v":1097214.126978782},{"$f":"+Flujos!N45","v":382476.44495544391},{"$f":"+Flujos!O45","v":1479690.571934226},{"$f":"+Flujos!P45","v":414987120.17037529},{"$f":"+Flujos!Q45","v":144659820.28695855},{"$f":"+Flujos!R45","v":559646940.4573338},null,"2025-10-16",{"$f":"IF(J45<CALCULADORA!$C$26,0,IF(CALCULADORA!$C$30>'TIR de Tenencia'!J45,VLOOKUP(J45,A:H,7),CALCULADORA!$C$36))","v":28992114893},{"$f":"IF(K45=K44, \" \", IF(J45 > CALCULADORA!$C$30, CALCULADORA!$C$30, J45))","v":" "}," ",null,16,11,2025]
[{"$f":"+Flujos!A46","v":"2026-08-16"},{"$f":"+Flujos!L46","v":58718506.004464157},{"$f":"+Flujos!M46","v":1097871.9939661871},{"$f":"+Flujos!N46","v":375587.03745214408},{"$f":"+Flujos!O46","v":1473459.0314183312},{"$f":"+Flujos!P46","v":415235937.89869797},{"$f":"+Flujos!Q46","v":142054116.15940875},{"$f":"+Flujos!R46","v":557290054.05810666},null,"2025-11-16",{"$f":"IF(J46<CALCULADORA!$C$26,0,IF(CALCULADORA!$C$30>'TIR de Tenencia'!J46,VLOOKUP(J46,A:H,7),CALCULADORA!$C$36))","v":28992114893},{"$f":"IF(K46=K45, \" \", IF(J46 > CALCULADORA!$C$30, CALCULADORA!$C$30, J46))","v":" "}," ",null,16,12,2025]
[{"$f":"+Flujos!A47","v":"2026-09-16"},{"$f":"+Flujos!L47","v":57629019.359859817},{"$f":"+Flujos!M47","v":1089486.6446043374},{"$f":"+Flujos!N47","v":368693.49920203042},{"$f":"+Flujos!O47","v":1458180.1438063679},{"$f":"+Flujos!P47","v":412064440.28694344},{"$f":"+Flujos!Q47","v":139446849.70534283},{"$f":"+Flujos!R47","v":551511289.99228632},null,"2025-12-16",{"$f":"IF(J47<CALCULADORA!$C$26,0,IF(CALCULADORA!$C$30>'TIR de Tenencia'!J47,VLOOKUP(J47,A:H,7),CALCULADORA!$C$36))","v":28992114893},{"$f":"IF(K47=K46, \" \", IF(J47 > CALCULADORA!$C$30, CALCULADORA!$C$30, J47))","v":" "}," ",null,16,1,2026]
[{"$f":"+Flujos!A48","v":"2026-10-16"},{"$f":"+Flujos!L48","v":56546146.296810456},{"$f":"+Flujos!M48","v":1082873.0630493632},{"$f":"+Flujos!N48","v":361852.61256055976},{"$f":"+Flujos!O48","v":1444725.675609923},{"$f":"+Flujos!P48","v":409563058.74616081},{"$f":"+Flujos!Q48","v":136859497.08478111},{"$f":"+Flujos!R48","v":546422555.83094192},null,"2026-01-16",{"$f":"IF(J48<CALCULADORA!$C$26,0,IF(CALCULADORA!$C$30>'TIR de Tenencia'!J48,VLOOKUP(J48,A:H,7),CALCULADORA!$C$36))","v":28992114893},{"$f":"IF(K48=K47, \" \", IF(J48 > CALCULADORA!$C$30, CALCULADORA!$C$30, J48))","v":" "}," ",null,16,2,2026]
[{"$f":"+Flujos!A49","v":"2026-11-16"},{"$f":"+Flujos!L49","v":55468425.979667418},{"$f":"+Flujos!M49","v":1077720.3171430379},{"$f":"+Flujos!N49","v":355053.25259767286},{"$f":"+Flujos!O49","v":1432773.5697407108},{"$f":"+Flujos!P49","v":407614192.85749096},{"$f":"+Flujos!Q49","v":134287850.63891399},{"$f":"+Flujos!R49","v":541902043.49640489},null,"2026-02-16",{"$f":"IF(J49<CALCULADORA!$C$26,0,IF(CALCULADORA!$C$30>'TIR de Tenencia'!J49,VLOOKUP(J49,A:H,7),CALCULADORA!$C$36))","v":28992114893},{"$f":"IF(K49=K48, \" \", IF(J49 > CALCULADORA!$C$30, CALCULADORA!$C$30, J49))","v":" "}," ",null,16,3,2026]
[{"$f":"+Flujos!A50","v":"2026-12-16"},{"$f":"+Flujos!L50","v":54510938.218655348},{"$f":"+Flujos!M50","v":957487.7610120686},{"$f":"+Flujos!N50","v":348286.24672633171},{"$f":"+Flujos!O50","v":1305774.0077384003},{"$f":"+Flujos!P50","v":362139967.73344749},{"$f":"+Flujos!Q50","v":131728441.12196179},{"$f":"+Flujos!R50","v":493868408.85540926},null,"2026-03-16",{"$f":"IF(J50<CALCULADORA!$C$26,0,IF(CALCULADORA!$C$30>'TIR de Tenencia'!J50,VLOOKUP(J50,A:H,7),CALCULADORA!$C$36))","v":28992114893},{"$f":"IF(K50=K49, \" \", IF(J50 > CALCULADORA!$C$30, CALCULADORA!$C$30, J50))","v":" "}," ",null,16,4,2026]
[{"$f":"+Flujos!A51","v":"2027-01-16"},{"$f":"+Flujos!L51","v":53448413.210634328},{"$f":"+Flujos!M51","v":1062525.0080210187},{"$f":"+Flujos!N51","v":342274.18107493693},{"$f":"+Flujos!O51","v":1404799.1890959556},{"$f":"+Flujos!P51","v":401867039.75620091},{"$f":"+Flujos!Q51","v":129454564.26456347},{"$f":"+Flujos!R51","v":531321604.02076435},null,"2026-04-16",{"$f":"IF(J51<CALCULADORA!$C$26,0,IF(CALCULADORA!$C$30>'TIR de Tenencia'!J51,VLOOKUP(J51,A:H,7),CALCULADORA!$C$36))","v":28992114893},{"$f":"IF(K51=K50, \" \", IF(J51 > CALCULADORA!$C$30, CALCULADORA!$C$30, J51))","v":" "}," ",null,16,5,2026]
[{"$f":"+Flujos!A52","v":"2027-02-16"},{"$f":"+Flujos!L52","v":52399705.591328874},{"$f":"+Flujos!M52","v":1048707.6193054547},{"$f":"+Flujos!N52","v":335602.58654957294},{"$f":"+Flujos!O52","v":1384310.2058550275},{"$f":"+Flujos!P52","v":396641042.19532782},{"$f":"+Flujos!Q52","v":126931241.12193428},{"$f":"+Flujos!R52","v":523572283.31726211},null,"2026-05-16",{"$f":"IF(J52<CALCULADORA!$C$26,0,IF(CALCULADORA!$C$30>'TIR de Tenencia'!J52,VLOOKUP(J52,A:H,7),CALCULADORA!$C$36))","v":28992114893},{"$f":"IF(K52=K51, \" \", IF(J52 > CALCULADORA!$C$30, CALCULADORA!$C$30, J52))","v":" "}," ",null,16,6,2026]
[{"$f":"+Flujos!A53","v":"2027-03-16"},{"$f":"+Flujos!L53","v":51365144.8397277},{"$f":"+Flujos!M53","v":1034560.7516011737},{"$f":"+Flujos!N53","v":329017.75140795397},{"$f":"+Flujos!O53","v":1363578.5030091277},{"$f":"+Flujos!P53","v":391290429.45376915},{"$f":"+Flujos!Q53","v":124440732.01798981},{"$f":"+Flujos!R53","v":515731161.47175896},null,"2026-06-16",{"$f":"IF(J53<CALCULADORA!$C$26,0,IF(CALCULADORA!$C$30>'TIR de Tenencia'!J53,VLOOKUP(J53,A:H,7),CALCULADORA!$C$36))","v":28992114893},{"$f":"IF(K53=K52, \" \", IF(J53 > CALCULADORA!$C$30, CALCULADORA!$C$30, J53))","v":" "}," ",null,16,7,2026]
[{"$f":"+Flujos!A54","v":"2027-04-16"},{"$f":"+Flujos!L54","v":50333898.515834212},{"$f":"+Flujos!M54","v":1031246.3238934845},{"$f":"+Flujos!N54","v":322521.74444865022},{"$f":"+Flujos!O54","v":1353768.0683421348},{"$f":"+Flujos!P54","v":390036850.25203747},{"$f":"+Flujos!Q54","v":121983819.4114496},{"$f":"+Flujos!R54","v":512020669.66348708},null,"2026-07-16",{"$f":"IF(J54<CALCULADORA!$C$26,0,IF(CALCULADORA!$C$30>'TIR de Tenencia'!J54,VLOOKUP(J54,A:H,7),CALCULADORA!$C$36))","v":28992114893},{"$f":"IF(K54=K53, \" \", IF(J54 > CALCULADORA!$C$30, CALCULADORA!$C$30, J54))","v":" "}," ",null,16,8,2026]
[{"$f":"+Flujos!A55","v":"2027-05-16"},{"$f":"+Flujos!L55","v":49313753.015484422},{"$f":"+Flujos!M55","v":1020145.5003497923},{"$f":"+Flujos!N55","v":316046.54878092301},{"$f":"+Flujos!O55","v":1336192.0491307154},{"$f":"+Flujos!P55","v":385838308.98224807},{"$f":"+Flujos!Q55","v":119534778.02871704},{"$f":"+Flujos!R55","v":505373087.01096517},null,"2026-08-16",{"$f":"IF(J55<CALCULADORA!$C$26,0,IF(CALCULADORA!$C$30>'TIR de Tenencia'!J55,VLOOKUP(J55,A:H,7),CALCULADORA!$C$36))","v":28992114893},{"$f":"IF(K55=K54, \" \", IF(J55 > CALCULADORA!$C$30, CALCULADORA!$C$30, J55))","v":" "}," ",null,16,9,2026]
[{"$f":"+Flujos!A56","v":"2027-06-16"},{"$f":"+Flujos!L56","v":48299506.498220697},{"$f":"+Flujos!M56","v":1014246.517263724},{"$f":"+Flujos!N56","v":309641.05518422666},{"$f":"+Flujos!O56","v":1323887.5724479507},{"$f":"+Flujos!P56","v":383607202.08831674},{"$f":"+Flujos!Q56","v":117112099.2866175},{"$f":"+Flujos!R56","v":500719301.37493426},null,"2026-09-16",{"$f":"IF(J56<CALCULADORA!$C$26,0,IF(CALCULADORA!$C$30>'TIR de Tenencia'!J56,VLOOKUP(J56,A:H,7),CALCULADORA!$C$36))","v":28992114893},{"$f":"IF(K56=K55, \" \", IF(J56 > CALCULADORA!$C$30, CALCULADORA!$C$30, J56))","v":" "}," ",null,16,10,2026]
[{"$f":"+Flujos!A57","v":"2027-07-16"},{"$f":"+Flujos!L57","v":47298311.494672276},{"$f":"+Flujos!M57","v":1001195.0035484226},{"$f":"+Flujos!N57","v":303272.60130232776},{"$f":"+Flujos!O57","v":1304467.6048507504},{"$f":"+Flujos!P57","v":378670872.92758054},{"$f":"+Flujos!Q57","v":114703429.66470498},{"$f":"+Flujos!R57","v":493374302.59228551},null,"2026-10-16",{"$f":"IF(J57<CALCULADORA!$C$26,0,IF(CALCULADORA!$C$30>'TIR de Tenencia'!J57,VLOOKUP(J57,A:H,7),CALCULADORA!$C$36))","v":28992114893},{"$f":"IF(K57=K56, \" \", IF(J57 > CALCULADORA!$C$30, CALCULADORA!$C$30, J57))","v":" "}," ",null,16,11,2026]
[{"$f":"+Flujos!A58","v":"2027-08-16"},{"$f":"+Flujos!L58","v":46302189.594758071},{"$f":"+Flujos!M58","v":996121.89991420449},{"$f":"+Flujos!N58","v":296986.09787504724},{"$f":"+Flujos!O58","v":1293107.9977892516},{"$f":"+Flujos!P58","v":376752129.25146055},{"$f":"+Flujos!Q58","v":112325755.25359271},{"$f":"+Flujos!R58","v":489077884.50505322},null,"2026-11-16",{"$f":"IF(J58<CALCULADORA!$C$26,0,IF(CALCULADORA!$C$30>'TIR de Tenencia'!J58,VLOOKUP(J58,A:H,7),CALCULADORA!$C$36))","v":28992114893},{"$f":"IF(K58=K57, \" \", IF(J58 > CALCULADORA!$C$30, CALCULADORA!$C$30, J58))","v":" "}," ",null,16,12,2026]
[{"$f":"+Flujos!A59","v":"2027-09-16"},{"$f":"+Flujos!L59","v":45319067.932027809},{"$f":"+Flujos!M59","v":983121.6627302597},{"$f":"+Flujos!N59","v":290731.44846548594},{"$f":"+Flujos!O59","v":1273853.1111957456},{"$f":"+Flujos!P59","v":371835193.84400982},{"$f":"+Flujos!Q59","v":109960128.63402279},{"$f":"+Flujos!R59","v":481795322.47803265},null,"2026-12-16",{"$f":"IF(J59<CALCULADORA!$C$26,0,IF(CALCULADORA!$C$30>'TIR de Tenencia'!J59,VLOOKUP(J59,A:H,7),CALCULADORA!$C$36))","v":28992114893},{"$f":"IF(K59=K58, \" \", IF(J59 > CALCULADORA!$C$30, CALCULADORA!$C$30, J59))","v":" "}," ",null,16,1,2027]
[{"$f":"+Flujos!A60","v":"2027-10-16"},{"$f":"+Flujos!L60","v":44343720.664243236},{"$f":"+Flujos!M60","v":975347.26778457407},{"$f":"+Flujos!N60","v":284558.4275452026},{"$f":"+Flujos!O60","v":1259905.6953297767},{"$f":"+Flujos!P60","v":368894770.73948705},{"$f":"+Flujos!Q60","v":107625375.45187624},{"$f":"+Flujos!R60","v":476520146.19136333},null,"2027-01-16",{"$f":"IF(J60<CALCULADORA!$C$26,0,IF(CALCULADORA!$C$30>'TIR de Tenencia'!J60,VLOOKUP(J60,A:H,7),CALCULADORA!$C$36))","v":28992114893},{"$f":"IF(K60=K59, \" \", IF(J60 > CALCULADORA!$C$30, CALCULADORA!$C$30, J60))","v":" "}," ",null,16,2,2027]
[{"$f":"+Flujos!A61","v":"2027-11-16"},{"$f":"+Flujos!L61","v":43380974.331292041},{"$f":"+Flujos!M61","v":962746.33295119356},{"$f":"+Flujos!N61","v":278434.22205078328},{"$f":"+Flujos!O61","v":1241180.5550019769},{"$f":"+Flujos!P61","v":364128859.02783418},{"$f":"+Flujos!Q61","v":105309085.18640301},{"$f":"+Flujos!R61","v":469437944.21423721},null,"2027-02-16",{"$f":"IF(J61<CALCULADORA!$C$26,0,IF(CALCULADORA!$C$30>'TIR de Tenencia'!J61,VLOOKUP(J61,A:H,7),CALCULADORA!$C$36))","v":28992114893},{"$f":"IF(K61=K60, \" \", IF(J61 > CALCULADORA!$C$30, CALCULADORA!$C$30, J61))","v":" "}," ",null,16,3,2027]
[{"$f":"+Flujos!A62","v":"2027-12-16"},{"$f":"+Flujos!L62","v":42544272.258355573},{"$f":"+Flujos!M62","v":836702.07293646492},{"$f":"+Flujos!N62","v":272389.1378261827},{"$f":"+Flujos!O62","v":1109091.2107626477},{"$f":"+Flujos!P62","v":316456537.65374953},{"$f":"+Flujos!Q62","v":103022720.08056723},{"$f":"+Flujos!R62","v":419479257.73431677},null,"2027-03-16",{"$f":"IF(J62<CALCULADORA!$C$26,0,IF(CALCULADORA!$C$30>'TIR de Tenencia'!J62,VLOOKUP(J62,A:H,7),CALCULADORA!$C$36))","v":28992114893},{"$f":"IF(K62=K61, \" \", IF(J62 > CALCULADORA!$C$30, CALCULADORA!$C$30, J62))","v":" "}," ",null,16,4,2027]
[{"$f":"+Flujos!A63","v":"2028-01-16"},{"$f":"+Flujos!L63","v":41610676.087985598},{"$f":"+Flujos!M63","v":933596.17036997329},{"$f":"+Flujos!N63","v":267135.48551021464},{"$f":"+Flujos!O63","v":1200731.6558801879},{"$f":"+Flujos!P63","v":353103716.6015439},{"$f":"+Flujos!Q63","v":101035689.48063932},{"$f":"+Flujos!R63","v":454139406.08218318},null,"2027-04-16",{"$f":"IF(J63<CALCULADORA!$C$26,0,IF(CALCULADORA!$C$30>'TIR de Tenencia'!J63,VLOOKUP(J63,A:H,7),CALCULADORA!$C$36))","v":28992114893},{"$f":"IF(K63=K62, \" \", IF(J63 > CALCULADORA!$C$30, CALCULADORA!$C$30, J63))","v":" "}," ",null,16,5,2027]
[{"$f":"+Flujos!A64","v":"2028-02-16"},{"$f":"+Flujos!L64","v":40694559.759858087},{"$f":"+Flujos!M64","v":916116.32812751248},{"$f":"+Flujos!N64","v":261273.43515646155},{"$f":"+Flujos!O64","v":1177389.763283974},{"$f":"+Flujos!P64","v":346492509.89642686},{"$f":"+Flujos!Q64","v":98818551.244098216},{"$f":"+Flujos!R64","v":445311061.14052504},null,"2027-05-16",{"$f":"IF(J64<CALCULADORA!$C$26,0,IF(CALCULADORA!$C$30>'TIR de Tenencia'!J64,VLOOKUP(J64,A:H,7),CALCULADORA!$C$36))","v":28992114893},{"$f":"IF(K64=K63, \" \", IF(J64 > CALCULADORA!$C$30, CALCULADORA!$C$30, J64))","v":" "}," ",null,16,6,2027]
[{"$f":"+Flujos!A65","v":"2028-03-16"},{"$f":"+Flujos!L65","v":39788704.192952044},{"$f":"+Flujos!M65","v":905855.56690604542},{"$f":"+Flujos!N65","v":255521.14073214892},{"$f":"+Flujos!O65","v":1161376.7076381943},{"$f":"+Flujos!P65","v":342611696.07408094},{"$f":"+Flujos!Q65","v":96642924.774458572},{"$f":"+Flujos!R65","v":439254620.84853947},null,"2027-06-16",{"$f":"IF(J65<CALCULADORA!$C$26,0,IF(CALCULADORA!$C$30>'TIR de Tenencia'!J65,VLOOKUP(J65,A:H,7),CALCULADORA!$C$36))","v":28992114893},{"$f":"IF(K65=K64, \" \", IF(J65 > CALCULADORA!$C$30, CALCULADORA!$C$30, J65))","v":" "}," ",null,16,7,2027]
[{"$f":"+Flujos!A66","v":"2028-04-16"},{"$f":"+Flujos!L66","v":38892010.7603084},{"$f":"+Flujos!M66","v":896693.43264364474},{"$f":"+Flujos!N66","v":249833.27362754589},{"$f":"+Flujos!O66","v":1146526.7062711907},{"$f":"+Flujos!P66","v":339146403.7317034},{"$f":"+Flujos!Q66","v":94491665.934809417},{"$f":"+Flujos!R66","v":433638069.66651285},null,"2027-07-16",{"$f":"IF(J66<CALCULADORA!$C$26,0,IF(CALCULADORA!$C$30>'TIR de Tenencia'!J66,VLOOKUP(J66,A:H,7),CALCULADORA!$C$36))","v":28992114893},{"$f":"IF(K66=K65, \" \", IF(J66 > CALCULADORA!$C$30, CALCULADORA!$C$30, J66))","v":" "}," ",null,16,8,2027]
[{"$f":"+Flujos!A67","v":"2028-05-16"},{"$f":"+Flujos!L67","v":38007749.159043662},{"$f":"+Flujos!M67","v":884261.60126473824},{"$f":"+Flujos!N67","v":244202.93556397644},{"$f":"+Flujos!O67","v":1128464.5368287147},{"$f":"+Flujos!P67","v":334444450.1425879},{"$f":"+Flujos!Q67","v":92362165.665778056},{"$f":"+Flujos!R67","v":426806615.80836594},null,{"$f":"+DATE(Q66,P66,O66)","v":"2027-08-16"},{"$f":"IF(J67<CALCULADORA!$C$26,0,IF(CALCULADORA!$C$30>'TIR de Tenencia'!J67,VLOOKUP(J67,A:H,7),CALCULADORA!$C$36))","v":28992114893},{"$f":"IF(K67=K66, \" \", IF(J67 > CALCULADORA!$C$30, CALCULADORA!$C$30, J67))","v":" "}," ",null,{"$f":"+O66","v":16},{"$f":"+IF(P66=12,1,P66+1)","v":9},2027]
[{"$f":"+Flujos!A68","v":"2028-06-16"},{"$f":"+Flujos!L68","v":37140253.892542511},{"$f":"+Flujos!M68","v":867495.26650115452},{"$f":"+Flujos!N68","v":238650.65696963514},{"$f":"+Flujos!O68","v":1106145.9234707896},{"$f":"+Flujos!P68","v":328103105.4512735},{"$f":"+Flujos!Q68","v":90262188.963332742},{"$f":"+Flujos!R68","v":418365294.41460621},null,"2027-09-16",{"$f":"IF(J68<CALCULADORA!$C$26,0,IF(CALCULADORA!$C$30>'TIR de Tenencia'!J68,VLOOKUP(J68,A:H,7),CALCULADORA!$C$36))","v":28992114893},{"$f":"IF(K68=K67, \" \", IF(J68 > CALCULADORA!$C$30, CALCULADORA!$C$30, J68))","v":" "},{"$f":"+IF(K68=K67,\" \",K68)","v":" "},null,16,10,2027]
[{"$f":"+Flujos!A69","v":"2028-07-16"},{"$f":"+Flujos!L69","v":36286259.627648547},{"$f":"+Flujos!M69","v":853994.26489396114},{"$f":"+Flujos!N69","v":233203.65419127443},{"$f":"+Flujos!O69","v":1087197.9190852356},{"$f":"+Flujos!P69","v":322996771.47450262},{"$f":"+Flujos!Q69","v":88202029.564204201},{"$f":"+Flujos!R69","v":411198801.03870684},null,"2027-10-16",{"$f":"IF(J69<CALCULADORA!$C$26,0,IF(CALCULADORA!$C$30>'TIR de Tenencia'!J69,VLOOKUP(J69,A:H,7),CALCULADORA!$C$36))","v":28992114893},{"$f":"IF(K69=K68, \" \", IF(J69 > CALCULADORA!$C$30, CALCULADORA!$C$30, J69))","v":" "}," ",null,16,11,2027]
[{"$f":"+Flujos!A70","v":"2028-08-16"},{"$f":"+Flujos!L70","v":35441645.695022762},{"$f":"+Flujos!M70","v":844613.93262578745},{"$f":"+Flujos!N70","v":227841.42420200523},{"$f":"+Flujos!O70","v":1072455.3568277927},{"$f":"+Flujos!P70","v":319448952.52239949},{"$f":"+Flujos!Q70","v":86173932.836115807},{"$f":"+Flujos!R70","v":405622885.35851526},null,"2027-11-16",{"$f":"IF(J70<CALCULADORA!$C$26,0,IF(CALCULADORA!$C$30>'TIR de Tenencia'!J70,VLOOKUP(J70,A:H,7),CALCULADORA!$C$36))","v":28992114893},{"$f":"IF(K70=K69, \" \", IF(J70 > CALCULADORA!$C$30, CALCULADORA!$C$30, J70))","v":" "}," ",null,16,12,2027]
[{"$f":"+Flujos!A71","v":"2028-09-16"},{"$f":"+Flujos!L71","v":34606413.185655177},{"$f":"+Flujos!M71","v":835232.50936758495},{"$f":"+Flujos!N71","v":222538.09331904791},{"$f":"+Flujos!O71","v":1057770.6026866329},{"$f":"+Flujos!P71","v":315900720.93724769},{"$f":"+Flujos!Q71","v":84168112.863227651},{"$f":"+Flujos!R71","v":400068833.80047536},null,"2027-12-16",{"$f":"IF(J71<CALCULADORA!$C$26,0,IF(CALCULADORA!$C$30>'TIR de Tenencia'!J71,VLOOKUP(J71,A:H,7),CALCULADORA!$C$36))","v":28992114893},{"$f":"IF(K71=K70, \" \", IF(J71 > CALCULADORA!$C$30, CALCULADORA!$C$30, J71))","v":" "}," ",null,16,1,2028]
[{"$f":"+Flujos!A72","v":"2028-10-16"},{"$f":"+Flujos!L72","v":33783295.029568098},{"$f":"+Flujos!M72","v":823118.1560870778},{"$f":"+Flujos!N72","v":217293.66839272884},{"$f":"+Flujos!O72","v":1040411.8244798067},{"$f":"+Flujos!P72","v":311318843.56528288},{"$f":"+Flujos!Q72","v":82184572.236462668},{"$f":"+Flujos!R72","v":393503415.80174559},null,"2028-01-16",{"$f":"IF(J72<CALCULADORA!$C$26,0,IF(CALCULADORA!$C$30>'TIR de Tenencia'!J72,VLOOKUP(J72,A:H,7),CALCULADORA!$C$36))","v":28992114893},{"$f":"IF(K72=K71, \" \", IF(J72 > CALCULADORA!$C$30, CALCULADORA!$C$30, J72))","v":" "}," ",null,16,2,2028]
[{"$f":"+Flujos!A73","v":"2028-11-16"},{"$f":"+Flujos!L73","v":32971696.637195796},{"$f":"+Flujos!M73","v":811598.39237230166},{"$f":"+Flujos!N73","v":212125.30949065808},{"$f":"+Flujos!O73","v":1023723.7018629598},{"$f":"+Flujos!P73","v":306961851.20482033},{"$f":"+Flujos!Q73","v":80229801.217716262},{"$f":"+Flujos!R73","v":387191652.42253661},null,"2028-02-16",{"$f":"IF(J73<CALCULADORA!$C$26,0,IF(CALCULADORA!$C$30>'TIR de Tenencia'!J73,VLOOKUP(J73,A:H,7),CALCULADORA!$C$36))","v":28992114893},{"$f":"IF(K73=K72, \" \", IF(J73 > CALCULADORA!$C$30, CALCULADORA!$C$30, J73))","v":" "}," ",null,16,3,2028]
[{"$f":"+Flujos!A74","v":"2028-12-16"},{"$f":"+Flujos!L74","v":32290048.249141555},{"$f":"+Flujos!M74","v":681648.38805423956},{"$f":"+Flujos!N74","v":207029.28318495239},{"$f":"+Flujos!O74","v":888677.6712391919},{"$f":"+Flujos!P74","v":257812303.51664764},{"$f":"+Flujos!Q74","v":78302387.7540012},{"$f":"+Flujos!R74","v":336114691.27064884},null,"2028-03-16",{"$f":"IF(J74<CALCULADORA!$C$26,0,IF(CALCULADORA!$C$30>'TIR de Tenencia'!J74,VLOOKUP(J74,A:H,7),CALCULADORA!$C$36))","v":28992114893},{"$f":"IF(K74=K73, \" \", IF(J74 > CALCULADORA!$C$30, CALCULADORA!$C$30, J74))","v":" "}," ",null,16,4,2028]
[{"$f":"+Flujos!A75","v":"2029-01-16"},{"$f":"+Flujos!L75","v":31505659.148089126},{"$f":"+Flujos!M75","v":784389.10105243081},{"$f":"+Flujos!N75","v":202749.21295635981},{"$f":"+Flujos!O75","v":987138.31400879065},{"$f":"+Flujos!P75","v":296670782.97203922},{"$f":"+Flujos!Q75","v":76683584.300220162},{"$f":"+Flujos!R75","v":373354367.27225941},null,"2028-04-16",{"$f":"IF(J75<CALCULADORA!$C$26,0,IF(CALCULADORA!$C$30>'TIR de Tenencia'!J75,VLOOKUP(J75,A:H,7),CALCULADORA!$C$36))","v":28992114893},{"$f":"IF(K75=K74, \" \", IF(J75 > CALCULADORA!$C$30, CALCULADORA!$C$30, J75))","v":" "}," ",null,16,5,2028]
[{"$f":"+Flujos!A76","v":"2029-02-16"},{"$f":"+Flujos!L76","v":30731646.453201223},{"$f":"+Flujos!M76","v":774012.6948879041},{"$f":"+Flujos!N76","v":197824.03379085162},{"$f":"+Flujos!O76","v":971836.7286787557},{"$f":"+Flujos!P76","v":292746230.04653871},{"$f":"+Flujos!Q76","v":74820788.453938738},{"$f":"+Flujos!R76","v":367567018.50047743},null,"2028-05-16",{"$f":"IF(J76<CALCULADORA!$C$26,0,IF(CALCULADORA!$C$30>'TIR de Tenencia'!J76,VLOOKUP(J76,A:H,7),CALCULADORA!$C$36))","v":28992114893},{"$f":"IF(K76=K75, \" \", IF(J76 > CALCULADORA!$C$30, CALCULADORA!$C$30, J76))","v":" "}," ",null,16,6,{"$f":"+IF(P76=1,Q75+1,Q75)","v":2028}]
[{"$f":"+Flujos!A77","v":"2029-03-16"},{"$f":"+Flujos!L77","v":29968743.309777241},{"$f":"+Flujos!M77","v":762903.14342398092},{"$f":"+Flujos!N77","v":192964.00807965046},{"$f":"+Flujos!O77","v":955867.15150363138},{"$f":"+Flujos!P77","v":288544387.71236032},{"$f":"+Flujos!Q77","v":72982634.875476509},{"$f":"+Flujos!R77","v":361527022.5878368},null,"2028-06-16",{"$f":"IF(J77<CALCULADORA!$C$26,0,IF(CALCULADORA!$C$30>'TIR de Tenencia'!J77,VLOOKUP(J77,A:H,7),CALCULADORA!$C$36))","v":28992114893},{"$f":"IF(K77=K76, \" \", IF(J77 > CALCULADORA!$C$30, CALCULADORA!$C$30, J77))","v":" "}," ",null,16,7,2028]
[{"$f":"+Flujos!A78","v":"2029-04-16"},{"$f":"+Flujos!L78","v":29213122.524795927},{"$f":"+Flujos!M78","v":755620.78498131293},{"$f":"+Flujos!N78","v":188173.73924209128},{"$f":"+Flujos!O78","v":943794.52422340424},{"$f":"+Flujos!P78","v":285790062.11276871},{"$f":"+Flujos!Q78","v":71170864.665030599},{"$f":"+Flujos!R78","v":356960926.77779931},null,"2028-07-16",{"$f":"IF(J78<CALCULADORA!$C$26,0,IF(CALCULADORA!$C$30>'TIR de Tenencia'!J78,VLOOKUP(J78,A:H,7),CALCULADORA!$C$36))","v":28992114893},{"$f":"IF(K78=K77, \" \", IF(J78 > CALCULADORA!$C$30, CALCULADORA!$C$30, J78))","v":" "}," ",null,16,8,2028]
[{"$f":"+Flujos!A79","v":"2029-05-16"},{"$f":"+Flujos!L79","v":28465300.136540934},{"$f":"+Flujos!M79","v":747822.38825499231},{"$f":"+Flujos!N79","v":183429.19633319363},{"$f":"+Flujos!O79","v":931251.58458818588},{"$f":"+Flujos!P79","v":282840561.0811761},{"$f":"+Flujos!Q79","v":69376388.865024537},{"$f":"+Flujos!R79","v":352216949.94620061},null,"2028-08-16",{"$f":"IF(J79<CALCULADORA!$C$26,0,IF(CALCULADORA!$C$30>'TIR de Tenencia'!J79,VLOOKUP(J79,A:H,7),CALCULADORA!$C$36))","v":28992114893},{"$f":"IF(K79=K78, \" \", IF(J79 > CALCULADORA!$C$30, CALCULADORA!$C$30, J79))","v":" "}," ",null,16,9,2028]
[{"$f":"+Flujos!A80","v":"2029-06-16"},{"$f":"+Flujos!L80","v":27724797.20038959},{"$f":"+Flujos!M80","v":740502.93615134293},{"$f":"+Flujos!N80","v":178733.61955734051},{"$f":"+Flujos!O80","v":919236.55570868345},{"$f":"+Flujos!P80","v":280072205.95793116},{"$f":"+Flujos!Q80","v":67600432.981995821},{"$f":"+Flujos!R80","v":347672638.93992698},null,"2028-09-16",{"$f":"IF(J80<CALCULADORA!$C$26,0,IF(CALCULADORA!$C$30>'TIR de Tenencia'!J80,VLOOKUP(J80,A:H,7),CALCULADORA!$C$36))","v":28992114893},{"$f":"IF(K80=K79, \" \", IF(J80 > CALCULADORA!$C$30, CALCULADORA!$C$30, J80))","v":" "}," ",null,16,10,2028]
[{"$f":"+Flujos!A81","v":"2029-07-16"},{"$f":"+Flujos!L81","v":26992058.840273675},{"$f":"+Flujos!M81","v":732738.36011591705},{"$f":"+Flujos!N81","v":174084.00162124622},{"$f":"+Flujos!O81","v":906822.36173716327},{"$f":"+Flujos!P81","v":277135496.55084604},{"$f":"+Flujos!Q81","v":65841859.600785963},{"$f":"+Flujos!R81","v":342977356.15163201},null,"2028-10-16",{"$f":"IF(J81<CALCULADORA!$C$26,0,IF(CALCULADORA!$C$30>'TIR de Tenencia'!J81,VLOOKUP(J81,A:H,7),CALCULADORA!$C$36))","v":28992114893},{"$f":"IF(K81=K80, \" \", IF(J81 > CALCULADORA!$C$30, CALCULADORA!$C$30, J81))","v":" "}," ",null,16,11,2028]
[{"$f":"+Flujos!A82","v":"2029-08-16"},{"$f":"+Flujos!L82","v":26263916.82114936},{"$f":"+Flujos!M82","v":728142.01912431256},{"$f":"+Flujos!N82","v":169483.13745807839},{"$f":"+Flujos!O82","v":897625.15658239089},{"$f":"+Flujos!P82","v":275397073.51697648},{"$f":"+Flujos!Q82","v":64101725.817943208},{"$f":"+Flujos!R82","v":339498799.33491963},null,"2028-11-16",{"$f":"IF(J82<CALCULADORA!$C$26,0,IF(CALCULADORA!$C$30>'TIR de Tenencia'!J82,VLOOKUP(J82,A:H,7),CALCULADORA!$C$36))","v":28992114893},{"$f":"IF(K82=K81, \" \", IF(J82 > CALCULADORA!$C$30, CALCULADORA!$C$30, J82))","v":" "}," ",null,16,12,2028]
[{"$f":"+Flujos!A83","v":"2029-09-16"},{"$f":"+Flujos!L83","v":25541584.323928751},{"$f":"+Flujos!M83","v":722332.4972206112},{"$f":"+Flujos!N83","v":164911.13371999684},{"$f":"+Flujos!O83","v":887243.63094060798},{"$f":"+Flujos!P83","v":273199802.53303266},{"$f":"+Flujos!Q83","v":62372507.593330115},{"$f":"+Flujos!R83","v":335572310.12636274},null,"2028-12-16",{"$f":"IF(J83<CALCULADORA!$C$26,0,IF(CALCULADORA!$C$30>'TIR de Tenencia'!J83,VLOOKUP(J83,A:H,7),CALCULADORA!$C$36))","v":28992114893},{"$f":"IF(K83=K82, \" \", IF(J83 > CALCULADORA!$C$30, CALCULADORA!$C$30, J83))","v":" "}," ",null,16,1,2029]
[{"$f":"+Flujos!A84","v":"2029-10-16"},{"$f":"+Flujos!L84","v":24822656.806588225},{"$f":"+Flujos!M84","v":718927.51734052622},{"$f":"+Flujos!N84","v":160375.60796994861},{"$f":"+Flujos!O84","v":879303.12531047477},{"$f":"+Flujos!P84","v":271911974.78826475},{"$f":"+Flujos!Q84","v":60657086.033225201},{"$f":"+Flujos!R84","v":332569060.82148993},null,"2029-01-16",{"$f":"IF(J84<CALCULADORA!$C$26,0,IF(CALCULADORA!$C$30>'TIR de Tenencia'!J84,VLOOKUP(J84,A:H,7),CALCULADORA!$C$36))","v":28992114893},{"$f":"IF(K84=K83, \" \", IF(J84 > CALCULADORA!$C$30, CALCULADORA!$C$30, J84))","v":" "}," ",null,16,2,2029]
[{"$f":"+Flujos!A85","v":"2029-11-16"},{"$f":"+Flujos!L85","v":24107154.997938331},{"$f":"+Flujos!M85","v":715501.80864989292},{"$f":"+Flujos!N85","v":155861.46208856747},{"$f":"+Flujos!O85","v":871363.27073846036},{"$f":"+Flujos!P85","v":270616307.01557302},{"$f":"+Flujos!Q85","v":58949750.743529692},{"$f":"+Flujos!R85","v":329566057.7591027},null,"2029-02-16",{"$f":"IF(J85<CALCULADORA!$C$26,0,IF(CALCULADORA!$C$30>'TIR de Tenencia'!J85,VLOOKUP(J85,A:H,7),CALCULADORA!$C$36))","v":28992114893},{"$f":"IF(K85=K84, \" \", IF(J85 > CALCULADORA!$C$30, CALCULADORA!$C$30, J85))","v":" "}," ",null,16,3,2029]
[{"$f":"+Flujos!A86","v":"2029-12-16"},{"$f":"+Flujos!L86","v":23513417.495419934},{"$f":"+Flujos!M86","v":593737.50251839834},{"$f":"+Flujos!N86","v":151368.82623205477},{"$f":"+Flujos!O86","v":745106.32875045307},{"$f":"+Flujos!P86","v":224562745.09125587},{"$f":"+Flujos!Q86","v":57250550.951778904},{"$f":"+Flujos!R86","v":281813296.04303473},null,"2029-03-16",{"$f":"IF(J86<CALCULADORA!$C$26,0,IF(CALCULADORA!$C$30>'TIR de Tenencia'!J86,VLOOKUP(J86,A:H,7),CALCULADORA!$C$36))","v":28992114893},{"$f":"IF(K86=K85, \" \", IF(J86 > CALCULADORA!$C$30, CALCULADORA!$C$30, J86))","v":" "}," ",null,16,4,2029]
[{"$f":"+Flujos!A87","v":"2030-01-16"},{"$f":"+Flujos!L87","v":22806903.262627825},{"$f":"+Flujos!M87","v":706514.23279211042},{"$f":"+Flujos!N87","v":147640.74845374178},{"$f":"+Flujos!O87","v":854154.98124585219},{"$f":"+Flujos!P87","v":267217035.96097594},{"$f":"+Flujos!Q87","v":55840521.475350916},{"$f":"+Flujos!R87","v":323057557.43632686},null,"2029-04-16",{"$f":"IF(J87<CALCULADORA!$C$26,0,IF(CALCULADORA!$C$30>'TIR de Tenencia'!J87,VLOOKUP(J87,A:H,7),CALCULADORA!$C$36))","v":28992114893},{"$f":"IF(K87=K86, \" \", IF(J87 > CALCULADORA!$C$30, CALCULADORA!$C$30, J87))","v":" "}," ",null,16,5,2029]
[{"$f":"+Flujos!A88","v":"2030-02-16"},{"$f":"+Flujos!L88","v":22106185.459859069},{"$f":"+Flujos!M88","v":700717.80276875547},{"$f":"+Flujos!N88","v":143204.5455860401},{"$f":"+Flujos!O88","v":843922.3483547956},{"$f":"+Flujos!P88","v":265024716.57361567},{"$f":"+Flujos!Q88","v":54162665.706551947},{"$f":"+Flujos!R88","v":319187382.28016764},null,"2029-05-16",{"$f":"IF(J88<CALCULADORA!$C$26,0,IF(CALCULADORA!$C$30>'TIR de Tenencia'!J88,VLOOKUP(J88,A:H,7),CALCULADORA!$C$36))","v":28992114893},{"$f":"IF(K88=K87, \" \", IF(J88 > CALCULADORA!$C$30, CALCULADORA!$C$30, J88))","v":" "}," ",null,16,6,2029]
[{"$f":"+Flujos!A89","v":"2030-03-16"},{"$f":"+Flujos!L89","v":21410845.146942586},{"$f":"+Flujos!M89","v":695340.3129164842},{"$f":"+Flujos!N89","v":138804.73850245509},{"$f":"+Flujos!O89","v":834145.05141893926},{"$f":"+Flujos!P89","v":262990848.27692845},{"$f":"+Flujos!Q89","v":52498575.511186212},{"$f":"+Flujos!R89","v":315489423.78811467},null,"2029-06-16",{"$f":"IF(J89<CALCULADORA!$C$26,0,IF(CALCULADORA!$C$30>'TIR de Tenencia'!J89,VLOOKUP(J89,A:H,7),CALCULADORA!$C$36))","v":28992114893},{"$f":"IF(K89=K88, \" \", IF(J89 > CALCULADORA!$C$30, CALCULADORA!$C$30, J89))","v":" "}," ",null,16,7,2029]
[{"$f":"+Flujos!A90","v":"2030-04-16"},{"$f":"+Flujos!L90","v":20724768.430361185},{"$f":"+Flujos!M90","v":686076.71658139909},{"$f":"+Flujos!N90","v":134438.69667765248},{"$f":"+Flujos!O90","v":820515.41325905151},{"$f":"+Flujos!P90","v":259487181.06102854},{"$f":"+Flujos!Q90","v":50847255.974855378},{"$f":"+Flujos!R90","v":310334437.0358839},null,"2029-07-16",{"$f":"IF(J90<CALCULADORA!$C$26,0,IF(CALCULADORA!$C$30>'TIR de Tenencia'!J90,VLOOKUP(J90,A:H,7),CALCULADORA!$C$36))","v":28992114893},{"$f":"IF(K90=K89, \" \", IF(J90 > CALCULADORA!$C$30, CALCULADORA!$C$30, J90))","v":" "}," ",null,16,8,2029]
[{"$f":"+Flujos!A91","v":"2030-05-16"},{"$f":"+Flujos!L91","v":20044256.853917021},{"$f":"+Flujos!M91","v":680511.5764441631},{"$f":"+Flujos!N91","v":130130.82097423788},{"$f":"+Flujos!O91","v":810642.39741840097},{"$f":"+Flujos!P91","v":257382339.87997729},{"$f":"+Flujos!Q91","v":49217935.964973181},{"$f":"+Flujos!R91","v":306600275.8449505},null,"2029-08-16",{"$f":"IF(J91<CALCULADORA!$C$26,0,IF(CALCULADORA!$C$30>'TIR de Tenencia'!J91,VLOOKUP(J91,A:H,7),CALCULADORA!$C$36))","v":28992114893},{"$f":"IF(K91=K90, \" \", IF(J91 > CALCULADORA!$C$30, CALCULADORA!$C$30, J91))","v":" "}," ",null,16,9,2029]
[{"$f":"+Flujos!A92","v":"2030-06-16"},{"$f":"+Flujos!L92","v":19369000.576441895},{"$f":"+Flujos!M92","v":675256.27747512481},{"$f":"+Flujos!N92","v":125857.88878574497},{"$f":"+Flujos!O92","v":801114.16626086982},{"$f":"+Flujos!P92","v":255394686.4847365},{"$f":"+Flujos!Q92","v":47601832.252866805},{"$f":"+Flujos!R92","v":302996518.73760331},null,"2029-09-16",{"$f":"IF(J92<CALCULADORA!$C$26,0,IF(CALCULADORA!$C$30>'TIR de Tenencia'!J92,VLOOKUP(J92,A:H,7),CALCULADORA!$C$36))","v":28992114893},{"$f":"IF(K92=K91, \" \", IF(J92 > CALCULADORA!$C$30, CALCULADORA!$C$30, J92))","v":" "}," ",null,16,10,2029]
[{"$f":"+Flujos!A93","v":"2030-07-16"},{"$f":"+Flujos!L93","v":18698151.89868338},{"$f":"+Flujos!M93","v":670848.67775851372},{"$f":"+Flujos!N93","v":121617.95461947865},{"$f":"+Flujos!O93","v":792466.63237799238},{"$f":"+Flujos!P93","v":253727648.96827954},{"$f":"+Flujos!Q93","v":45998209.016429134},{"$f":"+Flujos!R93","v":299725857.98470867},null,"2029-10-16",{"$f":"IF(J93<CALCULADORA!$C$26,0,IF(CALCULADORA!$C$30>'TIR de Tenencia'!J93,VLOOKUP(J93,A:H,7),CALCULADORA!$C$36))","v":28992114893},{"$f":"IF(K93=K92, \" \", IF(J93 > CALCULADORA!$C$30, CALCULADORA!$C$30, J93))","v":" "}," ",null,16,11,2029]
[{"$f":"+Flujos!A94","v":"2030-08-16"},{"$f":"+Flujos!L94","v":18032325.048027728},{"$f":"+Flujos!M94","v":665826.85065565223},{"$f":"+Flujos!N94","v":117405.69577183294},{"$f":"+Flujos!O94","v":783232.54642748518},{"$f":"+Flujos!P94","v":251828299.04544508},{"$f":"+Flujos!Q94","v":44405053.108557306},{"$f":"+Flujos!R94","v":296233352.15400237},null,"2029-11-16",{"$f":"IF(J94<CALCULADORA!$C$26,0,IF(CALCULADORA!$C$30>'TIR de Tenencia'!J94,VLOOKUP(J94,A:H,7),CALCULADORA!$C$36))","v":28992114893},{"$f":"IF(K94=K93, \" \", IF(J94 > CALCULADORA!$C$30, CALCULADORA!$C$30, J94))","v":" "}," ",null,16,12,2029]
[{"$f":"+Flujos!A95","v":"2030-09-16"},{"$f":"+Flujos!L95","v":17373942.022339016},{"$f":"+Flujos!M95","v":658383.02568871237},{"$f":"+Flujos!N95","v":113224.9689765661},{"$f":"+Flujos!O95","v":771607.99466527847},{"$f":"+Flujos!P95","v":249012903.75465655},{"$f":"+Flujos!Q95","v":42823823.218850963},{"$f":"+Flujos!R95","v":291836726.97350752},null,"2029-12-16",{"$f":"IF(J95<CALCULADORA!$C$26,0,IF(CALCULADORA!$C$30>'TIR de Tenencia'!J95,VLOOKUP(J95,A:H,7),CALCULADORA!$C$36))","v":28992114893},{"$f":"IF(K95=K94, \" \", IF(J95 > CALCULADORA!$C$30, CALCULADORA!$C$30, J95))","v":" "}," ",null,16,1,2030]
[{"$f":"+Flujos!A96","v":"2030-10-16"},{"$f":"+Flujos!L96","v":16725950.676675234},{"$f":"+Flujos!M96","v":647991.34566378163},{"$f":"+Flujos!N96","v":109090.98195826668},{"$f":"+Flujos!O96","v":757082.32762204832},{"$f":"+Flujos!P96","v":245082573.96647528},{"$f":"+Flujos!Q96","v":41260271.196175471},{"$f":"+Flujos!R96","v":286342845.16265076},null,"2030-01-16",{"$f":"IF(J96<CALCULADORA!$C$26,0,IF(CALCULADORA!$C$30>'TIR de Tenencia'!J96,VLOOKUP(J96,A:H,7),CALCULADORA!$C$36))","v":28992114893},{"$f":"IF(K96=K95, \" \", IF(J96 > CALCULADORA!$C$30, CALCULADORA!$C$30, J96))","v":" "}," ",null,16,2,2030]
[{"$f":"+Flujos!A97","v":"2030-11-16"},{"$f":"+Flujos!L97","v":16083978.323000696},{"$f":"+Flujos!M97","v":641972.35367453843},{"$f":"+Flujos!N97","v":105022.2442988438},{"$f":"+Flujos!O97","v":746994.59797338222},{"$f":"+Flujos!P97","v":242806077.43719488},{"$f":"+Flujos!Q97","v":39721397.714239977},{"$f":"+Flujos!R97","v":282527475.15143484},null,"2030-02-16",{"$f":"IF(J97<CALCULADORA!$C$26,0,IF(CALCULADORA!$C$30>'TIR de Tenencia'!J97,VLOOKUP(J97,A:H,7),CALCULADORA!$C$36))","v":28992114893},{"$f":"IF(K97=K96, \" \", IF(J97 > CALCULADORA!$C$30, CALCULADORA!$C$30, J97))","v":" "}," ",null,16,3,2030]
[{"$f":"+Flujos!A98","v":"2030-12-16"},{"$f":"+Flujos!L98","v":15570435.133543983},{"$f":"+Flujos!M98","v":513543.18945671286},{"$f":"+Flujos!N98","v":100991.29989012137},{"$f":"+Flujos!O98","v":614534.48934683425},{"$f":"+Flujos!P98","v":194231740.21880955},{"$f":"+Flujos!Q98","v":38196818.354011826},{"$f":"+Flujos!R98","v":232428558.57282138},null,"2030-03-16",{"$f":"IF(J98<CALCULADORA!$C$26,0,IF(CALCULADORA!$C$30>'TIR de Tenencia'!J98,VLOOKUP(J98,A:H,7),CALCULADORA!$C$36))","v":28992114893},{"$f":"IF(K98=K97, \" \", IF(J98 > CALCULADORA!$C$30, CALCULADORA!$C$30, J98))","v":" "}," ",null,16,4,2030]
[{"$f":"+Flujos!A99","v":"2031-01-16"},{"$f":"+Flujos!L99","v":14950581.511714635},{"$f":"+Flujos!M99","v":619853.62182934745},{"$f":"+Flujos!N99","v":97766.762203522667},{"$f":"+Flujos!O99","v":717620.38403287018},{"$f":"+Flujos!P99","v":234440355.0093118},{"$f":"+Flujos!Q99","v":36977237.257177919},{"$f":"+Flujos!R99","v":271417592.26648974},null,{"$f":"+DATE(Q98,P98,O98)","v":"2030-04-16"},{"$f":"IF(J99<CALCULADORA!$C$26,0,IF(CALCULADORA!$C$30>'TIR de Tenencia'!J99,VLOOKUP(J99,A:H,7),CALCULADORA!$C$36))","v":28992114893},{"$f":"IF(K99=K98, \" \", IF(J99 > CALCULADORA!$C$30, CALCULADORA!$C$30, J99))","v":" "}," ",null,16,5,2030]
[{"$f":"+Flujos!A100","v":"2031-02-16"},{"$f":"+Flujos!L100","v":14339992.577210402},{"$f":"+Flujos!M100","v":610588.9345042333},{"$f":"+Flujos!N100","v":93874.70131205619},{"$f":"+Flujos!O100","v":704463.63581628946},{"$f":"+Flujos!P100","v":230936275.16036317},{"$f":"+Flujos!Q100","v":35505186.268074453},{"$f":"+Flujos!R100","v":266441461.42843762},null,"2030-05-16",{"$f":"IF(J100<CALCULADORA!$C$26,0,IF(CALCULADORA!$C$30>'TIR de Tenencia'!J100,VLOOKUP(J100,A:H,7),CALCULADORA!$C$36))","v":28992114893},{"$f":"IF(K100=K99, \" \", IF(J100 > CALCULADORA!$C$30, CALCULADORA!$C$30, J100))","v":" "}," ",null,16,6,2030]
[{"$f":"+Flujos!A101","v":"2031-03-16"},{"$f":"+Flujos!L101","v":13734663.305635322},{"$f":"+Flujos!M101","v":605329.27157507942},{"$f":"+Flujos!N101","v":90040.813392304117},{"$f":"+Flujos!O101","v":695370.08496738353},{"$f":"+Flujos!P101","v":228946971.23292783},{"$f":"+Flujos!Q101","v":34055137.396342531},{"$f":"+Flujos!R101","v":263002108.62927034},null,"2030-06-16",{"$f":"IF(J101<CALCULADORA!$C$26,0,IF(CALCULADORA!$C$30>'TIR de Tenencia'!J101,VLOOKUP(J101,A:H,7),CALCULADORA!$C$36))","v":28992114893},{"$f":"IF(K101=K100, \" \", IF(J101 > CALCULADORA!$C$30, CALCULADORA!$C$30, J101))","v":" "}," ",null,16,7,2030]
[{"$f":"+Flujos!A102","v":"2031-04-16"},{"$f":"+Flujos!L102","v":13134843.533706006},{"$f":"+Flujos!M102","v":599819.77192931564},{"$f":"+Flujos!N102","v":86239.950896084178},{"$f":"+Flujos!O102","v":686059.72282539983},{"$f":"+Flujos!P102","v":226863174.33735666},{"$f":"+Flujos!Q102","v":32617579.363970973},{"$f":"+Flujos!R102","v":259480753.70132762},null,"2030-07-16",{"$f":"IF(J102<CALCULADORA!$C$26,0,IF(CALCULADORA!$C$30>'TIR de Tenencia'!J102,VLOOKUP(J102,A:H,7),CALCULADORA!$C$36))","v":28992114893},{"$f":"IF(K102=K101, \" \", IF(J102 > CALCULADORA!$C$30, CALCULADORA!$C$30, J102))","v":" "}," ",null,16,8,2030]
[{"$f":"+Flujos!A103","v":"2031-05-16"},{"$f":"+Flujos!L103","v":12540191.781543419},{"$f":"+Flujos!M103","v":594651.75216258643},{"$f":"+Flujos!N103","v":82473.682548140001},{"$f":"+Flujos!O103","v":677125.43471072637},{"$f":"+Flujos!P103","v":224908531.58600608},{"$f":"+Flujos!Q103","v":31193105.492306709},{"$f":"+Flujos!R103","v":256101637.07831275},null,"2030-08-16",{"$f":"IF(J103<CALCULADORA!$C$26,0,IF(CALCULADORA!$C$30>'TIR de Tenencia'!J103,VLOOKUP(J103,A:H,7),CALCULADORA!$C$36))","v":28992114893},{"$f":"IF(K103=K102, \" \", IF(J103 > CALCULADORA!$C$30, CALCULADORA!$C$30, J103))","v":" "}," ",null,16,9,2030]
[{"$f":"+Flujos!A104","v":"2031-06-16"},{"$f":"+Flujos!L104","v":11949557.05466711},{"$f":"+Flujos!M104","v":590634.72687630879},{"$f":"+Flujos!N104","v":78739.864196311129},{"$f":"+Flujos!O104","v":669374.59107261989},{"$f":"+Flujos!P104","v":223389216.70095795},{"$f":"+Flujos!Q104","v":29780904.822478183},{"$f":"+Flujos!R104","v":253170121.52343613},null,"2030-09-16",{"$f":"IF(J104<CALCULADORA!$C$26,0,IF(CALCULADORA!$C$30>'TIR de Tenencia'!J104,VLOOKUP(J104,A:H,7),CALCULADORA!$C$36))","v":28992114893},{"$f":"IF(K104=K103, \" \", IF(J104 > CALCULADORA!$C$30, CALCULADORA!$C$30, J104))","v":" "}," ",null,16,10,2030]
[{"$f":"+Flujos!A105","v":"2031-07-16"},{"$f":"+Flujos!L105","v":11362622.965968708},{"$f":"+Flujos!M105","v":586934.0886984017},{"$f":"+Flujos!N105","v":75031.268746254776},{"$f":"+Flujos!O105","v":661965.35744465643},{"$f":"+Flujos!P105","v":221989565.40001193},{"$f":"+Flujos!Q105","v":28378243.930812862},{"$f":"+Flujos!R105","v":250367809.33082479},null,"2030-10-16",{"$f":"IF(J105<CALCULADORA!$C$26,0,IF(CALCULADORA!$C$30>'TIR de Tenencia'!J105,VLOOKUP(J105,A:H,7),CALCULADORA!$C$36))","v":28992114893},{"$f":"IF(K105=K104, \" \", IF(J105 > CALCULADORA!$C$30, CALCULADORA!$C$30, J105))","v":" "}," ",null,16,11,2030]
[{"$f":"+Flujos!A106","v":"2031-08-16"},{"$f":"+Flujos!L106","v":10779545.527022341},{"$f":"+Flujos!M106","v":583077.43894636713},{"$f":"+Flujos!N106","v":71345.909603317516},{"$f":"+Flujos!O106","v":654423.34854968463},{"$f":"+Flujos!P106","v":220530907.57311213},{"$f":"+Flujos!Q106","v":26984371.449666187},{"$f":"+Flujos!R106","v":247515279.02277833},null,"2030-11-16",{"$f":"IF(J106<CALCULADORA!$C$26,0,IF(CALCULADORA!$C$30>'TIR de Tenencia'!J106,VLOOKUP(J106,A:H,7),CALCULADORA!$C$36))","v":28992114893},{"$f":"IF(K106=K105, \" \", IF(J106 > CALCULADORA!$C$30, CALCULADORA!$C$30, J106))","v":" "}," ",null,16,12,2030]
[{"$f":"+Flujos!A107","v":"2031-09-16"},{"$f":"+Flujos!L107","v":10200484.022372223},{"$f":"+Flujos!M107","v":579061.50465011818},{"$f":"+Flujos!N107","v":67684.76636417328},{"$f":"+Flujos!O107","v":646746.27101429144},{"$f":"+Flujos!P107","v":219012005.3211126},{"$f":"+Flujos!Q107","v":25599657.881014619},{"$f":"+Flujos!R107","v":244611663.20212722},null,"2030-12-16",{"$f":"IF(J107<CALCULADORA!$C$26,0,IF(CALCULADORA!$C$30>'TIR de Tenencia'!J107,VLOOKUP(J107,A:H,7),CALCULADORA!$C$36))","v":28992114893},{"$f":"IF(K107=K106, \" \", IF(J107 > CALCULADORA!$C$30, CALCULADORA!$C$30, J107))","v":" "}," ",null,16,1,2031]
[{"$f":"+Flujos!A108","v":"2031-10-16"},{"$f":"+Flujos!L108","v":9625180.9783715419},{"$f":"+Flujos!M108","v":575303.04400068137},{"$f":"+Flujos!N108","v":64048.839176475187},{"$f":"+Flujos!O108","v":639351.88317715656},{"$f":"+Flujos!P108","v":217590484.46858931},{"$f":"+Flujos!Q108","v":24224481.499603353},{"$f":"+Flujos!R108","v":241814965.96819267},null,"2031-01-16",{"$f":"IF(J108<CALCULADORA!$C$26,0,IF(CALCULADORA!$C$30>'TIR de Tenencia'!J108,VLOOKUP(J108,A:H,7),CALCULADORA!$C$36))","v":28992114893},{"$f":"IF(K108=K107, \" \", IF(J108 > CALCULADORA!$C$30, CALCULADORA!$C$30, J108))","v":" "}," ",null,16,2,2031]
[{"$f":"+Flujos!A109","v":"2031-11-16"},{"$f":"+Flujos!L109","v":9052805.0606183037},{"$f":"+Flujos!M109","v":572375.91775323893},{"$f":"+Flujos!N109","v":60436.511363194913},{"$f":"+Flujos!O109","v":632812.42911643384},{"$f":"+Flujos!P109","v":216483389.9991205},{"$f":"+Flujos!Q109","v":22858230.84762508},{"$f":"+Flujos!R109","v":239341620.84674558},null,"2031-02-16",{"$f":"IF(J109<CALCULADORA!$C$26,0,IF(CALCULADORA!$C$30>'TIR de Tenencia'!J109,VLOOKUP(J109,A:H,7),CALCULADORA!$C$36))","v":28992114893},{"$f":"IF(K109=K108, \" \", IF(J109 > CALCULADORA!$C$30, CALCULADORA!$C$30, J109))","v":" "}," ",null,16,3,2031]
[{"$f":"+Flujos!A110","v":"2031-12-16"},{"$f":"+Flujos!L110","v":8610146.7663069796},{"$f":"+Flujos!M110","v":442658.29431132489},{"$f":"+Flujos!N110","v":56842.562975622328},{"$f":"+Flujos!O110","v":499500.8572869472},{"$f":"+Flujos!P110","v":167421733.15030557},{"$f":"+Flujos!Q110","v":21498931.641820606},{"$f":"+Flujos!R110","v":188920664.79212615},null,"2031-03-16",{"$f":"IF(J110<CALCULADORA!$C$26,0,IF(CALCULADORA!$C$30>'TIR de Tenencia'!J110,VLOOKUP(J110,A:H,7),CALCULADORA!$C$36))","v":28992114893},{"$f":"IF(K110=K109, \" \", IF(J110 > CALCULADORA!$C$30, CALCULADORA!$C$30, J110))","v":" "}," ",null,16,4,2031]
[{"$f":"+Flujos!A111","v":"2032-01-16"},{"$f":"+Flujos!L111","v":8047896.3270116281},{"$f":"+Flujos!M111","v":562250.43929535104},{"$f":"+Flujos!N111","v":54063.111545641521},{"$f":"+Flujos!O111","v":616313.5508409926},{"$f":"+Flujos!P111","v":212653742.67480445},{"$f":"+Flujos!Q111","v":20447690.579369836},{"$f":"+Flujos!R111","v":233101433.25417429},null,"2031-04-16",{"$f":"IF(J111<CALCULADORA!$C$26,0,IF(CALCULADORA!$C$30>'TIR de Tenencia'!J111,VLOOKUP(J111,A:H,7),CALCULADORA!$C$36))","v":28992114893},{"$f":"IF(K111=K110, \" \", IF(J111 > CALCULADORA!$C$30, CALCULADORA!$C$30, J111))","v":" "}," ",null,16,5,2031]
[{"$f":"+Flujos!A112","v":"2032-02-16"},{"$f":"+Flujos!L112","v":7492880.242597675},{"$f":"+Flujos!M112","v":555016.08441395313},{"$f":"+Flujos!N112","v":50532.741037306012},{"$f":"+Flujos!O112","v":605548.82545125915},{"$f":"+Flujos!P112","v":209917572.92935249},{"$f":"+Flujos!Q112","v":19112437.729114741},{"$f":"+Flujos!R112","v":229030010.65846726},null,"2031-05-16",{"$f":"IF(J112<CALCULADORA!$C$26,0,IF(CALCULADORA!$C$30>'TIR de Tenencia'!J112,VLOOKUP(J112,A:H,7),CALCULADORA!$C$36))","v":28992114893},{"$f":"IF(K112=K111, \" \", IF(J112 > CALCULADORA!$C$30, CALCULADORA!$C$30, J112))","v":" "}," ",null,16,6,2031]
[{"$f":"+Flujos!A113","v":"2032-03-16"},{"$f":"+Flujos!L113","v":6944994.8690123772},{"$f":"+Flujos!M113","v":547885.37358529738},{"$f":"+Flujos!N113","v":47047.795043270802},{"$f":"+Flujos!O113","v":594933.16862856818},{"$f":"+Flujos!P113","v":207220603.32352024},{"$f":"+Flujos!Q113","v":17794365.288691334},{"$f":"+Flujos!R113","v":225014968.61221159},null,"2031-06-16",{"$f":"IF(J113<CALCULADORA!$C$26,0,IF(CALCULADORA!$C$30>'TIR de Tenencia'!J113,VLOOKUP(J113,A:H,7),CALCULADORA!$C$36))","v":28992114893},{"$f":"IF(K113=K112, \" \", IF(J113 > CALCULADORA!$C$30, CALCULADORA!$C$30, J113))","v":" "}," ",null,16,7,2031]
[{"$f":"+Flujos!A114","v":"2032-04-16"},{"$f":"+Flujos!L114","v":6512460.9621689115},{"$f":"+Flujos!M114","v":432533.90684346599},{"$f":"+Flujos!N114","v":43607.622782528713},{"$f":"+Flujos!O114","v":476141.52962599468},{"$f":"+Flujos!P114","v":163592498.4590382},{"$f":"+Flujos!Q114","v":16493227.12042295},{"$f":"+Flujos!R114","v":180085725.57946113},null,"2031-07-16",{"$f":"IF(J114<CALCULADORA!$C$26,0,IF(CALCULADORA!$C$30>'TIR de Tenencia'!J114,VLOOKUP(J114,A:H,7),CALCULADORA!$C$36))","v":28992114893},{"$f":"IF(K114=K113, \" \", IF(J114 > CALCULADORA!$C$30, CALCULADORA!$C$30, J114))","v":" "}," ",null,16,8,2031]
[{"$f":"+Flujos!A115","v":"2032-05-16"},{"$f":"+Flujos!L115","v":6131569.0683417283},{"$f":"+Flujos!M115","v":380891.89382718317},{"$f":"+Flujos!N115","v":40891.742381458593},{"$f":"+Flujos!O115","v":421783.63620864175},{"$f":"+Flujos!P115","v":144060513.10223401},{"$f":"+Flujos!Q115","v":15466029.822598649},{"$f":"+Flujos!R115","v":159526542.92483267},null,"2031-08-16",{"$f":"IF(J115<CALCULADORA!$C$26,0,IF(CALCULADORA!$C$30>'TIR de Tenencia'!J115,VLOOKUP(J115,A:H,7),CALCULADORA!$C$36))","v":28992114893},{"$f":"IF(K115=K114, \" \", IF(J115 > CALCULADORA!$C$30, CALCULADORA!$C$30, J115))","v":" "}," ",null,16,9,2031]
[{"$f":"+Flujos!A116","v":"2032-06-16"},{"$f":"+Flujos!L116","v":5759340.7263337551},{"$f":"+Flujos!M116","v":372228.34200797329},{"$f":"+Flujos!N116","v":38500.122180117709},{"$f":"+Flujos!O116","v":410728.46418809099},{"$f":"+Flujos!P116","v":140783794.06307945},{"$f":"+Flujos!Q116","v":14561473.860829722},{"$f":"+Flujos!R116","v":155345267.92390919},null,"2031-09-16",{"$f":"IF(J116<CALCULADORA!$C$26,0,IF(CALCULADORA!$C$30>'TIR de Tenencia'!J116,VLOOKUP(J116,A:H,7),CALCULADORA!$C$36))","v":28992114893},{"$f":"IF(K116=K115, \" \", IF(J116 > CALCULADORA!$C$30, CALCULADORA!$C$30, J116))","v":" "}," ",null,16,10,2031]
[{"$f":"+Flujos!A117","v":"2032-07-16"},{"$f":"+Flujos!L117","v":5394037.9890290108},{"$f":"+Flujos!M117","v":365302.73730474385},{"$f":"+Flujos!N117","v":36162.900420649647},{"$f":"+Flujos!O117","v":401465.63772539352},{"$f":"+Flujos!P117","v":138164399.47038919},{"$f":"+Flujos!Q117","v":13677492.417907648},{"$f":"+Flujos!R117","v":151841891.88829684},null,"2031-10-16",{"$f":"IF(J117<CALCULADORA!$C$26,0,IF(CALCULADORA!$C$30>'TIR de Tenencia'!J117,VLOOKUP(J117,A:H,7),CALCULADORA!$C$36))","v":28992114893},{"$f":"IF(K117=K116, \" \", IF(J117 > CALCULADORA!$C$30, CALCULADORA!$C$30, J117))","v":" "}," ",null,16,11,2031]
[{"$f":"+Flujos!A118","v":"2032-08-16"},{"$f":"+Flujos!L118","v":5035103.360522747},{"$f":"+Flujos!M118","v":358934.62850626407},{"$f":"+Flujos!N118","v":33869.164533113159},{"$f":"+Flujos!O118","v":392803.7930393772},{"$f":"+Flujos!P118","v":135755860.36554784},{"$f":"+Flujos!Q118","v":12809958.153633073},{"$f":"+Flujos!R118","v":148565818.51918089},null,"2031-11-16",{"$f":"IF(J118<CALCULADORA!$C$26,0,IF(CALCULADORA!$C$30>'TIR de Tenencia'!J118,VLOOKUP(J118,A:H,7),CALCULADORA!$C$36))","v":28992114893},{"$f":"IF(K118=K117, \" \", IF(J118 > CALCULADORA!$C$30, CALCULADORA!$C$30, J118))","v":" "}," ",null,16,12,2031]
[{"$f":"+Flujos!A119","v":"2032-09-16"},{"$f":"+Flujos!L119","v":4683913.6702313889},{"$f":"+Flujos!M119","v":351189.69029135775},{"$f":"+Flujos!N119","v":31615.414000722329},{"$f":"+Flujos!O119","v":382805.1042920801},{"$f":"+Flujos!P119","v":132826578.35333802},{"$f":"+Flujos!Q119","v":11957547.106397798},{"$f":"+Flujos!R119","v":144784125.45973581},null,"2031-12-16",{"$f":"IF(J119<CALCULADORA!$C$26,0,IF(CALCULADORA!$C$30>'TIR de Tenencia'!J119,VLOOKUP(J119,A:H,7),CALCULADORA!$C$36))","v":28992114893},{"$f":"IF(K119=K118, \" \", IF(J119 > CALCULADORA!$C$30, CALCULADORA!$C$30, J119))","v":" "}," ",null,16,1,2032]
[{"$f":"+Flujos!A120","v":"2032-10-16"},{"$f":"+Flujos!L120","v":4340180.8967873175},{"$f":"+Flujos!M120","v":343732.77344407153},{"$f":"+Flujos!N120","v":29410.293935382892},{"$f":"+Flujos!O120","v":373143.06737945444},{"$f":"+Flujos!P120","v":130006231.46596596},{"$f":"+Flujos!Q120","v":11123529.020917188},{"$f":"+Flujos!R120","v":141129760.48688316},null,"2032-01-16",{"$f":"IF(J120<CALCULADORA!$C$26,0,IF(CALCULADORA!$C$30>'TIR de Tenencia'!J120,VLOOKUP(J120,A:H,7),CALCULADORA!$C$36))","v":28992114893},{"$f":"IF(K120=K119, \" \", IF(J120 > CALCULADORA!$C$30, CALCULADORA!$C$30, J120))","v":" "}," ",null,16,2,2032]
[{"$f":"+Flujos!A121","v":"2032-11-16"},{"$f":"+Flujos!L121","v":4019465.8309722207},{"$f":"+Flujos!M121","v":320715.06581509649},{"$f":"+Flujos!N121","v":27251.995850927568},{"$f":"+Flujos!O121","v":347967.06166602403},{"$f":"+Flujos!P121","v":121300499.4060134},{"$f":"+Flujos!Q121","v":10307219.893542388},{"$f":"+Flujos!R121","v":131607719.29955578},null,"2032-02-16",{"$f":"IF(J121<CALCULADORA!$C$26,0,IF(CALCULADORA!$C$30>'TIR de Tenencia'!J121,VLOOKUP(J121,A:H,7),CALCULADORA!$C$36))","v":28992114893},{"$f":"IF(K121=K120, \" \", IF(J121 > CALCULADORA!$C$30, CALCULADORA!$C$30, J121))","v":" "}," ",null,16,3,2032]
[{"$f":"+Flujos!A122","v":"2032-12-16"},{"$f":"+Flujos!L122","v":3698750.765157124},{"$f":"+Flujos!M122","v":320715.06581509649},{"$f":"+Flujos!N122","v":25238.225952674573},{"$f":"+Flujos!O122","v":345953.29176777106},{"$f":"+Flujos!P122","v":121300499.4060134},{"$f":"+Flujos!Q122","v":9545574.0577720292},{"$f":"+Flujos!R122","v":130846073.46378544},null,"2032-03-16",{"$f":"IF(J122<CALCULADORA!$C$26,0,IF(CALCULADORA!$C$30>'TIR de Tenencia'!J122,VLOOKUP(J122,A:H,7),CALCULADORA!$C$36))","v":28992114893},{"$f":"IF(K122=K121, \" \", IF(J122 > CALCULADORA!$C$30, CALCULADORA!$C$30, J122))","v":" "}," ",null,16,4,2032]
[{"$f":"+Flujos!A123","v":"2033-01-16"},{"$f":"+Flujos!L123","v":3378035.6993420273},{"$f":"+Flujos!M123","v":320715.06581509649},{"$f":"+Flujos!N123","v":23224.456054421582},{"$f":"+Flujos!O123","v":343939.5218695181},{"$f":"+Flujos!P123","v":121300499.4060134},{"$f":"+Flujos!Q123","v":8783928.2220016718},{"$f":"+Flujos!R123","v":130084427.62801509},null,"2032-04-16",{"$f":"IF(J123<CALCULADORA!$C$26,0,IF(CALCULADORA!$C$30>'TIR de Tenencia'!J123,VLOOKUP(J123,A:H,7),CALCULADORA!$C$36))","v":28992114893},{"$f":"IF(K123=K122, \" \", IF(J123 > CALCULADORA!$C$30, CALCULADORA!$C$30, J123))","v":" "}," ",null,16,5,2032]
[{"$f":"+Flujos!A124","v":"2033-02-16"},{"$f":"+Flujos!L124","v":3057320.6335269306},{"$f":"+Flujos!M124","v":320715.06581509649},{"$f":"+Flujos!N124","v":21210.686156168587},{"$f":"+Flujos!O124","v":341925.75197126507},{"$f":"+Flujos!P124","v":121300499.4060134},{"$f":"+Flujos!Q124","v":8022282.3862313116},{"$f":"+Flujos!R124","v":129322781.79224472},null,"2032-05-16",{"$f":"IF(J124<CALCULADORA!$C$26,0,IF(CALCULADORA!$C$30>'TIR de Tenencia'!J124,VLOOKUP(J124,A:H,7),CALCULADORA!$C$36))","v":28992114893},{"$f":"IF(K124=K123, \" \", IF(J124 > CALCULADORA!$C$30, CALCULADORA!$C$30, J124))","v":" "}," ",null,16,6,2032]
[{"$f":"+Flujos!A125","v":"2033-03-16"},{"$f":"+Flujos!L125","v":2736605.5677118339},{"$f":"+Flujos!M125","v":320715.06581509649},{"$f":"+Flujos!N125","v":19196.916257915596},{"$f":"+Flujos!O125","v":339911.9820730121},{"$f":"+Flujos!P125","v":121300499.4060134},{"$f":"+Flujos!Q125","v":7260636.5504609533},{"$f":"+Flujos!R125","v":128561135.95647436},null,"2032-06-16",{"$f":"IF(J125<CALCULADORA!$C$26,0,IF(CALCULADORA!$C$30>'TIR de Tenencia'!J125,VLOOKUP(J125,A:H,7),CALCULADORA!$C$36))","v":28992114893},{"$f":"IF(K125=K124, \" \", IF(J125 > CALCULADORA!$C$30, CALCULADORA!$C$30, J125))","v":" "}," ",null,16,7,2032]
[{"$f":"+Flujos!A126","v":"2033-04-16"},{"$f":"+Flujos!L126","v":2415890.5018967371},{"$f":"+Flujos!M126","v":320715.06581509649},{"$f":"+Flujos!N126","v":17183.146359662605},{"$f":"+Flujos!O126","v":337898.21217475907},{"$f":"+Flujos!P126","v":121300499.4060134},{"$f":"+Flujos!Q126","v":6498990.7146905949},{"$f":"+Flujos!R126","v":127799490.120704},null,"2032-07-16",{"$f":"IF(J126<CALCULADORA!$C$26,0,IF(CALCULADORA!$C$30>'TIR de Tenencia'!J126,VLOOKUP(J126,A:H,7),CALCULADORA!$C$36))","v":28992114893},{"$f":"IF(K126=K125, \" \", IF(J126 > CALCULADORA!$C$30, CALCULADORA!$C$30, J126))","v":" "}," ",null,16,8,2032]
[{"$f":"+Flujos!A127","v":"2033-05-16"},{"$f":"+Flujos!L127","v":2095175.4360816407},{"$f":"+Flujos!M127","v":320715.06581509649},{"$f":"+Flujos!N127","v":15169.376461409613},{"$f":"+Flujos!O127","v":335884.4422765061},{"$f":"+Flujos!P127","v":121300499.4060134},{"$f":"+Flujos!Q127","v":5737344.8789202366},{"$f":"+Flujos!R127","v":127037844.28493364},null,"2032-08-16",{"$f":"IF(J127<CALCULADORA!$C$26,0,IF(CALCULADORA!$C$30>'TIR de Tenencia'!J127,VLOOKUP(J127,A:H,7),CALCULADORA!$C$36))","v":28992114893},{"$f":"IF(K127=K126, \" \", IF(J127 > CALCULADORA!$C$30, CALCULADORA!$C$30, J127))","v":" "}," ",null,16,9,2032]
[{"$f":"+Flujos!A128","v":"2033-06-16"},{"$f":"+Flujos!L128","v":1795864.5036428291},{"$f":"+Flujos!M128","v":299310.93243881146},{"$f":"+Flujos!N128","v":13155.606563156622},{"$f":"+Flujos!O128","v":312466.53900196811},{"$f":"+Flujos!P128","v":113205051.6249816},{"$f":"+Flujos!Q128","v":4975699.0431498783},{"$f":"+Flujos!R128","v":118180750.66813149},null,"2032-09-16",{"$f":"IF(J128<CALCULADORA!$C$26,0,IF(CALCULADORA!$C$30>'TIR de Tenencia'!J128,VLOOKUP(J128,A:H,7),CALCULADORA!$C$36))","v":28992114893},{"$f":"IF(K128=K127, \" \", IF(J128 > CALCULADORA!$C$30, CALCULADORA!$C$30, J128))","v":" "}," ",null,16,10,2032]
[{"$f":"+Flujos!A129","v":"2033-07-16"},{"$f":"+Flujos!L129","v":1496553.5712040176},{"$f":"+Flujos!M129","v":299310.93243881146},{"$f":"+Flujos!N129","v":11276.233218373323},{"$f":"+Flujos!O129","v":310587.16565718479},{"$f":"+Flujos!P129","v":113205051.6249816},{"$f":"+Flujos!Q129","v":4264884.5239966186},{"$f":"+Flujos!R129","v":117469936.14897822},null,"2032-10-16",{"$f":"IF(J129<CALCULADORA!$C$26,0,IF(CALCULADORA!$C$30>'TIR de Tenencia'!J129,VLOOKUP(J129,A:H,7),CALCULADORA!$C$36))","v":28992114893},{"$f":"IF(K129=K128, \" \", IF(J129 > CALCULADORA!$C$30, CALCULADORA!$C$30, J129))","v":" "}," ",null,16,11,2032]
[{"$f":"+Flujos!A130","v":"2033-08-16"},{"$f":"+Flujos!L130","v":1197242.6387652061},{"$f":"+Flujos!M130","v":299310.93243881146},{"$f":"+Flujos!N130","v":9396.8598735900268},{"$f":"+Flujos!O130","v":308707.79231240146},{"$f":"+Flujos!P130","v":113205051.6249816},{"$f":"+Flujos!Q130","v":3554070.0048433593},{"$f":"+Flujos!R130","v":116759121.62982494},null,"2032-11-16",{"$f":"IF(J130<CALCULADORA!$C$26,0,IF(CALCULADORA!$C$30>'TIR de Tenencia'!J130,VLOOKUP(J130,A:H,7),CALCULADORA!$C$36))","v":28992114893},{"$f":"IF(K130=K129, \" \", IF(J130 > CALCULADORA!$C$30, CALCULADORA!$C$30, J130))","v":" "}," ",null,16,12,2032]
[{"$f":"+Flujos!A131","v":"2033-09-16"},{"$f":"+Flujos!L131","v":897931.70632639457},{"$f":"+Flujos!M131","v":299310.93243881146},{"$f":"+Flujos!N131","v":7517.4865288067285},{"$f":"+Flujos!O131","v":306828.4189676182},{"$f":"+Flujos!P131","v":113205051.6249816},{"$f":"+Flujos!Q131","v":2843255.4856900992},{"$f":"+Flujos!R131","v":116048307.1106717},null,{"$f":"+DATE(Q130,P130,O130)","v":"2032-12-16"},{"$f":"IF(J131<CALCULADORA!$C$26,0,IF(CALCULADORA!$C$30>'TIR de Tenencia'!J131,VLOOKUP(J131,A:H,7),CALCULADORA!$C$36))","v":28992114893},{"$f":"IF(K131=K130, \" \", IF(J131 > CALCULADORA!$C$30, CALCULADORA!$C$30, J131))","v":" "}," ",null,{"$f":"+O130","v":16},{"$f":"+IF(P130=12,1,P130+1)","v":1},2033]
[{"$f":"+Flujos!A132","v":"2033-10-16"},{"$f":"+Flujos!L132","v":598620.77388758305},{"$f":"+Flujos!M132","v":299310.93243881146},{"$f":"+Flujos!N132","v":5638.1131840234311},{"$f":"+Flujos!O132","v":304949.04562283488},{"$f":"+Flujos!P132","v":113205051.6249816},{"$f":"+Flujos!Q132","v":2132440.96653684},{"$f":"+Flujos!R132","v":115337492.59151843},null,"2033-01-16",{"$f":"IF(J132<CALCULADORA!$C$26,0,IF(CALCULADORA!$C$30>'TIR de Tenencia'!J132,VLOOKUP(J132,A:H,7),CALCULADORA!$C$36))","v":28992114893},{"$f":"IF(K132=K131, \" \", IF(J132 > CALCULADORA!$C$30, CALCULADORA!$C$30, J132))","v":" "},{"$f":"+IF(K132=K131,\" \",K132)","v":" "},null,16,2,2033]
[{"$f":"+Flujos!A133","v":"2033-11-16"},{"$f":"+Flujos!L133","v":299309.84144877159},{"$f":"+Flujos!M133","v":299310.93243881146},{"$f":"+Flujos!N133","v":3758.7398392401337},{"$f":"+Flujos!O133","v":303069.67227805161},{"$f":"+Flujos!P133","v":113205051.6249816},{"$f":"+Flujos!Q133","v":1421626.4473835803},{"$f":"+Flujos!R133","v":114626678.07236518},null,"2033-02-16",{"$f":"IF(J133<CALCULADORA!$C$26,0,IF(CALCULADORA!$C$30>'TIR de Tenencia'!J133,VLOOKUP(J133,A:H,7),CALCULADORA!$C$36))","v":28992114893},{"$f":"IF(K133=K132, \" \", IF(J133 > CALCULADORA!$C$30, CALCULADORA!$C$30, J133))","v":" "}," ",null,16,3,2033]
[{"$f":"+Flujos!A134","v":"2033-12-16"},{"$f":"+Flujos!L134","v":-1.100124791264534E-8},{"$f":"+Flujos!M134","v":299309.84144878259},{"$f":"+Flujos!N134","v":1879.3664944568368},{"$f":"+Flujos!O134","v":301189.20794323942},{"$f":"+Flujos!P134","v":113204638.99193296},{"$f":"+Flujos!Q134","v":710811.92823032092},{"$f":"+Flujos!R134","v":113915450.92016329},null,"2033-03-16",{"$f":"IF(J134<CALCULADORA!$C$26,0,IF(CALCULADORA!$C$30>'TIR de Tenencia'!J134,VLOOKUP(J134,A:H,7),CALCULADORA!$C$36))","v":28992114893},{"$f":"IF(K134=K133, \" \", IF(J134 > CALCULADORA!$C$30, CALCULADORA!$C$30, J134))","v":" "}," ",null,16,4,2033]
[{"$f":"+Flujos!A135","v":"2034-01-16"},{"$f":"+Flujos!L135","v":-1.100124791264534E-8},{"$f":"+Flujos!M135","v":0},{"$f":"+Flujos!N135","v":-6.9076835643500089E-11},{"$f":"+Flujos!O135","v":-6.9076835643500089E-11},{"$f":"+Flujos!P135","v":0},{"$f":"+Flujos!Q135","v":-2.6126164792565398E-8},{"$f":"+Flujos!R135","v":-2.6126164792565398E-8},null,"2033-04-16",{"$f":"IF(J135<CALCULADORA!$C$26,0,IF(CALCULADORA!$C$30>'TIR de Tenencia'!J135,VLOOKUP(J135,A:H,7),CALCULADORA!$C$36))","v":28992114893},{"$f":"IF(K135=K134, \" \", IF(J135 > CALCULADORA!$C$30, CALCULADORA!$C$30, J135))","v":" "}," ",null,16,5,2033]
[{"$f":"+Flujos!A136","v":"2034-02-16"},{"$f":"+Flujos!L136","v":-1.100124791264534E-8},{"$f":"+Flujos!M136","v":0},{"$f":"+Flujos!N136","v":-6.9076835643500089E-11},{"$f":"+Flujos!O136","v":-6.9076835643500089E-11},{"$f":"+Flujos!P136","v":0},{"$f":"+Flujos!Q136","v":-2.6126164792565398E-8},{"$f":"+Flujos!R136","v":-2.6126164792565398E-8},null,"2033-05-16",{"$f":"IF(J136<CALCULADORA!$C$26,0,IF(CALCULADORA!$C$30>'TIR de Tenencia'!J136,VLOOKUP(J136,A:H,7),CALCULADORA!$C$36))","v":28992114893},{"$f":"IF(K136=K135, \" \", IF(J136 > CALCULADORA!$C$30, CALCULADORA!$C$30, J136))","v":" "}," ",null,16,6,2033]
[{"$f":"+Flujos!A137","v":"2034-03-16"},{"$f":"+Flujos!L137","v":-1.100124791264534E-8},{"$f":"+Flujos!M137","v":0},{"$f":"+Flujos!N137","v":-6.9076835643500089E-11},{"$f":"+Flujos!O137","v":-6.9076835643500089E-11},{"$f":"+Flujos!P137","v":0},{"$f":"+Flujos!Q137","v":-2.6126164792565398E-8},{"$f":"+Flujos!R137","v":-2.6126164792565398E-8},null,"2033-06-16",{"$f":"IF(J137<CALCULADORA!$C$26,0,IF(CALCULADORA!$C$30>'TIR de Tenencia'!J137,VLOOKUP(J137,A:H,7),CALCULADORA!$C$36))","v":28992114893},{"$f":"IF(K137=K136, \" \", IF(J137 > CALCULADORA!$C$30, CALCULADORA!$C$30, J137))","v":" "}," ",null,16,7,2033]
[{"$f":"+Flujos!A138","v":"2034-04-16"},{"$f":"+Flujos!L138","v":-1.100124791264534E-8},{"$f":"+Flujos!M138","v":0},{"$f":"+Flujos!N138","v":-6.9076835643500089E-11},{"$f":"+Flujos!O138","v":-6.9076835643500089E-11},{"$f":"+Flujos!P138","v":0},{"$f":"+Flujos!Q138","v":-2.6126164792565398E-8},{"$f":"+Flujos!R138","v":-2.6126164792565398E-8},null,"2033-07-16",{"$f":"IF(J138<CALCULADORA!$C$26,0,IF(CALCULADORA!$C$30>'TIR de Tenencia'!J138,VLOOKUP(J138,A:H,7),CALCULADORA!$C$36))","v":28992114893},{"$f":"IF(K138=K137, \" \", IF(J138 > CALCULADORA!$C$30, CALCULADORA!$C$30, J138))","v":" "}," ",null,16,8,2033]
[{"$f":"+Flujos!A139","v":"2034-05-16"},{"$f":"+Flujos!L139","v":-1.100124791264534E-8},{"$f":"+Flujos!M139","v":0},{"$f":"+Flujos!N139","v":-6.9076835643500089E-11},{"$f":"+Flujos!O139","v":-6.9076835643500089E-11},{"$f":"+Flujos!P139","v":0},{"$f":"+Flujos!Q139","v":-2.6126164792565398E-8},{"$f":"+Flujos!R139","v":-2.6126164792565398E-8},null,"2033-08-16",{"$f":"IF(J139<CALCULADORA!$C$26,0,IF(CALCULADORA!$C$30>'TIR de Tenencia'!J139,VLOOKUP(J139,A:H,7),CALCULADORA!$C$36))","v":28992114893},{"$f":"IF(K139=K138, \" \", IF(J139 > CALCULADORA!$C$30, CALCULADORA!$C$30, J139))","v":" "}," ",null,16,9,2033]
[{"$f":"+Flujos!A140","v":"2034-06-16"},{"$f":"+Flujos!L140","v":-1.100124791264534E-8},{"$f":"+Flujos!M140","v":0},{"$f":"+Flujos!N140","v":-6.9076835643500089E-11},{"$f":"+Flujos!O140","v":-6.9076835643500089E-11},{"$f":"+Flujos!P140","v":0},{"$f":"+Flujos!Q140","v":-2.6126164792565398E-8},{"$f":"+Flujos!R140","v":-2.6126164792565398E-8},null,"2033-09-16",{"$f":"IF(J140<CALCULADORA!$C$26,0,IF(CALCULADORA!$C$30>'TIR de Tenencia'!J140,VLOOKUP(J140,A:H,7),CALCULADORA!$C$36))","v":28992114893},{"$f":"IF(K140=K139, \" \", IF(J140 > CALCULADORA!$C$30, CALCULADORA!$C$30, J140))","v":" "}," ",null,16,10,{"$f":"+IF(P140=1,Q139+1,Q139)","v":2033}]
[{"$f":"+Flujos!A141","v":"2034-07-16"},{"$f":"+Flujos!L141","v":-1.100124791264534E-8},{"$f":"+Flujos!M141","v":0},{"$f":"+Flujos!N141","v":-6.9076835643500089E-11},{"$f":"+Flujos!O141","v":-6.9076835643500089E-11},{"$f":"+Flujos!P141","v":0},{"$f":"+Flujos!Q141","v":-2.6126164792565398E-8},{"$f":"+Flujos!R141","v":-2.6126164792565398E-8},null,"2033-10-16",{"$f":"IF(J141<CALCULADORA!$C$26,0,IF(CALCULADORA!$C$30>'TIR de Tenencia'!J141,VLOOKUP(J141,A:H,7),CALCULADORA!$C$36))","v":28992114893},{"$f":"IF(K141=K140, \" \", IF(J141 > CALCULADORA!$C$30, CALCULADORA!$C$30, J141))","v":" "}," ",null,16,11,2033]
[{"$f":"+Flujos!A142","v":"2034-08-16"},{"$f":"+Flujos!L142","v":-1.100124791264534E-8},{"$f":"+Flujos!M142","v":0},{"$f":"+Flujos!N142","v":-6.9076835643500089E-11},{"$f":"+Flujos!O142","v":-6.9076835643500089E-11},{"$f":"+Flujos!P142","v":0},{"$f":"+Flujos!Q142","v":-2.6126164792565398E-8},{"$f":"+Flujos!R142","v":-2.6126164792565398E-8},null,"2033-11-16",{"$f":"IF(J142<CALCULADORA!$C$26,0,IF(CALCULADORA!$C$30>'TIR de Tenencia'!J142,VLOOKUP(J142,A:H,7),CALCULADORA!$C$36))","v":28992114893},{"$f":"IF(K142=K141, \" \", IF(J142 > CALCULADORA!$C$30, CALCULADORA!$C$30, J142))","v":" "}," ",null,16,12,2033]
[{"$f":"+Flujos!A143","v":"2034-09-16"},{"$f":"+Flujos!L143","v":-1.100124791264534E-8},{"$f":"+Flujos!M143","v":0},{"$f":"+Flujos!N143","v":-6.9076835643500089E-11},{"$f":"+Flujos!O143","v":-6.9076835643500089E-11},{"$f":"+Flujos!P143","v":0},{"$f":"+Flujos!Q143","v":-2.6126164792565398E-8},{"$f":"+Flujos!R143","v":-2.6126164792565398E-8},null,"2033-12-16",{"$f":"IF(J143<CALCULADORA!$C$26,0,IF(CALCULADORA!$C$30>'TIR de Tenencia'!J143,VLOOKUP(J143,A:H,7),CALCULADORA!$C$36))","v":28992114893},{"$f":"IF(K143=K142, \" \", IF(J143 > CALCULADORA!$C$30, CALCULADORA!$C$30, J143))","v":" "}," ",null,16,1,2034]
[{"$f":"+Flujos!A144","v":"2034-10-16"},{"$f":"+Flujos!L144","v":-1.100124791264534E-8},{"$f":"+Flujos!M144","v":0},{"$f":"+Flujos!N144","v":-6.9076835643500089E-11},{"$f":"+Flujos!O144","v":-6.9076835643500089E-11},{"$f":"+Flujos!P144","v":0},{"$f":"+Flujos!Q144","v":-2.6126164792565398E-8},{"$f":"+Flujos!R144","v":-2.6126164792565398E-8},null,"2034-01-16",{"$f":"IF(J144<CALCULADORA!$C$26,0,IF(CALCULADORA!$C$30>'TIR de Tenencia'!J144,VLOOKUP(J144,A:H,7),CALCULADORA!$C$36))","v":28992114893},{"$f":"IF(K144=K143, \" \", IF(J144 > CALCULADORA!$C$30, CALCULADORA!$C$30, J144))","v":" "}," ",null,16,2,2034]
[{"$f":"+Flujos!A145","v":"2034-11-16"},{"$f":"+Flujos!L145","v":-1.100124791264534E-8},{"$f":"+Flujos!M145","v":0},{"$f":"+Flujos!N145","v":-6.9076835643500089E-11},{"$f":"+Flujos!O145","v":-6.9076835643500089E-11},{"$f":"+Flujos!P145","v":0},{"$f":"+Flujos!Q145","v":-2.6126164792565398E-8},{"$f":"+Flujos!R145","v":-2.6126164792565398E-8},null,"2034-02-16",{"$f":"IF(J145<CALCULADORA!$C$26,0,IF(CALCULADORA!$C$30>'TIR de Tenencia'!J145,VLOOKUP(J145,A:H,7),CALCULADORA!$C$36))","v":28992114893},{"$f":"IF(K145=K144, \" \", IF(J145 > CALCULADORA!$C$30, CALCULADORA!$C$30, J145))","v":" "}," ",null,16,3,2034]
[{"$f":"+Flujos!A146","v":"2034-12-16"},{"$f":"+Flujos!L146","v":-1.100124791264534E-8},{"$f":"+Flujos!M146","v":0},{"$f":"+Flujos!N146","v":-6.9076835643500089E-11},{"$f":"+Flujos!O146","v":-6.9076835643500089E-11},{"$f":"+Flujos!P146","v":0},{"$f":"+Flujos!Q146","v":-2.6126164792565398E-8},{"$f":"+Flujos!R146","v":-2.6126164792565398E-8},null,"2034-03-16",{"$f":"IF(J146<CALCULADORA!$C$26,0,IF(CALCULADORA!$C$30>'TIR de Tenencia'!J146,VLOOKUP(J146,A:H,7),CALCULADORA!$C$36))","v":28992114893},{"$f":"IF(K146=K145, \" \", IF(J146 > CALCULADORA!$C$30, CALCULADORA!$C$30, J146))","v":" "}," ",null,16,4,2034]
[{"$f":"+Flujos!A147","v":"2035-01-16"},{"$f":"+Flujos!L147","v":-1.100124791264534E-8},{"$f":"+Flujos!M147","v":0},{"$f":"+Flujos!N147","v":-6.9076835643500089E-11},{"$f":"+Flujos!O147","v":-6.9076835643500089E-11},{"$f":"+Flujos!P147","v":0},{"$f":"+Flujos!Q147","v":-2.6126164792565398E-8},{"$f":"+Flujos!R147","v":-2.6126164792565398E-8},null,"2034-04-16",{"$f":"IF(J147<CALCULADORA!$C$26,0,IF(CALCULADORA!$C$30>'TIR de Tenencia'!J147,VLOOKUP(J147,A:H,7),CALCULADORA!$C$36))","v":28992114893},{"$f":"IF(K147=K146, \" \", IF(J147 > CALCULADORA!$C$30, CALCULADORA!$C$30, J147))","v":" "}," ",null,16,5,2034]
[{"$f":"+Flujos!A148","v":"2035-02-16"},{"$f":"+Flujos!L148","v":-1.100124791264534E-8},{"$f":"+Flujos!M148","v":0},{"$f":"+Flujos!N148","v":-6.9076835643500089E-11},{"$f":"+Flujos!O148","v":-6.9076835643500089E-11},{"$f":"+Flujos!P148","v":0},{"$f":"+Flujos!Q148","v":-2.6126164792565398E-8},{"$f":"+Flujos!R148","v":-2.6126164792565398E-8},null,"2034-05-16",{"$f":"IF(J148<CALCULADORA!$C$26,0,IF(CALCULADORA!$C$30>'TIR de Tenencia'!J148,VLOOKUP(J148,A:H,7),CALCULADORA!$C$36))","v":28992114893},{"$f":"IF(K148=K147, \" \", IF(J148 > CALCULADORA!$C$30, CALCULADORA!$C$30, J148))","v":" "}," ",null,16,6,2034]
[{"$f":"+Flujos!A149","v":"2035-03-16"},{"$f":"+Flujos!L149","v":-1.100124791264534E-8},{"$f":"+Flujos!M149","v":0},{"$f":"+Flujos!N149","v":-6.9076835643500089E-11},{"$f":"+Flujos!O149","v":-6.9076835643500089E-11},{"$f":"+Flujos!P149","v":0},{"$f":"+Flujos!Q149","v":-2.6126164792565398E-8},{"$f":"+Flujos!R149","v":-2.6126164792565398E-8},null,"2034-06-16",{"$f":"IF(J149<CALCULADORA!$C$26,0,IF(CALCULADORA!$C$30>'TIR de Tenencia'!J149,VLOOKUP(J149,A:H,7),CALCULADORA!$C$36))","v":28992114893},{"$f":"IF(K149=K148, \" \", IF(J149 > CALCULADORA!$C$30, CALCULADORA!$C$30, J149))","v":" "}," ",null,16,7,2034]
[{"$f":"+Flujos!A150","v":"2035-04-16"},{"$f":"+Flujos!L150","v":-1.100124791264534E-8},{"$f":"+Flujos!M150","v":0},{"$f":"+Flujos!N150","v":-6.9076835643500089E-11},{"$f":"+Flujos!O150","v":-6.9076835643500089E-11},{"$f":"+Flujos!P150","v":0},{"$f":"+Flujos!Q150","v":-2.6126164792565398E-8},{"$f":"+Flujos!R150","v":-2.6126164792565398E-8},null,"2034-07-16",{"$f":"IF(J150<CALCULADORA!$C$26,0,IF(CALCULADORA!$C$30>'TIR de Tenencia'!J150,VLOOKUP(J150,A:H,7),CALCULADORA!$C$36))","v":28992114893},{"$f":"IF(K150=K149, \" \", IF(J150 > CALCULADORA!$C$30, CALCULADORA!$C$30, J150))","v":" "}," ",null,16,8,2034]
[{"$f":"+Flujos!A151","v":"2035-05-16"},{"$f":"+Flujos!L151","v":-1.100124791264534E-8},{"$f":"+Flujos!M151","v":0},{"$f":"+Flujos!N151","v":-6.9076835643500089E-11},{"$f":"+Flujos!O151","v":-6.9076835643500089E-11},{"$f":"+Flujos!P151","v":0},{"$f":"+Flujos!Q151","v":-2.6126164792565398E-8},{"$f":"+Flujos!R151","v":-2.6126164792565398E-8},null,"2034-08-16",{"$f":"IF(J151<CALCULADORA!$C$26,0,IF(CALCULADORA!$C$30>'TIR de Tenencia'!J151,VLOOKUP(J151,A:H,7),CALCULADORA!$C$36))","v":28992114893},{"$f":"IF(K151=K150, \" \", IF(J151 > CALCULADORA!$C$30, CALCULADORA!$C$30, J151))","v":" "}," ",null,16,9,2034]
[{"$f":"+Flujos!A152","v":"2035-06-16"},{"$f":"+Flujos!L152","v":-1.100124791264534E-8},{"$f":"+Flujos!M152","v":0},{"$f":"+Flujos!N152","v":-6.9076835643500089E-11},{"$f":"+Flujos!O152","v":-6.9076835643500089E-11},{"$f":"+Flujos!P152","v":0},{"$f":"+Flujos!Q152","v":-2.6126164792565398E-8},{"$f":"+Flujos!R152","v":-2.6126164792565398E-8},null,"2034-09-16",{"$f":"IF(J152<CALCULADORA!$C$26,0,IF(CALCULADORA!$C$30>'TIR de Tenencia'!J152,VLOOKUP(J152,A:H,7),CALCULADORA!$C$36))","v":28992114893},{"$f":"IF(K152=K151, \" \", IF(J152 > CALCULADORA!$C$30, CALCULADORA!$C$30, J152))","v":" "}," ",null,16,10,2034]
[{"$f":"+Flujos!A153","v":"2035-07-16"},{"$f":"+Flujos!L153","v":-1.100124791264534E-8},{"$f":"+Flujos!M153","v":0},{"$f":"+Flujos!N153","v":-6.9076835643500089E-11},{"$f":"+Flujos!O153","v":-6.9076835643500089E-11},{"$f":"+Flujos!P153","v":0},{"$f":"+Flujos!Q153","v":-2.6126164792565398E-8},{"$f":"+Flujos!R153","v":-2.6126164792565398E-8},null,"2034-10-16",{"$f":"IF(J153<CALCULADORA!$C$26,0,IF(CALCULADORA!$C$30>'TIR de Tenencia'!J153,VLOOKUP(J153,A:H,7),CALCULADORA!$C$36))","v":28992114893},{"$f":"IF(K153=K152, \" \", IF(J153 > CALCULADORA!$C$30, CALCULADORA!$C$30, J153))","v":" "}," ",null,16,11,2034]
[{"$f":"+Flujos!A154","v":"2035-08-16"},{"$f":"+Flujos!L154","v":-1.100124791264534E-8},{"$f":"+Flujos!M154","v":0},{"$f":"+Flujos!N154","v":-6.9076835643500089E-11},{"$f":"+Flujos!O154","v":-6.9076835643500089E-11},{"$f":"+Flujos!P154","v":0},{"$f":"+Flujos!Q154","v":-2.6126164792565398E-8},{"$f":"+Flujos!R154","v":-2.6126164792565398E-8},null,"2034-11-16",{"$f":"IF(J154<CALCULADORA!$C$26,0,IF(CALCULADORA!$C$30>'TIR de Tenencia'!J154,VLOOKUP(J154,A:H,7),CALCULADORA!$C$36))","v":28992114893},{"$f":"IF(K154=K153, \" \", IF(J154 > CALCULADORA!$C$30, CALCULADORA!$C$30, J154))","v":" "}," ",null,16,12,2034]
[{"$f":"+Flujos!A155","v":"2035-09-16"},{"$f":"+Flujos!L155","v":-1.100124791264534E-8},{"$f":"+Flujos!M155","v":0},{"$f":"+Flujos!N155","v":-6.9076835643500089E-11},{"$f":"+Flujos!O155","v":-6.9076835643500089E-11},{"$f":"+Flujos!P155","v":0},{"$f":"+Flujos!Q155","v":-2.6126164792565398E-8},{"$f":"+Flujos!R155","v":-2.6126164792565398E-8},null,"2034-12-16",{"$f":"IF(J155<CALCULADORA!$C$26,0,IF(CALCULADORA!$C$30>'TIR de Tenencia'!J155,VLOOKUP(J155,A:H,7),CALCULADORA!$C$36))","v":28992114893},{"$f":"IF(K155=K154, \" \", IF(J155 > CALCULADORA!$C$30, CALCULADORA!$C$30, J155))","v":" "}," ",null,16,1,2035]
[{"$f":"+Flujos!A156","v":"2035-10-16"},{"$f":"+Flujos!L156","v":-1.100124791264534E-8},{"$f":"+Flujos!M156","v":0},{"$f":"+Flujos!N156","v":-6.9076835643500089E-11},{"$f":"+Flujos!O156","v":-6.9076835643500089E-11},{"$f":"+Flujos!P156","v":0},{"$f":"+Flujos!Q156","v":-2.6126164792565398E-8},{"$f":"+Flujos!R156","v":-2.6126164792565398E-8},null,"2035-01-16",{"$f":"IF(J156<CALCULADORA!$C$26,0,IF(CALCULADORA!$C$30>'TIR de Tenencia'!J156,VLOOKUP(J156,A:H,7),CALCULADORA!$C$36))","v":28992114893},{"$f":"IF(K156=K155, \" \", IF(J156 > CALCULADORA!$C$30, CALCULADORA!$C$30, J156))","v":" "}," ",null,16,2,2035]
[{"$f":"+Flujos!A157","v":"2035-11-16"},{"$f":"+Flujos!L157","v":-1.100124791264534E-8},{"$f":"+Flujos!M157","v":0},{"$f":"+Flujos!N157","v":-6.9076835643500089E-11},{"$f":"+Flujos!O157","v":-6.9076835643500089E-11},{"$f":"+Flujos!P157","v":0},{"$f":"+Flujos!Q157","v":-2.6126164792565398E-8},{"$f":"+Flujos!R157","v":-2.6126164792565398E-8},null,"2035-02-16",{"$f":"IF(J157<CALCULADORA!$C$26,0,IF(CALCULADORA!$C$30>'TIR de Tenencia'!J157,VLOOKUP(J157,A:H,7),CALCULADORA!$C$36))","v":28992114893},{"$f":"IF(K157=K156, \" \", IF(J157 > CALCULADORA!$C$30, CALCULADORA!$C$30, J157))","v":" "}," ",null,16,3,2035]
[{"$f":"+Flujos!A158","v":"2035-12-16"},{"$f":"+Flujos!L158","v":-1.100124791264534E-8},{"$f":"+Flujos!M158","v":0},{"$f":"+Flujos!N158","v":-6.9076835643500089E-11},{"$f":"+Flujos!O158","v":-6.9076835643500089E-11},{"$f":"+Flujos!P158","v":0},{"$f":"+Flujos!Q158","v":-2.6126164792565398E-8},{"$f":"+Flujos!R158","v":-2.6126164792565398E-8},null,"2035-03-16",{"$f":"IF(J158<CALCULADORA!$C$26,0,IF(CALCULADORA!$C$30>'TIR de Tenencia'!J158,VLOOKUP(J158,A:H,7),CALCULADORA!$C$36))","v":28992114893},{"$f":"IF(K158=K157, \" \", IF(J158 > CALCULADORA!$C$30, CALCULADORA!$C$30, J158))","v":" "}," ",null,16,4,2035]
[{"$f":"+Flujos!A159","v":"2036-01-16"},{"$f":"+Flujos!L159","v":-1.100124791264534E-8},{"$f":"+Flujos!M159","v":0},{"$f":"+Flujos!N159","v":-6.9076835643500089E-11},{"$f":"+Flujos!O159","v":-6.9076835643500089E-11},{"$f":"+Flujos!P159","v":0},{"$f":"+Flujos!Q159","v":-2.6126164792565398E-8},{"$f":"+Flujos!R159","v":-2.6126164792565398E-8},null,"2035-04-16",{"$f":"IF(J159<CALCULADORA!$C$26,0,IF(CALCULADORA!$C$30>'TIR de Tenencia'!J159,VLOOKUP(J159,A:H,7),CALCULADORA!$C$36))","v":28992114893},{"$f":"IF(K159=K158, \" \", IF(J159 > CALCULADORA!$C$30, CALCULADORA!$C$30, J159))","v":" "}," ",null,16,5,2035]
[{"$f":"+Flujos!A160","v":"2036-02-16"},{"$f":"+Flujos!L160","v":-1.100124791264534E-8},{"$f":"+Flujos!M160","v":0},{"$f":"+Flujos!N160","v":-6.9076835643500089E-11},{"$f":"+Flujos!O160","v":-6.9076835643500089E-11},{"$f":"+Flujos!P160","v":0},{"$f":"+Flujos!Q160","v":-2.6126164792565398E-8},{"$f":"+Flujos!R160","v":-2.6126164792565398E-8},null,"2035-05-16",{"$f":"IF(J160<CALCULADORA!$C$26,0,IF(CALCULADORA!$C$30>'TIR de Tenencia'!J160,VLOOKUP(J160,A:H,7),CALCULADORA!$C$36))","v":28992114893},{"$f":"IF(K160=K159, \" \", IF(J160 > CALCULADORA!$C$30, CALCULADORA!$C$30, J160))","v":" "}," ",null,16,6,2035]
[{"$f":"+Flujos!A161","v":"2036-03-16"},{"$f":"+Flujos!L161","v":-1.100124791264534E-8},{"$f":"+Flujos!M161","v":0},{"$f":"+Flujos!N161","v":-6.9076835643500089E-11},{"$f":"+Flujos!O161","v":-6.9076835643500089E-11},{"$f":"+Flujos!P161","v":0},{"$f":"+Flujos!Q161","v":-2.6126164792565398E-8},{"$f":"+Flujos!R161","v":-2.6126164792565398E-8},null,"2035-06-16",{"$f":"IF(J161<CALCULADORA!$C$26,0,IF(CALCULADORA!$C$30>'TIR de Tenencia'!J161,VLOOKUP(J161,A:H,7),CALCULADORA!$C$36))","v":28992114893},{"$f":"IF(K161=K160, \" \", IF(J161 > CALCULADORA!$C$30, CALCULADORA!$C$30, J161))","v":" "}," ",null,16,7,2035]
[{"$f":"+Flujos!A162","v":"2036-04-16"},{"$f":"+Flujos!L162","v":-1.100124791264534E-8},{"$f":"+Flujos!M162","v":0},{"$f":"+Flujos!N162","v":-6.9076835643500089E-11},{"$f":"+Flujos!O162","v":-6.9076835643500089E-11},{"$f":"+Flujos!P162","v":0},{"$f":"+Flujos!Q162","v":-2.6126164792565398E-8},{"$f":"+Flujos!R162","v":-2.6126164792565398E-8},null,"2035-07-16",{"$f":"IF(J162<CALCULADORA!$C$26,0,IF(CALCULADORA!$C$30>'TIR de Tenencia'!J162,VLOOKUP(J162,A:H,7),CALCULADORA!$C$36))","v":28992114893},{"$f":"IF(K162=K161, \" \", IF(J162 > CALCULADORA!$C$30, CALCULADORA!$C$30, J162))","v":" "}," ",null,16,8,2035]
[{"$f":"+Flujos!A163","v":"2036-05-16"},{"$f":"+Flujos!L163","v":-1.100124791264534E-8},{"$f":"+Flujos!M163","v":0},{"$f":"+Flujos!N163","v":-6.9076835643500089E-11},{"$f":"+Flujos!O163","v":-6.9076835643500089E-11},{"$f":"+Flujos!P163","v":0},{"$f":"+Flujos!Q163","v":-2.6126164792565398E-8},{"$f":"+Flujos!R163","v":-2.6126164792565398E-8},null,{"$f":"+DATE(Q162,P162,O162)","v":"2035-08-16"},{"$f":"IF(J163<CALCULADORA!$C$26,0,IF(CALCULADORA!$C$30>'TIR de Tenencia'!J163,VLOOKUP(J163,A:H,7),CALCULADORA!$C$36))","v":28992114893},{"$f":"IF(K163=K162, \" \", IF(J163 > CALCULADORA!$C$30, CALCULADORA!$C$30, J163))","v":" "}," ",null,16,9,2035]
[{"$f":"+Flujos!A164","v":"2036-06-16"},{"$f":"+Flujos!L164","v":-1.100124791264534E-8},{"$f":"+Flujos!M164","v":0},{"$f":"+Flujos!N164","v":-6.9076835643500089E-11},{"$f":"+Flujos!O164","v":-6.9076835643500089E-11},{"$f":"+Flujos!P164","v":0},{"$f":"+Flujos!Q164","v":-2.6126164792565398E-8},{"$f":"+Flujos!R164","v":-2.6126164792565398E-8},null,"2035-09-16",{"$f":"IF(J164<CALCULADORA!$C$26,0,IF(CALCULADORA!$C$30>'TIR de Tenencia'!J164,VLOOKUP(J164,A:H,7),CALCULADORA!$C$36))","v":28992114893},{"$f":"IF(K164=K163, \" \", IF(J164 > CALCULADORA!$C$30, CALCULADORA!$C$30, J164))","v":" "}," ",null,16,10,2035]
[{"$f":"+Flujos!A165","v":"2036-07-16"},{"$f":"+Flujos!L165","v":-1.100124791264534E-8},{"$f":"+Flujos!M165","v":0},{"$f":"+Flujos!N165","v":-6.9076835643500089E-11},{"$f":"+Flujos!O165","v":-6.9076835643500089E-11},{"$f":"+Flujos!P165","v":0},{"$f":"+Flujos!Q165","v":-2.6126164792565398E-8},{"$f":"+Flujos!R165","v":-2.6126164792565398E-8},null,"2035-10-16",{"$f":"IF(J165<CALCULADORA!$C$26,0,IF(CALCULADORA!$C$30>'TIR de Tenencia'!J165,VLOOKUP(J165,A:H,7),CALCULADORA!$C$36))","v":28992114893},{"$f":"IF(K165=K164, \" \", IF(J165 > CALCULADORA!$C$30, CALCULADORA!$C$30, J165))","v":" "}," ",null,16,11,2035]
[{"$f":"+Flujos!A166","v":"2036-08-16"},{"$f":"+Flujos!L166","v":-1.100124791264534E-8},{"$f":"+Flujos!M166","v":0},{"$f":"+Flujos!N166","v":-6.9076835643500089E-11},{"$f":"+Flujos!O166","v":-6.9076835643500089E-11},{"$f":"+Flujos!P166","v":0},{"$f":"+Flujos!Q166","v":-2.6126164792565398E-8},{"$f":"+Flujos!R166","v":-2.6126164792565398E-8},null,"2035-11-16",{"$f":"IF(J166<CALCULADORA!$C$26,0,IF(CALCULADORA!$C$30>'TIR de Tenencia'!J166,VLOOKUP(J166,A:H,7),CALCULADORA!$C$36))","v":28992114893},{"$f":"IF(K166=K165, \" \", IF(J166 > CALCULADORA!$C$30, CALCULADORA!$C$30, J166))","v":" "}," ",null,16,12,2035]
[{"$f":"+Flujos!A167","v":"2036-09-16"},{"$f":"+Flujos!L167","v":-1.100124791264534E-8},{"$f":"+Flujos!M167","v":0},{"$f":"+Flujos!N167","v":-6.9076835643500089E-11},{"$f":"+Flujos!O167","v":-6.9076835643500089E-11},{"$f":"+Flujos!P167","v":0},{"$f":"+Flujos!Q167","v":-2.6126164792565398E-8},{"$f":"+Flujos!R167","v":-2.6126164792565398E-8},null,"2035-12-16",{"$f":"IF(J167<CALCULADORA!$C$26,0,IF(CALCULADORA!$C$30>'TIR de Tenencia'!J167,VLOOKUP(J167,A:H,7),CALCULADORA!$C$36))","v":28992114893},{"$f":"IF(K167=K166, \" \", IF(J167 > CALCULADORA!$C$30, CALCULADORA!$C$30, J167))","v":" "}," ",null,16,1,2036]
[{"$f":"+Flujos!A168","v":"2036-10-16"},{"$f":"+Flujos!L168","v":-1.100124791264534E-8},{"$f":"+Flujos!M168","v":0},{"$f":"+Flujos!N168","v":-6.9076835643500089E-11},{"$f":"+Flujos!O168","v":-6.9076835643500089E-11},{"$f":"+Flujos!P168","v":0},{"$f":"+Flujos!Q168","v":-2.6126164792565398E-8},{"$f":"+Flujos!R168","v":-2.6126164792565398E-8},null,"2036-01-16",{"$f":"IF(J168<CALCULADORA!$C$26,0,IF(CALCULADORA!$C$30>'TIR de Tenencia'!J168,VLOOKUP(J168,A:H,7),CALCULADORA!$C$36))","v":28992114893},{"$f":"IF(K168=K167, \" \", IF(J168 > CALCULADORA!$C$30, CALCULADORA!$C$30, J168))","v":" "}," ",null,16,2,2036]
[{"$f":"+Flujos!A169","v":"2036-11-16"},{"$f":"+Flujos!L169","v":-1.100124791264534E-8},{"$f":"+Flujos!M169","v":0},{"$f":"+Flujos!N169","v":-6.9076835643500089E-11},{"$f":"+Flujos!O169","v":-6.9076835643500089E-11},{"$f":"+Flujos!P169","v":0},{"$f":"+Flujos!Q169","v":-2.6126164792565398E-8},{"$f":"+Flujos!R169","v":-2.6126164792565398E-8},null,"2036-02-16",{"$f":"IF(J169<CALCULADORA!$C$26,0,IF(CALCULADORA!$C$30>'TIR de Tenencia'!J169,VLOOKUP(J169,A:H,7),CALCULADORA!$C$36))","v":28992114893},{"$f":"IF(K169=K168, \" \", IF(J169 > CALCULADORA!$C$30, CALCULADORA!$C$30, J169))","v":" "}," ",null,16,3,2036]
[{"$f":"+Flujos!A170","v":"2036-12-16"},{"$f":"+Flujos!L170","v":-1.100124791264534E-8},{"$f":"+Flujos!M170","v":0},{"$f":"+Flujos!N170","v":-6.9076835643500089E-11},{"$f":"+Flujos!O170","v":-6.9076835643500089E-11},{"$f":"+Flujos!P170","v":0},{"$f":"+Flujos!Q170","v":-2.6126164792565398E-8},{"$f":"+Flujos!R170","v":-2.6126164792565398E-8},null,"2036-03-16",{"$f":"IF(J170<CALCULADORA!$C$26,0,IF(CALCULADORA!$C$30>'TIR de Tenencia'!J170,VLOOKUP(J170,A:H,7),CALCULADORA!$C$36))","v":28992114893},{"$f":"IF(K170=K169, \" \", IF(J170 > CALCULADORA!$C$30, CALCULADORA!$C$30, J170))","v":" "}," ",null,16,4,2036]
[{"$f":"+Flujos!A171","v":"2037-01-16"},{"$f":"+Flujos!L171","v":-1.100124791264534E-8},{"$f":"+Flujos!M171","v":0},{"$f":"+Flujos!N171","v":-6.9076835643500089E-11},{"$f":"+Flujos!O171","v":-6.9076835643500089E-11},{"$f":"+Flujos!P171","v":0},{"$f":"+Flujos!Q171","v":-2.6126164792565398E-8},{"$f":"+Flujos!R171","v":-2.6126164792565398E-8},null,"2036-04-16",{"$f":"IF(J171<CALCULADORA!$C$26,0,IF(CALCULADORA!$C$30>'TIR de Tenencia'!J171,VLOOKUP(J171,A:H,7),CALCULADORA!$C$36))","v":28992114893},{"$f":"IF(K171=K170, \" \", IF(J171 > CALCULADORA!$C$30, CALCULADORA!$C$30, J171))","v":" "}," ",null,16,5,2036]
[{"$f":"+Flujos!A172","v":"2037-02-16"},{"$f":"+Flujos!L172","v":-1.100124791264534E-8},{"$f":"+Flujos!M172","v":0},{"$f":"+Flujos!N172","v":-6.9076835643500089E-11},{"$f":"+Flujos!O172","v":-6.9076835643500089E-11},{"$f":"+Flujos!P172","v":0},{"$f":"+Flujos!Q172","v":-2.6126164792565398E-8},{"$f":"+Flujos!R172","v":-2.6126164792565398E-8},null,"2036-05-16",{"$f":"IF(J172<CALCULADORA!$C$26,0,IF(CALCULADORA!$C$30>'TIR de Tenencia'!J172,VLOOKUP(J172,A:H,7),CALCULADORA!$C$36))","v":28992114893},{"$f":"IF(K172=K171, \" \", IF(J172 > CALCULADORA!$C$30, CALCULADORA!$C$30, J172))","v":" "}," ",null,16,6,2036]
[{"$f":"+Flujos!A173","v":"2037-03-16"},{"$f":"+Flujos!L173","v":-1.100124791264534E-8},{"$f":"+Flujos!M173","v":0},{"$f":"+Flujos!N173","v":-6.9076835643500089E-11},{"$f":"+Flujos!O173","v":-6.9076835643500089E-11},{"$f":"+Flujos!P173","v":0},{"$f":"+Flujos!Q173","v":-2.6126164792565398E-8},{"$f":"+Flujos!R173","v":-2.6126164792565398E-8},null,"2036-06-16",{"$f":"IF(J173<CALCULADORA!$C$26,0,IF(CALCULADORA!$C$30>'TIR de Tenencia'!J173,VLOOKUP(J173,A:H,7),CALCULADORA!$C$36))","v":28992114893},{"$f":"IF(K173=K172, \" \", IF(J173 > CALCULADORA!$C$30, CALCULADORA!$C$30, J173))","v":" "}," ",null,16,7,2036]
[{"$f":"+Flujos!A174","v":"2037-04-16"},{"$f":"+Flujos!L174","v":-1.100124791264534E-8},{"$f":"+Flujos!M174","v":0},{"$f":"+Flujos!N174","v":-6.9076835643500089E-11},{"$f":"+Flujos!O174","v":-6.9076835643500089E-11},{"$f":"+Flujos!P174","v":0},{"$f":"+Flujos!Q174","v":-2.6126164792565398E-8},{"$f":"+Flujos!R174","v":-2.6126164792565398E-8},null,"2036-07-16",{"$f":"IF(J174<CALCULADORA!$C$26,0,IF(CALCULADORA!$C$30>'TIR de Tenencia'!J174,VLOOKUP(J174,A:H,7),CALCULADORA!$C$36))","v":28992114893},{"$f":"IF(K174=K173, \" \", IF(J174 > CALCULADORA!$C$30, CALCULADORA!$C$30, J174))","v":" "}," ",null,16,8,2036]
[{"$f":"+Flujos!A175","v":"2037-05-16"},{"$f":"+Flujos!L175","v":-1.100124791264534E-8},{"$f":"+Flujos!M175","v":0},{"$f":"+Flujos!N175","v":-6.9076835643500089E-11},{"$f":"+Flujos!O175","v":-6.9076835643500089E-11},{"$f":"+Flujos!P175","v":0},{"$f":"+Flujos!Q175","v":-2.6126164792565398E-8},{"$f":"+Flujos!R175","v":-2.6126164792565398E-8},null,"2036-08-16",{"$f":"IF(J175<CALCULADORA!$C$26,0,IF(CALCULADORA!$C$30>'TIR de Tenencia'!J175,VLOOKUP(J175,A:H,7),CALCULADORA!$C$36))","v":28992114893},{"$f":"IF(K175=K174, \" \", IF(J175 > CALCULADORA!$C$30, CALCULADORA!$C$30, J175))","v":" "}," ",null,16,9,2036]
[{"$f":"+Flujos!A176","v":"2037-06-16"},{"$f":"+Flujos!L176","v":-1.100124791264534E-8},{"$f":"+Flujos!M176","v":0},{"$f":"+Flujos!N176","v":-6.9076835643500089E-11},{"$f":"+Flujos!O176","v":-6.9076835643500089E-11},{"$f":"+Flujos!P176","v":0},{"$f":"+Flujos!Q176","v":-2.6126164792565398E-8},{"$f":"+Flujos!R176","v":-2.6126164792565398E-8},null,"2036-09-16",{"$f":"IF(J176<CALCULADORA!$C$26,0,IF(CALCULADORA!$C$30>'TIR de Tenencia'!J176,VLOOKUP(J176,A:H,7),CALCULADORA!$C$36))","v":28992114893},{"$f":"IF(K176=K175, \" \", IF(J176 > CALCULADORA!$C$30, CALCULADORA!$C$30, J176))","v":" "}," ",null,16,10,2036]
[{"$f":"+Flujos!A177","v":"2037-07-16"},{"$f":"+Flujos!L177","v":-1.100124791264534E-8},{"$f":"+Flujos!M177","v":0},{"$f":"+Flujos!N177","v":-6.9076835643500089E-11},{"$f":"+Flujos!O177","v":-6.9076835643500089E-11},{"$f":"+Flujos!P177","v":0},{"$f":"+Flujos!Q177","v":-2.6126164792565398E-8},{"$f":"+Flujos!R177","v":-2.6126164792565398E-8},null,"2036-10-16",{"$f":"IF(J177<CALCULADORA!$C$26,0,IF(CALCULADORA!$C$30>'TIR de Tenencia'!J177,VLOOKUP(J177,A:H,7),CALCULADORA!$C$36))","v":28992114893},{"$f":"IF(K177=K176, \" \", IF(J177 > CALCULADORA!$C$30, CALCULADORA!$C$30, J177))","v":" "}," ",null,16,11,2036]
[{"$f":"+Flujos!A178","v":"2037-08-16"},{"$f":"+Flujos!L178","v":-1.100124791264534E-8},{"$f":"+Flujos!M178","v":0},{"$f":"+Flujos!N178","v":-6.9076835643500089E-11},{"$f":"+Flujos!O178","v":-6.9076835643500089E-11},{"$f":"+Flujos!P178","v":0},{"$f":"+Flujos!Q178","v":-2.6126164792565398E-8},{"$f":"+Flujos!R178","v":-2.6126164792565398E-8},null,"2036-11-16",{"$f":"IF(J178<CALCULADORA!$C$26,0,IF(CALCULADORA!$C$30>'TIR de Tenencia'!J178,VLOOKUP(J178,A:H,7),CALCULADORA!$C$36))","v":28992114893},{"$f":"IF(K178=K177, \" \", IF(J178 > CALCULADORA!$C$30, CALCULADORA!$C$30, J178))","v":" "}," ",null,16,12,2036]
[{"$f":"+Flujos!A179","v":"2037-09-16"},{"$f":"+Flujos!L179","v":-1.100124791264534E-8},{"$f":"+Flujos!M179","v":0},{"$f":"+Flujos!N179","v":-6.9076835643500089E-11},{"$f":"+Flujos!O179","v":-6.9076835643500089E-11},{"$f":"+Flujos!P179","v":0},{"$f":"+Flujos!Q179","v":-2.6126164792565398E-8},{"$f":"+Flujos!R179","v":-2.6126164792565398E-8},null,"2036-12-16",{"$f":"IF(J179<CALCULADORA!$C$26,0,IF(CALCULADORA!$C$30>'TIR de Tenencia'!J179,VLOOKUP(J179,A:H,7),CALCULADORA!$C$36))","v":28992114893},{"$f":"IF(K179=K178, \" \", IF(J179 > CALCULADORA!$C$30, CALCULADORA!$C$30, J179))","v":" "}," ",null,16,1,2037]
[{"$f":"+Flujos!A180","v":"2037-10-16"},{"$f":"+Flujos!L180","v":-1.100124791264534E-8},{"$f":"+Flujos!M180","v":0},{"$f":"+Flujos!N180","v":-6.9076835643500089E-11},{"$f":"+Flujos!O180","v":-6.9076835643500089E-11},{"$f":"+Flujos!P180","v":0},{"$f":"+Flujos!Q180","v":-2.6126164792565398E-8},{"$f":"+Flujos!R180","v":-2.6126164792565398E-8},null,"2037-01-16",{"$f":"IF(J180<CALCULADORA!$C$26,0,IF(CALCULADORA!$C$30>'TIR de Tenencia'!J180,VLOOKUP(J180,A:H,7),CALCULADORA!$C$36))","v":28992114893},{"$f":"IF(K180=K179, \" \", IF(J180 > CALCULADORA!$C$30, CALCULADORA!$C$30, J180))","v":" "}," ",null,16,2,2037]
[{"$f":"+Flujos!A181","v":"2037-11-16"},{"$f":"+Flujos!L181","v":-1.100124791264534E-8},{"$f":"+Flujos!M181","v":0},{"$f":"+Flujos!N181","v":-6.9076835643500089E-11},{"$f":"+Flujos!O181","v":-6.9076835643500089E-11},{"$f":"+Flujos!P181","v":0},{"$f":"+Flujos!Q181","v":-2.6126164792565398E-8},{"$f":"+Flujos!R181","v":-2.6126164792565398E-8},null,"2037-02-16",{"$f":"IF(J181<CALCULADORA!$C$26,0,IF(CALCULADORA!$C$30>'TIR de Tenencia'!J181,VLOOKUP(J181,A:H,7),CALCULADORA!$C$36))","v":28992114893},{"$f":"IF(K181=K180, \" \", IF(J181 > CALCULADORA!$C$30, CALCULADORA!$C$30, J181))","v":" "}," ",null,16,3,2037]
[{"$f":"+Flujos!A182","v":"2037-12-16"},{"$f":"+Flujos!L182","v":-1.100124791264534E-8},{"$f":"+Flujos!M182","v":0},{"$f":"+Flujos!N182","v":-6.9076835643500089E-11},{"$f":"+Flujos!O182","v":-6.9076835643500089E-11},{"$f":"+Flujos!P182","v":0},{"$f":"+Flujos!Q182","v":-2.6126164792565398E-8},{"$f":"+Flujos!R182","v":-2.6126164792565398E-8},null,"2037-03-16",{"$f":"IF(J182<CALCULADORA!$C$26,0,IF(CALCULADORA!$C$30>'TIR de Tenencia'!J182,VLOOKUP(J182,A:H,7),CALCULADORA!$C$36))","v":28992114893},{"$f":"IF(K182=K181, \" \", IF(J182 > CALCULADORA!$C$30, CALCULADORA!$C$30, J182))","v":" "}," ",null,16,4,2037]
[null,"Totales",{"$f":"SUM(C2:C182)","v":109099002.88641118},36658728.024444193,145757730.91085538,40826141585.49791,13567230743.009668,54393372328.507545]
[null,null,null,null,null,null,null,null,null,null,null,{"$f":"+IF(K184=K183,\" \",K184)","v":" "},null,{"$f":"+MONTH(A184)","v":1},{"$f":"+YEAR(A184)","v":1900}]
[null,null,null,null,null,null,null,null,null,null,null," ",null,1,1900]
[null,null,null,null,null,null,null,null,null,null,null," ",null,1,1900]
[null,null,null,null,null,null,null,null,null,null,null," ",null,1,1900]
[null,null,null,null,null,null,null,null,null,null,null," ",null,1,1900]
[null,null,null,null,null,null,null,null,null,null,null," ",null,1,1900]
[null,null,null,null,null,null,null,null,null,null,null," ",null,1,1900]
[null,null,null,null,null,null,null,null,null,null,null," ",null,1,1900]
[null,null,null,null,null,null,null,null,null,null,null," ",null,1,1900]
[null,null,null,null,null,null,null,null,null,null,null," ",null,1,1900]
[null,null,null,null,null,null,null,null,null,null,null," ",null,1,1900]
[null,null,null,null,null,null,null,null,null,null,null," ",null,1,1900]
[null,null,null,null,null,null,null,null,null,null,null," ",null,1,1900]
[null,null,null,null,null,null,null,null,null,null,null," ",null,1,1900]
[null,null,null,null,null,null,null,null,null,null,null," ",null,1,1900]
[null,null,null,null,null,null,null,null,null,null,null," ",null,1,1900]
[null,null,null,null,null,null,null,null,null,null,null," ",null,1,1900]
[null,null,null,null,null,null,null,null,null,null,null," ",null,1,1900]
[null,null,null,null,null,null,null,null,null,null,null," ",null,1,1900]
[null,null,null,null,null,null,null,null,null,null,null," ",null,1,1900]
[null,null,null,null,null,null,null,null,null,null,null," ",null,1,1900]
[null,null,null,null,null,null,null,null,null,null,null," ",null,1,1900]
[null,null,null,null,null,null,null,null,null,null,null," ",null,1,1900]
[null,null,null,null,null,null,null,null,null,null,null," ",null,1,1900]
[null,null,null,null,null,null,null,null,null,null,null," ",null,1,1900]
[null,null,null,null,null,null,null,null,null,null,null," ",null,1,1900]
[null,null,null,null,null,null,null,null,null,null,null," ",null,1,1900]
[null,null,null,null,null,null,null,null,null,null,null," ",null,1,1900]
[null,null,null,null,null,null,null,null,null,null,null," ",null,1,1900]
[null,null,null,null,null,null,null,null,null,null,null," ",null,1,1900]
[null,null,null,null,null,null,null,null,null,null,null," ",null,1,1900]
[null,null,null,null,null,null,null,null,null,null,null," ",null,1,1900]
[null,null,null,null,null,null,null,null,null,null,null," ",null,1,1900]
[null,null,null,null,null,null,null,null,null,null,null," ",null,1,1900]
[null,null,null,null,null,null,null,null,null,null,null," ",null,1,1900]
[null,null,null,null,null,null,null,null,null,null,null," ",null,1,1900]
[null,null,null,null,null,null,null,null,null,null,null," ",null,1,1900]
[null,null,null,null,null,null,null,null,null,null,null," ",null,1,1900]
[null,null,null,null,null,null,null,null,null,null,null," ",null,1,1900]
[null,null,null,null,null,null,null,null,null,null,null," ",null,1,1900]
[null,null,null,null,null,null,null,null,null,null,null," ",null,1,1900]
[null,null,null,null,null,null,null,null,null,null,null," ",null,1,1900]
[null,null,null,null,null,null,null,null,null,null,null," ",null,1,1900]
[null,null,null,null,null,null,null,null,null,null,null," ",null,1,1900]
[null,null,null,null,null,null,null,null,null,null,null," ",null,1,1900]
[null,null,null,null,null,null,null,null,null,null,null," ",null,1,1900]
[null,null,null,null,null,null,null,null,null,null,null," ",null,1,1900]
[null,null,null,null,null,null,null,null,null,null,null," ",null,1,1900]
[null,null,null,null,null,null,null,null,null,null,null," ",null,1,1900]
[null,null,null,null,null,null,null,null,null,null,null," ",null,1,1900]
[null,null,null,null,null,null,null,null,null,null,null," ",null,1,1900]
[null,null,null,null,null,null,null,null,null,null,null," ",null,1,1900]
[null,null,null,null,null,null,null,null,null,null,null," ",null,1,1900]
[null,null,null,null,null,null,null,null,null,null,null," ",null,1,1900]
[null,null,null,null,null,null,null,null,null,null,null," ",null,1,1900]
[null,null,null,null,null,null,null,null,null,null,null," ",null,1,1900]
[null,null,null,null,null,null,null,null,null,null,null," ",null,1,1900]
[null,null,null,null,null,null,null,null,null,null,null," ",null,1,1900]
[null,null,null,null,null,null,null,null,null,null,null," ",null,1,1900]
[null,null,null,null,null,null,null,null,null,null,null," ",null,1,1900]
[null,null,null,null,null,null,null,null,null,null,null," ",null,1,1900]
[null,null,null,null,null,null,null,null,null,null,null," ",null,1,1900]
[null,null,null,null,null,null,null,null,null,null,null," ",null,1,1900]
[null,null,null,null,null,null,null,null,null,null,null," ",null,1,1900]
[null,null,null,null,null,null,null,null,null,null,null,{"$f":"+IF(K248=K247,\" \",K248)","v":" "},null,{"$f":"+MONTH(A248)","v":1},{"$f":"+YEAR(A248)","v":1900}]
[null,null,null,null,null,null,null,null,null,null,null," ",null,1,1900]
[null,null,null,null,null,null,null,null,null,null,null," ",null,1,1900]
[null,null,null,null,null,null,null,null,null,null,null," ",null,1,1900]
[null,null,null,null,null,null,null,null,null,null,null," ",null,1,1900]
[null,null,null,null,null,null,null,null,null,null,null," ",null,1,1900]
[null,null,null,null,null,null,null,null,null,null,null," ",null,1,1900]
[null,null,null,null,null,null,null,null,null,null,null," ",null,1,1900]
[null,null,null,null,null,null,null,null,null,null,null," ",null,1,1900]
[null,null,null,null,null,null,null,null,null,null,null," ",null,1,1900]
[null,null,null,null,null,null,null,null,null,null,null," ",null,1,1900]
[null,null,null,null,null,null,null,null,null,null,null," ",null,1,1900]
[null,null,null,null,null,null,null,null,null,null,null," ",null,1,1900]
[null,null,null,null,null,null,null,null,null,null,null," ",null,1,1900]
[null,null,null,null,null,null,null,null,null,null,null," ",null,1,1900]
[null,null,null,null,null,null,null,null,null,null,null," ",null,1,1900]
[null,null,null,null,null,null,null,null,null,null,null," ",null,1,1900]
[null,null,null,null,null,null,null,null,null,null,null," ",null,1,1900]
[null,null,null,null,null,null,null,null,null,null,null," ",null,1,1900]
[null,null,null,null,null,null,null,null,null,null,null," ",null,1,1900]
[null,null,null,null,null,null,null,null,null,null,null," ",null,1,1900]
[null,null,null,null,null,null,null,null,null,null,null," ",null,1,1900]
[null,null,null,null,null,null,null,null,null,null,null," ",null,1,1900]
[null,null,null,null,null,null,null,null,null,null,null," ",null,1,1900]
[null,null,null,null,null,null,null,null,null,null,null," ",null,1,1900]
[null,null,null,null,null,null,null,null,null,null,null," ",null,1,1900]
[null,null,null,null,null,null,null,null,null,null,null," ",null,1,1900]
[null,null,null,null,null,null,null,null,null,null,null," ",null,1,1900]
[null,null,null,null,null,null,null,null,null,null,null," ",null,1,1900]
[null,null,null,null,null,null,null,null,null,null,null," ",null,1,1900]
[null,null,null,null,null,null,null,null,null,null,null," ",null,1,1900]
[null,null,null,null,null,null,null,null,null,null,null," ",null,1,1900]
[null,null,null,null,null,null,null,null,null,null,null," ",null,1,1900]
[null,null,null,null,null,null,null,null,null,null,null," ",null,1,1900]
[null,null,null,null,null,null,null,null,null,null,null," ",null,1,1900]
[null,null,null,null,null,null,null,null,null,null,null," ",null,1,1900]
[null,null,null,null,null,null,null,null,null,null,null," ",null,1,1900]
[null,null,null,null,null,null,null,null,null,null,null," ",null,1,1900]
[null,null,null,null,null,null,null,null,null,null,null," ",null,1,1900]
[null,null,null,null,null,null,null,null,null,null,null," ",null,1,1900]
[null,null,null,null,null,null,null,null,null,null,null," ",null,1,1900]
[null,null,null,null,null,null,null,null,null,null,null," ",null,1,1900]
[null,null,null,null,null,null,null,null,null,null,null," ",null,1,1900]
[null,null,null,null,null,null,null,null,null,null,null," ",null,1,1900]
[null,null,null,null,null,null,null,null,null,null,null," ",null,1,1900]
[null,null,null,null,null,null,null,null,null,null,null," ",null,1,1900]
[null,null,null,null,null,null,null,null,null,null,null," ",null,1,1900]
[null,null,null,null,null,null,null,null,null,null,null," ",null,1,1900]
[null,null,null,null,null,null,null,null,null,null,null," ",null,1,1900]
[null,null,null,null,null,null,null,null,null,null,null," ",null,1,1900]
[null,null,null,null,null,null,null,null,null,null,null," ",null,1,1900]
[null,null,null,null,null,null,null,null,null,null,null," ",null,1,1900]
[null,null,null,null,null,null,null,null,null,null,null," ",null,1,1900]
[null,null,null,null,null,null,null,null,null,null,null," ",null,1,1900]
[null,null,null,null,null,null,null,null,null,null,null," ",null,1,1900]
[null,null,null,null,null,null,null,null,null,null,null," ",null,1,1900]
[null,null,null,null,null,null,null,null,null,null,null," ",null,1,1900]
[null,null,null,null,null,null,null,null,null,null,null," ",null,1,1900]
[null,null,null,null,null,null,null,null,null,null,null," ",null,1,1900]
[null,null,null,null,null,null,null,null,null,null,null," ",null,1,1900]
[null,null,null,null,null,null,null,null,null,null,null," ",null,1,1900]
[null,null,null,null,null,null,null,null,null,null,null," ",null,1,1900]
[null,null,null,null,null,null,null,null,null,null,null," ",null,1,1900]
[null,null,null,null,null,null,null,null,null,null,null," ",null,1,1900]
[null,null,null,null,null,null,null,null,null,null,null,{"$f":"+IF(K312=K311,\" \",K312)","v":" "},null,{"$f":"+MONTH(A312)","v":1},{"$f":"+YEAR(A312)","v":1900}]
[null,null,null,null,null,null,null,null,null,null,null," ",null,1,1900]
[null,null,null,null,null,null,null,null,null,null,null," ",null,1,1900]
[null,null,null,null,null,null,null,null,null,null,null," ",null,1,1900]
[null,null,null,null,null,null,null,null,null,null,null," ",null,1,1900]
[null,null,null,null,null,null,null,null,null,null,null," ",null,1,1900]
[null,null,null,null,null,null,null,null,null,null,null," ",null,1,1900]
[null,null,null,null,null,null,null,null,null,null,null," ",null,1,1900]
[null,null,null,null,null,null,null,null,null,null,null," ",null,1,1900]
[null,null,null,null,null,null,null,null,null,null,null," ",null,1,1900]
[null,null,null,null,null,null,null,null,null,null,null," ",null,1,1900]
[null,null,null,null,null,null,null,null,null,null,null," ",null,1,1900]
[null,null,null,null,null,null,null,null,null,null,null," ",null,1,1900]
[null,null,null,null,null,null,null,null,null,null,null," ",null,1,1900]
[null,null,null,null,null,null,null,null,null,null,null," ",null,1,1900]
[null,null,null,null,null,null,null,null,null,null,null," ",null,1,1900]
[null,null,null,null,null,null,null,null,null,null,null," ",null,1,1900]
[null,null,null,null,null,null,null,null,null,null,null," ",null,1,1900]
[null,null,null,null,null,null,null,null,null,null,null," ",null,1,1900]
[null,null,null,null,null,null,null,null,null,null,null," ",null,1,1900]
[null,null,null,null,null,null,null,null,null,null,null," ",null,1,1900]
[null,null,null,null,null,null,null,null,null,null,null," ",null,1,1900]
[null,null,null,null,null,null,null,null,null,null,null," ",null,1,1900]
[null,null,null,null,null,null,null,null,null,null,null," ",null,1,1900]
[null,null,null,null,null,null,null,null,null,null,null," ",null,1,1900]
[null,null,null,null,null,null,null,null,null,null,null," ",null,1,1900]
[null,null,null,null,null,null,null,null,null,null,null," ",null,1,1900]
[null,null,null,null,null,null,null,null,null,null,null," ",null,1,1900]
[null,null,null,null,null,null,null,null,null,null,null," ",null,1,1900]
[null,null,null,null,null,null,null,null,null,null,null," ",null,1,1900]
[null,null,null,null,null,null,null,null,null,null,null," ",null,1,1900]
[null,null,null,null,null,null,null,null,null,null,null," ",null,1,1900]
[null,null,null,null,null,null,null,null,null,null,null," ",null,1,1900]
[null,null,null,null,null,null,null,null,null,null,null," ",null,1,1900]
[null,null,null,null,null,null,null,null,null,null,null," ",null,1,1900]
[null,null,null,null,null,null,null,null,null,null,null," ",null,1,1900]
[null,null,null,null,null,null,null,null,null,null,null," ",null,1,1900]
[null,null,null,null,null,null,null,null,null,null,null," ",null,1,1900]
[null,null,null,null,null,null,null,null,null,null,null," ",null,1,1900]
[null,null,null,null,null,null,null,null,null,null,null," ",null,1,1900]
[null,null,null,null,null,null,null,null,null,null,null," ",null,1,1900]
[null,null,null,null,null,null,null,null,null,null,null," ",null,1,1900]
[null,null,null,null,null,null,null,null,null,null,null," ",null,1,1900]
[null,null,null,null,null,null,null,null,null,null,null," ",null,1,1900]
[null,null,null,null,null,null,null,null,null,null,null," ",null,1,1900]
[null,null,null,null,null,null,null,null,null,null,null," ",null,1,1900]
[null,null,null,null,null,null,null,null,null,null,null," ",null,1,1900]
[null,null,null,null,null,null,null,null,null,null,null," ",null,1,1900]
[null,null,null,null,null,null,null,null,null,null,null," ",null,1,1900]
[null,null,null,null,null,null,null,null,null,null,null," ",null,1,1900]
[null,null,null,null,null,null,null,null,null,null,null," ",null,1,1900]
[null,null,null,null,null,null,null,null,null,null,null," ",null,1,1900]
[null,null,null,null,null,null,null,null,null,null,null," ",null,1,1900]
[null,null,null,null,null,null,null,null,null,null,null," ",null,1,1900]
[null,null,null,null,null,null,null,null,null,null,null," ",null,1,1900]
[null,null,null,null,null,null,null,null,null,null,null," ",null,1,1900]
[null,null,null,null,null,null,null,null,null,null,null," ",null,1,1900]
[null,null,null,null,null,null,null,null,null,null,null," ",null,1,1900]
[null,null,null,null,null,null,null,null,null,null,null," ",null,1,1900]
[null,null,null,null,null,null,null,null,null,null,null," ",null,1,1900]
[null,null,null,null,null,null,null,null,null,null,null," ",null,1,1900]
[null,null,null,null,null,null,null,null,null,null,null," ",null,1,1900]
[null,null,null,null,null,null,null,null,null,null,null," ",null,1,1900]
[null,null,null,null,null,null,null,null,null,null,null," ",null,1,1900]
[null,null,null,null,null,null,null,null,null,null,null,{"$f":"+IF(K376=K375,\" \",K376)","v":" "},null,{"$f":"+MONTH(A376)","v":1},{"$f":"+YEAR(A376)","v":1900}]
[null,null,null,null,null,null,null,null,null,null,null," ",null,1,1900]
[null,null,null,null,null,null,null,null,null,null,null," ",null,1,1900]
[null,null,null,null,null,null,null,null,null,null,null," ",null,1,1900]
[null,null,null,null,null,null,null,null,null,null,null," ",null,1,1900]
[null,null,null,null,null,null,null,null,null,null,null," ",null,1,1900]
[null,null,null,null,null,null,null,null,null,null,null," ",null,1,1900]
[null,null,null,null,null,null,null,null,null,null,null," ",null,1,1900]
[null,null,null,null,null,null,null,null,null,null,null," ",null,1,1900]
[null,null,null,null,null,null,null,null,null,null,null," ",null,1,1900]
[null,null,null,null,null,null,null,null,null,null,null," ",null,1,1900]
[null,null,null,null,null,null,null,null,null,null,null," ",null,1,1900]
[null,null,null,null,null,null,null,null,null,null,null," ",null,1,1900]
[null,null,null,null,null,null,null,null,null,null,null," ",null,1,1900]
[null,null,null,null,null,null,null,null,null,null,null," ",null,1,1900]
[null,null,null,null,null,null,null,null,null,null,null," ",null,1,1900]
[null,null,null,null,null,null,null,null,null,null,null," ",null,1,1900]
[null,null,null,null,null,null,null,null,null,null,null," ",null,1,1900]
[null,null,null,null,null,null,null,null,null,null,null," ",null,1,1900]
[null,null,null,null,null,null,null,null,null,null,null," ",null,1,1900]
[null,null,null,null,null,null,null,null,null,null,null," ",null,1,1900]
[null,null,null,null,null,null,null,null,null,null,null," ",null,1,1900]
[null,null,null,null,null,null,null,null,null,null,null," ",null,1,1900]
[null,null,null,null,null,null,null,null,null,null,null," ",null,1,1900]
[null,null,null,null,null,null,null,null,null,null,null," ",null,1,1900]
[null,null,null,null,null,null,null,null,null,null,null," ",null,1,1900]
[null,null,null,null,null,null,null,null,null,null,null," ",null,1,1900]
[null,null,null,null,null,null,null,null,null,null,null," ",null,1,1900]
[null,null,null,null,null,null,null,null,null,null,null," ",null,1,1900]
[null,null,null,null,null,null,null,null,null,null,null," ",null,1,1900]
[null,null,null,null,null,null,null,null,null,null,null," ",null,1,1900]
[null,null,null,null,null,null,null,null,null,null,null," ",null,1,1900]
[null,null,null,null,null,null,null,null,null,null,null," ",null,1,1900]
[null,null,null,null,null,null,null,null,null,null,null," ",null,1,1900]
[null,null,null,null,null,null,null,null,null,null,null," ",null,1,1900]
[null,null,null,null,null,null,null,null,null,null,null," ",null,1,1900]
[null,null,null,null,null,null,null,null,null,null,null," ",null,1,1900]
[null,null,null,null,null,null,null,null,null,null,null," ",null,1,1900]
[null,null,null,null,null,null,null,null,null,null,null," ",null,1,1900]
[null,null,null,null,null,null,null,null,null,null,null," ",null,1,1900]
[null,null,null,null,null,null,null,null,null,null,null," ",null,1,1900]
[null,null,null,null,null,null,null,null,null,null,null," ",null,1,1900]
[null,null,null,null,null,null,null,null,null,null,null," ",null,1,1900]
[null,null,null,null,null,null,null,null,null,null,null," ",null,1,1900]
[null,null,null,null,null,null,null,null,null,null,null," ",null,1,1900]
[null,null,null,null,null,null,null,null,null,null,null," ",null,1,1900]
[null,null,null,null,null,null,null,null,null,null,null," ",null,1,1900]
[null,null,null,null,null,null,null,null,null,null,null," ",null,1,1900]
[null,null,null,null,null,null,null,null,null,null,null," ",null,1,1900]
[null,null,null,null,null,null,null,null,null,null,null," ",null,1,1900]
[null,null,null,null,null,null,null,null,null,null,null," ",null,1,1900]
[null,null,null,null,null,null,null,null,null,null,null," ",null,1,1900]
[null,null,null,null,null,null,null,null,null,null,null," ",null,1,1900]
[null,null,null,null,null,null,null,null,null,null,null," ",null,1,1900]
[null,null,null,null,null,null,null,null,null,null,null," ",null,1,1900]
[null,null,null,null,null,null,null,null,null,null,null," ",null,1,1900]
[null,null,null,null,null,null,null,null,null,null,null," ",null,1,1900]
[null,null,null,null,null,null,null,null,null,null,null," ",null,1,1900]
[null,null,null,null,null,null,null,null,null,null,null," ",null,1,1900]
[null,null,null,null,null,null,null,null,null,null,null," ",null,1,1900]
[null,null,null,null,null,null,null,null,null,null,null," ",null,1,1900]
[null,null,null,null,null,null,null,null,null,null,null," ",null,1,1900]
[null,null,null,null,null,null,null,null,null,null,null," ",null,1,1900]
[null,null,null,null,null,null,null,null,null,null,null," ",null,1,1900]
[null,null,null,null,null,null,null,null,null,null,null,{"$f":"+IF(K440=K439,\" \",K440)","v":" "},null,{"$f":"+MONTH(A440)","v":1},{"$f":"+YEAR(A440)","v":1900}]
[null,null,null,null,null,null,null,null,null,null,null," ",null,1,1900]
[null,null,null,null,null,null,null,null,null,null,null," ",null,1,1900]
[null,null,null,null,null,null,null,null,null,null,null," ",null,1,1900]
[null,null,null,null,null,null,null,null,null,null,null," ",null,1,1900]
[null,null,null,null,null,null,null,null,null,null,null," ",null,1,1900]
[null,null,null,null,null,null,null,null,null,null,null," ",null,1,1900]
[null,null,null,null,null,null,null,null,null,null,null," ",null,1,1900]
[null,null,null,null,null,null,null,null,null,null,null," ",null,1,1900]
[null,null,null,null,null,null,null,null,null,null,null," ",null,1,1900]
[null,null,null,null,null,null,null,null,null,null,null," ",null,1,1900]
[null,null,null,null,null,null,null,null,null,null,null," ",null,1,1900]
[null,null,null,null,null,null,null,null,null,null,null," ",null,1,1900]
[null,null,null,null,null,null,null,null,null,null,null," ",null,1,1900]
[null,null,null,null,null,null,null,null,null,null,null," ",null,1,1900]
[null,null,null,null,null,null,null,null,null,null,null," ",null,1,1900]
[null,null,null,null,null,null,null,null,null,null,null," ",null,1,1900]
[null,null,null,null,null,null,null,null,null,null,null," ",null,1,1900]
[null,null,null,null,null,null,null,null,null,null,null," ",null,1,1900]
[null,null,null,null,null,null,null,null,null,null,null," ",null,1,1900]
[null,null,null,null,null,null,null,null,null,null,null," ",null,1,1900]
[null,null,null,null,null,null,null,null,null,null,null," ",null,1,1900]
[null,null,null,null,null,null,null,null,null,null,null," ",null,1,1900]
[null,null,null,null,null,null,null,null,null,null,null," ",null,1,1900]
[null,null,null,null,null,null,null,null,null,null,null," ",null,1,1900]
[null,null,null,null,null,null,null,null,null,null,null," ",null,1,1900]
[null,null,null,null,null,null,null,null,null,null,null," ",null,1,1900]
[null,null,null,null,null,null,null,null,null,null,null," ",null,1,1900]
[null,null,null,null,null,null,null,null,null,null,null," ",null,1,1900]
[null,null,null,null,null,null,null,null,null,null,null," ",null,1,1900]
[null,null,null,null,null,null,null,null,null,null,null," ",null,1,1900]
[null,null,null,null,null,null,null,null,null,null,null," ",null,1,1900]
[null,null,null,null,null,null,null,null,null,null,null," ",null,1,1900]
[null,null,null,null,null,null,null,null,null,null,null," ",null,1,1900]
[null,null,null,null,null,null,null,null,null,null,null," ",null,1,1900]
[null,null,null,null,null,null,null,null,null,null,null," ",null,1,1900]
[null,null,null,null,null,null,null,null,null,null,null," ",null,1,1900]
[null,null,null,null,null,null,null,null,null,null,null," ",null,1,1900]
[null,null,null,null,null,null,null,null,null,null,null," ",null,1,1900]
[null,null,null,null,null,null,null,null,null,null,null," ",null,1,1900]
[null,null,null,null,null,null,null,null,null,null,null," ",null,1,1900]
[null,null,null,null,null,null,null,null,null,null,null," ",null,1,1900]
[null,null,null,null,null,null,null,null,null,null,null," ",null,1,1900]
[null,null,null,null,null,null,null,null,null,null,null," ",null,1,1900]
[null,null,null,null,null,null,null,null,null,null,null," ",null,1,1900]
[null,null,null,null,null,null,null,null,null,null,null," ",null,1,1900]
[null,null,null,null,null,null,null,null,null,null,null," ",null,1,1900]
[null,null,null,null,null,null,null,null,null,null,null," ",null,1,1900]
[null,null,null,null,null,null,null,null,null,null,null," ",null,1,1900]
[null,null,null,null,null,null,null,null,null,null,null," ",null,1,1900]
[null,null,null,null,null,null,null,null,null,null,null," ",null,1,1900]
[null,null,null,null,null,null,null,null,null,null,null," ",null,1,1900]
[null,null,null,null,null,null,null,null,null,null,null," ",null,1,1900]
[null,null,null,null,null,null,null,null,null,null,null," ",null,1,1900]
[null,null,null,null,null,null,null,null,null,null,null," ",null,1,1900]
[null,null,null,null,null,null,null,null,null,null,null," ",null,1,1900]
[null,null,null,null,null,null,null,null,null,null,null," ",null,1,1900]
[null,null,null,null,null,null,null,null,null,null,null," ",null,1,1900]
[null,null,null,null,null,null,null,null,null,null,null," ",null,1,1900]
[null,null,null,null,null,null,null,null,null,null,null," ",null,1,1900]
[null,null,null,null,null,null,null,null,null,null,null," ",null,1,1900]
[null,null,null,null,null,null,null,null,null,null,null," ",null,1,1900]
[null,null,null,null,null,null,null,null,null,null,null," ",null,1,1900]
[null,null,null,null,null,null,null,null,null,null,null," ",null,1,1900]
[null,null,null,null,null,null,null,null,null,null,null,{"$f":"+IF(K504=K503,\" \",K504)","v":" "},null,{"$f":"+MONTH(A504)","v":1},{"$f":"+YEAR(A504)","v":1900}]
[null,null,null,null,null,null,null,null,null,null,null," ",null,1,1900]
[null,null,null,null,null,null,null,null,null,null,null," ",null,1,1900]
[null,null,null,null,null,null,null,null,null,null,null," ",null,1,1900]
[null,null,null,null,null,null,null,null,null,null,null," ",null,1,1900]
[null,null,null,null,null,null,null,null,null,null,null," ",null,1,1900]
[null,null,null,null,null,null,null,null,null,null,null," ",null,1,1900]
[null,null,null,null,null,null,null,null,null,null,null," ",null,1,1900]
[null,null,null,null,null,null,null,null,null,null,null," ",null,1,1900]
[null,null,null,null,null,null,null,null,null,null,null," ",null,1,1900]
[null,null,null,null,null,null,null,null,null,null,null," ",null,1,1900]
[null,null,null,null,null,null,null,null,null,null,null," ",null,1,1900]
[null,null,null,null,null,null,null,null,null,null,null," ",null,1,1900]
[null,null,null,null,null,null,null,null,null,null,null," ",null,1,1900]
[null,null,null,null,null,null,null,null,null,null,null," ",null,1,1900]
[null,null,null,null,null,null,null,null,null,null,null," ",null,1,1900]
[null,null,null,null,null,null,null,null,null,null,null," ",null,1,1900]
[null,null,null,null,null,null,null,null,null,null,null," ",null,1,1900]
[null,null,null,null,null,null,null,null,null,null,null," ",null,1,1900]
[null,null,null,null,null,null,null,null,null,null,null," ",null,1,1900]
[null,null,null,null,null,null,null,null,null,null,null," ",null,1,1900]
[null,null,null,null,null,null,null,null,null,null,null," ",null,1,1900]
[null,null,null,null,null,null,null,null,null,null,null," ",null,1,1900]
[null,null,null,null,null,null,null,null,null,null,null," ",null,1,1900]
[null,null,null,null,null,null,null,null,null,null,null," ",null,1,1900]
[null,null,null,null,null,null,null,null,null,null,null," ",null,1,1900]
[null,null,null,null,null,null,null,null,null,null,null," ",null,1,1900]
[null,null,null,null,null,null,null,null,null,null,null," ",null,1,1900]
[null,null,null,null,null,null,null,null,null,null,null," ",null,1,1900]
[null,null,null,null,null,null,null,null,null,null,null," ",null,1,1900]
[null,null,null,null,null,null,null,null,null,null,null," ",null,1,1900]
[null,null,null,null,null,null,null,null,null,null,null," ",null,1,1900]
[null,null,null,null,null,null,null,null,null,null,null," ",null,1,1900]
[null,null,null,null,null,null,null,null,null,null,null," ",null,1,1900]
[null,null,null,null,null,null,null,null,null,null,null," ",null,1,1900]
[null,null,null,null,null,null,null,null,null,null,null," ",null,1,1900]
[null,null,null,null,null,null,null,null,null,null,null," ",null,1,1900]
[null,null,null,null,null,null,null,null,null,null,null," ",null,1,1900]
[null,null,null,null,null,null,null,null,null,null,null," ",null,1,1900]
[null,null,null,null,null,null,null,null,null,null,null," ",null,1,1900]
[null,null,null,null,null,null,null,null,null,null,null," ",null,1,1900]
[null,null,null,null,null,null,null,null,null,null,null," ",null,1,1900]
[null,null,null,null,null,null,null,null,null,null,null," ",null,1,1900]
[null,null,null,null,null,null,null,null,null,null,null," ",null,1,1900]
[null,null,null,null,null,null,null,null,null,null,null," ",null,1,1900]
[null,null,null,null,null,null,null,null,null,null,null," ",null,1,1900]
[null,null,null,null,null,null,null,null,null,null,null," ",null,1,1900]
[null,null,null,null,null,null,null,null,null,null,null," ",null,1,1900]
[null,null,null,null,null,null,null,null,null,null,null," ",null,1,1900]
[null,null,null,null,null,null,null,null,null,null,null," ",null,1,1900]
[null,null,null,null,null,null,null,null,null,null,null," ",null,1,1900]
[null,null,null,null,null,null,null,null,null,null,null," ",null,1,1900]
[null,null,null,null,null,null,null,null,null,null,null," ",null,1,1900]
[null,null,null,null,null,null,null,null,null,null,null," ",null,1,1900]
[null,null,null,null,null,null,null,null,null,null,null," ",null,1,1900]
[null,null,null,null,null,null,null,null,null,null,null," ",null,1,1900]
[null,null,null,null,null,null,null,null,null,null,null," ",null,1,1900]
[null,null,null,null,null,null,null,null,null,null,null," ",null,1,1900]
[null,null,null,null,null,null,null,null,null,null,null," ",null,1,1900]
[null,null,null,null,null,null,null,null,null,null,null," ",null,1,1900]
[null,null,null,null,null,null,null,null,null,null,null," ",null,1,1900]
[null,null,null,null,null,null,null,null,null,null,null," ",null,1,1900]
[null,null,null,null,null,null,null,null,null,null,null," ",null,1,1900]
[null,null,null,null,null,null,null,null,null,null,null," ",null,1,1900]
[null,null,null,null,null,null,null,null,null,null,null,{"$f":"+IF(K568=K567,\" \",K568)","v":" "},null,{"$f":"+MONTH(A568)","v":1},{"$f":"+YEAR(A568)","v":1900}]
[null,null,null,null,null,null,null,null,null,null,null," ",null,1,1900]
[null,null,null,null,null,null,null,null,null,null,null," ",null,1,1900]
[null,null,null,null,null,null,null,null,null,null,null," ",null,1,1900]
[null,null,null,null,null,null,null,null,null,null,null," ",null,1,1900]
[null,null,null,null,null,null,null,null,null,null,null," ",null,1,1900]
[null,null,null,null,null,null,null,null,null,null,null," ",null,1,1900]
[null,null,null,null,null,null,null,null,null,null,null," ",null,1,1900]
[null,null,null,null,null,null,null,null,null,null,null," ",null,1,1900]
[null,null,null,null,null,null,null,null,null,null,null," ",null,1,1900]
[null,null,null,null,null,null,null,null,null,null,null," ",null,1,1900]
[null,null,null,null,null,null,null,null,null,null,null," ",null,1,1900]
[null,null,null,null,null,null,null,null,null,null,null," ",null,1,1900]
[null,null,null,null,null,null,null,null,null,null,null," ",null,1,1900]
[null,null,null,null,null,null,null,null,null,null,null," ",null,1,1900]
[null,null,null,null,null,null,null,null,null,null,null," ",null,1,1900]
[null,null,null,null,null,null,null,null,null,null,null," ",null,1,1900]
[null,null,null,null,null,null,null,null,null,null,null," ",null,1,1900]
[null,null,null,null,null,null,null,null,null,null,null," ",null,1,1900]
[null,null,null,null,null,null,null,null,null,null,null," ",null,1,1900]
[null,null,null,null,null,null,null,null,null,null,null," ",null,1,1900]
[null,null,null,null,null,null,null,null,null,null,null," ",null,1,1900]
[null,null,null,null,null,null,null,null,null,null,null," ",null,1,1900]
[null,null,null,null,null,null,null,null,null,null,null," ",null,1,1900]
[null,null,null,null,null,null,null,null,null,null,null," ",null,1,1900]
[null,null,null,null,null,null,null,null,null,null,null," ",null,1,1900]
[null,null,null,null,null,null,null,null,null,null,null," ",null,1,1900]
[null,null,null,null,null,null,null,null,null,null,null," ",null,1,1900]
[null,null,null,null,null,null,null,null,null,null,null," ",null,1,1900]
[null,null,null,null,null,null,null,null,null,null,null," ",null,1,1900]
[null,null,null,null,null,null,null,null,null,null,null," ",null,1,1900]
[null,null,null,null,null,null,null,null,null,null,null," ",null,1,1900]
[null,null,null,null,null,null,null,null,null,null,null," ",null,1,1900]
[null,null,null,null,null,null,null,null,null,null,null," ",null,1,1900]
[null,null,null,null,null,null,null,null,null,null,null," ",null,1,1900]
[null,null,null,null,null,null,null,null,null,null,null," ",null,1,1900]
[null,null,null,null,null,null,null,null,null,null,null," ",null,1,1900]
[null,null,null,null,null,null,null,null,null,null,null," ",null,1,1900]
[null,null,null,null,null,null,null,null,null,null,null," ",null,1,1900]
[null,null,null,null,null,null,null,null,null,null,null," ",null,1,1900]
[null,null,null,null,null,null,null,null,null,null,null," ",null,1,1900]
[null,null,null,null,null,null,null,null,null,null,null," ",null,1,1900]
[null,null,null,null,null,null,null,null,null,null,null," ",null,1,1900]
[null,null,null,null,null,null,null,null,null,null,null," ",null,1,1900]
[null,null,null,null,null,null,null,null,null,null,null," ",null,1,1900]
[null,null,null,null,null,null,null,null,null,null,null," ",null,1,1900]
[null,null,null,null,null,null,null,null,null,null,null," ",null,1,1900]
[null,null,null,null,null,null,null,null,null,null,null," ",null,1,1900]
[null,null,null,null,null,null,null,null,null,null,null," ",null,1,1900]
[null,null,null,null,null,null,null,null,null,null,null," ",null,1,1900]
[null,null,null,null,null,null,null,null,null,null,null," ",null,1,1900]
[null,null,null,null,null,null,null,null,null,null,null," ",null,1,1900]
[null,null,null,null,null,null,null,null,null,null,null," ",null,1,1900]
[null,null,null,null,null,null,null,null,null,null,null," ",null,1,1900]
[null,null,null,null,null,null,null,null,null,null,null," ",null,1,1900]
[null,null,null,null,null,null,null,null,null,null,null," ",null,1,1900]
[null,null,null,null,null,null,null,null,null,null,null," ",null,1,1900]
[null,null,null,null,null,null,null,null,null,null,null," ",null,1,1900]
[null,null,null,null,null,null,null,null,null,null,null," ",null,1,1900]
[null,null,null,null,null,null,null,null,null,null,null," ",null,1,1900]
[null,null,null,null,null,null,null,null,null,null,null," ",null,1,1900]
[null,null,null,null,null,null,null,null,null,null,null," ",null,1,1900]
[null,null,null,null,null,null,null,null,null,null,null," ",null,1,1900]
[null,null,null,null,null,null,null,null,null,null,null," ",null,1,1900]
[null,null,null,null,null,null,null,null,null,null,null,{"$f":"+IF(K632=K631,\" \",K632)","v":" "},null,{"$f":"+MONTH(A632)","v":1},{"$f":"+YEAR(A632)","v":1900}]
[null,null,null,null,null,null,null,null,null,null,null," ",null,1,1900]
[null,null,null,null,null,null,null,null,null,null,null," ",null,1,1900]
[null,null,null,null,null,null,null,null,null,null,null," ",null,1,1900]
[null,null,null,null,null,null,null,null,null,null,null," ",null,1,1900]
[null,null,null,null,null,null,null,null,null,null,null," ",null,1,1900]
[null,null,null,null,null,null,null,null,null,null,null," ",null,1,1900]
[null,null,null,null,null,null,null,null,null,null,null," ",null,1,1900]
[null,null,null,null,null,null,null,null,null,null,null," ",null,1,1900]
[null,null,null,null,null,null,null,null,null,null,null," ",null,1,1900]
[null,null,null,null,null,null,null,null,null,null,null," ",null,1,1900]
[null,null,null,null,null,null,null,null,null,null,null," ",null,1,1900]
[null,null,null,null,null,null,null,null,null,null,null," ",null,1,1900]
[null,null,null,null,null,null,null,null,null,null,null," ",null,1,1900]
[null,null,null,null,null,null,null,null,null,null,null," ",null,1,1900]
[null,null,null,null,null,null,null,null,null,null,null," ",null,1,1900]
[null,null,null,null,null,null,null,null,null,null,null," ",null,1,1900]
[null,null,null,null,null,null,null,null,null,null,null," ",null,1,1900]
[null,null,null,null,null,null,null,null,null,null,null," ",null,1,1900]
[null,null,null,null,null,null,null,null,null,null,null," ",null,1,1900]
[null,null,null,null,null,null,null,null,null,null,null," ",null,1,1900]
[null,null,null,null,null,null,null,null,null,null,null," ",null,1,1900]
[null,null,null,null,null,null,null,null,null,null,null," ",null,1,1900]
[null,null,null,null,null,null,null,null,null,null,null," ",null,1,1900]
[null,null,null,null,null,null,null,null,null,null,null," ",null,1,1900]
[null,null,null,null,null,null,null,null,null,null,null," ",null,1,1900]
[null,null,null,null,null,null,null,null,null,null,null," ",null,1,1900]
[null,null,null,null,null,null,null,null,null,null,null," ",null,1,1900]
[null,null,null,null,null,null,null,null,null,null,null," ",null,1,1900]
[null,null,null,null,null,null,null,null,null,null,null," ",null,1,1900]
[null,null,null,null,null,null,null,null,null,null,null," ",null,1,1900]
[null,null,null,null,null,null,null,null,null,null,null," ",null,1,1900]
[null,null,null,null,null,null,null,null,null,null,null," ",null,1,1900]
[null,null,null,null,null,null,null,null,null,null,null," ",null,1,1900]
[null,null,null,null,null,null,null,null,null,null,null," ",null,1,1900]
[null,null,null,null,null,null,null,null,null,null,null," ",null,1,1900]
[null,null,null,null,null,null,null,null,null,null,null," ",null,1,1900]
[null,null,null,null,null,null,null,null,null,null,null," ",null,1,1900]
[null,null,null,null,null,null,null,null,null,null,null," ",null,1,1900]
[null,null,null,null,null,null,null,null,null,null,null," ",null,1,1900]
[null,null,null,null,null,null,null,null,null,null,null," ",null,1,1900]
[null,null,null,null,null,null,null,null,null,null,null," ",null,1,1900]
[null,null,null,null,null,null,null,null,null,null,null," ",null,1,1900]
[null,null,null,null,null,null,null,null,null,null,null," ",null,1,1900]
[null,null,null,null,null,null,null,null,null,null,null," ",null,1,1900]
[null,null,null,null,null,null,null,null,null,null,null," ",null,1,1900]
[null,null,null,null,null,null,null,null,null,null,null," ",null,1,1900]
[null,null,null,null,null,null,null,null,null,null,null," ",null,1,1900]
[null,null,null,null,null,null,null,null,null,null,null," ",null,1,1900]
[null,null,null,null,null,null,null,null,null,null,null," ",null,1,1900]
[null,null,null,null,null,null,null,null,null,null,null," ",null,1,1900]
[null,null,null,null,null,null,null,null,null,null,null," ",null,1,1900]
[null,null,null,null,null,null,null,null,null,null,null," ",null,1,1900]
[null,null,null,null,null,null,null,null,null,null,null," ",null,1,1900]
[null,null,null,null,null,null,null,null,null,null,null," ",null,1,1900]
[null,null,null,null,null,null,null,null,null,null,null," ",null,1,1900]
[null,null,null,null,null,null,null,null,null,null,null," ",null,1,1900]
[null,null,null,null,null,null,null,null,null,null,null," ",null,1,1900]
[null,null,null,null,null,null,null,null,null,null,null," ",null,1,1900]
[null,null,null,null,null,null,null,null,null,null,null," ",null,1,1900]
[null,null,null,null,null,null,null,null,null,null,null," ",null,1,1900]
[null,null,null,null,null,null,null,null,null,null,null," ",null,1,1900]
[null,null,null,null,null,null,null,null,null,null,null," ",null,1,1900]
[null,null,null,null,null,null,null,null,null,null,null," ",null,1,1900]
[null,null,null,null,null,null,null,null,null,null,null,{"$f":"+IF(K696=K695,\" \",K696)","v":" "},null,{"$f":"+MONTH(A696)","v":1},{"$f":"+YEAR(A696)","v":1900}]
[null,null,null,null,null,null,null,null,null,null,null," ",null,1,1900]
[null,null,null,null,null,null,null,null,null,null,null," ",null,1,1900]
[null,null,null,null,null,null,null,null,null,null,null," ",null,1,1900]
[null,null,null,null,null,null,null,null,null,null,null," ",null,1,1900]
[null,null,null,null,null,null,null,null,null,null,null," ",null,1,1900]
[null,null,null,null,null,null,null,null,null,null,null," ",null,1,1900]
[null,null,null,null,null,null,null,null,null,null,null," ",null,1,1900]
[null,null,null,null,null,null,null,null,null,null,null," ",null,1,1900]
[null,null,null,null,null,null,null,null,null,null,null," ",null,1,1900]
[null,null,null,null,null,null,null,null,null,null,null," ",null,1,1900]
[null,null,null,null,null,null,null,null,null,null,null," ",null,1,1900]
[null,null,null,null,null,null,null,null,null,null,null," ",null,1,1900]
[null,null,null,null,null,null,null,null,null,null,null," ",null,1,1900]
[null,null,null,null,null,null,null,null,null,null,null," ",null,1,1900]
[null,null,null,null,null,null,null,null,null,null,null," ",null,1,1900]
[null,null,null,null,null,null,null,null,null,null,null," ",null,1,1900]
[null,null,null,null,null,null,null,null,null,null,null," ",null,1,1900]
[null,null,null,null,null,null,null,null,null,null,null," ",null,1,1900]
[null,null,null,null,null,null,null,null,null,null,null," ",null,1,1900]
[null,null,null,null,null,null,null,null,null,null,null," ",null,1,1900]
[null,null,null,null,null,null,null,null,null,null,null," ",null,1,1900]
[null,null,null,null,null,null,null,null,null,null,null," ",null,1,1900]
[null,null,null,null,null,null,null,null,null,null,null," ",null,1,1900]
[null,null,null,null,null,null,null,null,null,null,null," ",null,1,1900]
[null,null,null,null,null,null,null,null,null,null,null," ",null,1,1900]
[null,null,null,null,null,null,null,null,null,null,null," ",null,1,1900]
[null,null,null,null,null,null,null,null,null,null,null," ",null,1,1900]
[null,null,null,null,null,null,null,null,null,null,null," ",null,1,1900]
[null,null,null,null,null,null,null,null,null,null,null," ",null,1,1900]
[null,null,null,null,null,null,null,null,null,null,null," ",null,1,1900]
[null,null,null,null,null,null,null,null,null,null,null," ",null,1,1900]
[null,null,null,null,null,null,null,null,null,null,null," ",null,1,1900]
[null,null,null,null,null,null,null,null,null,null,null," ",null,1,1900]
[null,null,null,null,null,null,null,null,null,null,null," ",null,1,1900]
[null,null,null,null,null,null,null,null,null,null,null," ",null,1,1900]
[null,null,null,null,null,null,null,null,null,null,null," ",null,1,1900]
[null,null,null,null,null,null,null,null,null,null,null," ",null,1,1900]
[null,null,null,null,null,null,null,null,null,null,null," ",null,1,1900]
[null,null,null,null,null,null,null,null,null,null,null," ",null,1,1900]
[null,null,null,null,null,null,null,null,null,null,null," ",null,1,1900]
[null,null,null,null,null,null,null,null,null,null,null," ",null,1,1900]
[null,null,null,null,null,null,null,null,null,null,null," ",null,1,1900]
[null,null,null,null,null,null,null,null,null,null,null," ",null,1,1900]
[null,null,null,null,null,null,null,null,null,null,null," ",null,1,1900]
[null,null,null,null,null,null,null,null,null,null,null," ",null,1,1900]
[null,null,null,null,null,null,null,null,null,null,null," ",null,1,1900]
[null,null,null,null,null,null,null,null,null,null,null," ",null,1,1900]
[null,null,null,null,null,null,null,null,null,null,null," ",null,1,1900]
[null,null,null,null,null,null,null,null,null,null,null," ",null,1,1900]
[null,null,null,null,null,null,null,null,null,null,null," ",null,1,1900]
[null,null,null,null,null,null,null,null,null,null,null," ",null,1,1900]
[null,null,null,null,null,null,null,null,null,null,null," ",null,1,1900]
[null,null,null,null,null,null,null,null,null,null,null," ",null,1,1900]
[null,null,null,null,null,null,null,null,null,null,null," ",null,1,1900]
[null,null,null,null,null,null,null,null,null,null,null," ",null,1,1900]
[null,null,null,null,null,null,null,null,null,null,null," ",null,1,1900]
[null,null,null,null,null,null,null,null,null,null,null," ",null,1,1900]
[null,null,null,null,null,null,null,null,null,null,null," ",null,1,1900]
[null,null,null,null,null,null,null,null,null,null,null," ",null,1,1900]
[null,null,null,null,null,null,null,null,null,null,null," ",null,1,1900]
[null,null,null,null,null,null,null,null,null,null,null," ",null,1,1900]
[null,null,null,null,null,null,null,null,null,null,null," ",null,1,1900]
[null,null,null,null,null,null,null,null,null,null,null," ",null,1,1900]
[null,null,null,null,null,null,null,null,null,null,null,{"$f":"+IF(K760=K759,\" \",K760)","v":" "},null,{"$f":"+MONTH(A760)","v":1},{"$f":"+YEAR(A760)","v":1900}]
[null,null,null,null,null,null,null,null,null,null,null," ",null,1,1900]
[null,null,null,null,null,null,null,null,null,null,null," ",null,1,1900]
[null,null,null,null,null,null,null,null,null,null,null," ",null,1,1900]
[null,null,null,null,null,null,null,null,null,null,null," ",null,1,1900]
[null,null,null,null,null,null,null,null,null,null,null," ",null,1,1900]
[null,null,null,null,null,null,null,null,null,null,null," ",null,1,1900]
[null,null,null,null,null,null,null,null,null,null,null," ",null,1,1900]
[null,null,null,null,null,null,null,null,null,null,null," ",null,1,1900]
[null,null,null,null,null,null,null,null,null,null,null," ",null,1,1900]
[null,null,null,null,null,null,null,null,null,null,null," ",null,1,1900]
[null,null,null,null,null,null,null,null,null,null,null," ",null,1,1900]
[null,null,null,null,null,null,null,null,null,null,null," ",null,1,1900]
[null,null,null,null,null,null,null,null,null,null,null," ",null,1,1900]
[null,null,null,null,null,null,null,null,null,null,null," ",null,1,1900]
[null,null,null,null,null,null,null,null,null,null,null," ",null,1,1900]
[null,null,null,null,null,null,null,null,null,null,null," ",null,1,1900]
[null,null,null,null,null,null,null,null,null,null,null," ",null,1,1900]
[null,null,null,null,null,null,null,null,null,null,null," ",null,1,1900]
[null,null,null,null,null,null,null,null,null,null,null," ",null,1,1900]
[null,null,null,null,null,null,null,null,null,null,null," ",null,1,1900]
[null,null,null,null,null,null,null,null,null,null,null," ",null,1,1900]
[null,null,null,null,null,null,null,null,null,null,null," ",null,1,1900]
[null,null,null,null,null,null,null,null,null,null,null," ",null,1,1900]
[null,null,null,null,null,null,null,null,null,null,null," ",null,1,1900]
[null,null,null,null,null,null,null,null,null,null,null," ",null,1,1900]
[null,null,null,null,null,null,null,null,null,null,null," ",null,1,1900]
[null,null,null,null,null,null,null,null,null,null,null," ",null,1,1900]
[null,null,null,null,null,null,null,null,null,null,null," ",null,1,1900]
[null,null,null,null,null,null,null,null,null,null,null," ",null,1,1900]
[null,null,null,null,null,null,null,null,null,null,null," ",null,1,1900]
[null,null,null,null,null,null,null,null,null,null,null," ",null,1,1900]
[null,null,null,null,null,null,null,null,null,null,null," ",null,1,1900]
[null,null,null,null,null,null,null,null,null,null,null," ",null,1,1900]
[null,null,null,null,null,null,null,null,null,null,null," ",null,1,1900]
[null,null,null,null,null,null,null,null,null,null,null," ",null,1,1900]
[null,null,null,null,null,null,null,null,null,null,null," ",null,1,1900]
[null,null,null,null,null,null,null,null,null,null,null," ",null,1,1900]
[null,null,null,null,null,null,null,null,null,null,null," ",null,1,1900]
[null,null,null,null,null,null,null,null,null,null,null," ",null,1,1900]
[null,null,null,null,null,null,null,null,null,null,null," ",null,1,1900]
[null,null,null,null,null,null,null,null,null,null,null," ",null,1,1900]
[null,null,null,null,null,null,null,null,null,null,null," ",null,1,1900]
[null,null,null,null,null,null,null,null,null,null,null," ",null,1,1900]
[null,null,null,null,null,null,null,null,null,null,null," ",null,1,1900]
[null,null,null,null,null,null,null,null,null,null,null," ",null,1,1900]
[null,null,null,null,null,null,null,null,null,null,null," ",null,1,1900]
[null,null,null,null,null,null,null,null,null,null,null," ",null,1,1900]
[null,null,null,null,null,null,null,null,null,null,null," ",null,1,1900]
[null,null,null,null,null,null,null,null,null,null,null," ",null,1,1900]
[null,null,null,null,null,null,null,null,null,null,null," ",null,1,1900]
[null,null,null,null,null,null,null,null,null,null,null," ",null,1,1900]
[null,null,null,null,null,null,null,null,null,null,null," ",null,1,1900]
[null,null,null,null,null,null,null,null,null,null,null," ",null,1,1900]
[null,null,null,null,null,null,null,null,null,null,null," ",null,1,1900]
[null,null,null,null,null,null,null,null,null,null,null," ",null,1,1900]
[null,null,null,null,null,null,null,null,null,null,null," ",null,1,1900]
[null,null,null,null,null,null,null,null,null,null,null," ",null,1,1900]
[null,null,null,null,null,null,null,null,null,null,null," ",null,1,1900]
[null,null,null,null,null,null,null,null,null,null,null," ",null,1,1900]
[null,null,null,null,null,null,null,null,null,null,null," ",null,1,1900]
[null,null,null,null,null,null,null,null,null,null,null," ",null,1,1900]
[null,null,null,null,null,null,null,null,null,null,null," ",null,1,1900]
[null,null,null,null,null,null,null,null,null,null,null," ",null,1,1900]
[null,null,null,null,null,null,null,null,null,null,null,{"$f":"+IF(K824=K823,\" \",K824)","v":" "},null,{"$f":"+MONTH(A824)","v":1},{"$f":"+YEAR(A824)","v":1900}]
[null,null,null,null,null,null,null,null,null,null,null," ",null,1,1900]
[null,null,null,null,null,null,null,null,null,null,null," ",null,1,1900]
[null,null,null,null,null,null,null,null,null,null,null," ",null,1,1900]
[null,null,null,null,null,null,null,null,null,null,null," ",null,1,1900]
[null,null,null,null,null,null,null,null,null,null,null," ",null,1,1900]
[null,null,null,null,null,null,null,null,null,null,null," ",null,1,1900]
[null,null,null,null,null,null,null,null,null,null,null," ",null,1,1900]
[null,null,null,null,null,null,null,null,null,null,null," ",null,1,1900]
[null,null,null,null,null,null,null,null,null,null,null," ",null,1,1900]
[null,null,null,null,null,null,null,null,null,null,null," ",null,1,1900]
[null,null,null,null,null,null,null,null,null,null,null," ",null,1,1900]
[null,null,null,null,null,null,null,null,null,null,null," ",null,1,1900]
[null,null,null,null,null,null,null,null,null,null,null," ",null,1,1900]
[null,null,null,null,null,null,null,null,null,null,null," ",null,1,1900]
[null,null,null,null,null,null,null,null,null,null,null," ",null,1,1900]
[null,null,null,null,null,null,null,null,null,null,null," ",null,1,1900]
[null,null,null,null,null,null,null,null,null,null,null," ",null,1,1900]
[null,null,null,null,null,null,null,null,null,null,null," ",null,1,1900]
[null,null,null,null,null,null,null,null,null,null,null," ",null,1,1900]
[null,null,null,null,null,null,null,null,null,null,null," ",null,1,1900]
[null,null,null,null,null,null,null,null,null,null,null," ",null,1,1900]
[null,null,null,null,null,null,null,null,null,null,null," ",null,1,1900]
[null,null,null,null,null,null,null,null,null,null,null," ",null,1,1900]
[null,null,null,null,null,null,null,null,null,null,null," ",null,1,1900]
[null,null,null,null,null,null,null,null,null,null,null," ",null,1,1900]
[null,null,null,null,null,null,null,null,null,null,null," ",null,1,1900]
[null,null,null,null,null,null,null,null,null,null,null," ",null,1,1900]
[null,null,null,null,null,null,null,null,null,null,null," ",null,1,1900]
[null,null,null,null,null,null,null,null,null,null,null," ",null,1,1900]
[null,null,null,null,null,null,null,null,null,null,null," ",null,1,1900]
[null,null,null,null,null,null,null,null,null,null,null," ",null,1,1900]
[null,null,null,null,null,null,null,null,null,null,null," ",null,1,1900]
[null,null,null,null,null,null,null,null,null,null,null," ",null,1,1900]
[null,null,null,null,null,null,null,null,null,null,null," ",null,1,1900]
[null,null,null,null,null,null,null,null,null,null,null," ",null,1,1900]
[null,null,null,null,null,null,null,null,null,null,null," ",null,1,1900]
[null,null,null,null,null,null,null,null,null,null,null," ",null,1,1900]
[null,null,null,null,null,null,null,null,null,null,null," ",null,1,1900]
[null,null,null,null,null,null,null,null,null,null,null," ",null,1,1900]
[null,null,null,null,null,null,null,null,null,null,null," ",null,1,1900]
[null,null,null,null,null,null,null,null,null,null,null," ",null,1,1900]
[null,null,null,null,null,null,null,null,null,null,null," ",null,1,1900]
[null,null,null,null,null,null,null,null,null,null,null," ",null,1,1900]
[null,null,null,null,null,null,null,null,null,null,null," ",null,1,1900]
[null,null,null,null,null,null,null,null,null,null,null," ",null,1,1900]
[null,null,null,null,null,null,null,null,null,null,null," ",null,1,1900]
[null,null,null,null,null,null,null,null,null,null,null," ",null,1,1900]
[null,null,null,null,null,null,null,null,null,null,null," ",null,1,1900]
[null,null,null,null,null,null,null,null,null,null,null," ",null,1,1900]
[null,null,null,null,null,null,null,null,null,null,null," ",null,1,1900]
[null,null,null,null,null,null,null,null,null,null,null," ",null,1,1900]
[null,null,null,null,null,null,null,null,null,null,null," ",null,1,1900]
[null,null,null,null,null,null,null,null,null,null,null," ",null,1,1900]
[null,null,null,null,null,null,null,null,null,null,null," ",null,1,1900]
[null,null,null,null,null,null,null,null,null,null,null," ",null,1,1900]
[null,null,null,null,null,null,null,null,null,null,null," ",null,1,1900]
[null,null,null,null,null,null,null,null,null,null,null," ",null,1,1900]
[null,null,null,null,null,null,null,null,null,null,null," ",null,1,1900]
[null,null,null,null,null,null,null,null,null,null,null," ",null,1,1900]
[null,null,null,null,null,null,null,null,null,null,null," ",null,1,1900]
[null,null,null,null,null,null,null,null,null,null,null," ",null,1,1900]
[null,null,null,null,null,null,null,null,null,null,null," ",null,1,1900]
[null,null,null,null,null,null,null,null,null,null,null," ",null,1,1900]
[null,null,null,null,null,null,null,null,null,null,null,{"$f":"+IF(K888=K887,\" \",K888)","v":" "},null,{"$f":"+MONTH(A888)","v":1},{"$f":"+YEAR(A888)","v":1900}]
[null,null,null,null,null,null,null,null,null,null,null," ",null,1,1900]
[null,null,null,null,null,null,null,null,null,null,null," ",null,1,1900]
[null,null,null,null,null,null,null,null,null,null,null," ",null,1,1900]
[null,null,null,null,null,null,null,null,null,null,null," ",null,1,1900]
[null,null,null,null,null,null,null,null,null,null,null," ",null,1,1900]
[null,null,null,null,null,null,null,null,null,null,null," ",null,1,1900]
[null,null,null,null,null,null,null,null,null,null,null," ",null,1,1900]
[null,null,null,null,null,null,null,null,null,null,null," ",null,1,1900]
[null,null,null,null,null,null,null,null,null,null,null," ",null,1,1900]
[null,null,null,null,null,null,null,null,null,null,null," ",null,1,1900]
[null,null,null,null,null,null,null,null,null,null,null," ",null,1,1900]
[null,null,null,null,null,null,null,null,null,null,null," ",null,1,1900]
[null,null,null,null,null,null,null,null,null,null,null," ",null,1,1900]
[null,null,null,null,null,null,null,null,null,null,null," ",null,1,1900]
[null,null,null,null,null,null,null,null,null,null,null," ",null,1,1900]
[null,null,null,null,null,null,null,null,null,null,null," ",null,1,1900]
[null,null,null,null,null,null,null,null,null,null,null," ",null,1,1900]
[null,null,null,null,null,null,null,null,null,null,null," ",null,1,1900]
[null,null,null,null,null,null,null,null,null,null,null," ",null,1,1900]
[null,null,null,null,null,null,null,null,null,null,null," ",null,1,1900]
[null,null,null,null,null,null,null,null,null,null,null," ",null,1,1900]
[null,null,null,null,null,null,null,null,null,null,null," ",null,1,1900]
[null,null,null,null,null,null,null,null,null,null,null," ",null,1,1900]
[null,null,null,null,null,null,null,null,null,null,null," ",null,1,1900]
[null,null,null,null,null,null,null,null,null,null,null," ",null,1,1900]
[null,null,null,null,null,null,null,null,null,null,null," ",null,1,1900]
[null,null,null,null,null,null,null,null,null,null,null," ",null,1,1900]
[null,null,null,null,null,null,null,null,null,null,null," ",null,1,1900]
[null,null,null,null,null,null,null,null,null,null,null," ",null,1,1900]
[null,null,null,null,null,null,null,null,null,null,null," ",null,1,1900]
[null,null,null,null,null,null,null,null,null,null,null," ",null,1,1900]
[null,null,null,null,null,null,null,null,null,null,null," ",null,1,1900]
[null,null,null,null,null,null,null,null,null,null,null," ",null,1,1900]
[null,null,null,null,null,null,null,null,null,null,null," ",null,1,1900]
[null,null,null,null,null,null,null,null,null,null,null," ",null,1,1900]
[null,null,null,null,null,null,null,null,null,null,null," ",null,1,1900]
[null,null,null,null,null,null,null,null,null,null,null," ",null,1,1900]
[null,null,null,null,null,null,null,null,null,null,null," ",null,1,1900]
[null,null,null,null,null,null,null,null,null,null,null," ",null,1,1900]
[null,null,null,null,null,null,null,null,null,null,null," ",null,1,1900]
[null,null,null,null,null,null,null,null,null,null,null," ",null,1,1900]
[null,null,null,null,null,null,null,null,null,null,null," ",null,1,1900]
[null,null,null,null,null,null,null,null,null,null,null," ",null,1,1900]
[null,null,null,null,null,null,null,null,null,null,null," ",null,1,1900]
[null,null,null,null,null,null,null,null,null,null,null," ",null,1,1900]
[null,null,null,null,null,null,null,null,null,null,null," ",null,1,1900]
[null,null,null,null,null,null,null,null,null,null,null," ",null,1,1900]
[null,null,null,null,null,null,null,null,null,null,null," ",null,1,1900]
[null,null,null,null,null,null,null,null,null,null,null," ",null,1,1900]
[null,null,null,null,null,null,null,null,null,null,null," ",null,1,1900]
[null,null,null,null,null,null,null,null,null,null,null," ",null,1,1900]
[null,null,null,null,null,null,null,null,null,null,null," ",null,1,1900]
[null,null,null,null,null,null,null,null,null,null,null," ",null,1,1900]
[null,null,null,null,null,null,null,null,null,null,null," ",null,1,1900]
[null,null,null,null,null,null,null,null,null,null,null," ",null,1,1900]
[null,null,null,null,null,null,null,null,null,null,null," ",null,1,1900]
[null,null,null,null,null,null,null,null,null,null,null," ",null,1,1900]
[null,null,null,null,null,null,null,null,null,null,null," ",null,1,1900]
[null,null,null,null,null,null,null,null,null,null,null," ",null,1,1900]
[null,null,null,null,null,null,null,null,null,null,null," ",null,1,1900]
[null,null,null,null,null,null,null,null,null,null,null," ",null,1,1900]
[null,null,null,null,null,null,null,null,null,null,null," ",null,1,1900]
[null,null,null,null,null,null,null,null,null,null,null," ",null,1,1900]
[null,null,null,null,null,null,null,null,null,null,null,{"$f":"+IF(K952=K951,\" \",K952)","v":" "},null,{"$f":"+MONTH(A952)","v":1},{"$f":"+YEAR(A952)","v":1900}]
[null,null,null,null,null,null,null,null,null,null,null," ",null,1,1900]
[null,null,null,null,null,null,null,null,null,null,null," ",null,1,1900]
[null,null,null,null,null,null,null,null,null,null,null," ",null,1,1900]
[null,null,null,null,null,null,null,null,null,null,null," ",null,1,1900]
[null,null,null,null,null,null,null,null,null,null,null," ",null,1,1900]
[null,null,null,null,null,null,null,null,null,null,null," ",null,1,1900]
[null,null,null,null,null,null,null,null,null,null,null," ",null,1,1900]
[null,null,null,null,null,null,null,null,null,null,null," ",null,1,1900]
[null,null,null,null,null,null,null,null,null,null,null," ",null,1,1900]
[null,null,null,null,null,null,null,null,null,null,null," ",null,1,1900]
[null,null,null,null,null,null,null,null,null,null,null," ",null,1,1900]
[null,null,null,null,null,null,null,null,null,null,null," ",null,1,1900]
[null,null,null,null,null,null,null,null,null,null,null," ",null,1,1900]
[null,null,null,null,null,null,null,null,null,null,null," ",null,1,1900]
[null,null,null,null,null,null,null,null,null,null,null," ",null,1,1900]
[null,null,null,null,null,null,null,null,null,null,null," ",null,1,1900]
[null,null,null,null,null,null,null,null,null,null,null," ",null,1,1900]
[null,null,null,null,null,null,null,null,null,null,null," ",null,1,1900]
[null,null,null,null,null,null,null,null,null,null,null," ",null,1,1900]
[null,null,null,null,null,null,null,null,null,null,null," ",null,1,1900]
[null,null,null,null,null,null,null,null,null,null,null," ",null,1,1900]
[null,null,null,null,null,null,null,null,null,null,null," ",null,1,1900]
[null,null,null,null,null,null,null,null,null,null,null," ",null,1,1900]
[null,null,null,null,null,null,null,null,null,null,null," ",null,1,1900]
[null,null,null,null,null,null,null,null,null,null,null," ",null,1,1900]
[null,null,null,null,null,null,null,null,null,null,null," ",null,1,1900]
[null,null,null,null,null,null,null,null,null,null,null," ",null,1,1900]
[null,null,null,null,null,null,null,null,null,null,null," ",null,1,1900]
[null,null,null,null,null,null,null,null,null,null,null," ",null,1,1900]
[null,null,null,null,null,null,null,null,null,null,null," ",null,1,1900]
[null,null,null,null,null,null,null,null,null,null,null," ",null,1,1900]
[null,null,null,null,null,null,null,null,null,null,null," ",null,1,1900]
[null,null,null,null,null,null,null,null,null,null,null," ",null,1,1900]
[null,null,null,null,null,null,null,null,null,null,null," ",null,1,1900]
[null,null,null,null,null,null,null,null,null,null,null," ",null,1,1900]
[null,null,null,null,null,null,null,null,null,null,null," ",null,1,1900]
[null,null,null,null,null,null,null,null,null,null,null," ",null,1,1900]
[null,null,null,null,null,null,null,null,null,null,null," ",null,1,1900]
[null,null,null,null,null,null,null,null,null,null,null," ",null,1,1900]
[null,null,null,null,null,null,null,null,null,null,null," ",null,1,1900]
[null,null,null,null,null,null,null,null,null,null,null," ",null,1,1900]
[null,null,null,null,null,null,null,null,null,null,null," ",null,1,1900]
[null,null,null,null,null,null,null,null,null,null,null," ",null,1,1900]
[null,null,null,null,null,null,null,null,null,null,null," ",null,1,1900]
[null,null,null,null,null,null,null,null,null,null,null," ",null,1,1900]
[null,null,null,null,null,null,null,null,null,null,null," ",null,1,1900]
[null,null,null,null,null,null,null,null,null,null,null," ",null,1,1900]
[null,null,null,null,null,null,null,null,null,null,null," ",null,1,1900]
[null,null,null,null,null,null,null,null,null,null,null," ",null,1,1900]
[null,null,null,null,null,null,null,null,null,null,null," ",null,1,1900]
[null,null,null,null,null,null,null,null,null,null,null," ",null,1,1900]
[null,null,null,null,null,null,null,null,null,null,null," ",null,1,1900]
[null,null,null,null,null,null,null,null,null,null,null," ",null,1,1900]
[null,null,null,null,null,null,null,null,null,null,null," ",null,1,1900]
[null,null,null,null,null,null,null,null,null,null,null," ",null,1,1900]
[null,null,null,null,null,null,null,null,null,null,null," ",null,1,1900]
[null,null,null,null,null,null,null,null,null,null,null," ",null,1,1900]
[null,null,null,null,null,null,null,null,null,null,null," ",null,1,1900]
[null,null,null,null,null,null,null,null,null,null,null," ",null,1,1900]
[null,null,null,null,null,null,null,null,null,null,null," ",null,1,1900]
[null,null,null,null,null,null,null,null,null,null,null," ",null,1,1900]
[null,null,null,null,null,null,null,null,null,null,null," ",null,1,1900]
[null,null,null,null,null,null,null,null,null,null,null," ",null,1,1900]
[null,null,null,null,null,null,null,null,null,null,null,{"$f":"+IF(K1016=K1015,\" \",K1016)","v":" "},null,{"$f":"+MONTH(A1016)","v":1},{"$f":"+YEAR(A1016)","v":1900}]
[null,null,null,null,null,null,null,null,null,null,null," ",null,1,1900]
[null,null,null,null,null,null,null,null,null,null,null," ",null,1,1900]
[null,null,null,null,null,null,null,null,null,null,null," ",null,1,1900]
[null,null,null,null,null,null,null,null,null,null,null," ",null,1,1900]
[null,null,null,null,null,null,null,null,null,null,null," ",null,1,1900]
[null,null,null,null,null,null,null,null,null,null,null," ",null,1,1900]
[null,null,null,null,null,null,null,null,null,null,null," ",null,1,1900]
[null,null,null,null,null,null,null,null,null,null,null," ",null,1,1900]
[null,null,null,null,null,null,null,null,null,null,null," ",null,1,1900]
[null,null,null,null,null,null,null,null,null,null,null," ",null,1,1900]
[null,null,null,null,null,null,null,null,null,null,null," ",null,1,1900]
[null,null,null,null,null,null,null,null,null,null,null," ",null,1,1900]
[null,null,null,null,null,null,null,null,null,null,null," ",null,1,1900]
[null,null,null,null,null,null,null,null,null,null,null," ",null,1,1900]
[null,null,null,null,null,null,null,null,null,null,null," ",null,1,1900]
[null,null,null,null,null,null,null,null,null,null,null," ",null,1,1900]
[null,null,null,null,null,null,null,null,null,null,null," ",null,1,1900]
[null,null,null,null,null,null,null,null,null,null,null," ",null,1,1900]
[null,null,null,null,null,null,null,null,null,null,null," ",null,1,1900]
[null,null,null,null,null,null,null,null,null,null,null," ",null,1,1900]
[null,null,null,null,null,null,null,null,null,null,null," ",null,1,1900]
[null,null,null,null,null,null,null,null,null,null,null," ",null,1,1900]
[null,null,null,null,null,null,null,null,null,null,null," ",null,1,1900]
[null,null,null,null,null,null,null,null,null,null,null," ",null,1,1900]
[null,null,null,null,null,null,null,null,null,null,null," ",null,1,1900]
[null,null,null,null,null,null,null,null,null,null,null," ",null,1,1900]
[null,null,null,null,null,null,null,null,null,null,null," ",null,1,1900]
[null,null,null,null,null,null,null,null,null,null,null," ",null,1,1900]
[null,null,null,null,null,null,null,null,null,null,null," ",null,1,1900]
[null,null,null,null,null,null,null,null,null,null,null," ",null,1,1900]
[null,null,null,null,null,null,null,null,null,null,null," ",null,1,1900]
[null,null,null,null,null,null,null,null,null,null,null," ",null,1,1900]
[null,null,null,null,null,null,null,null,null,null,null," ",null,1,1900]
[null,null,null,null,null,null,null,null,null,null,null," ",null,1,1900]
[null,null,null,null,null,null,null,null,null,null,null," ",null,1,1900]
[null,null,null,null,null,null,null,null,null,null,null," ",null,1,1900]
[null,null,null,null,null,null,null,null,null,null,null," ",null,1,1900]
[null,null,null,null,null,null,null,null,null,null,null," ",null,1,1900]
[null,null,null,null,null,null,null,null,null,null,null," ",null,1,1900]
[null,null,null,null,null,null,null,null,null,null,null," ",null,1,1900]
[null,null,null,null,null,null,null,null,null,null,null," ",null,1,1900]
[null,null,null,null,null,null,null,null,null,null,null," ",null,1,1900]
[null,null,null,null,null,null,null,null,null,null,null," ",null,1,1900]
[null,null,null,null,null,null,null,null,null,null,null," ",null,1,1900]
[null,null,null,null,null,null,null,null,null,null,null," ",null,1,1900]
[null,null,null,null,null,null,null,null,null,null,null," ",null,1,1900]
[null,null,null,null,null,null,null,null,null,null,null," ",null,1,1900]
[null,null,null,null,null,null,null,null,null,null,null," ",null,1,1900]
[null,null,null,null,null,null,null,null,null,null,null," ",null,1,1900]
[null,null,null,null,null,null,null,null,null,null,null," ",null,1,1900]
[null,null,null,null,null,null,null,null,null,null,null," ",null,1,1900]
[null,null,null,null,null,null,null,null,null,null,null," ",null,1,1900]
[null,null,null,null,null,null,null,null,null,null,null," ",null,1,1900]
[null,null,null,null,null,null,null,null,null,null,null," ",null,1,1900]
[null,null,null,null,null,null,null,null,null,null,null," ",null,1,1900]
[null,null,null,null,null,null,null,null,null,null,null," ",null,1,1900]
[null,null,null,null,null,null,null,null,null,null,null," ",null,1,1900]
[null,null,null,null,null,null,null,null,null,null,null," ",null,1,1900]
[null,null,null,null,null,null,null,null,null,null,null," ",null,1,1900]
[null,null,null,null,null,null,null,null,null,null,null," ",null,1,1900]
[null,null,null,null,null,null,null,null,null,null,null," ",null,1,1900]
[null,null,null,null,null,null,null,null,null,null,null," ",null,1,1900]
[null,null,null,null,null,null,null,null,null,null,null," ",null,1,1900]
[null,null,null,null,null,null,null,null,null,null,null,{"$f":"+IF(K1080=K1079,\" \",K1080)","v":" "},null,{"$f":"+MONTH(A1080)","v":1},{"$f":"+YEAR(A1080)","v":1900}]
[null,null,null,null,null,null,null,null,null,null,null," ",null,1,1900]
[null,null,null,null,null,null,null,null,null,null,null," ",null,1,1900]
[null,null,null,null,null,null,null,null,null,null,null," ",null,1,1900]
[null,null,null,null,null,null,null,null,null,null,null," ",null,1,1900]
[null,null,null,null,null,null,null,null,null,null,null," ",null,1,1900]
[null,null,null,null,null,null,null,null,null,null,null," ",null,1,1900]
[null,null,null,null,null,null,null,null,null,null,null," ",null,1,1900]
[null,null,null,null,null,null,null,null,null,null,null," ",null,1,1900]
[null,null,null,null,null,null,null,null,null,null,null," ",null,1,1900]
[null,null,null,null,null,null,null,null,null,null,null," ",null,1,1900]
[null,null,null,null,null,null,null,null,null,null,null," ",null,1,1900]
[null,null,null,null,null,null,null,null,null,null,null," ",null,1,1900]
[null,null,null,null,null,null,null,null,null,null,null," ",null,1,1900]
[null,null,null,null,null,null,null,null,null,null,null," ",null,1,1900]
[null,null,null,null,null,null,null,null,null,null,null," ",null,1,1900]
[null,null,null,null,null,null,null,null,null,null,null," ",null,1,1900]
[null,null,null,null,null,null,null,null,null,null,null," ",null,1,1900]
[null,null,null,null,null,null,null,null,null,null,null," ",null,1,1900]
[null,null,null,null,null,null,null,null,null,null,null," ",null,1,1900]
[null,null,null,null,null,null,null,null,null,null,null," ",null,1,1900]
[null,null,null,null,null,null,null,null,null,null,null," ",null,1,1900]
[null,null,null,null,null,null,null,null,null,null,null," ",null,1,1900]
[null,null,null,null,null,null,null,null,null,null,null," ",null,1,1900]
[null,null,null,null,null,null,null,null,null,null,null," ",null,1,1900]
[null,null,null,null,null,null,null,null,null,null,null," ",null,1,1900]
[null,null,null,null,null,null,null,null,null,null,null," ",null,1,1900]
[null,null,null,null,null,null,null,null,null,null,null," ",null,1,1900]
[null,null,null,null,null,null,null,null,null,null,null," ",null,1,1900]
[null,null,null,null,null,null,null,null,null,null,null," ",null,1,1900]
[null,null,null,null,null,null,null,null,null,null,null," ",null,1,1900]
[null,null,null,null,null,null,null,null,null,null,null," ",null,1,1900]
[null,null,null,null,null,null,null,null,null,null,null," ",null,1,1900]
[null,null,null,null,null,null,null,null,null,null,null," ",null,1,1900]
[null,null,null,null,null,null,null,null,null,null,null," ",null,1,1900]
[null,null,null,null,null,null,null,null,null,null,null," ",null,1,1900]
[null,null,null,null,null,null,null,null,null,null,null," ",null,1,1900]
[null,null,null,null,null,null,null,null,null,null,null," ",null,1,1900]
[null,null,null,null,null,null,null,null,null,null,null," ",null,1,1900]
[null,null,null,null,null,null,null,null,null,null,null," ",null,1,1900]
[null,null,null,null,null,null,null,null,null,null,null," ",null,1,1900]
[null,null,null,null,null,null,null,null,null,null,null," ",null,1,1900]
[null,null,null,null,null,null,null,null,null,null,null," ",null,1,1900]
[null,null,null,null,null,null,null,null,null,null,null," ",null,1,1900]
[null,null,null,null,null,null,null,null,null,null,null," ",null,1,1900]
[null,null,null,null,null,null,null,null,null,null,null," ",null,1,1900]
[null,null,null,null,null,null,null,null,null,null,null," ",null,1,1900]
[null,null,null,null,null,null,null,null,null,null,null," ",null,1,1900]
[null,null,null,null,null,null,null,null,null,null,null," ",null,1,1900]
[null,null,null,null,null,null,null,null,null,null,null," ",null,1,1900]
[null,null,null,null,null,null,null,null,null,null,null," ",null,1,1900]
[null,null,null,null,null,null,null,null,null,null,null," ",null,1,1900]
[null,null,null,null,null,null,null,null,null,null,null," ",null,1,1900]
[null,null,null,null,null,null,null,null,null,null,null," ",null,1,1900]
[null,null,null,null,null,null,null,null,null,null,null," ",null,1,1900]
[null,null,null,null,null,null,null,null,null,null,null," ",null,1,1900]
[null,null,null,null,null,null,null,null,null,null,null," ",null,1,1900]
[null,null,null,null,null,null,null,null,null,null,null," ",null,1,1900]
[null,null,null,null,null,null,null,null,null,null,null," ",null,1,1900]
[null,null,null,null,null,null,null,null,null,null,null," ",null,1,1900]
[null,null,null,null,null,null,null,null,null,null,null," ",null,1,1900]
[null,null,null,null,null,null,null,null,null,null,null," ",null,1,1900]
[null,null,null,null,null,null,null,null,null,null,null," ",null,1,1900]
[null,null,null,null,null,null,null,null,null,null,null," ",null,1,1900]
[null,null,null,null,null,null,null,null,null,null,null,{"$f":"+IF(K1144=K1143,\" \",K1144)","v":" "},null,{"$f":"+MONTH(A1144)","v":1},{"$f":"+YEAR(A1144)","v":1900}]
[null,null,null,null,null,null,null,null,null,null,null," ",null,1,1900]
[null,null,null,null,null,null,null,null,null,null,null," ",null,1,1900]
[null,null,null,null,null,null,null,null,null,null,null," ",null,1,1900]
[null,null,null,null,null,null,null,null,null,null,null," ",null,1,1900]
[null,null,null,null,null,null,null,null,null,null,null," ",null,1,1900]
[null,null,null,null,null,null,null,null,null,null,null," ",null,1,1900]
[null,null,null,null,null,null,null,null,null,null,null," ",null,1,1900]
[null,null,null,null,null,null,null,null,null,null,null," ",null,1,1900]
[null,null,null,null,null,null,null,null,null,null,null," ",null,1,1900]
[null,null,null,null,null,null,null,null,null,null,null," ",null,1,1900]
[null,null,null,null,null,null,null,null,null,null,null," ",null,1,1900]
[null,null,null,null,null,null,null,null,null,null,null," ",null,1,1900]
[null,null,null,null,null,null,null,null,null,null,null," ",null,1,1900]
[null,null,null,null,null,null,null,null,null,null,null," ",null,1,1900]
[null,null,null,null,null,null,null,null,null,null,null," ",null,1,1900]
[null,null,null,null,null,null,null,null,null,null,null," ",null,1,1900]
[null,null,null,null,null,null,null,null,null,null,null," ",null,1,1900]
[null,null,null,null,null,null,null,null,null,null,null," ",null,1,1900]
[null,null,null,null,null,null,null,null,null,null,null," ",null,1,1900]
[null,null,null,null,null,null,null,null,null,null,null," ",null,1,1900]
[null,null,null,null,null,null,null,null,null,null,null," ",null,1,1900]
[null,null,null,null,null,null,null,null,null,null,null," ",null,1,1900]
[null,null,null,null,null,null,null,null,null,null,null," ",null,1,1900]
[null,null,null,null,null,null,null,null,null,null,null," ",null,1,1900]
[null,null,null,null,null,null,null,null,null,null,null," ",null,1,1900]
[null,null,null,null,null,null,null,null,null,null,null," ",null,1,1900]
[null,null,null,null,null,null,null,null,null,null,null," ",null,1,1900]
[null,null,null,null,null,null,null,null,null,null,null," ",null,1,1900]
[null,null,null,null,null,null,null,null,null,null,null," ",null,1,1900]
[null,null,null,null,null,null,null,null,null,null,null," ",null,1,1900]
[null,null,null,null,null,null,null,null,null,null,null," ",null,1,1900]
[null,null,null,null,null,null,null,null,null,null,null," ",null,1,1900]
[null,null,null,null,null,null,null,null,null,null,null," ",null,1,1900]
[null,null,null,null,null,null,null,null,null,null,null," ",null,1,1900]
[null,null,null,null,null,null,null,null,null,null,null," ",null,1,1900]
[null,null,null,null,null,null,null,null,null,null,null," ",null,1,1900]
[null,null,null,null,null,null,null,null,null,null,null," ",null,1,1900]
[null,null,null,null,null,null,null,null,null,null,null," ",null,1,1900]
[null,null,null,null,null,null,null,null,null,null,null," ",null,1,1900]
[null,null,null,null,null,null,null,null,null,null,null," ",null,1,1900]
[null,null,null,null,null,null,null,null,null,null,null," ",null,1,1900]
[null,null,null,null,null,null,null,null,null,null,null," ",null,1,1900]
[null,null,null,null,null,null,null,null,null,null,null," ",null,1,1900]
[null,null,null,null,null,null,null,null,null,null,null," ",null,1,1900]
[null,null,null,null,null,null,null,null,null,null,null," ",null,1,1900]
[null,null,null,null,null,null,null,null,null,null,null," ",null,1,1900]
[null,null,null,null,null,null,null,null,null,null,null," ",null,1,1900]
[null,null,null,null,null,null,null,null,null,null,null," ",null,1,1900]
[null,null,null,null,null,null,null,null,null,null,null," ",null,1,1900]
[null,null,null,null,null,null,null,null,null,null,null," ",null,1,1900]
[null,null,null,null,null,null,null,null,null,null,null," ",null,1,1900]
[null,null,null,null,null,null,null,null,null,null,null," ",null,1,1900]
[null,null,null,null,null,null,null,null,null,null,null," ",null,1,1900]
[null,null,null,null,null,null,null,null,null,null,null," ",null,1,1900]
[null,null,null,null,null,null,null,null,null,null,null," ",null,1,1900]
[null,null,null,null,null,null,null,null,null,null,null," ",null,1,1900]
[null,null,null,null,null,null,null,null,null,null,null," ",null,1,1900]
[null,null,null,null,null,null,null,null,null,null,null," ",null,1,1900]
[null,null,null,null,null,null,null,null,null,null,null," ",null,1,1900]
[null,null,null,null,null,null,null,null,null,null,null," ",null,1,1900]
[null,null,null,null,null,null,null,null,null,null,null," ",null,1,1900]
[null,null,null,null,null,null,null,null,null,null,null," ",null,1,1900]
[null,null,null,null,null,null,null,null,null,null,null," ",null,1,1900]
[null,null,null,null,null,null,null,null,null,null,null,{"$f":"+IF(K1208=K1207,\" \",K1208)","v":" "},null,{"$f":"+MONTH(A1208)","v":1},{"$f":"+YEAR(A1208)","v":1900}]
[null,null,null,null,null,null,null,null,null,null,null," ",null,1,1900]
[null,null,null,null,null,null,null,null,null,null,null," ",null,1,1900]
[null,null,null,null,null,null,null,null,null,null,null," ",null,1,1900]
[null,null,null,null,null,null,null,null,null,null,null," ",null,1,1900]
[null,null,null,null,null,null,null,null,null,null,null," ",null,1,1900]
[null,null,null,null,null,null,null,null,null,null,null," ",null,1,1900]
[null,null,null,null,null,null,null,null,null,null,null," ",null,1,1900]
[null,null,null,null,null,null,null,null,null,null,null," ",null,1,1900]
[null,null,null,null,null,null,null,null,null,null,null," ",null,1,1900]
[null,null,null,null,null,null,null,null,null,null,null," ",null,1,1900]
[null,null,null,null,null,null,null,null,null,null,null," ",null,1,1900]
[null,null,null,null,null,null,null,null,null,null,null," ",null,1,1900]
[null,null,null,null,null,null,null,null,null,null,null," ",null,1,1900]
[null,null,null,null,null,null,null,null,null,null,null," ",null,1,1900]
[null,null,null,null,null,null,null,null,null,null,null," ",null,1,1900]
[null,null,null,null,null,null,null,null,null,null,null," ",null,1,1900]
[null,null,null,null,null,null,null,null,null,null,null," ",null,1,1900]
[null,null,null,null,null,null,null,null,null,null,null," ",null,1,1900]
[null,null,null,null,null,null,null,null,null,null,null," ",null,1,1900]
[null,null,null,null,null,null,null,null,null,null,null," ",null,1,1900]
[null,null,null,null,null,null,null,null,null,null,null," ",null,1,1900]
[null,null,null,null,null,null,null,null,null,null,null," ",null,1,1900]
[null,null,null,null,null,null,null,null,null,null,null," ",null,1,1900]
[null,null,null,null,null,null,null,null,null,null,null," ",null,1,1900]
[null,null,null,null,null,null,null,null,null,null,null," ",null,1,1900]
[null,null,null,null,null,null,null,null,null,null,null," ",null,1,1900]
[null,null,null,null,null,null,null,null,null,null,null," ",null,1,1900]
[null,null,null,null,null,null,null,null,null,null,null," ",null,1,1900]
[null,null,null,null,null,null,null,null,null,null,null," ",null,1,1900]
[null,null,null,null,null,null,null,null,null,null,null," ",null,1,1900]
[null,null,null,null,null,null,null,null,null,null,null," ",null,1,1900]
[null,null,null,null,null,null,null,null,null,null,null," ",null,1,1900]
[null,null,null,null,null,null,null,null,null,null,null," ",null,1,1900]
[null,null,null,null,null,null,null,null,null,null,null," ",null,1,1900]
[null,null,null,null,null,null,null,null,null,null,null," ",null,1,1900]
[null,null,null,null,null,null,null,null,null,null,null," ",null,1,1900]
[null,null,null,null,null,null,null,null,null,null,null," ",null,1,1900]
[null,null,null,null,null,null,null,null,null,null,null," ",null,1,1900]
[null,null,null,null,null,null,null,null,null,null,null," ",null,1,1900]
[null,null,null,null,null,null,null,null,null,null,null," ",null,1,1900]
[null,null,null,null,null,null,null,null,null,null,null," ",null,1,1900]
[null,null,null,null,null,null,null,null,null,null,null," ",null,1,1900]
[null,null,null,null,null,null,null,null,null,null,null," ",null,1,1900]
[null,null,null,null,null,null,null,null,null,null,null," ",null,1,1900]
[null,null,null,null,null,null,null,null,null,null,null," ",null,1,1900]
[null,null,null,null,null,null,null,null,null,null,null," ",null,1,1900]
[null,null,null,null,null,null,null,null,null,null,null," ",null,1,1900]
[null,null,null,null,null,null,null,null,null,null,null," ",null,1,1900]
[null,null,null,null,null,null,null,null,null,null,null," ",null,1,1900]
[null,null,null,null,null,null,null,null,null,null,null," ",null,1,1900]
[null,null,null,null,null,null,null,null,null,null,null," ",null,1,1900]
[null,null,null,null,null,null,null,null,null,null,null," ",null,1,1900]
[null,null,null,null,null,null,null,null,null,null,null," ",null,1,1900]
[null,null,null,null,null,null,null,null,null,null,null," ",null,1,1900]
[null,null,null,null,null,null,null,null,null,null,null," ",null,1,1900]
[null,null,null,null,null,null,null,null,null,null,null," ",null,1,1900]
[null,null,null,null,null,null,null,null,null,null,null," ",null,1,1900]
[null,null,null,null,null,null,null,null,null,null,null," ",null,1,1900]
[null,null,null,null,null,null,null,null,null,null,null," ",null,1,1900]
[null,null,null,null,null,null,null,null,null,null,null," ",null,1,1900]
[null,null,null,null,null,null,null,null,null,null,null," ",null,1,1900]
[null,null,null,null,null,null,null,null,null,null,null," ",null,1,1900]
[null,null,null,null,null,null,null,null,null,null,null," ",null,1,1900]
[null,null,null,null,null,null,null,null,null,null,null,{"$f":"+IF(K1272=K1271,\" \",K1272)","v":" "},null,{"$f":"+MONTH(A1272)","v":1},{"$f":"+YEAR(A1272)","v":1900}]
[null,null,null,null,null,null,null,null,null,null,null," ",null,1,1900]
[null,null,null,null,null,null,null,null,null,null,null," ",null,1,1900]
[null,null,null,null,null,null,null,null,null,null,null," ",null,1,1900]
[null,null,null,null,null,null,null,null,null,null,null," ",null,1,1900]
[null,null,null,null,null,null,null,null,null,null,null," ",null,1,1900]
[null,null,null,null,null,null,null,null,null,null,null," ",null,1,1900]
[null,null,null,null,null,null,null,null,null,null,null," ",null,1,1900]
[null,null,null,null,null,null,null,null,null,null,null," ",null,1,1900]
[null,null,null,null,null,null,null,null,null,null,null," ",null,1,1900]
[null,null,null,null,null,null,null,null,null,null,null," ",null,1,1900]
[null,null,null,null,null,null,null,null,null,null,null," ",null,1,1900]
[null,null,null,null,null,null,null,null,null,null,null," ",null,1,1900]
[null,null,null,null,null,null,null,null,null,null,null," ",null,1,1900]
[null,null,null,null,null,null,null,null,null,null,null," ",null,1,1900]
[null,null,null,null,null,null,null,null,null,null,null," ",null,1,1900]
[null,null,null,null,null,null,null,null,null,null,null," ",null,1,1900]
[null,null,null,null,null,null,null,null,null,null,null," ",null,1,1900]
[null,null,null,null,null,null,null,null,null,null,null," ",null,1,1900]
[null,null,null,null,null,null,null,null,null,null,null," ",null,1,1900]
[null,null,null,null,null,null,null,null,null,null,null," ",null,1,1900]
[null,null,null,null,null,null,null,null,null,null,null," ",null,1,1900]
[null,null,null,null,null,null,null,null,null,null,null," ",null,1,1900]
[null,null,null,null,null,null,null,null,null,null,null," ",null,1,1900]
[null,null,null,null,null,null,null,null,null,null,null," ",null,1,1900]
[null,null,null,null,null,null,null,null,null,null,null," ",null,1,1900]
[null,null,null,null,null,null,null,null,null,null,null," ",null,1,1900]
[null,null,null,null,null,null,null,null,null,null,null," ",null,1,1900]
[null,null,null,null,null,null,null,null,null,null,null," ",null,1,1900]
[null,null,null,null,null,null,null,null,null,null,null," ",null,1,1900]
[null,null,null,null,null,null,null,null,null,null,null," ",null,1,1900]
[null,null,null,null,null,null,null,null,null,null,null," ",null,1,1900]
[null,null,null,null,null,null,null,null,null,null,null," ",null,1,1900]
[null,null,null,null,null,null,null,null,null,null,null," ",null,1,1900]
[null,null,null,null,null,null,null,null,null,null,null," ",null,1,1900]
[null,null,null,null,null,null,null,null,null,null,null," ",null,1,1900]
[null,null,null,null,null,null,null,null,null,null,null," ",null,1,1900]
[null,null,null,null,null,null,null,null,null,null,null," ",null,1,1900]
[null,null,null,null,null,null,null,null,null,null,null," ",null,1,1900]
[null,null,null,null,null,null,null,null,null,null,null," ",null,1,1900]
[null,null,null,null,null,null,null,null,null,null,null," ",null,1,1900]
[null,null,null,null,null,null,null,null,null,null,null," ",null,1,1900]
[null,null,null,null,null,null,null,null,null,null,null," ",null,1,1900]
[null,null,null,null,null,null,null,null,null,null,null," ",null,1,1900]
[null,null,null,null,null,null,null,null,null,null,null," ",null,1,1900]
[null,null,null,null,null,null,null,null,null,null,null," ",null,1,1900]
[null,null,null,null,null,null,null,null,null,null,null," ",null,1,1900]
[null,null,null,null,null,null,null,null,null,null,null," ",null,1,1900]
[null,null,null,null,null,null,null,null,null,null,null," ",null,1,1900]
[null,null,null,null,null,null,null,null,null,null,null," ",null,1,1900]
[null,null,null,null,null,null,null,null,null,null,null," ",null,1,1900]
[null,null,null,null,null,null,null,null,null,null,null," ",null,1,1900]
[null,null,null,null,null,null,null,null,null,null,null," ",null,1,1900]
[null,null,null,null,null,null,null,null,null,null,null," ",null,1,1900]
[null,null,null,null,null,null,null,null,null,null,null," ",null,1,1900]
[null,null,null,null,null,null,null,null,null,null,null," ",null,1,1900]
[null,null,null,null,null,null,null,null,null,null,null," ",null,1,1900]
[null,null,null,null,null,null,null,null,null,null,null," ",null,1,1900]
[null,null,null,null,null,null,null,null,null,null,null," ",null,1,1900]
[null,null,null,null,null,null,null,null,null,null,null," ",null,1,1900]
[null,null,null,null,null,null,null,null,null,null,null," ",null,1,1900]
[null,null,null,null,null,null,null,null,null,null,null," ",null,1,1900]
[null,null,null,null,null,null,null,null,null,null,null," ",null,1,1900]
[null,null,null,null,null,null,null,null,null,null,null," ",null,1,1900]
[null,null,null,null,null,null,null,null,null,null,null,{"$f":"+IF(K1336=K1335,\" \",K1336)","v":" "},null,{"$f":"+MONTH(A1336)","v":1},{"$f":"+YEAR(A1336)","v":1900}]
[null,null,null,null,null,null,null,null,null,null,null," ",null,1,1900]
[null,null,null,null,null,null,null,null,null,null,null," ",null,1,1900]
[null,null,null,null,null,null,null,null,null,null,null," ",null,1,1900]
[null,null,null,null,null,null,null,null,null,null,null," ",null,1,1900]
[null,null,null,null,null,null,null,null,null,null,null," ",null,1,1900]
[null,null,null,null,null,null,null,null,null,null,null," ",null,1,1900]
[null,null,null,null,null,null,null,null,null,null,null," ",null,1,1900]
[null,null,null,null,null,null,null,null,null,null,null," ",null,1,1900]
[null,null,null,null,null,null,null,null,null,null,null," ",null,1,1900]
[null,null,null,null,null,null,null,null,null,null,null," ",null,1,1900]
[null,null,null,null,null,null,null,null,null,null,null," ",null,1,1900]
[null,null,null,null,null,null,null,null,null,null,null," ",null,1,1900]
[null,null,null,null,null,null,null,null,null,null,null," ",null,1,1900]
[null,null,null,null,null,null,null,null,null,null,null," ",null,1,1900]
[null,null,null,null,null,null,null,null,null,null,null," ",null,1,1900]
[null,null,null,null,null,null,null,null,null,null,null," ",null,1,1900]
[null,null,null,null,null,null,null,null,null,null,null," ",null,1,1900]
[null,null,null,null,null,null,null,null,null,null,null," ",null,1,1900]
[null,null,null,null,null,null,null,null,null,null,null," ",null,1,1900]
[null,null,null,null,null,null,null,null,null,null,null," ",null,1,1900]
[null,null,null,null,null,null,null,null,null,null,null," ",null,1,1900]
[null,null,null,null,null,null,null,null,null,null,null," ",null,1,1900]
[null,null,null,null,null,null,null,null,null,null,null," ",null,1,1900]
[null,null,null,null,null,null,null,null,null,null,null," ",null,1,1900]
[null,null,null,null,null,null,null,null,null,null,null," ",null,1,1900]
[null,null,null,null,null,null,null,null,null,null,null," ",null,1,1900]
[null,null,null,null,null,null,null,null,null,null,null," ",null,1,1900]
[null,null,null,null,null,null,null,null,null,null,null," ",null,1,1900]
[null,null,null,null,null,null,null,null,null,null,null," ",null,1,1900]
[null,null,null,null,null,null,null,null,null,null,null," ",null,1,1900]
[null,null,null,null,null,null,null,null,null,null,null," ",null,1,1900]
[null,null,null,null,null,null,null,null,null,null,null," ",null,1,1900]
[null,null,null,null,null,null,null,null,null,null,null," ",null,1,1900]
[null,null,null,null,null,null,null,null,null,null,null," ",null,1,1900]
[null,null,null,null,null,null,null,null,null,null,null," ",null,1,1900]
[null,null,null,null,null,null,null,null,null,null,null," ",null,1,1900]
[null,null,null,null,null,null,null,null,null,null,null," ",null,1,1900]
[null,null,null,null,null,null,null,null,null,null,null," ",null,1,1900]
[null,null,null,null,null,null,null,null,null,null,null," ",null,1,1900]
[null,null,null,null,null,null,null,null,null,null,null," ",null,1,1900]
[null,null,null,null,null,null,null,null,null,null,null," ",null,1,1900]
[null,null,null,null,null,null,null,null,null,null,null," ",null,1,1900]
[null,null,null,null,null,null,null,null,null,null,null," ",null,1,1900]
[null,null,null,null,null,null,null,null,null,null,null," ",null,1,1900]
[null,null,null,null,null,null,null,null,null,null,null," ",null,1,1900]
[null,null,null,null,null,null,null,null,null,null,null," ",null,1,1900]
[null,null,null,null,null,null,null,null,null,null,null," ",null,1,1900]
[null,null,null,null,null,null,null,null,null,null,null," ",null,1,1900]
[null,null,null,null,null,null,null,null,null,null,null," ",null,1,1900]
[null,null,null,null,null,null,null,null,null,null,null," ",null,1,1900]
[null,null,null,null,null,null,null,null,null,null,null," ",null,1,1900]
[null,null,null,null,null,null,null,null,null,null,null," ",null,1,1900]
[null,null,null,null,null,null,null,null,null,null,null," ",null,1,1900]
[null,null,null,null,null,null,null,null,null,null,null," ",null,1,1900]
[null,null,null,null,null,null,null,null,null,null,null," ",null,1,1900]
[null,null,null,null,null,null,null,null,null,null,null," ",null,1,1900]
[null,null,null,null,null,null,null,null,null,null,null," ",null,1,1900]
[null,null,null,null,null,null,null,null,null,null,null," ",null,1,1900]
[null,null,null,null,null,null,null,null,null,null,null," ",null,1,1900]
[null,null,null,null,null,null,null,null,null,null,null," ",null,1,1900]
[null,null,null,null,null,null,null,null,null,null,null," ",null,1,1900]
[null,null,null,null,null,null,null,null,null,null,null," ",null,1,1900]
[null,null,null,null,null,null,null,null,null,null,null," ",null,1,1900]
[null,null,null,null,null,null,null,null,null,null,null,{"$f":"+IF(K1400=K1399,\" \",K1400)","v":" "},null,{"$f":"+MONTH(A1400)","v":1},{"$f":"+YEAR(A1400)","v":1900}]
[null,null,null,null,null,null,null,null,null,null,null," ",null,1,1900]
[null,null,null,null,null,null,null,null,null,null,null," ",null,1,1900]
[null,null,null,null,null,null,null,null,null,null,null," ",null,1,1900]
[null,null,null,null,null,null,null,null,null,null,null," ",null,1,1900]
[null,null,null,null,null,null,null,null,null,null,null," ",null,1,1900]
[null,null,null,null,null,null,null,null,null,null,null," ",null,1,1900]
[null,null,null,null,null,null,null,null,null,null,null," ",null,1,1900]
[null,null,null,null,null,null,null,null,null,null,null," ",null,1,1900]
[null,null,null,null,null,null,null,null,null,null,null," ",null,1,1900]
[null,null,null,null,null,null,null,null,null,null,null," ",null,1,1900]
[null,null,null,null,null,null,null,null,null,null,null," ",null,1,1900]
[null,null,null,null,null,null,null,null,null,null,null," ",null,1,1900]
[null,null,null,null,null,null,null,null,null,null,null," ",null,1,1900]
[null,null,null,null,null,null,null,null,null,null,null," ",null,1,1900]
[null,null,null,null,null,null,null,null,null,null,null," ",null,1,1900]
[null,null,null,null,null,null,null,null,null,null,null," ",null,1,1900]
[null,null,null,null,null,null,null,null,null,null,null," ",null,1,1900]
[null,null,null,null,null,null,null,null,null,null,null," ",null,1,1900]
[null,null,null,null,null,null,null,null,null,null,null," ",null,1,1900]
[null,null,null,null,null,null,null,null,null,null,null," ",null,1,1900]
[null,null,null,null,null,null,null,null,null,null,null," ",null,1,1900]
[null,null,null,null,null,null,null,null,null,null,null," ",null,1,1900]
[null,null,null,null,null,null,null,null,null,null,null," ",null,1,1900]
[null,null,null,null,null,null,null,null,null,null,null," ",null,1,1900]
[null,null,null,null,null,null,null,null,null,null,null," ",null,1,1900]
[null,null,null,null,null,null,null,null,null,null,null," ",null,1,1900]
[null,null,null,null,null,null,null,null,null,null,null," ",null,1,1900]
[null,null,null,null,null,null,null,null,null,null,null," ",null,1,1900]
[null,null,null,null,null,null,null,null,null,null,null," ",null,1,1900]
[null,null,null,null,null,null,null,null,null,null,null," ",null,1,1900]
[null,null,null,null,null,null,null,null,null,null,null," ",null,1,1900]
[null,null,null,null,null,null,null,null,null,null,null," ",null,1,1900]
[null,null,null,null,null,null,null,null,null,null,null," ",null,1,1900]
[null,null,null,null,null,null,null,null,null,null,null," ",null,1,1900]
[null,null,null,null,null,null,null,null,null,null,null," ",null,1,1900]
[null,null,null,null,null,null,null,null,null,null,null," ",null,1,1900]
[null,null,null,null,null,null,null,null,null,null,null," ",null,1,1900]
[null,null,null,null,null,null,null,null,null,null,null," ",null,1,1900]
[null,null,null,null,null,null,null,null,null,null,null," ",null,1,1900]
[null,null,null,null,null,null,null,null,null,null,null," ",null,1,1900]
[null,null,null,null,null,null,null,null,null,null,null," ",null,1,1900]
[null,null,null,null,null,null,null,null,null,null,null," ",null,1,1900]
[null,null,null,null,null,null,null,null,null,null,null," ",null,1,1900]
[null,null,null,null,null,null,null,null,null,null,null," ",null,1,1900]
[null,null,null,null,null,null,null,null,null,null,null," ",null,1,1900]
[null,null,null,null,null,null,null,null,null,null,null," ",null,1,1900]
[null,null,null,null,null,null,null,null,null,null,null," ",null,1,1900]
[null,null,null,null,null,null,null,null,null,null,null," ",null,1,1900]
[null,null,null,null,null,null,null,null,null,null,null," ",null,1,1900]
[null,null,null,null,null,null,null,null,null,null,null," ",null,1,1900]
[null,null,null,null,null,null,null,null,null,null,null," ",null,1,1900]
[null,null,null,null,null,null,null,null,null,null,null," ",null,1,1900]
[null,null,null,null,null,null,null,null,null,null,null," ",null,1,1900]
[null,null,null,null,null,null,null,null,null,null,null," ",null,1,1900]
[null,null,null,null,null,null,null,null,null,null,null," ",null,1,1900]
[null,null,null,null,null,null,null,null,null,null,null," ",null,1,1900]
[null,null,null,null,null,null,null,null,null,null,null," ",null,1,1900]
[null,null,null,null,null,null,null,null,null,null,null," ",null,1,1900]
[null,null,null,null,null,null,null,null,null,null,null," ",null,1,1900]
[null,null,null,null,null,null,null,null,null,null,null," ",null,1,1900]
[null,null,null,null,null,null,null,null,null,null,null," ",null,1,1900]
[null,null,null,null,null,null,null,null,null,null,null," ",null,1,1900]
[null,null,null,null,null,null,null,null,null,null,null," ",null,1,1900]
[null,null,null,null,null,null,null,null,null,null,null,{"$f":"+IF(K1464=K1463,\" \",K1464)","v":" "},null,{"$f":"+MONTH(A1464)","v":1},{"$f":"+YEAR(A1464)","v":1900}]
[null,null,null,null,null,null,null,null,null,null,null," ",null,1,1900]
[null,null,null,null,null,null,null,null,null,null,null," ",null,1,1900]
[null,null,null,null,null,null,null,null,null,null,null," ",null,1,1900]
[null,null,null,null,null,null,null,null,null,null,null," ",null,1,1900]
[null,null,null,null,null,null,null,null,null,null,null," ",null,1,1900]
[null,null,null,null,null,null,null,null,null,null,null," ",null,1,1900]
[null,null,null,null,null,null,null,null,null,null,null," ",null,1,1900]
[null,null,null,null,null,null,null,null,null,null,null," ",null,1,1900]
[null,null,null,null,null,null,null,null,null,null,null," ",null,1,1900]
[null,null,null,null,null,null,null,null,null,null,null," ",null,1,1900]
[null,null,null,null,null,null,null,null,null,null,null," ",null,1,1900]
[null,null,null,null,null,null,null,null,null,null,null," ",null,1,1900]
[null,null,null,null,null,null,null,null,null,null,null," ",null,1,1900]
[null,null,null,null,null,null,null,null,null,null,null," ",null,1,1900]
[null,null,null,null,null,null,null,null,null,null,null," ",null,1,1900]
[null,null,null,null,null,null,null,null,null,null,null," ",null,1,1900]
[null,null,null,null,null,null,null,null,null,null,null," ",null,1,1900]
[null,null,null,null,null,null,null,null,null,null,null," ",null,1,1900]
[null,null,null,null,null,null,null,null,null,null,null," ",null,1,1900]
[null,null,null,null,null,null,null,null,null,null,null," ",null,1,1900]
[null,null,null,null,null,null,null,null,null,null,null," ",null,1,1900]
[null,null,null,null,null,null,null,null,null,null,null," ",null,1,1900]
[null,null,null,null,null,null,null,null,null,null,null," ",null,1,1900]
[null,null,null,null,null,null,null,null,null,null,null," ",null,1,1900]
[null,null,null,null,null,null,null,null,null,null,null," ",null,1,1900]
[null,null,null,null,null,null,null,null,null,null,null," ",null,1,1900]
[null,null,null,null,null,null,null,null,null,null,null," ",null,1,1900]
[null,null,null,null,null,null,null,null,null,null,null," ",null,1,1900]
[null,null,null,null,null,null,null,null,null,null,null," ",null,1,1900]
[null,null,null,null,null,null,null,null,null,null,null," ",null,1,1900]
[null,null,null,null,null,null,null,null,null,null,null," ",null,1,1900]
[null,null,null,null,null,null,null,null,null,null,null," ",null,1,1900]
[null,null,null,null,null,null,null,null,null,null,null," ",null,1,1900]
[null,null,null,null,null,null,null,null,null,null,null," ",null,1,1900]
[null,null,null,null,null,null,null,null,null,null,null," ",null,1,1900]
[null,null,null,null,null,null,null,null,null,null,null," ",null,1,1900]
[null,null,null,null,null,null,null,null,null,null,null," ",null,1,1900]
[null,null,null,null,null,null,null,null,null,null,null," ",null,1,1900]
[null,null,null,null,null,null,null,null,null,null,null," ",null,1,1900]
[null,null,null,null,null,null,null,null,null,null,null," ",null,1,1900]
[null,null,null,null,null,null,null,null,null,null,null," ",null,1,1900]
[null,null,null,null,null,null,null,null,null,null,null," ",null,1,1900]
[null,null,null,null,null,null,null,null,null,null,null," ",null,1,1900]
[null,null,null,null,null,null,null,null,null,null,null," ",null,1,1900]
[null,null,null,null,null,null,null,null,null,null,null," ",null,1,1900]
[null,null,null,null,null,null,null,null,null,null,null," ",null,1,1900]
[null,null,null,null,null,null,null,null,null,null,null," ",null,1,1900]
[null,null,null,null,null,null,null,null,null,null,null," ",null,1,1900]
[null,null,null,null,null,null,null,null,null,null,null," ",null,1,1900]
[null,null,null,null,null,null,null,null,null,null,null," ",null,1,1900]
[null,null,null,null,null,null,null,null,null,null,null," ",null,1,1900]
[null,null,null,null,null,null,null,null,null,null,null," ",null,1,1900]
[null,null,null,null,null,null,null,null,null,null,null," ",null,1,1900]
[null,null,null,null,null,null,null,null,null,null,null," ",null,1,1900]
[null,null,null,null,null,null,null,null,null,null,null," ",null,1,1900]
[null,null,null,null,null,null,null,null,null,null,null," ",null,1,1900]
[null,null,null,null,null,null,null,null,null,null,null," ",null,1,1900]
[null,null,null,null,null,null,null,null,null,null,null," ",null,1,1900]
[null,null,null,null,null,null,null,null,null,null,null," ",null,1,1900]
[null,null,null,null,null,null,null,null,null,null,null," ",null,1,1900]
[null,null,null,null,null,null,null,null,null,null,null," ",null,1,1900]
[null,null,null,null,null,null,null,null,null,null,null," ",null,1,1900]
[null,null,null,null,null,null,null,null,null,null,null," ",null,1,1900]
[null,null,null,null,null,null,null,null,null,null,null,{"$f":"+IF(K1528=K1527,\" \",K1528)","v":" "},null,{"$f":"+MONTH(A1528)","v":1},{"$f":"+YEAR(A1528)","v":1900}]
[null,null,null,null,null,null,null,null,null,null,null," ",null,1,1900]
[null,null,null,null,null,null,null,null,null,null,null," ",null,1,1900]
[null,null,null,null,null,null,null,null,null,null,null," ",null,1,1900]
[null,null,null,null,null,null,null,null,null,null,null," ",null,1,1900]
[null,null,null,null,null,null,null,null,null,null,null," ",null,1,1900]
[null,null,null,null,null,null,null,null,null,null,null," ",null,1,1900]
[null,null,null,null,null,null,null,null,null,null,null," ",null,1,1900]
[null,null,null,null,null,null,null,null,null,null,null," ",null,1,1900]
[null,null,null,null,null,null,null,null,null,null,null," ",null,1,1900]
[null,null,null,null,null,null,null,null,null,null,null," ",null,1,1900]
[null,null,null,null,null,null,null,null,null,null,null," ",null,1,1900]
[null,null,null,null,null,null,null,null,null,null,null," ",null,1,1900]
[null,null,null,null,null,null,null,null,null,null,null," ",null,1,1900]
[null,null,null,null,null,null,null,null,null,null,null," ",null,1,1900]
[null,null,null,null,null,null,null,null,null,null,null," ",null,1,1900]
[null,null,null,null,null,null,null,null,null,null,null," ",null,1,1900]
[null,null,null,null,null,null,null,null,null,null,null," ",null,1,1900]
[null,null,null,null,null,null,null,null,null,null,null," ",null,1,1900]
[null,null,null,null,null,null,null,null,null,null,null," ",null,1,1900]
[null,null,null,null,null,null,null,null,null,null,null," ",null,1,1900]
[null,null,null,null,null,null,null,null,null,null,null," ",null,1,1900]
[null,null,null,null,null,null,null,null,null,null,null," ",null,1,1900]
[null,null,null,null,null,null,null,null,null,null,null," ",null,1,1900]
[null,null,null,null,null,null,null,null,null,null,null," ",null,1,1900]
[null,null,null,null,null,null,null,null,null,null,null," ",null,1,1900]
[null,null,null,null,null,null,null,null,null,null,null," ",null,1,1900]
[null,null,null,null,null,null,null,null,null,null,null," ",null,1,1900]
[null,null,null,null,null,null,null,null,null,null,null," ",null,1,1900]
[null,null,null,null,null,null,null,null,null,null,null," ",null,1,1900]
[null,null,null,null,null,null,null,null,null,null,null," ",null,1,1900]
[null,null,null,null,null,null,null,null,null,null,null," ",null,1,1900]
[null,null,null,null,null,null,null,null,null,null,null," ",null,1,1900]
[null,null,null,null,null,null,null,null,null,null,null," ",null,1,1900]
[null,null,null,null,null,null,null,null,null,null,null," ",null,1,1900]
[null,null,null,null,null,null,null,null,null,null,null," ",null,1,1900]
[null,null,null,null,null,null,null,null,null,null,null," ",null,1,1900]
[null,null,null,null,null,null,null,null,null,null,null," ",null,1,1900]
[null,null,null,null,null,null,null,null,null,null,null," ",null,1,1900]
[null,null,null,null,null,null,null,null,null,null,null," ",null,1,1900]
[null,null,null,null,null,null,null,null,null,null,null," ",null,1,1900]
[null,null,null,null,null,null,null,null,null,null,null," ",null,1,1900]
[null,null,null,null,null,null,null,null,null,null,null," ",null,1,1900]
[null,null,null,null,null,null,null,null,null,null,null," ",null,1,1900]
[null,null,null,null,null,null,null,null,null,null,null," ",null,1,1900]
[null,null,null,null,null,null,null,null,null,null,null," ",null,1,1900]
[null,null,null,null,null,null,null,null,null,null,null," ",null,1,1900]
[null,null,null,null,null,null,null,null,null,null,null," ",null,1,1900]
[null,null,null,null,null,null,null,null,null,null,null," ",null,1,1900]
[null,null,null,null,null,null,null,null,null,null,null," ",null,1,1900]
[null,null,null,null,null,null,null,null,null,null,null," ",null,1,1900]
[null,null,null,null,null,null,null,null,null,null,null," ",null,1,1900]
[null,null,null,null,null,null,null,null,null,null,null," ",null,1,1900]
[null,null,null,null,null,null,null,null,null,null,null," ",null,1,1900]
[null,null,null,null,null,null,null,null,null,null,null," ",null,1,1900]
[null,null,null,null,null,null,null,null,null,null,null," ",null,1,1900]
[null,null,null,null,null,null,null,null,null,null,null," ",null,1,1900]
[null,null,null,null,null,null,null,null,null,null,null," ",null,1,1900]
[null,null,null,null,null,null,null,null,null,null,null," ",null,1,1900]
[null,null,null,null,null,null,null,null,null,null,null," ",null,1,1900]
[null,null,null,null,null,null,null,null,null,null,null," ",null,1,1900]
[null,null,null,null,null,null,null,null,null,null,null," ",null,1,1900]
[null,null,null,null,null,null,null,null,null,null,null," ",null,1,1900]
[null,null,null,null,null,null,null,null,null,null,null," ",null,1,1900]
[null,null,null,null,null,null,null,null,null,null,null,{"$f":"+IF(K1592=K1591,\" \",K1592)","v":" "},null,{"$f":"+MONTH(A1592)","v":1},{"$f":"+YEAR(A1592)","v":1900}]
[null,null,null,null,null,null,null,null,null,null,null," ",null,1,1900]
[null,null,null,null,null,null,null,null,null,null,null," ",null,1,1900]
[null,null,null,null,null,null,null,null,null,null,null," ",null,1,1900]
[null,null,null,null,null,null,null,null,null,null,null," ",null,1,1900]
[null,null,null,null,null,null,null,null,null,null,null," ",null,1,1900]
[null,null,null,null,null,null,null,null,null,null,null," ",null,1,1900]
[null,null,null,null,null,null,null,null,null,null,null," ",null,1,1900]
[null,null,null,null,null,null,null,null,null,null,null," ",null,1,1900]
[null,null,null,null,null,null,null,null,null,null,null," ",null,1,1900]
[null,null,null,null,null,null,null,null,null,null,null," ",null,1,1900]
[null,null,null,null,null,null,null,null,null,null,null," ",null,1,1900]
[null,null,null,null,null,null,null,null,null,null,null," ",null,1,1900]
[null,null,null,null,null,null,null,null,null,null,null," ",null,1,1900]
[null,null,null,null,null,null,null,null,null,null,null," ",null,1,1900]
[null,null,null,null,null,null,null,null,null,null,null," ",null,1,1900]
[null,null,null,null,null,null,null,null,null,null,null," ",null,1,1900]
[null,null,null,null,null,null,null,null,null,null,null," ",null,1,1900]
[null,null,null,null,null,null,null,null,null,null,null," ",null,1,1900]
[null,null,null,null,null,null,null,null,null,null,null," ",null,1,1900]
[null,null,null,null,null,null,null,null,null,null,null," ",null,1,1900]
[null,null,null,null,null,null,null,null,null,null,null," ",null,1,1900]
[null,null,null,null,null,null,null,null,null,null,null," ",null,1,1900]
[null,null,null,null,null,null,null,null,null,null,null," ",null,1,1900]
[null,null,null,null,null,null,null,null,null,null,null," ",null,1,1900]
[null,null,null,null,null,null,null,null,null,null,null," ",null,1,1900]
[null,null,null,null,null,null,null,null,null,null,null," ",null,1,1900]
[null,null,null,null,null,null,null,null,null,null,null," ",null,1,1900]
[null,null,null,null,null,null,null,null,null,null,null," ",null,1,1900]
[null,null,null,null,null,null,null,null,null,null,null," ",null,1,1900]
[null,null,null,null,null,null,null,null,null,null,null," ",null,1,1900]
[null,null,null,null,null,null,null,null,null,null,null," ",null,1,1900]
[null,null,null,null,null,null,null,null,null,null,null," ",null,1,1900]
[null,null,null,null,null,null,null,null,null,null,null," ",null,1,1900]
[null,null,null,null,null,null,null,null,null,null,null," ",null,1,1900]
[null,null,null,null,null,null,null,null,null,null,null," ",null,1,1900]
[null,null,null,null,null,null,null,null,null,null,null," ",null,1,1900]
[null,null,null,null,null,null,null,null,null,null,null," ",null,1,1900]
[null,null,null,null,null,null,null,null,null,null,null," ",null,1,1900]
[null,null,null,null,null,null,null,null,null,null,null," ",null,1,1900]
[null,null,null,null,null,null,null,null,null,null,null," ",null,1,1900]
[null,null,null,null,null,null,null,null,null,null,null," ",null,1,1900]
[null,null,null,null,null,null,null,null,null,null,null," ",null,1,1900]
[null,null,null,null,null,null,null,null,null,null,null," ",null,1,1900]
[null,null,null,null,null,null,null,null,null,null,null," ",null,1,1900]
[null,null,null,null,null,null,null,null,null,null,null," ",null,1,1900]
[null,null,null,null,null,null,null,null,null,null,null," ",null,1,1900]
[null,null,null,null,null,null,null,null,null,null,null," ",null,1,1900]
[null,null,null,null,null,null,null,null,null,null,null," ",null,1,1900]
[null,null,null,null,null,null,null,null,null,null,null," ",null,1,1900]
[null,null,null,null,null,null,null,null,null,null,null," ",null,1,1900]
[null,null,null,null,null,null,null,null,null,null,null," ",null,1,1900]
[null,null,null,null,null,null,null,null,null,null,null," ",null,1,1900]
[null,null,null,null,null,null,null,null,null,null,null," ",null,1,1900]
[null,null,null,null,null,null,null,null,null,null,null," ",null,1,1900]
[null,null,null,null,null,null,null,null,null,null,null," ",null,1,1900]
[null,null,null,null,null,null,null,null,null,null,null," ",null,1,1900]
[null,null,null,null,null,null,null,null,null,null,null," ",null,1,1900]
[null,null,null,null,null,null,null,null,null,null,null," ",null,1,1900]
[null,null,null,null,null,null,null,null,null,null,null," ",null,1,1900]
[null,null,null,null,null,null,null,null,null,null,null," ",null,1,1900]
[null,null,null,null,null,null,null,null,null,null,null," ",null,1,1900]
[null,null,null,null,null,null,null,null,null,null,null," ",null,1,1900]
[null,null,null,null,null,null,null,null,null,null,null," ",null,1,1900]
[null,null,null,null,null,null,null,null,null,null,null,{"$f":"+IF(K1656=K1655,\" \",K1656)","v":" "},null,{"$f":"+MONTH(A1656)","v":1},{"$f":"+YEAR(A1656)","v":1900}]
[null,null,null,null,null,null,null,null,null,null,null," ",null,1,1900]
[null,null,null,null,null,null,null,null,null,null,null," ",null,1,1900]
[null,null,null,null,null,null,null,null,null,null,null," ",null,1,1900]
[null,null,null,null,null,null,null,null,null,null,null," ",null,1,1900]
[null,null,null,null,null,null,null,null,null,null,null," ",null,1,1900]
[null,null,null,null,null,null,null,null,null,null,null," ",null,1,1900]
[null,null,null,null,null,null,null,null,null,null,null," ",null,1,1900]
[null,null,null,null,null,null,null,null,null,null,null," ",null,1,1900]
[null,null,null,null,null,null,null,null,null,null,null," ",null,1,1900]
[null,null,null,null,null,null,null,null,null,null,null," ",null,1,1900]
[null,null,null,null,null,null,null,null,null,null,null," ",null,1,1900]
[null,null,null,null,null,null,null,null,null,null,null," ",null,1,1900]
[null,null,null,null,null,null,null,null,null,null,null," ",null,1,1900]
[null,null,null,null,null,null,null,null,null,null,null," ",null,1,1900]
[null,null,null,null,null,null,null,null,null,null,null," ",null,1,1900]
[null,null,null,null,null,null,null,null,null,null,null," ",null,1,1900]
[null,null,null,null,null,null,null,null,null,null,null," ",null,1,1900]
[null,null,null,null,null,null,null,null,null,null,null," ",null,1,1900]
[null,null,null,null,null,null,null,null,null,null,null," ",null,1,1900]
[null,null,null,null,null,null,null,null,null,null,null," ",null,1,1900]
[null,null,null,null,null,null,null,null,null,null,null," ",null,1,1900]
[null,null,null,null,null,null,null,null,null,null,null," ",null,1,1900]
[null,null,null,null,null,null,null,null,null,null,null," ",null,1,1900]
[null,null,null,null,null,null,null,null,null,null,null," ",null,1,1900]
[null,null,null,null,null,null,null,null,null,null,null," ",null,1,1900]
[null,null,null,null,null,null,null,null,null,null,null," ",null,1,1900]
[null,null,null,null,null,null,null,null,null,null,null," ",null,1,1900]
[null,null,null,null,null,null,null,null,null,null,null," ",null,1,1900]
[null,null,null,null,null,null,null,null,null,null,null," ",null,1,1900]
[null,null,null,null,null,null,null,null,null,null,null," ",null,1,1900]
[null,null,null,null,null,null,null,null,null,null,null," ",null,1,1900]
[null,null,null,null,null,null,null,null,null,null,null," ",null,1,1900]
[null,null,null,null,null,null,null,null,null,null,null," ",null,1,1900]
[null,null,null,null,null,null,null,null,null,null,null," ",null,1,1900]
[null,null,null,null,null,null,null,null,null,null,null," ",null,1,1900]
[null,null,null,null,null,null,null,null,null,null,null," ",null,1,1900]
[null,null,null,null,null,null,null,null,null,null,null," ",null,1,1900]
[null,null,null,null,null,null,null,null,null,null,null," ",null,1,1900]
[null,null,null,null,null,null,null,null,null,null,null," ",null,1,1900]
[null,null,null,null,null,null,null,null,null,null,null," ",null,1,1900]
[null,null,null,null,null,null,null,null,null,null,null," ",null,1,1900]
[null,null,null,null,null,null,null,null,null,null,null," ",null,1,1900]
[null,null,null,null,null,null,null,null,null,null,null," ",null,1,1900]
[null,null,null,null,null,null,null,null,null,null,null," ",null,1,1900]
[null,null,null,null,null,null,null,null,null,null,null," ",null,1,1900]
[null,null,null,null,null,null,null,null,null,null,null," ",null,1,1900]
[null,null,null,null,null,null,null,null,null,null,null," ",null,1,1900]
[null,null,null,null,null,null,null,null,null,null,null," ",null,1,1900]
[null,null,null,null,null,null,null,null,null,null,null," ",null,1,1900]
[null,null,null,null,null,null,null,null,null,null,null," ",null,1,1900]
[null,null,null,null,null,null,null,null,null,null,null," ",null,1,1900]
[null,null,null,null,null,null,null,null,null,null,null," ",null,1,1900]
[null,null,null,null,null,null,null,null,null,null,null," ",null,1,1900]
[null,null,null,null,null,null,null,null,null,null,null," ",null,1,1900]
[null,null,null,null,null,null,null,null,null,null,null," ",null,1,1900]
[null,null,null,null,null,null,null,null,null,null,null," ",null,1,1900]
[null,null,null,null,null,null,null,null,null,null,null," ",null,1,1900]
[null,null,null,null,null,null,null,null,null,null,null," ",null,1,1900]
[null,null,null,null,null,null,null,null,null,null,null," ",null,1,1900]
[null,null,null,null,null,null,null,null,null,null,null," ",null,1,1900]
[null,null,null,null,null,null,null,null,null,null,null," ",null,1,1900]
[null,null,null,null,null,null,null,null,null,null,null," ",null,1,1900]
[null,null,null,null,null,null,null,null,null,null,null," ",null,1,1900]
[null,null,null,null,null,null,null,null,null,null,null,{"$f":"+IF(K1720=K1719,\" \",K1720)","v":" "},null,{"$f":"+MONTH(A1720)","v":1},{"$f":"+YEAR(A1720)","v":1900}]
[null,null,null,null,null,null,null,null,null,null,null," ",null,1,1900]
[null,null,null,null,null,null,null,null,null,null,null," ",null,1,1900]
[null,null,null,null,null,null,null,null,null,null,null," ",null,1,1900]
[null,null,null,null,null,null,null,null,null,null,null," ",null,1,1900]
[null,null,null,null,null,null,null,null,null,null,null," ",null,1,1900]
[null,null,null,null,null,null,null,null,null,null,null," ",null,1,1900]
[null,null,null,null,null,null,null,null,null,null,null," ",null,1,1900]
[null,null,null,null,null,null,null,null,null,null,null," ",null,1,1900]
[null,null,null,null,null,null,null,null,null,null,null," ",null,1,1900]
[null,null,null,null,null,null,null,null,null,null,null," ",null,1,1900]
[null,null,null,null,null,null,null,null,null,null,null," ",null,1,1900]
[null,null,null,null,null,null,null,null,null,null,null," ",null,1,1900]
[null,null,null,null,null,null,null,null,null,null,null," ",null,1,1900]
[null,null,null,null,null,null,null,null,null,null,null," ",null,1,1900]
[null,null,null,null,null,null,null,null,null,null,null," ",null,1,1900]
[null,null,null,null,null,null,null,null,null,null,null," ",null,1,1900]
[null,null,null,null,null,null,null,null,null,null,null," ",null,1,1900]
[null,null,null,null,null,null,null,null,null,null,null," ",null,1,1900]
[null,null,null,null,null,null,null,null,null,null,null," ",null,1,1900]
[null,null,null,null,null,null,null,null,null,null,null," ",null,1,1900]
[null,null,null,null,null,null,null,null,null,null,null," ",null,1,1900]
[null,null,null,null,null,null,null,null,null,null,null," ",null,1,1900]
[null,null,null,null,null,null,null,null,null,null,null," ",null,1,1900]
[null,null,null,null,null,null,null,null,null,null,null," ",null,1,1900]
[null,null,null,null,null,null,null,null,null,null,null," ",null,1,1900]
[null,null,null,null,null,null,null,null,null,null,null," ",null,1,1900]
[null,null,null,null,null,null,null,null,null,null,null," ",null,1,1900]
[null,null,null,null,null,null,null,null,null,null,null," ",null,1,1900]
[null,null,null,null,null,null,null,null,null,null,null," ",null,1,1900]
[null,null,null,null,null,null,null,null,null,null,null," ",null,1,1900]
[null,null,null,null,null,null,null,null,null,null,null," ",null,1,1900]
[null,null,null,null,null,null,null,null,null,null,null," ",null,1,1900]
[null,null,null,null,null,null,null,null,null,null,null," ",null,1,1900]
[null,null,null,null,null,null,null,null,null,null,null," ",null,1,1900]
[null,null,null,null,null,null,null,null,null,null,null," ",null,1,1900]
[null,null,null,null,null,null,null,null,null,null,null," ",null,1,1900]
[null,null,null,null,null,null,null,null,null,null,null," ",null,1,1900]
[null,null,null,null,null,null,null,null,null,null,null," ",null,1,1900]
[null,null,null,null,null,null,null,null,null,null,null," ",null,1,1900]
[null,null,null,null,null,null,null,null,null,null,null," ",null,1,1900]
[null,null,null,null,null,null,null,null,null,null,null," ",null,1,1900]
[null,null,null,null,null,null,null,null,null,null,null," ",null,1,1900]
[null,null,null,null,null,null,null,null,null,null,null," ",null,1,1900]
[null,null,null,null,null,null,null,null,null,null,null," ",null,1,1900]
[null,null,null,null,null,null,null,null,null,null,null," ",null,1,1900]
[null,null,null,null,null,null,null,null,null,null,null," ",null,1,1900]
[null,null,null,null,null,null,null,null,null,null,null," ",null,1,1900]
[null,null,null,null,null,null,null,null,null,null,null," ",null,1,1900]
[null,null,null,null,null,null,null,null,null,null,null," ",null,1,1900]
[null,null,null,null,null,null,null,null,null,null,null," ",null,1,1900]
[null,null,null,null,null,null,null,null,null,null,null," ",null,1,1900]
[null,null,null,null,null,null,null,null,null,null,null," ",null,1,1900]
[null,null,null,null,null,null,null,null,null,null,null," ",null,1,1900]
[null,null,null,null,null,null,null,null,null,null,null," ",null,1,1900]
[null,null,null,null,null,null,null,null,null,null,null," ",null,1,1900]
[null,null,null,null,null,null,null,null,null,null,null," ",null,1,1900]
[null,null,null,null,null,null,null,null,null,null,null," ",null,1,1900]
[null,null,null,null,null,null,null,null,null,null,null," ",null,1,1900]
[null,null,null,null,null,null,null,null,null,null,null," ",null,1,1900]
[null,null,null,null,null,null,null,null,null,null,null," ",null,1,1900]
[null,null,null,null,null,null,null,null,null,null,null," ",null,1,1900]
[null,null,null,null,null,null,null,null,null,null,null," ",null,1,1900]
[null,null,null,null,null,null,null,null,null,null,null," ",null,1,1900]
[null,null,null,null,null,null,null,null,null,null,null,{"$f":"+IF(K1784=K1783,\" \",K1784)","v":" "},null,{"$f":"+MONTH(A1784)","v":1},{"$f":"+YEAR(A1784)","v":1900}]
[null,null,null,null,null,null,null,null,null,null,null," ",null,1,1900]
[null,null,null,null,null,null,null,null,null,null,null," ",null,1,1900]
[null,null,null,null,null,null,null,null,null,null,null," ",null,1,1900]
[null,null,null,null,null,null,null,null,null,null,null," ",null,1,1900]
[null,null,null,null,null,null,null,null,null,null,null," ",null,1,1900]
[null,null,null,null,null,null,null,null,null,null,null," ",null,1,1900]
[null,null,null,null,null,null,null,null,null,null,null," ",null,1,1900]
[null,null,null,null,null,null,null,null,null,null,null," ",null,1,1900]
[null,null,null,null,null,null,null,null,null,null,null," ",null,1,1900]
[null,null,null,null,null,null,null,null,null,null,null," ",null,1,1900]
[null,null,null,null,null,null,null,null,null,null,null," ",null,1,1900]
[null,null,null,null,null,null,null,null,null,null,null," ",null,1,1900]
[null,null,null,null,null,null,null,null,null,null,null," ",null,1,1900]
[null,null,null,null,null,null,null,null,null,null,null," ",null,1,1900]
[null,null,null,null,null,null,null,null,null,null,null," ",null,1,1900]
[null,null,null,null,null,null,null,null,null,null,null," ",null,1,1900]
[null,null,null,null,null,null,null,null,null,null,null," ",null,1,1900]
[null,null,null,null,null,null,null,null,null,null,null," ",null,1,1900]
[null,null,null,null,null,null,null,null,null,null,null," ",null,1,1900]
[null,null,null,null,null,null,null,null,null,null,null," ",null,1,1900]
[null,null,null,null,null,null,null,null,null,null,null," ",null,1,1900]
[null,null,null,null,null,null,null,null,null,null,null," ",null,1,1900]
[null,null,null,null,null,null,null,null,null,null,null," ",null,1,1900]
[null,null,null,null,null,null,null,null,null,null,null," ",null,1,1900]
[null,null,null,null,null,null,null,null,null,null,null," ",null,1,1900]
[null,null,null,null,null,null,null,null,null,null,null," ",null,1,1900]
[null,null,null,null,null,null,null,null,null,null,null," ",null,1,1900]
[null,null,null,null,null,null,null,null,null,null,null," ",null,1,1900]
[null,null,null,null,null,null,null,null,null,null,null," ",null,1,1900]
[null,null,null,null,null,null,null,null,null,null,null," ",null,1,1900]
[null,null,null,null,null,null,null,null,null,null,null," ",null,1,1900]
[null,null,null,null,null,null,null,null,null,null,null," ",null,1,1900]
[null,null,null,null,null,null,null,null,null,null,null," ",null,1,1900]
[null,null,null,null,null,null,null,null,null,null,null," ",null,1,1900]
[null,null,null,null,null,null,null,null,null,null,null," ",null,1,1900]
[null,null,null,null,null,null,null,null,null,null,null," ",null,1,1900]
[null,null,null,null,null,null,null,null,null,null,null," ",null,1,1900]
[null,null,null,null,null,null,null,null,null,null,null," ",null,1,1900]
[null,null,null,null,null,null,null,null,null,null,null," ",null,1,1900]
[null,null,null,null,null,null,null,null,null,null,null," ",null,1,1900]
[null,null,null,null,null,null,null,null,null,null,null," ",null,1,1900]
[null,null,null,null,null,null,null,null,null,null,null," ",null,1,1900]
[null,null,null,null,null,null,null,null,null,null,null," ",null,1,1900]
[null,null,null,null,null,null,null,null,null,null,null," ",null,1,1900]
[null,null,null,null,null,null,null,null,null,null,null," ",null,1,1900]
[null,null,null,null,null,null,null,null,null,null,null," ",null,1,1900]
[null,null,null,null,null,null,null,null,null,null,null," ",null,1,1900]
[null,null,null,null,null,null,null,null,null,null,null," ",null,1,1900]
[null,null,null,null,null,null,null,null,null,null,null," ",null,1,1900]
[null,null,null,null,null,null,null,null,null,null,null," ",null,1,1900]
[null,null,null,null,null,null,null,null,null,null,null," ",null,1,1900]
[null,null,null,null,null,null,null,null,null,null,null," ",null,1,1900]
[null,null,null,null,null,null,null,null,null,null,null," ",null,1,1900]
[null,null,null,null,null,null,null,null,null,null,null," ",null,1,1900]
[null,null,null,null,null,null,null,null,null,null,null," ",null,1,1900]
[null,null,null,null,null,null,null,null,null,null,null," ",null,1,1900]
[null,null,null,null,null,null,null,null,null,null,null," ",null,1,1900]
[null,null,null,null,null,null,null,null,null,null,null," ",null,1,1900]
[null,null,null,null,null,null,null,null,null,null,null," ",null,1,1900]
[null,null,null,null,null,null,null,null,null,null,null," ",null,1,1900]
[null,null,null,null,null,null,null,null,null,null,null," ",null,1,1900]
[null,null,null,null,null,null,null,null,null,null,null," ",null,1,1900]
[null,null,null,null,null,null,null,null,null,null,null," ",null,1,1900]
[null,null,null,null,null,null,null,null,null,null,null,{"$f":"+IF(K1848=K1847,\" \",K1848)","v":" "},null,{"$f":"+MONTH(A1848)","v":1},{"$f":"+YEAR(A1848)","v":1900}]
[null,null,null,null,null,null,null,null,null,null,null," ",null,1,1900]
[null,null,null,null,null,null,null,null,null,null,null," ",null,1,1900]
[null,null,null,null,null,null,null,null,null,null,null," ",null,1,1900]
[null,null,null,null,null,null,null,null,null,null,null," ",null,1,1900]
[null,null,null,null,null,null,null,null,null,null,null," ",null,1,1900]
[null,null,null,null,null,null,null,null,null,null,null," ",null,1,1900]
[null,null,null,null,null,null,null,null,null,null,null," ",null,1,1900]
[null,null,null,null,null,null,null,null,null,null,null," ",null,1,1900]
[null,null,null,null,null,null,null,null,null,null,null," ",null,1,1900]
[null,null,null,null,null,null,null,null,null,null,null," ",null,1,1900]
[null,null,null,null,null,null,null,null,null,null,null," ",null,1,1900]
[null,null,null,null,null,null,null,null,null,null,null," ",null,1,1900]
[null,null,null,null,null,null,null,null,null,null,null," ",null,1,1900]
[null,null,null,null,null,null,null,null,null,null,null," ",null,1,1900]
[null,null,null,null,null,null,null,null,null,null,null," ",null,1,1900]
[null,null,null,null,null,null,null,null,null,null,null," ",null,1,1900]
[null,null,null,null,null,null,null,null,null,null,null," ",null,1,1900]
[null,null,null,null,null,null,null,null,null,null,null," ",null,1,1900]
[null,null,null,null,null,null,null,null,null,null,null," ",null,1,1900]
[null,null,null,null,null,null,null,null,null,null,null," ",null,1,1900]
[null,null,null,null,null,null,null,null,null,null,null," ",null,1,1900]
[null,null,null,null,null,null,null,null,null,null,null," ",null,1,1900]
[null,null,null,null,null,null,null,null,null,null,null," ",null,1,1900]
[null,null,null,null,null,null,null,null,null,null,null," ",null,1,1900]
[null,null,null,null,null,null,null,null,null,null,null," ",null,1,1900]
[null,null,null,null,null,null,null,null,null,null,null," ",null,1,1900]
[null,null,null,null,null,null,null,null,null,null,null," ",null,1,1900]
[null,null,null,null,null,null,null,null,null,null,null," ",null,1,1900]
[null,null,null,null,null,null,null,null,null,null,null," ",null,1,1900]
[null,null,null,null,null,null,null,null,null,null,null," ",null,1,1900]
[null,null,null,null,null,null,null,null,null,null,null," ",null,1,1900]
[null,null,null,null,null,null,null,null,null,null,null," ",null,1,1900]
[null,null,null,null,null,null,null,null,null,null,null," ",null,1,1900]
[null,null,null,null,null,null,null,null,null,null,null," ",null,1,1900]
[null,null,null,null,null,null,null,null,null,null,null," ",null,1,1900]
[null,null,null,null,null,null,null,null,null,null,null," ",null,1,1900]
[null,null,null,null,null,null,null,null,null,null,null," ",null,1,1900]
[null,null,null,null,null,null,null,null,null,null,null," ",null,1,1900]
[null,null,null,null,null,null,null,null,null,null,null," ",null,1,1900]
[null,null,null,null,null,null,null,null,null,null,null," ",null,1,1900]
[null,null,null,null,null,null,null,null,null,null,null," ",null,1,1900]
[null,null,null,null,null,null,null,null,null,null,null," ",null,1,1900]
[null,null,null,null,null,null,null,null,null,null,null," ",null,1,1900]
[null,null,null,null,null,null,null,null,null,null,null," ",null,1,1900]
[null,null,null,null,null,null,null,null,null,null,null," ",null,1,1900]
[null,null,null,null,null,null,null,null,null,null,null," ",null,1,1900]
[null,null,null,null,null,null,null,null,null,null,null," ",null,1,1900]
[null,null,null,null,null,null,null,null,null,null,null," ",null,1,1900]
[null,null,null,null,null,null,null,null,null,null,null," ",null,1,1900]
[null,null,null,null,null,null,null,null,null,null,null," ",null,1,1900]
[null,null,null,null,null,null,null,null,null,null,null," ",null,1,1900]
[null,null,null,null,null,null,null,null,null,null,null," ",null,1,1900]
[null,null,null,null,null,null,null,null,null,null,null," ",null,1,1900]
[null,null,null,null,null,null,null,null,null,null,null," ",null,1,1900]
[null,null,null,null,null,null,null,null,null,null,null," ",null,1,1900]
[null,null,null,null,null,null,null,null,null,null,null," ",null,1,1900]
[null,null,null,null,null,null,null,null,null,null,null," ",null,1,1900]
[null,null,null,null,null,null,null,null,null,null,null," ",null,1,1900]
[null,null,null,null,null,null,null,null,null,null,null," ",null,1,1900]
[null,null,null,null,null,null,null,null,null,null,null," ",null,1,1900]
[null,null,null,null,null,null,null,null,null,null,null," ",null,1,1900]
[null,null,null,null,null,null,null,null,null,null,null," ",null,1,1900]
[null,null,null,null,null,null,null,null,null,null,null," ",null,1,1900]
[null,null,null,null,null,null,null,null,null,null,null,{"$f":"+IF(K1912=K1911,\" \",K1912)","v":" "},null,{"$f":"+MONTH(A1912)","v":1},{"$f":"+YEAR(A1912)","v":1900}]
[null,null,null,null,null,null,null,null,null,null,null," ",null,1,1900]
[null,null,null,null,null,null,null,null,null,null,null," ",null,1,1900]
[null,null,null,null,null,null,null,null,null,null,null," ",null,1,1900]
[null,null,null,null,null,null,null,null,null,null,null," ",null,1,1900]
[null,null,null,null,null,null,null,null,null,null,null," ",null,1,1900]
[null,null,null,null,null,null,null,null,null,null,null," ",null,1,1900]
[null,null,null,null,null,null,null,null,null,null,null," ",null,1,1900]
[null,null,null,null,null,null,null,null,null,null,null," ",null,1,1900]
[null,null,null,null,null,null,null,null,null,null,null," ",null,1,1900]
[null,null,null,null,null,null,null,null,null,null,null," ",null,1,1900]
[null,null,null,null,null,null,null,null,null,null,null," ",null,1,1900]
[null,null,null,null,null,null,null,null,null,null,null," ",null,1,1900]
[null,null,null,null,null,null,null,null,null,null,null," ",null,1,1900]
[null,null,null,null,null,null,null,null,null,null,null," ",null,1,1900]
[null,null,null,null,null,null,null,null,null,null,null," ",null,1,1900]
[null,null,null,null,null,null,null,null,null,null,null," ",null,1,1900]
[null,null,null,null,null,null,null,null,null,null,null," ",null,1,1900]
[null,null,null,null,null,null,null,null,null,null,null," ",null,1,1900]
[null,null,null,null,null,null,null,null,null,null,null," ",null,1,1900]
[null,null,null,null,null,null,null,null,null,null,null," ",null,1,1900]
[null,null,null,null,null,null,null,null,null,null,null," ",null,1,1900]
[null,null,null,null,null,null,null,null,null,null,null," ",null,1,1900]
[null,null,null,null,null,null,null,null,null,null,null," ",null,1,1900]
[null,null,null,null,null,null,null,null,null,null,null," ",null,1,1900]
[null,null,null,null,null,null,null,null,null,null,null," ",null,1,1900]
[null,null,null,null,null,null,null,null,null,null,null," ",null,1,1900]
[null,null,null,null,null,null,null,null,null,null,null," ",null,1,1900]
[null,null,null,null,null,null,null,null,null,null,null," ",null,1,1900]
[null,null,null,null,null,null,null,null,null,null,null," ",null,1,1900]
[null,null,null,null,null,null,null,null,null,null,null," ",null,1,1900]
[null,null,null,null,null,null,null,null,null,null,null," ",null,1,1900]
[null,null,null,null,null,null,null,null,null,null,null," ",null,1,1900]
[null,null,null,null,null,null,null,null,null,null,null," ",null,1,1900]
[null,null,null,null,null,null,null,null,null,null,null," ",null,1,1900]
[null,null,null,null,null,null,null,null,null,null,null," ",null,1,1900]
[null,null,null,null,null,null,null,null,null,null,null," ",null,1,1900]
[null,null,null,null,null,null,null,null,null,null,null," ",null,1,1900]
[null,null,null,null,null,null,null,null,null,null,null," ",null,1,1900]
[null,null,null,null,null,null,null,null,null,null,null," ",null,1,1900]
[null,null,null,null,null,null,null,null,null,null,null," ",null,1,1900]
[null,null,null,null,null,null,null,null,null,null,null," ",null,1,1900]
[null,null,null,null,null,null,null,null,null,null,null," ",null,1,1900]
[null,null,null,null,null,null,null,null,null,null,null," ",null,1,1900]
[null,null,null,null,null,null,null,null,null,null,null," ",null,1,1900]
[null,null,null,null,null,null,null,null,null,null,null," ",null,1,1900]
[null,null,null,null,null,null,null,null,null,null,null," ",null,1,1900]
[null,null,null,null,null,null,null,null,null,null,null," ",null,1,1900]
[null,null,null,null,null,null,null,null,null,null,null," ",null,1,1900]
[null,null,null,null,null,null,null,null,null,null,null," ",null,1,1900]
[null,null,null,null,null,null,null,null,null,null,null," ",null,1,1900]
[null,null,null,null,null,null,null,null,null,null,null," ",null,1,1900]
[null,null,null,null,null,null,null,null,null,null,null," ",null,1,1900]
[null,null,null,null,null,null,null,null,null,null,null," ",null,1,1900]
[null,null,null,null,null,null,null,null,null,null,null," ",null,1,1900]
[null,null,null,null,null,null,null,null,null,null,null," ",null,1,1900]
[null,null,null,null,null,null,null,null,null,null,null," ",null,1,1900]
[null,null,null,null,null,null,null,null,null,null,null," ",null,1,1900]
[null,null,null,null,null,null,null,null,null,null,null," ",null,1,1900]
[null,null,null,null,null,null,null,null,null,null,null," ",null,1,1900]
[null,null,null,null,null,null,null,null,null,null,null," ",null,1,1900]
[null,null,null,null,null,null,null,null,null,null,null," ",null,1,1900]
[null,null,null,null,null,null,null,null,null,null,null," ",null,1,1900]
[null,null,null,null,null,null,null,null,null,null,null," ",null,1,1900]
[null,null,null,null,null,null,null,null,null,null,null,{"$f":"+IF(K1976=K1975,\" \",K1976)","v":" "},null,{"$f":"+MONTH(A1976)","v":1},{"$f":"+YEAR(A1976)","v":1900}]
[null,null,null,null,null,null,null,null,null,null,null," ",null,1,1900]
[null,null,null,null,null,null,null,null,null,null,null," ",null,1,1900]
[null,null,null,null,null,null,null,null,null,null,null," ",null,1,1900]
[null,null,null,null,null,null,null,null,null,null,null," ",null,1,1900]
[null,null,null,null,null,null,null,null,null,null,null," ",null,1,1900]
[null,null,null,null,null,null,null,null,null,null,null," ",null,1,1900]
[null,null,null,null,null,null,null,null,null,null,null," ",null,1,1900]
[null,null,null,null,null,null,null,null,null,null,null," ",null,1,1900]
[null,null,null,null,null,null,null,null,null,null,null," ",null,1,1900]
[null,null,null,null,null,null,null,null,null,null,null," ",null,1,1900]
[null,null,null,null,null,null,null,null,null,null,null," ",null,1,1900]
[null,null,null,null,null,null,null,null,null,null,null," ",null,1,1900]
[null,null,null,null,null,null,null,null,null,null,null," ",null,1,1900]
[null,null,null,null,null,null,null,null,null,null,null," ",null,1,1900]
[null,null,null,null,null,null,null,null,null,null,null," ",null,1,1900]
[null,null,null,null,null,null,null,null,null,null,null," ",null,1,1900]
[null,null,null,null,null,null,null,null,null,null,null," ",null,1,1900]
[null,null,null,null,null,null,null,null,null,null,null," ",null,1,1900]
[null,null,null,null,null,null,null,null,null,null,null," ",null,1,1900]
[null,null,null,null,null,null,null,null,null,null,null," ",null,1,1900]
[null,null,null,null,null,null,null,null,null,null,null," ",null,1,1900]
[null,null,null,null,null,null,null,null,null,null,null," ",null,1,1900]
[null,null,null,null,null,null,null,null,null,null,null," ",null,1,1900]
[null,null,null,null,null,null,null,null,null,null,null," ",null,1,1900]
[null,null,null,null,null,null,null,null,null,null,null," ",null,1,1900]
[null,null,null,null,null,null,null,null,null,null,null," ",null,1,1900]
[null,null,null,null,null,null,null,null,null,null,null," ",null,1,1900]
[null,null,null,null,null,null,null,null,null,null,null," ",null,1,1900]
[null,null,null,null,null,null,null,null,null,null,null," ",null,1,1900]
[null,null,null,null,null,null,null,null,null,null,null," ",null,1,1900]
[null,null,null,null,null,null,null,null,null,null,null," ",null,1,1900]
[null,null,null,null,null,null,null,null,null,null,null," ",null,1,1900]
[null,null,null,null,null,null,null,null,null,null,null," ",null,1,1900]
[null,null,null,null,null,null,null,null,null,null,null," ",null,1,1900]
[null,null,null,null,null,null,null,null,null,null,null," ",null,1,1900]
[null,null,null,null,null,null,null,null,null,null,null," ",null,1,1900]
[null,null,null,null,null,null,null,null,null,null,null," ",null,1,1900]
[null,null,null,null,null,null,null,null,null,null,null," ",null,1,1900]
[null,null,null,null,null,null,null,null,null,null,null," ",null,1,1900]
[null,null,null,null,null,null,null,null,null,null,null," ",null,1,1900]
[null,null,null,null,null,null,null,null,null,null,null," ",null,1,1900]
[null,null,null,null,null,null,null,null,null,null,null," ",null,1,1900]
[null,null,null,null,null,null,null,null,null,null,null," ",null,1,1900]
[null,null,null,null,null,null,null,null,null,null,null," ",null,1,1900]
[null,null,null,null,null,null,null,null,null,null,null," ",null,1,1900]
[null,null,null,null,null,null,null,null,null,null,null," ",null,1,1900]
[null,null,null,null,null,null,null,null,null,null,null," ",null,1,1900]
[null,null,null,null,null,null,null,null,null,null,null," ",null,1,1900]
[null,null,null,null,null,null,null,null,null,null,null," ",null,1,1900]
[null,null,null,null,null,null,null,null,null,null,null," ",null,1,1900]
[null,null,null,null,null,null,null,null,null,null,null," ",null,1,1900]
[null,null,null,null,null,null,null,null,null,null,null," ",null,1,1900]
[null,null,null,null,null,null,null,null,null,null,null," ",null,1,1900]
[null,null,null,null,null,null,null,null,null,null,null," ",null,1,1900]
[null,null,null,null,null,null,null,null,null,null,null," ",null,1,1900]
[null,null,null,null,null,null,null,null,null,null,null," ",null,1,1900]
[null,null,null,null,null,null,null,null,null,null,null," ",null,1,1900]
[null,null,null,null,null,null,null,null,null,null,null," ",null,1,1900]
[null,null,null,null,null,null,null,null,null,null,null," ",null,1,1900]
[null,null,null,null,null,null,null,null,null,null,null," ",null,1,1900]
[null,null,null,null,null,null,null,null,null,null,null," ",null,1,1900]
[null,null,null,null,null,null,null,null,null,null,null," ",null,1,1900]
[null,null,null,null,null,null,null,null,null,null,null," ",null,1,1900]
[null,null,null,null,null,null,null,null,null,null,null," ",null,1,1900]
[null,null,null,null,null,null,null,null,null,null,null," ",null,1,1900]
[null,null,null,null,null,null,null,null,null,null,null," ",null,1,1900]
[null,null,null,null,null,null,null,null,null,null,null," ",null,1,1900]
[null,null,null,null,null,null,null,null,null,null,null," ",null,1,1900]
[null,null,null,null,null,null,null,null,null,null,null," ",null,1,1900]
[null,null,null,null,null,null,null,null,null,null,null," ",null,1,1900]
[null,null,null,null,null,null,null,null,null,null,null," ",null,1,1900]
[null,null,null,null,null,null,null,null,null,null,null," ",null,1,1900]
[null,null,null,null,null,null,null,null,null,null,null," ",null,1,1900]
[null,null,null,null,null,null,null,null,null,null,null," ",null,1,1900]
[null,null,null,null,null,null,null,null,null,null,null," ",null,1,1900]
[null,null,null,null,null,null,null,null,null,null,null," ",null,1,1900]
[null,null,null,null,null,null,null,null,null,null,null," ",null,1,1900]
[null,null,null,null,null,null,null,null,null,null,null," ",null,1,1900]
[null,null,null,null,null,null,null,null,null,null,null," ",null,1,1900]
[null,null,null,null,null,null,null,null,null,null,null," ",null,1,1900]
[null,null,null,null,null,null,null,null,null,null,null," ",null,1,1900]
[null,null,null,null,null,null,null,null,null,null,null," ",null,1,1900]
[null,null,null,null,null,null,null,null,null,null,null," ",null,1,1900]
[null,null,null,null,null,null,null,null,null,null,null," ",null,1,1900]
[null,null,null,null,null,null,null,null,null,null,null," ",null,1,1900]
[null,null,null,null,null,null,null,null,null,null,null," ",null,1,1900]
[null,null,null,null,null,null,null,null,null,null,null," ",null,1,1900]
[null,null,null,null,null,null,null,null,null,null,null," ",null,1,1900]
[null,null,null,null,null,null,null,null,null,null,null," ",null,1,1900]
[null,null,null,null,null,null,null,null,null,null,null," ",null,1,1900]
[null,null,null,null,null,null,null,null,null,null,null," ",null,1,1900]
[null,null,null,null,null,null,null,null,null,null,null," ",null,1,1900]
[null,null,null,null,null,null,null,null,null,null,null," ",null,1,1900]
[null,null,null,null,null,null,null,null,null,null,null," ",null,1,1900]
[null,null,null,null,null,null,null,null,null,null,null," ",null,1,1900]
[null,null,null,null,null,null,null,null,null,null,null," ",null,1,1900]
[null,null,null,null,null,null,null,null,null,null,null," ",null,1,1900]
[null,null,null,null,null,null,null,null,null,null,null," ",null,1,1900]
[null,null,null,null,null,null,null,null,null,null,null," ",null,1,1900]
[null,null,null,null,null,null,null,null,null,null,null," ",null,1,1900]
[null,null,null,null,null,null,null,null,null,null,null," ",null,1,1900]
[null,null,null,null,null,null,null,null,null,null,null," ",null,1,1900]
[null,null,null,null,null,null,null,null,null,null,null," ",null,1,1900]
[null,null,null,null,null,null,null,null,null,null,null," ",null,1,1900]
[null,null,null,null,null,null,null,null,null,null,null," ",null,1,1900]
[null,null,null,null,null,null,null,null,null,null,null," ",null,1,1900]
[null,null,null,null,null,null,null,null,null,null,null," ",null,1,1900]
[null,null,null,null,null,null,null,null,null,null,null," ",null,1,1900]
[null,null,null,null,null,null,null,null,null,null,null," ",null,1,1900]
[null,null,null,null,null,null,null,null,null,null,null," ",null,1,1900]
[null,null,null,null,null,null,null,null,null,null,null," ",null,1,1900]
[null,null,null,null,null,null,null,null,null,null,null," ",null,1,1900]
[null,null,null,null,null,null,null,null,null,null,null," ",null,1,1900]
[null,null,null,null,null,null,null,null,null,null,null," ",null,1,1900]
[null,null,null,null,null,null,null,null,null,null,null,{"$f":"+IF(K4856=K4855,\" \",K4856)","v":" "},null,{"$f":"+MONTH(A4856)","v":1},{"$f":"+YEAR(A4856)","v":1900}]
[null,null,null,null,null,null,null,null,null,null,null," ",null,1,1900]
[null,null,null,null,null,null,null,null,null,null,null," ",null,1,1900]
[null,null,null,null,null,null,null,null,null,null,null," ",null,1,1900]
[null,null,null,null,null,null,null,null,null,null,null," ",null,1,1900]
[null,null,null,null,null,null,null,null,null,null,null," ",null,1,1900]
[null,null,null,null,null,null,null,null,null,null,null," ",null,1,1900]
[null,null,null,null,null,null,null,null,null,null,null," ",null,1,1900]
[null,null,null,null,null,null,null,null,null,null,null," ",null,1,1900]
[null,null,null,null,null,null,null,null,null,null,null," ",null,1,1900]
[null,null,null,null,null,null,null,null,null,null,null," ",null,1,1900]
[null,null,null,null,null,null,null,null,null,null,null," ",null,1,1900]
[null,null,null,null,null,null,null,null,null,null,null," ",null,1,1900]
[null,null,null,null,null,null,null,null,null,null,null," ",null,1,1900]
[null,null,null,null,null,null,null,null,null,null,null," ",null,1,1900]
[null,null,null,null,null,null,null,null,null,null,null," ",null,1,1900]
[null,null,null,null,null,null,null,null,null,null,null," ",null,1,1900]
[null,null,null,null,null,null,null,null,null,null,null," ",null,1,1900]
[null,null,null,null,null,null,null,null,null,null,null," ",null,1,1900]
[null,null,null,null,null,null,null,null,null,null,null," ",null,1,1900]
[null,null,null,null,null,null,null,null,null,null,null," ",null,1,1900]
[null,null,null,null,null,null,null,null,null,null,null," ",null,1,1900]
[null,null,null,null,null,null,null,null,null,null,null,{"$f":"+IF(K5560=K5559,\" \",K5560)","v":" "},null,{"$f":"+MONTH(A5560)","v":1},{"$f":"+YEAR(A5560)","v":1900}]
[null,null,null,null,null,null,null,null,null,null,null," ",null,1,1900]
[null,null,null,null,null,null,null,null,null,null,null," ",null,1,1900]
[null,null,null,null,null,null,null,null,null,null,null," ",null,1,1900]
[null,null,null,null,null,null,null,null,null,null,null," ",null,1,1900]
[null,null,null,null,null,null,null,null,null,null,null," ",null,1,1900]
[null,null,null,null,null,null,null,null,null,null,null," ",null,1,1900]
[null,null,null,null,null,null,null,null,null,null,null," ",null,1,1900]
[null,null,null,null,null,null,null,null,null,null,null," ",null,1,1900]
[null,null,null,null,null,null,null,null,null,null,null,{"$f":"+IF(K5816=K5815,\" \",K5816)","v":" "},null,{"$f":"+MONTH(A5816)","v":1},{"$f":"+YEAR(A5816)","v":1900}]
[null,null,null,null,null,null,null,null,null,null,null," ",null,1,1900]
[null,null,null,null,null,null,null,null,null,null,null," ",null,1,1900]
[null,null,null,null,null,null,null,null,null,null,null," ",null,1,1900]
[null,null,null,null,null,null,null,null,null,null,null," ",null,1,1900]
[null,null,null,null,null,null,null,null,null,null,null," ",null,1,1900]
[null,null,null,null,null,null,null,null,null,null,null," ",null,1,1900]
[null,null,null,null,null,null,null,null,null,null,null," ",null,1,1900]
[null,null,null,null,null,null,null,null,null,null,null," ",null,1,1900]
[null,null,null,null,null,null,null,null,null,null,null," ",null,1,1900]
[null,null,null,null,null,null,null,null,null,null,null," ",null,1,1900]
[null,null,null,null,null,null,null,null,null,null,null," ",null,1,1900]
[null,null,null,null,null,null,null,null,null,null,null," ",null,1,1900]
[null,null,null,null,null,null,null,null,null,null,null," ",null,1,1900]
[null,null,null,null,null,null,null,null,null,null,null," ",null,1,1900]
[null,null,null,null,null,null,null,null,null,null,null," ",null,1,1900]
[null,null,null,null,null,null,null,null,null,null,null," ",null,1,1900]
[null,null,null,null,null,null,null,null,null,null,null," ",null,1,1900]
[null,null,null,null,null,null,null,null,null,null,null," ",null,1,1900]
[null,null,null,null,null,null,null,null,null,null,null," ",null,1,1900]
[null,null,null,null,null,null,null,null,null,null,null," ",null,1,1900]
[null,null,null,null,null,null,null,null,null,null,null," ",null,1,1900]
[null,null,null,null,null,null,null,null,null,null,null," ",null,1,1900]
[null,null,null,null,null,null,null,null,null,null,null," ",null,1,1900]
[null,null,null,null,null,null,null,null,null,null,null,{"$f":"+IF(K6584=K6583,\" \",K6584)","v":" "},null,{"$f":"+MONTH(A6584)","v":1},{"$f":"+YEAR(A6584)","v":1900}]
[null,null,null,null,null,null,null,null,null,null,null," ",null,1,1900]
[null,null,null,null,null,null,null,null,null,null,null," ",null,1,1900]
[null,null,null,null,null,null,null,null,null,null,null," ",null,1,1900]
[null,null,null,null,null,null,null,null,null,null,null," ",null,1,1900]
[null,null,null,null,null,null,null,null,null,null,null," ",null,1,1900]
[null,null,null,null,null,null,null,null,null,null,null," ",null,1,1900]
[null,null,null,null,null,null,null,null,null,null,null," ",null,1,1900]
[null,null,null,null,null,null,null,null,null,null,null," ",null,1,1900]
[null,null,null,null,null,null,null,null,null,null,null," ",null,1,1900]
[null,null,null,null,null,null,null,null,null,null,null," ",null,1,1900]
[null,null,null,null,null,null,null,null,null,null,null," ",null,1,1900]
[null,null,null,null,null,null,null,null,null,null,null," ",null,1,1900]
[null,null,null,null,null,null,null,null,null,null,null," ",null,1,1900]
[null,null,null,null,null,null,null,null,null,null,null," ",null,1,1900]
[null,null,null,null,null,null,null,null,null,null,null," ",null,1,1900]
[null,null,null,null,null,null,null,null,null,null,null," ",null,1,1900]
[null,null,null,null,null,null,null,null,null,null,null," ",null,1,1900]
[null,null,null,null,null,null,null,null,null,null,null," ",null,1,1900]
[null,null,null,null,null,null,null,null,null,null,null," ",null,1,1900]
[null,null,null,null,null,null,null,null,null,null,null," ",null,1,1900]
[null,null,null,null,null,null,null,null,null,null,null," ",null,1,1900]
[null,null,null,null,null,null,null,null,null,null,null," ",null,1,1900]
[null,null,null,null,null,null,null,null,null,null,null," ",null,1,1900]
[null,null,null,null,null,null,null,null,null,null,null," ",null,1,1900]
[null,null,null,null,null,null,null,null,null,null,null," ",null,1,1900]
[null,null,null,null,null,null,null,null,null,null,null," ",null,1,1900]
[null,null,null,null,null,null,null,null,null,null,null," ",null,1,1900]
[null,null,null,null,null,null,null,null,null,null,null," ",null,1,1900]
[null,null,null,null,null,null,null,null,null,null,null," ",null,1,1900]
[null,null,null,null,null,null,null,null,null,null,null," ",null,1,1900]
[null,null,null,null,null,null,null,null,null,null,null," ",null,1,1900]
[null,null,null,null,null,null,null,null,null,null,null," ",null,1,1900]
[null,null,null,null,null,null,null,null,null,null,null," ",null,1,1900]
[null,null,null,null,null,null,null,null,null,null,null," ",null,1,1900]
[null,null,null,null,null,null,null,null,null,null,null," ",null,1,1900]
[null,null,null,null,null,null,null,null,null,null,null," ",null,1,1900]
[null,null,null,null,null,null,null,null,null,null,null," ",null,1,1900]
[null,null,null,null,null,null,null,null,null,null,null," ",null,1,1900]
[null,null,null,null,null,null,null,null,null,null,null," ",null,1,1900]
[null,null,null,null,null,null,null,null,null,null,null," ",null,1,1900]
[null,null,null,null,null,null,null,null,null,null,null," ",null,1,1900]
[null,null,null,null,null,null,null,null,null,null,null," ",null,1,1900]
[null,null,null,null,null,null,null,null,null,null,null," ",null,1,1900]
[null,null,null,null,null,null,null,null,null,null,null," ",null,1,1900]
[null,null,null,null,null,null,null,null,null,null,null," ",null,1,1900]
[null,null,null,null,null,null,null,null,null,null,null," ",null,1,1900]
[null,null,null,null,null,null,null,null,null,null,null," ",null,1,1900]
[null,null,null,null,null,null,null,null,null,null,null," ",null,1,1900]
[null,null,null,null,null,null,null,null,null,null,null," ",null,1,1900]
[null,null,null,null,null,null,null,null,null,null,null," ",null,1,1900]
[null,null,null,null,null,null,null,null,null,null,null," ",null,1,1900]
[null,null,null,null,null,null,null,null,null,null,null," ",null,1,1900]
[null,null,null,null,null,null,null,null,null,null,null," ",null,1,1900]
[null,null,null,null,null,null,null,null,null,null,null," ",null,1,1900]
[null,null,null,null,null,null,null,null,null,null,null," ",null,1,1900]
[null,null,null,null,null,null,null,null,null,null,null," ",null,1,1900]
[null,null,null,null,null,null,null,null,null,null,null," ",null,1,1900]
[null,null,null,null,null,null,null,null,null,null,null," ",null,1,1900]
[null,null,null,null,null,null,null,null,null,null,null," ",null,1,1900]
[null,null,null,null,null,null,null,null,null,null,null," ",null,1,1900]
[null,null,null,null,null,null,null,null,null,null,null," ",null,1,1900]
[null,null,null,null,null,null,null,null,null,null,null," ",null,1,1900]
[null,null,null,null,null,null,null,null,null,null,null," ",null,1,1900]
[null,null,null,null,null,null,null,null,null,null,null," ",null,1,1900]
[null,null,null,null,null,null,null,null,null,null,null," ",null,1,1900]
[null,null,null,null,null,null,null,null,null,null,null," ",null,1,1900]
[null,null,null,null,null,null,null,null,null,null,null," ",null,1,1900]
[null,null,null,null,null,null,null,null,null,null,null," ",null,1,1900]
[null,null,null,null,null,null,null,null,null,null,null,{"$f":"+IF(K8760=K8759,\" \",K8760)","v":" "},null,{"$f":"+MONTH(A8760)","v":1},{"$f":"+YEAR(A8760)","v":1900}]
[null,null,null,null,null,null,null,null,null,null,null," ",null,1,1900]
[null,null,null,null,null,null,null,null,null,null,null," ",null,1,1900]
[null,null,null,null,null,null,null,null,null,null,null," ",null,1,1900]
[null,null,null,null,null,null,null,null,null,null,null," ",null,1,1900]
[null,null,null,null,null,null,null,null,null,null,null," ",null,1,1900]
[null,null,null,null,null,null,null,null,null,null,null," ",null,1,1900]
[null,null,null,null,null,null,null,null,null,null,null," ",null,1,1900]
[null,null,null,null,null,null,null,null,null,null,null," ",null,1,1900]
[null,null,null,null,null,null,null,null,null,null,null," ",null,1,1900]
[null,null,null,null,null,null,null,null,null,null,null," ",null,1,1900]
[null,null,null,null,null,null,null,null,null,null,null," ",null,1,1900]
[null,null,null,null,null,null,null,null,null,null,null," ",null,1,1900]
[null,null,null,null,null,null,null,null,null,null,null," ",null,1,1900]
[null,null,null,null,null,null,null,null,null,null,null," ",null,1,1900]
[null,null,null,null,null,null,null,null,null,null,null," ",null,1,1900]
[null,null,null,null,null,null,null,null,null,null,null," ",null,1,1900]
[null,null,null,null,null,null,null,null,null,null,null," ",null,1,1900]
[null,null,null,null,null,null,null,null,null,null,null," ",null,1,1900]
[null,null,null,null,null,null,null,null,null,null,null," ",null,1,1900]
[null,null,null,null,null,null,null,null,null,null,null," ",null,1,1900]
[null,null,null,null,null,null,null,null,null,null,null," ",null,1,1900]
[null,null,null,null,null,null,null,null,null,null,null," ",null,1,1900]
[null,null,null,null,null,null,null,null,null,null,null," ",null,1,1900]
[null,null,null,null,null,null,null,null,null,null,null," ",null,1,1900]
[null,null,null,null,null,null,null,null,null,null,null," ",null,1,1900]
[null,null,null,null,null,null,null,null,null,null,null,{"$f":"+IF(K9592=K9591,\" \",K9592)","v":" "},null,{"$f":"+MONTH(A9592)","v":1},{"$f":"+YEAR(A9592)","v":1900}]
[null,null,null,null,null,null,null,null,null,null,null," ",null,1,1900]
[null,null,null,null,null,null,null,null,null,null,null," ",null,1,1900]
[null,null,null,null,null,null,null,null,null,null,null," ",null,1,1900]
[null,null,null,null,null,null,null,null,null,null,null," ",null,1,1900]
[null,null,null,null,null,null,null,null,null,null,null," ",null,1,1900]
[null,null,null,null,null,null,null,null,null,null,null," ",null,1,1900]
[null,null,null,null,null,null,null,null,null,null,null," ",null,1,1900]
[null,null,null,null,null,null,null,null,null,null,null," ",null,1,1900]
[null,null,null,null,null,null,null,null,null,null,null," ",null,1,1900]
[null,null,null,null,null,null,null,null,null,null,null," ",null,1,1900]
[null,null,null,null,null,null,null,null,null,null,null," ",null,1,1900]
[null,null,null,null,null,null,null,null,null,null,null," ",null,1,1900]
[null,null,null,null,null,null,null,null,null,null,null," ",null,1,1900]
[null,null,null,null,null,null,null,null,null,null,null," ",null,1,1900]
[null,null,null,null,null,null,null,null,null,null,null," ",null,1,1900]
[null,null,null,null,null,null,null,null,null,null,null," ",null,1,1900]
[null,null,null,null,null,null,null,null,null,null,null," ",null,1,1900]
[null,null,null,null,null,null,null,null,null,null,null," ",null,1,1900]
[null,null,null,null,null,null,null,null,null,null,null," ",null,1,1900]
[null,null,null,null,null,null,null,null,null,null,null," ",null,1,1900]
[null,null,null,null,null,null,null,null,null,null,null," ",null,1,1900]
[null,null,null,null,null,null,null,null,null,null,null," ",null,1,1900]
[null,null,null,null,null,null,null,null,null,null,null," ",null,1,1900]
[null,null,null,null,null,null,null,null,null,null,null," ",null,1,1900]
[null,null,null,null,null,null,null,null,null,null,null," ",null,1,1900]
[null,null,null,null,null,null,null,null,null,null,null," ",null,1,1900]
[null,null,null,null,null,null,null,null,null,null,null," ",null,1,1900]
[null,null,null,null,null,null,null,null,null,null,null," ",null,1,1900]
[null,null,null,null,null,null,null,null,null,null,null," ",null,1,1900]
[null,null,null,null,null,null,null,null,null,null,null," ",null,1,1900]
[null,null,null,null,null,null,null,null,null,null,null," ",null,1,1900]
[null,null,null,null,null,null,null,null,null,null,null," ",null,1,1900]
[null,null,null,null,null,null,null,null,null,null,null,{"$f":"+IF(K10616=K10615,\" \",K10616)","v":" "},null,{"$f":"+MONTH(A10616)","v":1},{"$f":"+YEAR(A10616)","v":1900}]
[null,null,null,null,null,null,null,null,null,null,null," ",null,1,1900]
[null,null,null,null,null,null,null,null,null,null,null," ",null,1,1900]
[null,null,null,null,null,null,null,null,null,null,null," ",null,1,1900]
[null,null,null,null,null,null,null,null,null,null,null," ",null,1,1900]
[null,null,null,null,null,null,null,null,null,null,null," ",null,1,1900]
[null,null,null,null,null,null,null,null,null,null,null," ",null,1,1900]
[null,null,null,null,null,null,null,null,null,null,null," ",null,1,1900]
[null,null,null,null,null,null,null,null,null,null,null," ",null,1,1900]
[null,null,null,null,null,null,null,null,null,null,null," ",null,1,1900]
[null,null,null,null,null,null,null,null,null,null,null," ",null,1,1900]
[null,null,null,null,null,null,null,null,null,null,null," ",null,1,1900]
[null,null,null,null,null,null,null,null,null,null,null," ",null,1,1900]
[null,null,null,null,null,null,null,null,null,null,null," ",null,1,1900]
[null,null,null,null,null,null,null,null,null,null,null," ",null,1,1900]
[null,null,null,null,null,null,null,null,null,null,null," ",null,1,1900]
[null,null,null,null,null,null,null,null,null,null,null," ",null,1,1900]
[null,null,null,null,null,null,null,null,null,null,null," ",null,1,1900]
[null,null,null,null,null,null,null,null,null,null,null," ",null,1,1900]
[null,null,null,null,null,null,null,null,null,null,null," ",null,1,1900]
[null,null,null,null,null,null,null,null,null,null,null," ",null,1,1900]
[null,null,null,null,null,null,null,null,null,null,null," ",null,1,1900]
[null,null,null,null,null,null,null,null,null,null,null," ",null,1,1900]
[null,null,null,null,null,null,null,null,null,null,null," ",null,1,1900]
[null,null,null,null,null,null,null,null,null,null,null," ",null,1,1900]
[null,null,null,null,null,null,null,null,null,null,null," ",null,1,1900]
[null,null,null,null,null,null,null,null,null,null,null," ",null,1,1900]
[null,null,null,null,null,null,null,null,null,null,null," ",null,1,1900]
[null,null,null,null,null,null,null,null,null,null,null," ",null,1,1900]
[null,null,null,null,null,null,null,null,null,null,null," ",null,1,1900]
[null,null,null,null,null,null,null,null,null,null,null," ",null,1,1900]
[null,null,null,null,null,null,null,null,null,null,null," ",null,1,1900]
[null,null,null,null,null,null,null,null,null,null,null," ",null,1,1900]
[null,null,null,null,null,null,null,null,null,null,null," ",null,1,1900]
[null,null,null,null,null,null,null,null,null,null,null," ",null,1,1900]
[null,null,null,null,null,null,null,null,null,null,null," ",null,1,1900]
[null,null,null,null,null,null,null,null,null,null,null," ",null,1,1900]
[null,null,null,null,null,null,null,null,null,null,null," ",null,1,1900]
[null,null,null,null,null,null,null,null,null,null,null," ",null,1,1900]
[null,null,null,null,null,null,null,null,null,null,null," ",null,1,1900]
[null,null,null,null,null,null,null,null,null,null,null," ",null,1,1900]
[null,null,null,null,null,null,null,null,null,null,null," ",null,1,1900]
[null,null,null,null,null,null,null,null,null,null,null," ",null,1,1900]
[null,null,null,null,null,null,null,null,null,null,null," ",null,1,1900]
[null,null,null,null,null,null,null,null,null,null,null," ",null,1,1900]
[null,null,null,null,null,null,null,null,null,null,null," ",null,1,1900]
[null,null,null,null,null,null,null,null,null,null,null," ",null,1,1900]
[null,null,null,null,null,null,null,null,null,null,null," ",null,1,1900]
[null,null,null,null,null,null,null,null,null,null,null," ",null,1,1900]
[null,null,null,null,null,null,null,null,null,null,null," ",null,1,1900]
[null,null,null,null,null,null,null,null,null,null,null," ",null,1,1900]
[null,null,null,null,null,null,null,null,null,null,null," ",null,1,1900]
[null,null,null,null,null,null,null,null,null,null,null," ",null,1,1900]
[null,null,null,null,null,null,null,null,null,null,null," ",null,1,1900]
[null,null,null,null,null,null,null,null,null,null,null," ",null,1,1900]
[null,null,null,null,null,null,null,null,null,null,null," ",null,1,1900]
[null,null,null,null,null,null,null,null,null,null,null," ",null,1,1900]
[null,null,null,null,null,null,null,null,null,null,null," ",null,1,1900]
[null,null,null,null,null,null,null,null,null,null,null," ",null,1,1900]
[null,null,null,null,null,null,null,null,null,null,null," ",null,1,1900]
[null,null,null,null,null,null,null,null,null,null,null," ",null,1,1900]
[null,null,null,null,null,null,null,null,null,null,null," ",null,1,1900]
[null,null,null,null,null,null,null,null,null,null,null," ",null,1,1900]
[null,null,null,null,null,null,null,null,null,null,null," ",null,1,1900]
[null,null,null,null,null,null,null,null,null,null,null," ",null,1,1900]
[null,null,null,null,null,null,null,null,null,null,null," ",null,1,1900]
[null,null,null,null,null,null,null,null,null,null,null," ",null,1,1900]
[null,null,null,null,null,null,null,null,null,null,null," ",null,1,1900]
[null,null,null,null,null,null,null,null,null,null,null," ",null,1,1900]
[null,null,null,null,null,null,null,null,null,null,null," ",null,1,1900]
[null,null,null,null,null,null,null,null,null,null,null," ",null,1,1900]
[null,null,null,null,null,null,null,null,null,null,null," ",null,1,1900]
[null,null,null,null,null,null,null,null,null,null,null," ",null,1,1900]
[null,null,null,null,null,null,null,null,null,null,null," ",null,1,1900]
[null,null,null,null,null,null,null,null,null,null,null," ",null,1,1900]
[null,null,null,null,null,null,null,null,null,null,null," ",null,1,1900]
[null,null,null,null,null,null,null,null,null,null,null," ",null,1,1900]
[null,null,null,null,null,null,null,null,null,null,null," ",null,1,1900]
[null,null,null,null,null,null,null,null,null,null,null," ",null,1,1900]
[null,null,null,null,null,null,null,null,null,null,null," ",null,1,1900]
[null,null,null,null,null,null,null,null,null,null,null," ",null,1,1900]
[null,null,null,null,null,null,null,null,null,null,null," ",null,1,1900]
[null,null,null,null,null,null,null,null,null,null,null," ",null,1,1900]
[null,null,null,null,null,null,null,null,null,null,null," ",null,1,1900]
[null,null,null,null,null,null,null,null,null,null,null," ",null,1,1900]
[null,null,null,null,null,null,null,null,null,null,null," ",null,1,1900]
[null,null,null,null,null,null,null,null,null,null,null," ",null,1,1900]
[null,null,null,null,null,null,null,null,null,null,null," ",null,1,1900]
[null,null,null,null,null,null,null,null,null,null,null," ",null,1,1900]
[null,null,null,null,null,null,null,null,null,null,null," ",null,1,1900]
[null,null,null,null,null,null,null,null,null,null,null," ",null,1,1900]
[null,null,null,null,null,null,null,null,null,null,null," ",null,1,1900]
[null,null,null,null,null,null,null,null,null,null,null," ",null,1,1900]
[null,null,null,null,null,null,null,null,null,null,null," ",null,1,1900]
[null,null,null,null,null,null,null,null,null,null,null," ",null,1,1900]
[null,null,null,null,null,null,null,null,null,null,null," ",null,1,1900]
[null,null,null,null,null,null,null,null,null,null,null," ",null,1,1900]
[null,null,null,null,null,null,null,null,null,null,null," ",null,1,1900]
[null,null,null,null,null,null,null,null,null,null,null," ",null,1,1900]
[null,null,null,null,null,null,null,null,null,null,null," ",null,1,1900]
[null,null,null,null,null,null,null,null,null,null,null," ",null,1,1900]
[null,null,null,null,null,null,null,null,null,null,null," ",null,1,1900]
[null,null,null,null,null,null,null,null,null,null,null," ",null,1,1900]
[null,null,null,null,null,null,null,null,null,null,null," ",null,1,1900]
[null,null,null,null,null,null,null,null,null,null,null," ",null,1,1900]
[null,null,null,null,null,null,null,null,null,null,null," ",null,1,1900]
[null,null,null,null,null,null,null,null,null,null,null," ",null,1,1900]
[null,null,null,null,null,null,null,null,null,null,null," ",null,1,1900]
[null,null,null,null,null,null,null,null,null,null,null," ",null,1,1900]
[null,null,null,null,null,null,null,null,null,null,null," ",null,1,1900]
[null,null,null,null,null,null,null,null,null,null,null," ",null,1,1900]
[null,null,null,null,null,null,null,null,null,null,null," ",null,1,1900]
[null,null,null,null,null,null,null,null,null,null,null," ",null,1,1900]
[null,null,null,null,null,null,null,null,null,null,null," ",null,1,1900]
[null,null,null,null,null,null,null,null,null,null,null," ",null,1,1900]
[null,null,null,null,null,null,null,null,null,null,null," ",null,1,1900]
[null,null,null,null,null,null,null,null,null,null,null," ",null,1,1900]
[null,null,null,null,null,null,null,null,null,null,null," ",null,1,1900]
[null,null,null,null,null,null,null,null,null,null,null," ",null,1,1900]
[null,null,null,null,null,null,null,null,null,null,null," ",null,1,1900]
[null,null,null,null,null,null,null,null,null,null,null," ",null,1,1900]
[null,null,null,null,null,null,null,null,null,null,null," ",null,1,1900]
[null,null,null,null,null,null,null,null,null,null,null," ",null,1,1900]
[null,null,null,null,null,null,null,null,null,null,null," ",null,1,1900]
[null,null,null,null,null,null,null,null,null,null,null," ",null,1,1900]
[null,null,null,null,null,null,null,null,null,null,null," ",null,1,1900]
[null,null,null,null,null,null,null,null,null,null,null," ",null,1,1900]
[null,null,null,null,null,null,null,null,null,null,null," ",null,1,1900]
[null,null,null,null,null,null,null,null,null,null,null," ",null,1,1900]
[null,null,null,null,null,null,null,null,null,null,null," ",null,1,1900]
[null,null,null,null,null,null,null,null,null,null,null," ",null,1,1900]
[null,null,null,null,null,null,null,null,null,null,null," ",null,1,1900]
[null,null,null,null,null,null,null,null,null,null,null," ",null,1,1900]
[null,null,null,null,null,null,null,null,null,null,null," ",null,1,1900]
[null,null,null,null,null,null,null,null,null,null,null," ",null,1,1900]
[null,null,null,null,null,null,null,null,null,null,null," ",null,1,1900]
[null,null,null,null,null,null,null,null,null,null,null," ",null,1,1900]
[null,null,null,null,null,null,null,null,null,null,null," ",null,1,1900]
[null,null,null,null,null,null,null,null,null,null,null," ",null,1,1900]
[null,null,null,null,null,null,null,null,null,null,null," ",null,1,1900]
[null,null,null,null,null,null,null,null,null,null,null," ",null,1,1900]
[null,null,null,null,null,null,null,null,null,null,null," ",null,1,1900]
[null,null,null,null,null,null,null,null,null,null,null," ",null,1,1900]
[null,null,null,null,null,null,null,null,null,null,null," ",null,1,1900]
[null,null,null,null,null,null,null,null,null,null,null,{"$f":"+IF(K15160=K15159,\" \",K15160)","v":" "},null,{"$f":"+MONTH(A15160)","v":1},{"$f":"+YEAR(A15160)","v":1900}]
[null,null,null,null,null,null,null,null,null,null,null," ",null,1,1900]
[null,null,null,null,null,null,null,null,null,null,null," ",null,1,1900]
[null,null,null,null,null,null,null,null,null,null,null," ",null,1,1900]
[null,null,null,null,null,null,null,null,null,null,null," ",null,1,1900]
[null,null,null,null,null,null,null,null,null,null,null," ",null,1,1900]
[null,null,null,null,null,null,null,null,null,null,null," ",null,1,1900]
[null,null,null,null,null,null,null,null,null,null,null," ",null,1,1900]
[null,null,null,null,null,null,null,null,null,null,null," ",null,1,1900]
[null,null,null,null,null,null,null,null,null,null,null," ",null,1,1900]
[null,null,null,null,null,null,null,null,null,null,null," ",null,1,1900]
[null,null,null,null,null,null,null,null,null,null,null," ",null,1,1900]
[null,null,null,null,null,null,null,null,null,null,null," ",null,1,1900]
[null,null,null,null,null,null,null,null,null,null,null," ",null,1,1900]
[null,null,null,null,null,null,null,null,null,null,null," ",null,1,1900]
[null,null,null,null,null,null,null,null,null,null,null," ",null,1,1900]
[null,null,null,null,null,null,null,null,null,null,null," ",null,1,1900]
[null,null,null,null,null,null,null,null,null,null,null," ",null,1,1900]
[null,null,null,null,null,null,null,null,null,null,null," ",null,1,1900]
[null,null,null,null,null,null,null,null,null,null,null," ",null,1,1900]
[null,null,null,null,null,null,null,null,null,null,null," ",null,1,1900]
[null,null,null,null,null,null,null,null,null,null,null," ",null,1,1900]
[null,null,null,null,null,null,null,null,null,null,null," ",null,1,1900]
[null,null,null,null,null,null,null,null,null,null,null," ",null,1,1900]
[null,null,null,null,null,null,null,null,null,null,null," ",null,1,1900]
[null,null,null,null,null,null,null,null,null,null,null," ",null,1,1900]
[null,null,null,null,null,null,null,null,null,null,null," ",null,1,1900]
[null,null,null,null,null,null,null,null,null,null,null," ",null,1,1900]
[null,null,null,null,null,null,null,null,null,null,null," ",null,1,1900]
[null,null,null,null,null,null,null,null,null,null,null," ",null,1,1900]
[null,null,null,null,null,null,null,null,null,null,null," ",null,1,1900]
[null,null,null,null,null,null,null,null,null,null,null," ",null,1,1900]
[null,null,null,null,null,null,null,null,null,null,null," ",null,1,1900]
[null,null,null,null,null,null,null,null,null,null,null," ",null,1,1900]
[null,null,null,null,null,null,null,null,null,null,null," ",null,1,1900]
[null,null,null,null,null,null,null,null,null,null,null," ",null,1,1900]
[null,null,null,null,null,null,null,null,null,null,null," ",null,1,1900]
[null,null,null,null,null,null,null,null,null,null,null," ",null,1,1900]
[null,null,null,null,null,null,null,null,null,null,null," ",null,1,1900]
[null,null,null,null,null,null,null,null,null,null,null," ",null,1,1900]
[null,null,null,null,null,null,null,null,null,null,null," ",null,1,1900]
[null,null,null,null,null,null,null,null,null,null,null," ",null,1,1900]
[null,null,null,null,null,null,null,null,null,null,null," ",null,1,1900]
[null,null,null,null,null,null,null,null,null,null,null," ",null,1,1900]
[null,null,null,null,null,null,null,null,null,null,null," ",null,1,1900]
[null,null,null,null,null,null,null,null,null,null,null," ",null,1,1900]
[null,null,null,null,null,null,null,null,null,null,null," ",null,1,1900]
[null,null,null,null,null,null,null,null,null,null,null," ",null,1,1900]
[null,null,null,null,null,null,null,null,null,null,null," ",null,1,1900]
[null,null,null,null,null,null,null,null,null,null,null," ",null,1,1900]
[null,null,null,null,null,null,null,null,null,null,null," ",null,1,1900]
[null,null,null,null,null,null,null,null,null,null,null," ",null,1,1900]
[null,null,null,null,null,null,null,null,null,null,null," ",null,1,1900]
[null,null,null,null,null,null,null,null,null,null,null," ",null,1,1900]
[null,null,null,null,null,null,null,null,null,null,null," ",null,1,1900]
[null,null,null,null,null,null,null,null,null,null,null," ",null,1,1900]
[null,null,null,null,null,null,null,null,null,null,null," ",null,1,1900]
[null,null,null,null,null,null,null,null,null,null,null," ",null,1,1900]
[null,null,null,null,null,null,null,null,null,null,null," ",null,1,1900]
[null,null,null,null,null,null,null,null,null,null,null," ",null,1,1900]
[null,null,null,null,null,null,null,null,null,null,null," ",null,1,1900]
[null,null,null,null,null,null,null,null,null,null,null," ",null,1,1900]
[null,null,null,null,null,null,null,null,null,null,null," ",null,1,1900]
[null,null,null,null,null,null,null,null,null,null,null," ",null,1,1900]
[null,null,null,null,null,null,null,null,null,null,null," ",null,1,1900]
[null,null,null,null,null,null,null,null,null,null,null," ",null,1,1900]
[null,null,null,null,null,null,null,null,null,null,null," ",null,1,1900]
[null,null,null,null,null,null,null,null,null,null,null," ",null,1,1900]
[null,null,null,null,null,null,null,null,null,null,null," ",null,1,1900]
[null,null,null,null,null,null,null,null,null,null,null," ",null,1,1900]
[null,null,null,null,null,null,null,null,null,null,null," ",null,1,1900]
[null,null,null,null,null,null,null,null,null,null,null," ",null,1,1900]
[null,null,null,null,null,null,null,null,null,null,null," ",null,1,1900]
[null,null,null,null,null,null,null,null,null,null,null," ",null,1,1900]
[null,null,null,null,null,null,null,null,null,null,null," ",null,1,1900]
[null,null,null,null,null,null,null,null,null,null,null," ",null,1,1900]
[null,null,null,null,null,null,null,null,null,null,null," ",null,1,1900]
[null,null,null,null,null,null,null,null,null,null,null," ",null,1,1900]
[null,null,null,null,null,null,null,null,null,null,null," ",null,1,1900]
[null,null,null,null,null,null,null,null,null,null,null," ",null,1,1900]
[null,null,null,null,null,null,null,null,null,null,null," ",null,1,1900]
[null,null,null,null,null,null,null,null,null,null,null," ",null,1,1900]
[null,null,null,null,null,null,null,null,null,null,null," ",null,1,1900]
[null,null,null,null,null,null,null,null,null,null,null," ",null,1,1900]
[null,null,null,null,null,null,null,null,null,null,null," ",null,1,1900]
[null,null,null,null,null,null,null,null,null,null,null," ",null,1,1900]
[null,null,null,null,null,null,null,null,null,null,null," ",null,1,1900]
[null,null,null,null,null,null,null,null,null,null,null," ",null,1,1900]
[null,null,null,null,null,null,null,null,null,null,null," ",null,1,1900]
[null,null,null,null,null,null,null,null,null,null,null," ",null,1,1900]
[null,null,null,null,null,null,null,null,null,null,null," ",null,1,1900]
[null,null,null,null,null,null,null,null,null,null,null," ",null,1,1900]
[null,null,null,null,null,null,null,null,null,null,null," ",null,1,1900]
[null,null,null,null,null,null,null,null,null,null,null," ",null,1,1900]
[null,null,null,null,null,null,null,null,null,null,null," ",null,1,1900]
[null,null,null,null,null,null,null,null,null,null,null,{"$f":"+IF(K18168=K18167,\" \",K18168)","v":" "},null,{"$f":"+MONTH(A18168)","v":1},{"$f":"+YEAR(A18168)","v":1900}]
[null,null,null,null,null,null,null,null,null,null,null," ",null,1,1900]
[null,null,null,null,null,null,null,null,null,null,null," ",null,1,1900]
[null,null,null,null,null,null,null,null,null,null,null," ",null,1,1900]
[null,null,null,null,null,null,null,null,null,null,null," ",null,1,1900]
[null,null,null,null,null,null,null,null,null,null,null," ",null,1,1900]
[null,null,null,null,null,null,null,null,null,null,null," ",null,1,1900]
[null,null,null,null,null,null,null,null,null,null,null," ",null,1,1900]
[null,null,null,null,null,null,null,null,null,null,null," ",null,1,1900]
[null,null,null,null,null,null,null,null,null,null,null," ",null,1,1900]
[null,null,null,null,null,null,null,null,null,null,null," ",null,1,1900]
[null,null,null,null,null,null,null,null,null,null,null," ",null,1,1900]
[null,null,null,null,null,null,null,null,null,null,null," ",null,1,1900]
[null,null,null,null,null,null,null,null,null,null,null," ",null,1,1900]
[null,null,null,null,null,null,null,null,null,null,null," ",null,1,1900]
[null,null,null,null,null,null,null,null,null,null,null," ",null,1,1900]
[null,null,null,null,null,null,null,null,null,null,null," ",null,1,1900]
[null,null,null,null,null,null,null,null,null,null,null," ",null,1,1900]
[null,null,null,null,null,null,null,null,null,null,null," ",null,1,1900]
[null,null,null,null,null,null,null,null,null,null,null," ",null,1,1900]
[null,null,null,null,null,null,null,null,null,null,null," ",null,1,1900]
[null,null,null,null,null,null,null,null,null,null,null," ",null,1,1900]
[null,null,null,null,null,null,null,null,null,null,null," ",null,1,1900]
[null,null,null,null,null,null,null,null,null,null,null," ",null,1,1900]
[null,null,null,null,null,null,null,null,null,null,null," ",null,1,1900]
[null,null,null,null,null,null,null,null,null,null,null," ",null,1,1900]
[null,null,null,null,null,null,null,null,null,null,null," ",null,1,1900]
[null,null,null,null,null,null,null,null,null,null,null," ",null,1,1900]
[null,null,null,null,null,null,null,null,null,null,null," ",null,1,1900]
[null,null,null,null,null,null,null,null,null,null,null," ",null,1,1900]
[null,null,null,null,null,null,null,null,null,null,null," ",null,1,1900]
[null,null,null,null,null,null,null,null,null,null,null," ",null,1,1900]
[null,null,null,null,null,null,null,null,null,null,null," ",null,1,1900]
[null,null,null,null,null,null,null,null,null,null,null,{"$f":"+IF(K19192=K19191,\" \",K19192)","v":" "},null,{"$f":"+MONTH(A19192)","v":1},{"$f":"+YEAR(A19192)","v":1900}]
[null,null,null,null,null,null,null,null,null,null,null," ",null,1,1900]
[null,null,null,null,null,null,null,null,null,null,null," ",null,1,1900]
[null,null,null,null,null,null,null,null,null,null,null," ",null,1,1900]
[null,null,null,null,null,null,null,null,null,null,null," ",null,1,1900]
[null,null,null,null,null,null,null,null,null,null,null," ",null,1,1900]
[null,null,null,null,null,null,null,null,null,null,null," ",null,1,1900]
[null,null,null,null,null,null,null,null,null,null,null," ",null,1,1900]
[null,null,null,null,null,null,null,null,null,null,null," ",null,1,1900]
[null,null,null,null,null,null,null,null,null,null,null," ",null,1,1900]
[null,null,null,null,null,null,null,null,null,null,null," ",null,1,1900]
[null,null,null,null,null,null,null,null,null,null,null," ",null,1,1900]
[null,null,null,null,null,null,null,null,null,null,null," ",null,1,1900]
[null,null,null,null,null,null,null,null,null,null,null," ",null,1,1900]
[null,null,null,null,null,null,null,null,null,null,null," ",null,1,1900]
[null,null,null,null,null,null,null,null,null,null,null," ",null,1,1900]
[null,null,null,null,null,null,null,null,null,null,null," ",null,1,1900]
[null,null,null,null,null,null,null,null,null,null,null," ",null,1,1900]
[null,null,null,null,null,null,null,null,null,null,null," ",null,1,1900]
[null,null,null,null,null,null,null,null,null,null,null," ",null,1,1900]
[null,null,null,null,null,null,null,null,null,null,null," ",null,1,1900]
[null,null,null,null,null,null,null,null,null,null,null," ",null,1,1900]
[null,null,null,null,null,null,null,null,null,null,null," ",null,1,1900]
[null,null,null,null,null,null,null,null,null,null,null," ",null,1,1900]
[null,null,null,null,null,null,null,null,null,null,null," ",null,1,1900]
[null,null,null,null,null,null,null,null,null,null,null," ",null,1,1900]
[null,null,null,null,null,null,null,null,null,null,null," ",null,1,1900]
[null,null,null,null,null,null,null,null,null,null,null," ",null,1,1900]
[null,null,null,null,null,null,null,null,null,null,null," ",null,1,1900]
[null,null,null,null,null,null,null,null,null,null,null," ",null,1,1900]
[null,null,null,null,null,null,null,null,null,null,null," ",null,1,1900]
[null,null,null,null,null,null,null,null,null,null,null," ",null,1,1900]
[null,null,null,null,null,null,null,null,null,null,null," ",null,1,1900]
[null,null,null,null,null,null,null,null,null,null,null," ",null,1,1900]
[null,null,null,null,null,null,null,null,null,null,null," ",null,1,1900]
[null,null,null,null,null,null,null,null,null,null,null," ",null,1,1900]
[null,null,null,null,null,null,null,null,null,null,null," ",null,1,1900]
[null,null,null,null,null,null,null,null,null,null,null," ",null,1,1900]
[null,null,null,null,null,null,null,null,null,null,null," ",null,1,1900]
[null,null,null,null,null,null,null,null,null,null,null,{"$f":"+IF(K20408=K20407,\" \",K20408)","v":" "},null,{"$f":"+MONTH(A20408)","v":1},{"$f":"+YEAR(A20408)","v":1900}]
[null,null,null,null,null,null,null,null,null,null,null," ",null,1,1900]
[null,null,null,null,null,null,null,null,null,null,null," ",null,1,1900]
[null,null,null,null,null,null,null,null,null,null,null," ",null,1,1900]
[null,null,null,null,null,null,null,null,null,null,null," ",null,1,1900]
[null,null,null,null,null,null,null,null,null,null,null," ",null,1,1900]
[null,null,null,null,null,null,null,null,null,null,null," ",null,1,1900]
[null,null,null,null,null,null,null,null,null,null,null," ",null,1,1900]
[null,null,null,null,null,null,null,null,null,null,null," ",null,1,1900]
[null,null,null,null,null,null,null,null,null,null,null," ",null,1,1900]
[null,null,null,null,null,null,null,null,null,null,null," ",null,1,1900]
[null,null,null,null,null,null,null,null,null,null,null," ",null,1,1900]
[null,null,null,null,null,null,null,null,null,null,null," ",null,1,1900]
[null,null,null,null,null,null,null,null,null,null,null," ",null,1,1900]
[null,null,null,null,null,null,null,null,null,null,null," ",null,1,1900]
[null,null,null,null,null,null,null,null,null,null,null," ",null,1,1900]
[null,null,null,null,null,null,null,null,null,null,null," ",null,1,1900]
[null,null,null,null,null,null,null,null,null,null,null," ",null,1,1900]
[null,null,null,null,null,null,null,null,null,null,null," ",null,1,1900]
[null,null,null,null,null,null,null,null,null,null,null," ",null,1,1900]
[null,null,null,null,null,null,null,null,null,null,null," ",null,1,1900]
[null,null,null,null,null,null,null,null,null,null,null," ",null,1,1900]
[null,null,null,null,null,null,null,null,null,null,null," ",null,1,1900]
[null,null,null,null,null,null,null,null,null,null,null," ",null,1,1900]
[null,null,null,null,null,null,null,null,null,null,null," ",null,1,1900]
[null,null,null,null,null,null,null,null,null,null,null," ",null,1,1900]
[null,null,null,null,null,null,null,null,null,null,null," ",null,1,1900]
[null,null,null,null,null,null,null,null,null,null,null," ",null,1,1900]
[null,null,null,null,null,null,null,null,null,null,null," ",null,1,1900]
[null,null,null,null,null,null,null,null,null,null,null," ",null,1,1900]
[null,null,null,null,null,null,null,null,null,null,null," ",null,1,1900]
[null,null,null,null,null,null,null,null,null,null,null," ",null,1,1900]
[null,null,null,null,null,null,null,null,null,null,null," ",null,1,1900]
[null,null,null,null,null,null,null,null,null,null,null," ",null,1,1900]
[null,null,null,null,null,null,null,null,null,null,null," ",null,1,1900]
[null,null,null,null,null,null,null,null,null,null,null," ",null,1,1900]
[null,null,null,null,null,null,null,null,null,null,null," ",null,1,1900]
[null,null,null,null,null,null,null,null,null,null,null," ",null,1,1900]
[null,null,null,null,null,null,null,null,null,null,null," ",null,1,1900]
[null,null,null,null,null,null,null,null,null,null,null," ",null,1,1900]
[null,null,null,null,null,null,null,null,null,null,null," ",null,1,1900]
[null,null,null,null,null,null,null,null,null,null,null," ",null,1,1900]
[null,null,null,null,null,null,null,null,null,null,null," ",null,1,1900]
[null,null,null,null,null,null,null,null,null,null,null," ",null,1,1900]
[null,null,null,null,null,null,null,null,null,null,null," ",null,1,1900]
[null,null,null,null,null,null,null,null,null,null,null," ",null,1,1900]
[null,null,null,null,null,null,null,null,null,null,null," ",null,1,1900]
[null,null,null,null,null,null,null,null,null,null,null," ",null,1,1900]
[null,null,null,null,null,null,null,null,null,null,null," ",null,1,1900]
[null,null,null,null,null,null,null,null,null,null,null," ",null,1,1900]
[null,null,null,null,null,null,null,null,null,null,null," ",null,1,1900]
[null,null,null,null,null,null,null,null,null,null,null," ",null,1,1900]
[null,null,null,null,null,null,null,null,null,null,null," ",null,1,1900]
[null,null,null,null,null,null,null,null,null,null,null," ",null,1,1900]
[null,null,null,null,null,null,null,null,null,null,null," ",null,1,1900]
[null,null,null,null,null,null,null,null,null,null,null," ",null,1,1900]
[null,null,null,null,null,null,null,null,null,null,null," ",null,1,1900]
[null,null,null,null,null,null,null,null,null,null,null," ",null,1,1900]
[null,null,null,null,null,null,null,null,null,null,null," ",null,1,1900]
[null,null,null,null,null,null,null,null,null,null,null," ",null,1,1900]
[null,null,null,null,null,null,null,null,null,null,null," ",null,1,1900]
[null,null,null,null,null,null,null,null,null,null,null," ",null,1,1900]
[null,null,null,null,null,null,null,null,null,null,null,{"$f":"+IF(K22392=K22391,\" \",K22392)","v":" "},null,{"$f":"+MONTH(A22392)","v":1},{"$f":"+YEAR(A22392)","v":1900}]
[null,null,null,null,null,null,null,null,null,null,null," ",null,1,1900]
[null,null,null,null,null,null,null,null,null,null,null," ",null,1,1900]
[null,null,null,null,null,null,null,null,null,null,null," ",null,1,1900]
[null,null,null,null,null,null,null,null,null,null,null," ",null,1,1900]
[null,null,null,null,null,null,null,null,null,null,null," ",null,1,1900]
[null,null,null,null,null,null,null,null,null,null,null," ",null,1,1900]
[null,null,null,null,null,null,null,null,null,null,null," ",null,1,1900]
[null,null,null,null,null,null,null,null,null,null,null," ",null,1,1900]
[null,null,null,null,null,null,null,null,null,null,null," ",null,1,1900]
[null,null,null,null,null,null,null,null,null,null,null," ",null,1,1900]
[null,null,null,null,null,null,null,null,null,null,null," ",null,1,1900]
[null,null,null,null,null,null,null,null,null,null,null," ",null,1,1900]
[null,null,null,null,null,null,null,null,null,null,null," ",null,1,1900]
[null,null,null,null,null,null,null,null,null,null,null," ",null,1,1900]
[null,null,null,null,null,null,null,null,null,null,null," ",null,1,1900]
[null,null,null,null,null,null,null,null,null,null,null," ",null,1,1900]
[null,null,null,null,null,null,null,null,null,null,null," ",null,1,1900]
[null,null,null,null,null,null,null,null,null,null,null," ",null,1,1900]
[null,null,null,null,null,null,null,null,null,null,null," ",null,1,1900]
[null,null,null,null,null,null,null,null,null,null,null," ",null,1,1900]
[null,null,null,null,null,null,null,null,null,null,null," ",null,1,1900]
[null,null,null,null,null,null,null,null,null,null,null," ",null,1,1900]
[null,null,null,null,null,null,null,null,null,null,null," ",null,1,1900]
[null,null,null,null,null,null,null,null,null,null,null," ",null,1,1900]
[null,null,null,null,null,null,null,null,null,null,null," ",null,1,1900]
[null,null,null,null,null,null,null,null,null,null,null," ",null,1,1900]
[null,null,null,null,null,null,null,null,null,null,null," ",null,1,1900]
[null,null,null,null,null,null,null,null,null,null,null," ",null,1,1900]
[null,null,null,null,null,null,null,null,null,null,null," ",null,1,1900]
[null,null,null,null,null,null,null,null,null,null,null," ",null,1,1900]
[null,null,null,null,null,null,null,null,null,null,null,{"$f":"+IF(K23352=K23351,\" \",K23352)","v":" "},null,{"$f":"+MONTH(A23352)","v":1},{"$f":"+YEAR(A23352)","v":1900}]
[null,null,null,null,null,null,null,null,null,null,null," ",null,1,1900]
[null,null,null,null,null,null,null,null,null,null,null," ",null,1,1900]
[null,null,null,null,null,null,null,null,null,null,null," ",null,1,1900]
[null,null,null,null,null,null,null,null,null,null,null," ",null,1,1900]
[null,null,null,null,null,null,null,null,null,null,null," ",null,1,1900]
[null,null,null,null,null,null,null,null,null,null,null," ",null,1,1900]
[null,null,null,null,null,null,null,null,null,null,null," ",null,1,1900]
[null,null,null,null,null,null,null,null,null,null,null," ",null,1,1900]
[null,null,null,null,null,null,null,null,null,null,null," ",null,1,1900]
[null,null,null,null,null,null,null,null,null,null,null," ",null,1,1900]
[null,null,null,null,null,null,null,null,null,null,null," ",null,1,1900]
[null,null,null,null,null,null,null,null,null,null,null," ",null,1,1900]
[null,null,null,null,null,null,null,null,null,null,null," ",null,1,1900]
[null,null,null,null,null,null,null,null,null,null,null," ",null,1,1900]
[null,null,null,null,null,null,null,null,null,null,null," ",null,1,1900]
[null,null,null,null,null,null,null,null,null,null,null," ",null,1,1900]
[null,null,null,null,null,null,null,null,null,null,null," ",null,1,1900]
[null,null,null,null,null,null,null,null,null,null,null," ",null,1,1900]
[null,null,null,null,null,null,null,null,null,null,null," ",null,1,1900]
[null,null,null,null,null,null,null,null,null,null,null," ",null,1,1900]
[null,null,null,null,null,null,null,null,null,null,null," ",null,1,1900]
[null,null,null,null,null,null,null,null,null,null,null," ",null,1,1900]
[null,null,null,null,null,null,null,null,null,null,null," ",null,1,1900]
[null,null,null,null,null,null,null,null,null,null,null," ",null,1,1900]
[null,null,null,null,null,null,null,null,null,null,null," ",null,1,1900]
[null,null,null,null,null,null,null,null,null,null,null," ",null,1,1900]
[null,null,null,null,null,null,null,null,null,null,null," ",null,1,1900]
[null,null,null,null,null,null,null,null,null,null,null," ",null,1,1900]
[null,null,null,null,null,null,null,null,null,null,null," ",null,1,1900]
[null,null,null,null,null,null,null,null,null,null,null," ",null,1,1900]
[null,null,null,null,null,null,null,null,null,null,null," ",null,1,1900]
[null,null,null,null,null,null,null,null,null,null,null," ",null,1,1900]
[null,null,null,null,null,null,null,null,null,null,null," ",null,1,1900]
[null,null,null,null,null,null,null,null,null,null,null," ",null,1,1900]
[null,null,null,null,null,null,null,null,null,null,null," ",null,1,1900]
[null,null,null,null,null,null,null,null,null,null,null," ",null,1,1900]
[null,null,null,null,null,null,null,null,null,null,null," ",null,1,1900]
[null,null,null,null,null,null,null,null,null,null,null," ",null,1,1900]
[null,null,null,null,null,null,null,null,null,null,null," ",null,1,1900]
[null,null,null,null,null,null,null,null,null,null,null," ",null,1,1900]
[null,null,null,null,null,null,null,null,null,null,null," ",null,1,1900]
[null,null,null,null,null,null,null,null,null,null,null," ",null,1,1900]
[null,null,null,null,null,null,null,null,null,null,null," ",null,1,1900]
[null,null,null,null,null,null,null,null,null,null,null," ",null,1,1900]
[null,null,null,null,null,null,null,null,null,null,null," ",null,1,1900]
[null,null,null,null,null,null,null,null,null,null,null," ",null,1,1900]
[null,null,null,null,null,null,null,null,null,null,null," ",null,1,1900]
[null,null,null,null,null,null,null,null,null,null,null," ",null,1,1900]
[null,null,null,null,null,null,null,null,null,null,null," ",null,1,1900]
[null,null,null,null,null,null,null,null,null,null,null," ",null,1,1900]
[null,null,null,null,null,null,null,null,null,null,null," ",null,1,1900]
[null,null,null,null,null,null,null,null,null,null,null," ",null,1,1900]
[null,null,null,null,null,null,null,null,null,null,null," ",null,1,1900]
[null,null,null,null,null,null,null,null,null,null,null," ",null,1,1900]
[null,null,null,null,null,null,null,null,null,null,null," ",null,1,1900]
[null,null,null,null,null,null,null,null,null,null,null," ",null,1,1900]
[null,null,null,null,null,null,null,null,null,null,null," ",null,1,1900]
[null,null,null,null,null,null,null,null,null,null,null," ",null,1,1900]
[null,null,null,null,null,null,null,null,null,null,null," ",null,1,1900]
[null,null,null,null,null,null,null,null,null,null,null," ",null,1,1900]
[null,null,null,null,null,null,null,null,null,null,null," ",null,1,1900]
[null,null,null,null,null,null,null,null,null,null,null," ",null,1,1900]
[null,null,null,null,null,null,null,null,null,null,null," ",null,1,1900]
[null,null,null,null,null,null,null,null,null,null,null," ",null,1,1900]
[null,null,null,null,null,null,null,null,null,null,null," ",null,1,1900]
[null,null,null,null,null,null,null,null,null,null,null," ",null,1,1900]
[null,null,null,null,null,null,null,null,null,null,null," ",null,1,1900]
[null,null,null,null,null,null,null,null,null,null,null," ",null,1,1900]
[null,null,null,null,null,null,null,null,null,null,null," ",null,1,1900]
[null,null,null,null,null,null,null,null,null,null,null," ",null,1,1900]
[null,null,null,null,null,null,null,null,null,null,null," ",null,1,1900]
[null,null,null,null,null,null,null,null,null,null,null," ",null,1,1900]
[null,null,null,null,null,null,null,null,null,null,null," ",null,1,1900]
[null,null,null,null,null,null,null,null,null,null,null," ",null,1,1900]
[null,null,null,null,null,null,null,null,null,null,null," ",null,1,1900]
[null,null,null,null,null,null,null,null,null,null,null," ",null,1,1900]
[null,null,null,null,null,null,null,null,null,null,null," ",null,1,1900]
[null,null,null,null,null,null,null,null,null,null,null," ",null,1,1900]
[null,null,null,null,null,null,null,null,null,null,null," ",null,1,1900]
[null,null,null,null,null,null,null,null,null,null,null," ",null,1,1900]
[null,null,null,null,null,null,null,null,null,null,null," ",null,1,1900]
[null,null,null,null,null,null,null,null,null,null,null," ",null,1,1900]
[null,null,null,null,null,null,null,null,null,null,null," ",null,1,1900]
[null,null,null,null,null,null,null,null,null,null,null," ",null,1,1900]
[null,null,null,null,null,null,null,null,null,null,null," ",null,1,1900]
[null,null,null,null,null,null,null,null,null,null,null," ",null,1,1900]
[null,null,null,null,null,null,null,null,null,null,null," ",null,1,1900]
[null,null,null,null,null,null,null,null,null,null,null," ",null,1,1900]
[null,null,null,null,null,null,null,null,null,null,null," ",null,1,1900]
[null,null,null,null,null,null,null,null,null,null,null," ",null,1,1900]
[null,null,null,null,null,null,null,null,null,null,null," ",null,1,1900]
[null,null,null,null,null,null,null,null,null,null,null," ",null,1,1900]
[null,null,null,null,null,null,null,null,null,null,null,{"$f":"+IF(K26296=K26295,\" \",K26296)","v":" "},null,{"$f":"+MONTH(A26296)","v":1},{"$f":"+YEAR(A26296)","v":1900}]
[null,null,null,null,null,null,null,null,null,null,null," ",null,1,1900]
[null,null,null,null,null,null,null,null,null,null,null," ",null,1,1900]
[null,null,null,null,null,null,null,null,null,null,null," ",null,1,1900]
[null,null,null,null,null,null,null,null,null,null,null," ",null,1,1900]
[null,null,null,null,null,null,null,null,null,null,null," ",null,1,1900]
[null,null,null,null,null,null,null,null,null,null,null," ",null,1,1900]
[null,null,null,null,null,null,null,null,null,null,null," ",null,1,1900]
[null,null,null,null,null,null,null,null,null,null,null," ",null,1,1900]
[null,null,null,null,null,null,null,null,null,null,null," ",null,1,1900]
[null,null,null,null,null,null,null,null,null,null,null," ",null,1,1900]
[null,null,null,null,null,null,null,null,null,null,null," ",null,1,1900]
[null,null,null,null,null,null,null,null,null,null,null," ",null,1,1900]
[null,null,null,null,null,null,null,null,null,null,null," ",null,1,1900]
[null,null,null,null,null,null,null,null,null,null,null," ",null,1,1900]
[null,null,null,null,null,null,null,null,null,null,null," ",null,1,1900]
[null,null,null,null,null,null,null,null,null,null,null," ",null,1,1900]
[null,null,null,null,null,null,null,null,null,null,null," ",null,1,1900]
[null,null,null,null,null,null,null,null,null,null,null," ",null,1,1900]
[null,null,null,null,null,null,null,null,null,null,null," ",null,1,1900]
[null,null,null,null,null,null,null,null,null,null,null," ",null,1,1900]
[null,null,null,null,null,null,null,null,null,null,null," ",null,1,1900]
[null,null,null,null,null,null,null,null,null,null,null," ",null,1,1900]
[null,null,null,null,null,null,null,null,null,null,null," ",null,1,1900]
[null,null,null,null,null,null,null,null,null,null,null," ",null,1,1900]
[null,null,null,null,null,null,null,null,null,null,null," ",null,1,1900]
[null,null,null,null,null,null,null,null,null,null,null," ",null,1,1900]
[null,null,null,null,null,null,null,null,null,null,null," ",null,1,1900]
[null,null,null,null,null,null,null,null,null,null,null," ",null,1,1900]
[null,null,null,null,null,null,null,null,null,null,null," ",null,1,1900]
[null,null,null,null,null,null,null,null,null,null,null," ",null,1,1900]
[null,null,null,null,null,null,null,null,null,null,null,{"$f":"+IF(K27256=K27255,\" \",K27256)","v":" "},null,{"$f":"+MONTH(A27256)","v":1},{"$f":"+YEAR(A27256)","v":1900}]
[null,null,null,null,null,null,null,null,null,null,null," ",null,1,1900]
[null,null,null,null,null,null,null,null,null,null,null," ",null,1,1900]
[null,null,null,null,null,null,null,null,null,null,null," ",null,1,1900]
[null,null,null,null,null,null,null,null,null,null,null," ",null,1,1900]
[null,null,null,null,null,null,null,null,null,null,null," ",null,1,1900]
[null,null,null,null,null,null,null,null,null,null,null," ",null,1,1900]
[null,null,null,null,null,null,null,null,null,null,null," ",null,1,1900]
[null,null,null,null,null,null,null,null,null,null,null," ",null,1,1900]
[null,null,null,null,null,null,null,null,null,null,null," ",null,1,1900]
[null,null,null,null,null,null,null,null,null,null,null," ",null,1,1900]
[null,null,null,null,null,null,null,null,null,null,null," ",null,1,1900]
[null,null,null,null,null,null,null,null,null,null,null," ",null,1,1900]
[null,null,null,null,null,null,null,null,null,null,null," ",null,1,1900]
[null,null,null,null,null,null,null,null,null,null,null," ",null,1,1900]
[null,null,null,null,null,null,null,null,null,null,null," ",null,1,1900]
[null,null,null,null,null,null,null,null,null,null,null,{"$f":"+IF(K27768=K27767,\" \",K27768)","v":" "},null,{"$f":"+MONTH(A27768)","v":1},{"$f":"+YEAR(A27768)","v":1900}]
[null,null,null,null,null,null,null,null,null,null,null," ",null,1,1900]
[null,null,null,null,null,null,null,null,null,null,null," ",null,1,1900]
[null,null,null,null,null,null,null,null,null,null,null," ",null,1,1900]
[null,null,null,null,null,null,null,null,null,null,null," ",null,1,1900]
[null,null,null,null,null,null,null,null,null,null,null," ",null,1,1900]
[null,null,null,null,null,null,null,null,null,null,null," ",null,1,1900]
[null,null,null,null,null,null,null,null,null,null,null," ",null,1,1900]
[null,null,null,null,null,null,null,null,null,null,null," ",null,1,1900]
[null,null,null,null,null,null,null,null,null,null,null," ",null,1,1900]
[null,null,null,null,null,null,null,null,null,null,null," ",null,1,1900]
[null,null,null,null,null,null,null,null,null,null,null," ",null,1,1900]
[null,null,null,null,null,null,null,null,null,null,null," ",null,1,1900]
[null,null,null,null,null,null,null,null,null,null,null," ",null,1,1900]
[null,null,null,null,null,null,null,null,null,null,null," ",null,1,1900]
[null,null,null,null,null,null,null,null,null,null,null," ",null,1,1900]
[null,null,null,null,null,null,null,null,null,null,null," ",null,1,1900]
[null,null,null,null,null,null,null,null,null,null,null," ",null,1,1900]
[null,null,null,null,null,null,null,null,null,null,null," ",null,1,1900]
[null,null,null,null,null,null,null,null,null,null,null," ",null,1,1900]
[null,null,null,null,null,null,null,null,null,null,null," ",null,1,1900]
[null,null,null,null,null,null,null,null,null,null,null," ",null,1,1900]
[null,null,null,null,null,null,null,null,null,null,null," ",null,1,1900]
[null,null,null,null,null,null,null,null,null,null,null," ",null,1,1900]
[null,null,null,null,null,null,null,null,null,null,null," ",null,1,1900]
[null,null,null,null,null,null,null,null,null,null,null," ",null,1,1900]
[null,null,null,null,null,null,null,null,null,null,null," ",null,1,1900]
[null,null,null,null,null,null,null,null,null,null,null," ",null,1,1900]
[null,null,null,null,null,null,null,null,null,null,null," ",null,1,1900]
[null,null,null,null,null,null,null,null,null,null,null," ",null,1,1900]
[null,null,null,null,null,null,null,null,null,null,null," ",null,1,1900]
[null,null,null,null,null,null,null,null,null,null,null," ",null,1,1900]
[null,null,null,null,null,null,null,null,null,null,null," ",null,1,1900]
[null,null,null,null,null,null,null,null,null,null,null," ",null,1,1900]
[null,null,null,null,null,null,null,null,null,null,null," ",null,1,1900]
[null,null,null,null,null,null,null,null,null,null,null," ",null,1,1900]
[null,null,null,null,null,null,null,null,null,null,null," ",null,1,1900]
[null,null,null,null,null,null,null,null,null,null,null," ",null,1,1900]
[null,null,null,null,null,null,null,null,null,null,null," ",null,1,1900]
[null,null,null,null,null,null,null,null,null,null,null," ",null,1,1900]
[null,null,null,null,null,null,null,null,null,null,null," ",null,1,1900]
[null,null,null,null,null,null,null,null,null,null,null," ",null,1,1900]
[null,null,null,null,null,null,null,null,null,null,null," ",null,1,1900]
[null,null,null,null,null,null,null,null,null,null,null," ",null,1,1900]
[null,null,null,null,null,null,null,null,null,null,null," ",null,1,1900]
[null,null,null,null,null,null,null,null,null,null,null," ",null,1,1900]
[null,null,null,null,null,null,null,null,null,null,null," ",null,1,1900]
[null,null,null,null,null,null,null,null,null,null,null," ",null,1,1900]
[null,null,null,null,null,null,null,null,null,null,null," ",null,1,1900]
[null,null,null,null,null,null,null,null,null,null,null," ",null,1,1900]
[null,null,null,null,null,null,null,null,null,null,null," ",null,1,1900]
[null,null,null,null,null,null,null,null,null,null,null," ",null,1,1900]
[null,null,null,null,null,null,null,null,null,null,null," ",null,1,1900]
[null,null,null,null,null,null,null,null,null,null,null," ",null,1,1900]
[null,null,null,null,null,null,null,null,null,null,null," ",null,1,1900]
[null,null,null,null,null,null,null,null,null,null,null," ",null,1,1900]
[null,null,null,null,null,null,null,null,null,null,null," ",null,1,1900]
[null,null,null,null,null,null,null,null,null,null,null," ",null,1,1900]
[null,null,null,null,null,null,null,null,null,null,null," ",null,1,1900]
[null,null,null,null,null,null,null,null,null,null,null," ",null,1,1900]
[null,null,null,null,null,null,null,null,null,null,null," ",null,1,1900]
[null,null,null,null,null,null,null,null,null,null,null," ",null,1,1900]
[null,null,null,null,null,null,null,null,null,null,null," ",null,1,1900]
[null,null,null,null,null,null,null,null,null,null,null," ",null,1,1900]
[null,null,null,null,null,null,null,null,null,null,null," ",null,1,1900]
[null,null,null,null,null,null,null,null,null,null,null," ",null,1,1900]
[null,null,null,null,null,null,null,null,null,null,null," ",null,1,1900]
[null,null,null,null,null,null,null,null,null,null,null," ",null,1,1900]
[null,null,null,null,null,null,null,null,null,null,null," ",null,1,1900]
[null,null,null,null,null,null,null,null,null,null,null," ",null,1,1900]
[null,null,null,null,null,null,null,null,null,null,null," ",null,1,1900]
[null,null,null,null,null,null,null,null,null,null,null," ",null,1,1900]
[null,null,null,null,null,null,null,null,null,null,null," ",null,1,1900]
[null,null,null,null,null,null,null,null,null,null,null," ",null,1,1900]
[null,null,null,null,null,null,null,null,null,null,null," ",null,1,1900]
[null,null,null,null,null,null,null,null,null,null,null," ",null,1,1900]
[null,null,null,null,null,null,null,null,null,null,null," ",null,1,1900]
[null,null,null,null,null,null,null,null,null,null,null," ",null,1,1900]
[null,null,null,null,null,null,null,null,null,null,null," ",null,1,1900]
[null,null,null,null,null,null,null,null,null,null,null," ",null,1,1900]
[null,null,null,null,null,null,null,null,null,null,null," ",null,1,1900]
[null,null,null,null,null,null,null,null,null,null,null," ",null,1,1900]
[null,null,null,null,null,null,null,null,null,null,null," ",null,1,1900]
[null,null,null,null,null,null,null,null,null,null,null," ",null,1,1900]
[null,null,null,null,null,null,null,null,null,null,null," ",null,1,1900]
[null,null,null,null,null,null,null,null,null,null,null," ",null,1,1900]
[null,null,null,null,null,null,null,null,null,null,null," ",null,1,1900]
[null,null,null,null,null,null,null,null,null,null,null," ",null,1,1900]
[null,null,null,null,null,null,null,null,null,null,null," ",null,1,1900]
[null,null,null,null,null,null,null,null,null,null,null," ",null,1,1900]
[null,null,null,null,null,null,null,null,null,null,null," ",null,1,1900]
[null,null,null,null,null,null,null,null,null,null,null," ",null,1,1900]
[null,null,null,null,null,null,null,null,null,null,null," ",null,1,1900]
[null,null,null,null,null,null,null,null,null,null,null," ",null,1,1900]
[null,null,null,null,null,null,null,null,null,null,null," ",null,1,1900]
[null,null,null,null,null,null,null,null,null,null,null," ",null,1,1900]
[null,null,null,null,null,null,null,null,null,null,null," ",null,1,1900]
[null,null,null,null,null,null,null,null,null,null,null," ",null,1,1900]
[null,null,null,null,null,null,null,null,null,null,null," ",null,1,1900]
[null,null,null,null,null,null,null,null,null,null,null," ",null,1,1900]
[null,null,null,null,null,null,null,null,null,null,null," ",null,1,1900]
[null,null,null,null,null,null,null,null,null,null,null," ",null,1,1900]
[null,null,null,null,null,null,null,null,null,null,null," ",null,1,1900]
[null,null,null,null,null,null,null,null,null,null,null," ",null,1,1900]
[null,null,null,null,null,null,null,null,null,null,null," ",null,1,1900]
[null,null,null,null,null,null,null,null,null,null,null," ",null,1,1900]
[null,null,null,null,null,null,null,null,null,null,null," ",null,1,1900]
[null,null,null,null,null,null,null,null,null,null,null," ",null,1,1900]
[null,null,null,null,null,null,null,null,null,null,null," ",null,1,1900]
[null,null,null,null,null,null,null,null,null,null,null," ",null,1,1900]
[null,null,null,null,null,null,null,null,null,null,null," ",null,1,1900]
[null,null,null,null,null,null,null,null,null,null,null," ",null,1,1900]
[null,null,null,null,null,null,null,null,null,null,null," ",null,1,1900]
[null,null,null,null,null,null,null,null,null,null,null," ",null,1,1900]
[null,null,null,null,null,null,null,null,null,null,null," ",null,1,1900]
[null,null,null,null,null,null,null,null,null,null,null," ",null,1,1900]
[null,null,null,null,null,null,null,null,null,null,null," ",null,1,1900]
[null,null,null,null,null,null,null,null,null,null,null," ",null,1,1900]
[null,null,null,null,null,null,null,null,null,null,null," ",null,1,1900]
[null,null,null,null,null,null,null,null,null,null,null," ",null,1,1900]
[null,null,null,null,null,null,null,null,null,null,null," ",null,1,1900]
[null,null,null,null,null,null,null,null,null,null,null," ",null,1,1900]
[null,null,null,null,null,null,null,null,null,null,null," ",null,1,1900]
[null,null,null,null,null,null,null,null,null,null,null," ",null,1,1900]
[null,null,null,null,null,null,null,null,null,null,null," ",null,1,1900]
[null,null,null,null,null,null,null,null,null,null,null," ",null,1,1900]
[null,null,null,null,null,null,null,null,null,null,null," ",null,1,1900]
[null,null,null,null,null,null,null,null,null,null,null," ",null,1,1900]
[null,null,null,null,null,null,null,null,null,null,null," ",null,1,1900]
[null,null,null,null,null,null,null,null,null,null,null," ",null,1,1900]
[null,null,null,null,null,null,null,null,null,null,null," ",null,1,1900]
[null,null,null,null,null,null,null,null,null,null,null," ",null,1,1900]
[null,null,null,null,null,null,null,null,null,null,null," ",null,1,1900]
[null,null,null,null,null,null,null,null,null,null,null," ",null,1,1900]
[null,null,null,null,null,null,null,null,null,null,null," ",null,1,1900]
[null,null,null,null,null,null,null,null,null,null,null," ",null,1,1900]
[null,null,null,null,null,null,null,null,null,null,null," ",null,1,1900]
[null,null,null,null,null,null,null,null,null,null,null," ",null,1,1900]
[null,null,null,null,null,null,null,null,null,null,null," ",null,1,1900]
[null,null,null,null,null,null,null,null,null,null,null," ",null,1,1900]
[null,null,null,null,null,null,null,null,null,null,null," ",null,1,1900]
[null,null,null,null,null,null,null,null,null,null,null," ",null,1,1900]
[null,null,null,null,null,null,null,null,null,null,null," ",null,1,1900]
[null,null,null,null,null,null,null,null,null,null,null," ",null,1,1900]
[null,null,null,null,null,null,null,null,null,null,null," ",null,1,1900]
[null,null,null,null,null,null,null,null,null,null,null," ",null,1,1900]
[null,null,null,null,null,null,null,null,null,null,null," ",null,1,1900]
[null,null,null,null,null,null,null,null,null,null,null," ",null,1,1900]
[null,null,null,null,null,null,null,null,null,null,null," ",null,1,1900]
[null,null,null,null,null,null,null,null,null,null,null," ",null,1,1900]
[null,null,null,null,null,null,null,null,null,null,null," ",null,1,1900]
[null,null,null,null,null,null,null,null,null,null,null," ",null,1,1900]
[null,null,null,null,null,null,null,null,null,null,null," ",null,1,1900]
[null,null,null,null,null,null,null,null,null,null,null," ",null,1,1900]
[null,null,null,null,null,null,null,null,null,null,null," ",null,1,1900]
[null,null,null,null,null,null,null,null,null,null,null," ",null,1,1900]
[null,null,null,null,null,null,null,null,null,null,null," ",null,1,1900]
[null,null,null,null,null,null,null,null,null,null,null," ",null,1,1900]
[null,null,null,null,null,null,null,null,null,null,null," ",null,1,1900]
[null,null,null,null,null,null,null,null,null,null,null," ",null,1,1900]
[null,null,null,null,null,null,null,null,null,null,null," ",null,1,1900]
[null,null,null,null,null,null,null,null,null,null,null," ",null,1,1900]
[null,null,null,null,null,null,null,null,null,null,null," ",null,1,1900]
[null,null,null,null,null,null,null,null,null,null,null," ",null,1,1900]
[null,null,null,null,null,null,null,null,null,null,null," ",null,1,1900]
[null,null,null,null,null,null,null,null,null,null,null," ",null,1,1900]
[null,null,null,null,null,null,null,null,null,null,null," ",null,1,1900]
[null,null,null,null,null,null,null,null,null,null,null," ",null,1,1900]
[null,null,null,null,null,null,null,null,null,null,null," ",null,1,1900]
[null,null,null,null,null,null,null,null,null,null,null," ",null,1,1900]
[null,null,null,null,null,null,null,null,null,null,null," ",null,1,1900]
[null,null,null,null,null,null,null,null,null,null,null," ",null,1,1900]
[null,null,null,null,null,null,null,null,null,null,null," ",null,1,1900]
[null,null,null,null,null,null,null,null,null,null,null," ",null,1,1900]
[null,null,null,null,null,null,null,null,null,null,null," ",null,1,1900]
[null,null,null,null,null,null,null,null,null,null,null," ",null,1,1900]
[null,null,null,null,null,null,null,null,null,null,null," ",null,1,1900]
[null,null,null,null,null,null,null,null,null,null,null," ",null,1,1900]
[null,null,null,null,null,null,null,null,null,null,null," ",null,1,1900]
[null,null,null,null,null,null,null,null,null,null,null," ",null,1,1900]
[null,null,null,null,null,null,null,null,null,null,null," ",null,1,1900]
[null,null,null,null,null,null,null,null,null,null,null," ",null,1,1900]
[null,null,null,null,null,null,null,null,null,null,null," ",null,1,1900]
[null,null,null,null,null,null,null,null,null,null,null," ",null,1,1900]
[null,null,null,null,null,null,null,null,null,null,null," ",null,1,1900]
[null,null,null,null,null,null,null,null,null,null,null," ",null,1,1900]
[null,null,null,null,null,null,null,null,null,null,null," ",null,1,1900]
[null,null,null,null,null,null,null,null,null,null,null," ",null,1,1900]
[null,null,null,null,null,null,null,null,null,null,null," ",null,1,1900]
[null,null,null,null,null,null,null,null,null,null,null," ",null,1,1900]
[null,null,null,null,null,null,null,null,null,null,null," ",null,1,1900]
[null,null,null,null,null,null,null,null,null,null,null," ",null,1,1900]
[null,null,null,null,null,null,null,null,null,null,null," ",null,1,1900]
[null,null,null,null,null,null,null,null,null,null,null," ",null,1,1900]
[null,null,null,null,null,null,null,null,null,null,null," ",null,1,1900]
[null,null,null,null,null,null,null,null,null,null,null," ",null,1,1900]
[null,null,null,null,null,null,null,null,null,null,null," ",null,1,1900]
[null,null,null,null,null,null,null,null,null,null,null," ",null,1,1900]
[null,null,null,null,null,null,null,null,null,null,null," ",null,1,1900]
[null,null,null,null,null,null,null,null,null,null,null," ",null,1,1900]
[null,null,null,null,null,null,null,null,null,null,null," ",null,1,1900]
[null,null,null,null,null,null,null,null,null,null,null," ",null,1,1900]
[null,null,null,null,null,null,null,null,null,null,null," ",null,1,1900]
[null,null,null,null,null,null,null,null,null,null,null," ",null,1,1900]
[null,null,null,null,null,null,null,null,null,null,null," ",null,1,1900]
[null,null,null,null,null,null,null,null,null,null,null," ",null,1,1900]
[null,null,null,null,null,null,null,null,null,null,null," ",null,1,1900]
[null,null,null,null,null,null,null,null,null,null,null," ",null,1,1900]
[null,null,null,null,null,null,null,null,null,null,null," ",null,1,1900]
[null,null,null,null,null,null,null,null,null,null,null," ",null,1,1900]
[null,null,null,null,null,null,null,null,null,null,null," ",null,1,1900]
[null,null,null,null,null,null,null,null,null,null,null," ",null,1,1900]
[null,null,null,null,null,null,null,null,null,null,null," ",null,1,1900]
[null,null,null,null,null,null,null,null,null,null,null," ",null,1,1900]
[null,null,null,null,null,null,null,null,null,null,null," ",null,1,1900]
[null,null,null,null,null,null,null,null,null,null,null," ",null,1,1900]
[null,null,null,null,null,null,null,null,null,null,null," ",null,1,1900]
[null,null,null,null,null,null,null,null,null,null,null," ",null,1,1900]
[null,null,null,null,null,null,null,null,null,null,null," ",null,1,1900]
[null,null,null,null,null,null,null,null,null,null,null," ",null,1,1900]
[null,null,null,null,null,null,null,null,null,null,null," ",null,1,1900]
[null,null,null,null,null,null,null,null,null,null,null," ",null,1,1900]
[null,null,null,null,null,null,null,null,null,null,null," ",null,1,1900]
[null,null,null,null,null,null,null,null,null,null,null," ",null,1,1900]
[null,null,null,null,null,null,null,null,null,null,null," ",null,1,1900]
[null,null,null,null,null,null,null,null,null,null,null," ",null,1,1900]
[null,null,null,null,null,null,null,null,null,null,null," ",null,1,1900]
[null,null,null,null,null,null,null,null,null,null,null," ",null,1,1900]
[null,null,null,null,null,null,null,null,null,null,null," ",null,1,1900]
[null,null,null,null,null,null,null,null,null,null,null," ",null,1,1900]
[null,null,null,null,null,null,null,null,null,null,null," ",null,1,1900]
[null,null,null,null,null,null,null,null,null,null,null," ",null,1,1900]
[null,null,null,null,null,null,null,null,null,null,null," ",null,1,1900]
[null,null,null,null,null,null,null,null,null,null,null," ",null,1,1900]
[null,null,null,null,null,null,null,null,null,null,null," ",null,1,1900]
[null,null,null,null,null,null,null,null,null,null,null," ",null,1,1900]
[null,null,null,null,null,null,null,null,null,null,null," ",null,1,1900]
[null,null,null,null,null,null,null,null,null,null,null," ",null,1,1900]
[null,null,null,null,null,null,null,null,null,null,null," ",null,1,1900]
[null,null,null,null,null,null,null,null,null,null,null," ",null,1,1900]
[null,null,null,null,null,null,null,null,null,null,null," ",null,1,1900]
[null,null,null,null,null,null,null,null,null,null,null," ",null,1,1900]
[null,null,null,null,null,null,null,null,null,null,null," ",null,1,1900]
[null,null,null,null,null,null,null,null,null,null,null," ",null,1,1900]
[null,null,null,null,null,null,null,null,null,null,null," ",null,1,1900]
[null,null,null,null,null,null,null,null,null,null,null," ",null,1,1900]
[null,null,null,null,null,null,null,null,null,null,null," ",null,1,1900]
[null,null,null,null,null,null,null,null,null,null,null," ",null,1,1900]
[null,null,null,null,null,null,null,null,null,null,null," ",null,1,1900]
[null,null,null,null,null,null,null,null,null,null,null," ",null,1,1900]
[null,null,null,null,null,null,null,null,null,null,null," ",null,1,1900]
[null,null,null,null,null,null,null,null,null,null,null," ",null,1,1900]
[null,null,null,null,null,null,null,null,null,null,null," ",null,1,1900]
[null,null,null,null,null,null,null,null,null,null,null," ",null,1,1900]
[null,null,null,null,null,null,null,null,null,null,null," ",null,1,1900]
[null,null,null,null,null,null,null,null,null,null,null," ",null,1,1900]
[null,null,null,null,null,null,null,null,null,null,null," ",null,1,1900]
[null,null,null,null,null,null,null,null,null,null,null," ",null,1,1900]
[null,null,null,null,null,null,null,null,null,null,null," ",null,1,1900]
[null,null,null,null,null,null,null,null,null,null,null," ",null,1,1900]
[null,null,null,null,null,null,null,null,null,null,null," ",null,1,1900]
[null,null,null,null,null,null,null,null,null,null,null," ",null,1,1900]
[null,null,null,null,null,null,null,null,null,null,null," ",null,1,1900]
[null,null,null,null,null,null,null,null,null,null,null," ",null,1,1900]
[null,null,null,null,null,null,null,null,null,null,null," ",null,1,1900]
[null,null,null,null,null,null,null,null,null,null,null," ",null,1,1900]
[null,null,null,null,null,null,null,null,null,null,null," ",null,1,1900]
[null,null,null,null,null,null,null,null,null,null,null," ",null,1,1900]
[null,null,null,null,null,null,null,null,null,null,null," ",null,1,1900]
[null,null,null,null,null,null,null,null,null,null,null," ",null,1,1900]
[null,null,null,null,null,null,null,null,null,null,null," ",null,1,1900]
[null,null,null,null,null,null,null,null,null,null,null," ",null,1,1900]
[null,null,null,null,null,null,null,null,null,null,null," ",null,1,1900]
[null,null,null,null,null,null,null,null,null,null,null," ",null,1,1900]
[null,null,null,null,null,null,null,null,null,null,null," ",null,1,1900]
[null,null,null,null,null,null,null,null,null,null,null," ",null,1,1900]
[null,null,null,null,null,null,null,null,null,null,null," ",null,1,1900]
[null,null,null,null,null,null,null,null,null,null,null," ",null,1,1900]
[null,null,null,null,null,null,null,null,null,null,null," ",null,1,1900]
[null,null,null,null,null,null,null,null,null,null,null," ",null,1,1900]
[null,null,null,null,null,null,null,null,null,null,null," ",null,1,1900]
[null,null,null,null,null,null,null,null,null,null,null," ",null,1,1900]
[null,null,null,null,null,null,null,null,null,null,null," ",null,1,1900]
[null,null,null,null,null,null,null,null,null,null,null," ",null,1,1900]
[null,null,null,null,null,null,null,null,null,null,null," ",null,1,1900]
[null,null,null,null,null,null,null,null,null,null,null," ",null,1,1900]
[null,null,null,null,null,null,null,null,null,null,null," ",null,1,1900]
[null,null,null,null,null,null,null,null,null,null,null," ",null,1,1900]
[null,null,null,null,null,null,null,null,null,null,null," ",null,1,1900]
[null,null,null,null,null,null,null,null,null,null,null," ",null,1,1900]
[null,null,null,null,null,null,null,null,null,null,null," ",null,1,1900]
[null,null,null,null,null,null,null,null,null,null,null," ",null,1,1900]
[null,null,null,null,null,null,null,null,null,null,null," ",null,1,1900]
[null,null,null,null,null,null,null,null,null,null,null," ",null,1,1900]
[null,null,null,null,null,null,null,null,null,null,null," ",null,1,1900]
[null,null,null,null,null,null,null,null,null,null,null," ",null,1,1900]
[null,null,null,null,null,null,null,null,null,null,null," ",null,1,1900]
[null,null,null,null,null,null,null,null,null,null,null," ",null,1,1900]
[null,null,null,null,null,null,null,null,null,null,null," ",null,1,1900]
[null,null,null,null,null,null,null,null,null,null,null," ",null,1,1900]
[null,null,null,null,null,null,null,null,null,null,null," ",null,1,1900]
[null,null,null,null,null,null,null,null,null,null,null," ",null,1,1900]
[null,null,null,null,null,null,null,null,null,null,null," ",null,1,1900]
[null,null,null,null,null,null,null,null,null,null,null," ",null,1,1900]
[null,null,null,null,null,null,null,null,null,null,null," ",null,1,1900]
[null,null,null,null,null,null,null,null,null,null,null," ",null,1,1900]
[null,null,null,null,null,null,null,null,null,null,null," ",null,1,1900]
[null,null,null,null,null,null,null,null,null,null,null," ",null,1,1900]
[null,null,null,null,null,null,null,null,null,null,null," ",null,1,1900]
[null,null,null,null,null,null,null,null,null,null,null," ",null,1,1900]
[null,null,null,null,null,null,null,null,null,null,null," ",null,1,1900]
[null,null,null,null,null,null,null,null,null,null,null," ",null,1,1900]
[null,null,null,null,null,null,null,null,null,null,null," ",null,1,1900]
[null,null,null,null,null,null,null,null,null,null,null," ",null,1,1900]
[null,null,null,null,null,null,null,null,null,null,null," ",null,1,1900]
[null,null,null,null,null,null,null,null,null,null,null," ",null,1,1900]
[null,null,null,null,null,null,null,null,null,null,null," ",null,1,1900]
[null,null,null,null,null,null,null,null,null,null,null," ",null,1,1900]
[null,null,null,null,null,null,null,null,null,null,null," ",null,1,1900]
[null,null,null,null,null,null,null,null,null,null,null," ",null,1,1900]
[null,null,null,null,null,null,null,null,null,null,null," ",null,1,1900]
[null,null,null,null,null,null,null,null,null,null,null," ",null,1,1900]
[null,null,null,null,null,null,null,null,null,null,null," ",null,1,1900]
[null,null,null,null,null,null,null,null,null,null,null,{"$f":"+IF(K37944=K37943,\" \",K37944)","v":" "},null,{"$f":"+MONTH(A37944)","v":1},{"$f":"+YEAR(A37944)","v":1900}]
[null,null,null,null,null,null,null,null,null,null,null," ",null,1,1900]
[null,null,null,null,null,null,null,null,null,null,null," ",null,1,1900]
[null,null,null,null,null,null,null,null,null,null,null," ",null,1,1900]
[null,null,null,null,null,null,null,null,null,null,null," ",null,1,1900]
[null,null,null,null,null,null,null,null,null,null,null," ",null,1,1900]
[null,null,null,null,null,null,null,null,null,null,null," ",null,1,1900]
[null,null,null,null,null,null,null,null,null,null,null," ",null,1,1900]
[null,null,null,null,null,null,null,null,null,null,null," ",null,1,1900]
[null,null,null,null,null,null,null,null,null,null,null," ",null,1,1900]
[null,null,null,null,null,null,null,null,null,null,null," ",null,1,1900]
[null,null,null,null,null,null,null,null,null,null,null," ",null,1,1900]
[null,null,null,null,null,null,null,null,null,null,null," ",null,1,1900]
[null,null,null,null,null,null,null,null,null,null,null," ",null,1,1900]
[null,null,null,null,null,null,null,null,null,null,null," ",null,1,1900]
[null,null,null,null,null,null,null,null,null,null,null," ",null,1,1900]
[null,null,null,null,null,null,null,null,null,null,null," ",null,1,1900]
[null,null,null,null,null,null,null,null,null,null,null," ",null,1,1900]
[null,null,null,null,null,null,null,null,null,null,null," ",null,1,1900]
[null,null,null,null,null,null,null,null,null,null,null," ",null,1,1900]
[null,null,null,null,null,null,null,null,null,null,null," ",null,1,1900]
[null,null,null,null,null,null,null,null,null,null,null," ",null,1,1900]
[null,null,null,null,null,null,null,null,null,null,null," ",null,1,1900]
[null,null,null,null,null,null,null,null,null,null,null," ",null,1,1900]
[null,null,null,null,null,null,null,null,null,null,null," ",null,1,1900]
[null,null,null,null,null,null,null,null,null,null,null," ",null,1,1900]
[null,null,null,null,null,null,null,null,null,null,null," ",null,1,1900]
[null,null,null,null,null,null,null,null,null,null,null," ",null,1,1900]
[null,null,null,null,null,null,null,null,null,null,null," ",null,1,1900]
[null,null,null,null,null,null,null,null,null,null,null," ",null,1,1900]
[null,null,null,null,null,null,null,null,null,null,null," ",null,1,1900]
[null,null,null,null,null,null,null,null,null,null,null," ",null,1,1900]
[null,null,null,null,null,null,null,null,null,null,null," ",null,1,1900]
[null,null,null,null,null,null,null,null,null,null,null," ",null,1,1900]
[null,null,null,null,null,null,null,null,null,null,null," ",null,1,1900]
[null,null,null,null,null,null,null,null,null,null,null," ",null,1,1900]
[null,null,null,null,null,null,null,null,null,null,null," ",null,1,1900]
[null,null,null,null,null,null,null,null,null,null,null," ",null,1,1900]
[null,null,null,null,null,null,null,null,null,null,null," ",null,1,1900]
[null,null,null,null,null,null,null,null,null,null,null," ",null,1,1900]
[null,null,null,null,null,null,null,null,null,null,null," ",null,1,1900]
[null,null,null,null,null,null,null,null,null,null,null," ",null,1,1900]
[null,null,null,null,null,null,null,null,null,null,null," ",null,1,1900]
[null,null,null,null,null,null,null,null,null,null,null," ",null,1,1900]
[null,null,null,null,null,null,null,null,null,null,null," ",null,1,1900]
[null,null,null,null,null,null,null,null,null,null,null," ",null,1,1900]
[null,null,null,null,null,null,null,null,null,null,null," ",null,1,1900]
[null,null,null,null,null,null,null,null,null,null,null," ",null,1,1900]
[null,null,null,null,null,null,null,null,null,null,null," ",null,1,1900]
[null,null,null,null,null,null,null,null,null,null,null," ",null,1,1900]
[null,null,null,null,null,null,null,null,null,null,null," ",null,1,1900]
[null,null,null,null,null,null,null,null,null,null,null," ",null,1,1900]
[null,null,null,null,null,null,null,null,null,null,null," ",null,1,1900]
[null,null,null,null,null,null,null,null,null,null,null," ",null,1,1900]
[null,null,null,null,null,null,null,null,null,null,null," ",null,1,1900]
[null,null,null,null,null,null,null,null,null,null,null," ",null,1,1900]
[null,null,null,null,null,null,null,null,null,null,null," ",null,1,1900]
[null,null,null,null,null,null,null,null,null,null,null," ",null,1,1900]
[null,null,null,null,null,null,null,null,null,null,null," ",null,1,1900]
[null,null,null,null,null,null,null,null,null,null,null,{"$f":"+IF(K39800=K39799,\" \",K39800)","v":" "},null,{"$f":"+MONTH(A39800)","v":1},{"$f":"+YEAR(A39800)","v":1900}]
[null,null,null,null,null,null,null,null,null,null,null," ",null,1,1900]
[null,null,null,null,null,null,null,null,null,null,null," ",null,1,1900]
[null,null,null,null,null,null,null,null,null,null,null," ",null,1,1900]
[null,null,null,null,null,null,null,null,null,null,null," ",null,1,1900]
[null,null,null,null,null,null,null,null,null,null,null," ",null,1,1900]
[null,null,null,null,null,null,null,null,null,null,null," ",null,1,1900]
[null,null,null,null,null,null,null,null,null,null,null," ",null,1,1900]
[null,null,null,null,null,null,null,null,null,null,null," ",null,1,1900]
[null,null,null,null,null,null,null,null,null,null,null," ",null,1,1900]
[null,null,null,null,null,null,null,null,null,null,null," ",null,1,1900]
[null,null,null,null,null,null,null,null,null,null,null," ",null,1,1900]
[null,null,null,null,null,null,null,null,null,null,null," ",null,1,1900]
[null,null,null,null,null,null,null,null,null,null,null," ",null,1,1900]
[null,null,null,null,null,null,null,null,null,null,null," ",null,1,1900]
[null,null,null,null,null,null,null,null,null,null,null," ",null,1,1900]
[null,null,null,null,null,null,null,null,null,null,null," ",null,1,1900]
[null,null,null,null,null,null,null,null,null,null,null," ",null,1,1900]
[null,null,null,null,null,null,null,null,null,null,null," ",null,1,1900]
[null,null,null,null,null,null,null,null,null,null,null," ",null,1,1900]
[null,null,null,null,null,null,null,null,null,null,null," ",null,1,1900]
[null,null,null,null,null,null,null,null,null,null,null," ",null,1,1900]
[null,null,null,null,null,null,null,null,null,null,null," ",null,1,1900]
[null,null,null,null,null,null,null,null,null,null,null," ",null,1,1900]
[null,null,null,null,null,null,null,null,null,null,null," ",null,1,1900]
[null,null,null,null,null,null,null,null,null,null,null," ",null,1,1900]
[null,null,null,null,null,null,null,null,null,null,null," ",null,1,1900]
[null,null,null,null,null,null,null,null,null,null,null," ",null,1,1900]
[null,null,null,null,null,null,null,null,null,null,null," ",null,1,1900]
[null,null,null,null,null,null,null,null,null,null,null," ",null,1,1900]
[null,null,null,null,null,null,null,null,null,null,null," ",null,1,1900]
[null,null,null,null,null,null,null,null,null,null,null," ",null,1,1900]
[null,null,null,null,null,null,null,null,null,null,null," ",null,1,1900]
[null,null,null,null,null,null,null,null,null,null,null," ",null,1,1900]
[null,null,null,null,null,null,null,null,null,null,null,{"$f":"+IF(K40888=K40887,\" \",K40888)","v":" "},null,{"$f":"+MONTH(A40888)","v":1},{"$f":"+YEAR(A40888)","v":1900}]
[null,null,null,null,null,null,null,null,null,null,null," ",null,1,1900]
[null,null,null,null,null,null,null,null,null,null,null," ",null,1,1900]
[null,null,null,null,null,null,null,null,null,null,null," ",null,1,1900]
[null,null,null,null,null,null,null,null,null,null,null," ",null,1,1900]
[null,null,null,null,null,null,null,null,null,null,null," ",null,1,1900]
[null,null,null,null,null,null,null,null,null,null,null," ",null,1,1900]
[null,null,null,null,null,null,null,null,null,null,null," ",null,1,1900]
[null,null,null,null,null,null,null,null,null,null,null," ",null,1,1900]
[null,null,null,null,null,null,null,null,null,null,null," ",null,1,1900]
[null,null,null,null,null,null,null,null,null,null,null," ",null,1,1900]
[null,null,null,null,null,null,null,null,null,null,null," ",null,1,1900]
[null,null,null,null,null,null,null,null,null,null,null," ",null,1,1900]
[null,null,null,null,null,null,null,null,null,null,null," ",null,1,1900]
[null,null,null,null,null,null,null,null,null,null,null," ",null,1,1900]
[null,null,null,null,null,null,null,null,null,null,null," ",null,1,1900]
[null,null,null,null,null,null,null,null,null,null,null," ",null,1,1900]
[null,null,null,null,null,null,null,null,null,null,null," ",null,1,1900]
[null,null,null,null,null,null,null,null,null,null,null," ",null,1,1900]
[null,null,null,null,null,null,null,null,null,null,null," ",null,1,1900]
[null,null,null,null,null,null,null,null,null,null,null," ",null,1,1900]
[null,null,null,null,null,null,null,null,null,null,null," ",null,1,1900]
[null,null,null,null,null,null,null,null,null,null,null," ",null,1,1900]
[null,null,null,null,null,null,null,null,null,null,null," ",null,1,1900]
[null,null,null,null,null,null,null,null,null,null,null," ",null,1,1900]
[null,null,null,null,null,null,null,null,null,null,null," ",null,1,1900]
[null,null,null,null,null,null,null,null,null,null,null," ",null,1,1900]
[null,null,null,null,null,null,null,null,null,null,null," ",null,1,1900]
[null,null,null,null,null,null,null,null,null,null,null," ",null,1,1900]
[null,null,null,null,null,null,null,null,null,null,null," ",null,1,1900]
[null,null,null,null,null,null,null,null,null,null,null," ",null,1,1900]
[null,null,null,null,null,null,null,null,null,null,null,{"$f":"+IF(K41848=K41847,\" \",K41848)","v":" "},null,{"$f":"+MONTH(A41848)","v":1},{"$f":"+YEAR(A41848)","v":1900}]
[null,null,null,null,null,null,null,null,null,null,null," ",null,1,1900]
[null,null,null,null,null,null,null,null,null,null,null," ",null,1,1900]
[null,null,null,null,null,null,null,null,null,null,null," ",null,1,1900]
[null,null,null,null,null,null,null,null,null,null,null," ",null,1,1900]
[null,null,null,null,null,null,null,null,null,null,null," ",null,1,1900]
[null,null,null,null,null,null,null,null,null,null,null," ",null,1,1900]
[null,null,null,null,null,null,null,null,null,null,null," ",null,1,1900]
[null,null,null,null,null,null,null,null,null,null,null," ",null,1,1900]
[null,null,null,null,null,null,null,null,null,null,null," ",null,1,1900]
[null,null,null,null,null,null,null,null,null,null,null," ",null,1,1900]
[null,null,null,null,null,null,null,null,null,null,null," ",null,1,1900]
[null,null,null,null,null,null,null,null,null,null,null," ",null,1,1900]
[null,null,null,null,null,null,null,null,null,null,null," ",null,1,1900]
[null,null,null,null,null,null,null,null,null,null,null," ",null,1,1900]
[null,null,null,null,null,null,null,null,null,null,null," ",null,1,1900]
[null,null,null,null,null,null,null,null,null,null,null," ",null,1,1900]
[null,null,null,null,null,null,null,null,null,null,null," ",null,1,1900]
[null,null,null,null,null,null,null,null,null,null,null," ",null,1,1900]
[null,null,null,null,null,null,null,null,null,null,null," ",null,1,1900]
[null,null,null,null,null,null,null,null,null,null,null," ",null,1,1900]
[null,null,null,null,null,null,null,null,null,null,null," ",null,1,1900]
[null,null,null,null,null,null,null,null,null,null,null," ",null,1,1900]
[null,null,null,null,null,null,null,null,null,null,null," ",null,1,1900]
[null,null,null,null,null,null,null,null,null,null,null," ",null,1,1900]
[null,null,null,null,null,null,null,null,null,null,null," ",null,1,1900]
[null,null,null,null,null,null,null,null,null,null,null," ",null,1,1900]
[null,null,null,null,null,null,null,null,null,null,null," ",null,1,1900]
[null,null,null,null,null,null,null,null,null,null,null," ",null,1,1900]
[null,null,null,null,null,null,null,null,null,null,null," ",null,1,1900]
[null,null,null,null,null,null,null,null,null,null,null," ",null,1,1900]
[null,null,null,null,null,null,null,null,null,null,null," ",null,1,1900]
[null,null,null,null,null,null,null,null,null,null,null," ",null,1,1900]
[null,null,null,null,null,null,null,null,null,null,null," ",null,1,1900]
[null,null,null,null,null,null,null,null,null,null,null," ",null,1,1900]
[null,null,null,null,null,null,null,null,null,null,null," ",null,1,1900]
[null,null,null,null,null,null,null,null,null,null,null," ",null,1,1900]
[null,null,null,null,null,null,null,null,null,null,null," ",null,1,1900]
[null,null,null,null,null,null,null,null,null,null,null," ",null,1,1900]
[null,null,null,null,null,null,null,null,null,null,null," ",null,1,1900]
[null,null,null,null,null,null,null,null,null,null,null," ",null,1,1900]
[null,null,null,null,null,null,null,null,null,null,null," ",null,1,1900]
[null,null,null,null,null,null,null,null,null,null,null," ",null,1,1900]
[null,null,null,null,null,null,null,null,null,null,null," ",null,1,1900]
[null,null,null,null,null,null,null,null,null,null,null," ",null,1,1900]
[null,null,null,null,null,null,null,null,null,null,null," ",null,1,1900]
[null,null,null,null,null,null,null,null,null,null,null," ",null,1,1900]
[null,null,null,null,null,null,null,null,null,null,null," ",null,1,1900]
[null,null,null,null,null,null,null,null,null,null,null," ",null,1,1900]
[null,null,null,null,null,null,null,null,null,null,null," ",null,1,1900]
[null,null,null,null,null,null,null,null,null,null,null," ",null,1,1900]
[null,null,null,null,null,null,null,null,null,null,null," ",null,1,1900]
[null,null,null,null,null,null,null,null,null,null,null," ",null,1,1900]
[null,null,null,null,null,null,null,null,null,null,null," ",null,1,1900]
[null,null,null,null,null,null,null,null,null,null,null," ",null,1,1900]
[null,null,null,null,null,null,null,null,null,null,null," ",null,1,1900]
[null,null,null,null,null,null,null,null,null,null,null," ",null,1,1900]
[null,null,null,null,null,null,null,null,null,null,null," ",null,1,1900]
[null,null,null,null,null,null,null,null,null,null,null," ",null,1,1900]
[null,null,null,null,null,null,null,null,null,null,null," ",null,1,1900]
[null,null,null,null,null,null,null,null,null,null,null," ",null,1,1900]
[null,null,null,null,null,null,null,null,null,null,null," ",null,1,1900]
[null,null,null,null,null,null,null,null,null,null,null," ",null,1,1900]
[null,null,null,null,null,null,null,null,null,null,null,{"$f":"+IF(K43832=K43831,\" \",K43832)","v":" "},null,{"$f":"+MONTH(A43832)","v":1},{"$f":"+YEAR(A43832)","v":1900}]
[null,null,null,null,null,null,null,null,null,null,null," ",null,1,1900]
[null,null,null,null,null,null,null,null,null,null,null," ",null,1,1900]
[null,null,null,null,null,null,null,null,null,null,null," ",null,1,1900]
[null,null,null,null,null,null,null,null,null,null,null," ",null,1,1900]
[null,null,null,null,null,null,null,null,null,null,null," ",null,1,1900]
[null,null,null,null,null,null,null,null,null,null,null," ",null,1,1900]
[null,null,null,null,null,null,null,null,null,null,null," ",null,1,1900]
[null,null,null,null,null,null,null,null,null,null,null," ",null,1,1900]
[null,null,null,null,null,null,null,null,null,null,null," ",null,1,1900]
[null,null,null,null,null,null,null,null,null,null,null," ",null,1,1900]
[null,null,null,null,null,null,null,null,null,null,null," ",null,1,1900]
[null,null,null,null,null,null,null,null,null,null,null," ",null,1,1900]
[null,null,null,null,null,null,null,null,null,null,null," ",null,1,1900]
[null,null,null,null,null,null,null,null,null,null,null," ",null,1,1900]
[null,null,null,null,null,null,null,null,null,null,null," ",null,1,1900]
[null,null,null,null,null,null,null,null,null,null,null," ",null,1,1900]
[null,null,null,null,null,null,null,null,null,null,null," ",null,1,1900]
[null,null,null,null,null,null,null,null,null,null,null," ",null,1,1900]
[null,null,null,null,null,null,null,null,null,null,null," ",null,1,1900]
[null,null,null,null,null,null,null,null,null,null,null," ",null,1,1900]
[null,null,null,null,null,null,null,null,null,null,null," ",null,1,1900]
[null,null,null,null,null,null,null,null,null,null,null," ",null,1,1900]
[null,null,null,null,null,null,null,null,null,null,null," ",null,1,1900]
[null,null,null,null,null,null,null,null,null,null,null," ",null,1,1900]
[null,null,null,null,null,null,null,null,null,null,null," ",null,1,1900]
[null,null,null,null,null,null,null,null,null,null,null," ",null,1,1900]
[null,null,null,null,null,null,null,null,null,null,null," ",null,1,1900]
[null,null,null,null,null,null,null,null,null,null,null," ",null,1,1900]
[null,null,null,null,null,null,null,null,null,null,null," ",null,1,1900]
[null,null,null,null,null,null,null,null,null,null,null,{"$f":"+IF(K44792=K44791,\" \",K44792)","v":" "},null,{"$f":"+MONTH(A44792)","v":1},{"$f":"+YEAR(A44792)","v":1900}]
[null,null,null,null,null,null,null,null,null,null,null," ",null,1,1900]
[null,null,null,null,null,null,null,null,null,null,null," ",null,1,1900]
[null,null,null,null,null,null,null,null,null,null,null," ",null,1,1900]
[null,null,null,null,null,null,null,null,null,null,null," ",null,1,1900]
[null,null,null,null,null,null,null,null,null,null,null," ",null,1,1900]
[null,null,null,null,null,null,null,null,null,null,null," ",null,1,1900]
[null,null,null,null,null,null,null,null,null,null,null," ",null,1,1900]
[null,null,null,null,null,null,null,null,null,null,null," ",null,1,1900]
[null,null,null,null,null,null,null,null,null,null,null," ",null,1,1900]
[null,null,null,null,null,null,null,null,null,null,null," ",null,1,1900]
[null,null,null,null,null,null,null,null,null,null,null," ",null,1,1900]
[null,null,null,null,null,null,null,null,null,null,null," ",null,1,1900]
[null,null,null,null,null,null,null,null,null,null,null," ",null,1,1900]
[null,null,null,null,null,null,null,null,null,null,null," ",null,1,1900]
[null,null,null,null,null,null,null,null,null,null,null," ",null,1,1900]
[null,null,null,null,null,null,null,null,null,null,null," ",null,1,1900]
[null,null,null,null,null,null,null,null,null,null,null," ",null,1,1900]
[null,null,null,null,null,null,null,null,null,null,null," ",null,1,1900]
[null,null,null,null,null,null,null,null,null,null,null," ",null,1,1900]
[null,null,null,null,null,null,null,null,null,null,null," ",null,1,1900]
[null,null,null,null,null,null,null,null,null,null,null," ",null,1,1900]
[null,null,null,null,null,null,null,null,null,null,null," ",null,1,1900]
[null,null,null,null,null,null,null,null,null,null,null," ",null,1,1900]
[null,null,null,null,null,null,null,null,null,null,null," ",null,1,1900]
[null,null,null,null,null,null,null,null,null,null,null," ",null,1,1900]
[null,null,null,null,null,null,null,null,null,null,null," ",null,1,1900]
[null,null,null,null,null,null,null,null,null,null,null," ",null,1,1900]
[null,null,null,null,null,null,null,null,null,null,null," ",null,1,1900]
[null,null,null,null,null,null,null,null,null,null,null," ",null,1,1900]
[null,null,null,null,null,null,null,null,null,null,null," ",null,1,1900]
[null,null,null,null,null,null,null,null,null,null,null,{"$f":"+IF(K45752=K45751,\" \",K45752)","v":" "},null,{"$f":"+MONTH(A45752)","v":1},{"$f":"+YEAR(A45752)","v":1900}]
[null,null,null,null,null,null,null,null,null,null,null," ",null,1,1900]
[null,null,null,null,null,null,null,null,null,null,null," ",null,1,1900]
[null,null,null,null,null,null,null,null,null,null,null," ",null,1,1900]
[null,null,null,null,null,null,null,null,null,null,null," ",null,1,1900]
[null,null,null,null,null,null,null,null,null,null,null," ",null,1,1900]
[null,null,null,null,null,null,null,null,null,null,null," ",null,1,1900]
[null,null,null,null,null,null,null,null,null,null,null," ",null,1,1900]
[null,null,null,null,null,null,null,null,null,null,null," ",null,1,1900]
[null,null,null,null,null,null,null,null,null,null,null," ",null,1,1900]
[null,null,null,null,null,null,null,null,null,null,null," ",null,1,1900]
[null,null,null,null,null,null,null,null,null,null,null," ",null,1,1900]
[null,null,null,null,null,null,null,null,null,null,null," ",null,1,1900]
[null,null,null,null,null,null,null,null,null,null,null," ",null,1,1900]
[null,null,null,null,null,null,null,null,null,null,null," ",null,1,1900]
[null,null,null,null,null,null,null,null,null,null,null," ",null,1,1900]
[null,null,null,null,null,null,null,null,null,null,null," ",null,1,1900]
[null,null,null,null,null,null,null,null,null,null,null," ",null,1,1900]
[null,null,null,null,null,null,null,null,null,null,null," ",null,1,1900]
[null,null,null,null,null,null,null,null,null,null,null," ",null,1,1900]
[null,null,null,null,null,null,null,null,null,null,null," ",null,1,1900]
[null,null,null,null,null,null,null,null,null,null,null," ",null,1,1900]
[null,null,null,null,null,null,null,null,null,null,null," ",null,1,1900]
[null,null,null,null,null,null,null,null,null,null,null," ",null,1,1900]
[null,null,null,null,null,null,null,null,null,null,null," ",null,1,1900]
[null,null,null,null,null,null,null,null,null,null,null," ",null,1,1900]
[null,null,null,null,null,null,null,null,null,null,null," ",null,1,1900]
[null,null,null,null,null,null,null,null,null,null,null," ",null,1,1900]
[null,null,null,null,null,null,null,null,null,null,null," ",null,1,1900]
[null,null,null,null,null,null,null,null,null,null,null," ",null,1,1900]
[null,null,null,null,null,null,null,null,null,null,null," ",null,1,1900]
[null,null,null,null,null,null,null,null,null,null,null," ",null,1,1900]
[null,null,null,null,null,null,null,null,null,null,null," ",null,1,1900]
[null,null,null,null,null,null,null,null,null,null,null," ",null,1,1900]
[null,null,null,null,null,null,null,null,null,null,null," ",null,1,1900]
[null,null,null,null,null,null,null,null,null,null,null," ",null,1,1900]
[null,null,null,null,null,null,null,null,null,null,null," ",null,1,1900]
[null,null,null,null,null,null,null,null,null,null,null," ",null,1,1900]
[null,null,null,null,null,null,null,null,null,null,null," ",null,1,1900]
[null,null,null,null,null,null,null,null,null,null,null," ",null,1,1900]
[null,null,null,null,null,null,null,null,null,null,null," ",null,1,1900]
[null,null,null,null,null,null,null,null,null,null,null," ",null,1,1900]
[null,null,null,null,null,null,null,null,null,null,null," ",null,1,1900]
[null,null,null,null,null,null,null,null,null,null,null," ",null,1,1900]
[null,null,null,null,null,null,null,null,null,null,null," ",null,1,1900]
[null,null,null,null,null,null,null,null,null,null,null," ",null,1,1900]
[null,null,null,null,null,null,null,null,null,null,null," ",null,1,1900]
[null,null,null,null,null,null,null,null,null,null,null," ",null,1,1900]
[null,null,null,null,null,null,null,null,null,null,null," ",null,1,1900]
[null,null,null,null,null,null,null,null,null,null,null," ",null,1,1900]
[null,null,null,null,null,null,null,null,null,null,null," ",null,1,1900]
[null,null,null,null,null,null,null,null,null,null,null," ",null,1,1900]
[null,null,null,null,null,null,null,null,null,null,null," ",null,1,1900]
[null,null,null,null,null,null,null,null,null,null,null," ",null,1,1900]
[null,null,null,null,null,null,null,null,null,null,null," ",null,1,1900]
[null,null,null,null,null,null,null,null,null,null,null," ",null,1,1900]
[null,null,null,null,null,null,null,null,null,null,null," ",null,1,1900]
[null,null,null,null,null,null,null,null,null,null,null," ",null,1,1900]
[null,null,null,null,null,null,null,null,null,null,null," ",null,1,1900]
[null,null,null,null,null,null,null,null,null,null,null," ",null,1,1900]
[null,null,null,null,null,null,null,null,null,null,null," ",null,1,1900]
[null,null,null,null,null,null,null,null,null,null,null," ",null,1,1900]
[null,null,null,null,null,null,null,null,null,null,null," ",null,1,1900]
[null,null,null,null,null,null,null,null,null,null,null," ",null,1,1900]
[null,null,null,null,null,null,null,null,null,null,null," ",null,1,1900]
[null,null,null,null,null,null,null,null,null,null,null," ",null,1,1900]
[null,null,null,null,null,null,null,null,null,null,null," ",null,1,1900]
[null,null,null,null,null,null,null,null,null,null,null," ",null,1,1900]
[null,null,null,null,null,null,null,null,null,null,null," ",null,1,1900]
[null,null,null,null,null,null,null,null,null,null,null," ",null,1,1900]
[null,null,null,null,null,null,null,null,null,null,null," ",null,1,1900]
[null,null,null,null,null,null,null,null,null,null,null," ",null,1,1900]
[null,null,null,null,null,null,null,null,null,null,null," ",null,1,1900]
[null,null,null,null,null,null,null,null,null,null,null," ",null,1,1900]
[null,null,null,null,null,null,null,null,null,null,null," ",null,1,1900]
[null,null,null,null,null,null,null,null,null,null,null," ",null,1,1900]
[null,null,null,null,null,null,null,null,null,null,null," ",null,1,1900]
[null,null,null,null,null,null,null,null,null,null,null," ",null,1,1900]
[null,null,null,null,null,null,null,null,null,null,null," ",null,1,1900]
[null,null,null,null,null,null,null,null,null,null,null," ",null,1,1900]
[null,null,null,null,null,null,null,null,null,null,null," ",null,1,1900]
[null,null,null,null,null,null,null,null,null,null,null," ",null,1,1900]
[null,null,null,null,null,null,null,null,null,null,null," ",null,1,1900]
[null,null,null,null,null,null,null,null,null,null,null," ",null,1,1900]
[null,null,null,null,null,null,null,null,null,null,null," ",null,1,1900]
[null,null,null,null,null,null,null,null,null,null,null," ",null,1,1900]
[null,null,null,null,null,null,null,null,null,null,null," ",null,1,1900]
[null,null,null,null,null,null,null,null,null,null,null," ",null,1,1900]
[null,null,null,null,null,null,null,null,null,null,null," ",null,1,1900]
[null,null,null,null,null,null,null,null,null,null,null," ",null,1,1900]
[null,null,null,null,null,null,null,null,null,null,null," ",null,1,1900]
[null,null,null,null,null,null,null,null,null,null,null," ",null,1,1900]
[null,null,null,null,null,null,null,null,null,null,null," ",null,1,1900]
[null,null,null,null,null,null,null,null,null,null,null," ",null,1,1900]
[null,null,null,null,null,null,null,null,null,null,null," ",null,1,1900]
[null,null,null,null,null,null,null,null,null,null,null," ",null,1,1900]
[null,null,null,null,null,null,null,null,null,null,null," ",null,1,1900]
[null,null,null,null,null,null,null,null,null,null,null," ",null,1,1900]
[null,null,null,null,null,null,null,null,null,null,null," ",null,1,1900]
[null,null,null,null,null,null,null,null,null,null,null," ",null,1,1900]
[null,null,null,null,null,null,null,null,null,null,null," ",null,1,1900]
[null,null,null,null,null,null,null,null,null,null,null," ",null,1,1900]
[null,null,null,null,null,null,null,null,null,null,null," ",null,1,1900]
[null,null,null,null,null,null,null,null,null,null,null," ",null,1,1900]
[null,null,null,null,null,null,null,null,null,null,null," ",null,1,1900]
[null,null,null,null,null,null,null,null,null,null,null," ",null,1,1900]
[null,null,null,null,null,null,null,null,null,null,null," ",null,1,1900]
[null,null,null,null,null,null,null,null,null,null,null," ",null,1,1900]
[null,null,null,null,null,null,null,null,null,null,null," ",null,1,1900]
[null,null,null,null,null,null,null,null,null,null,null," ",null,1,1900]
[null,null,null,null,null,null,null,null,null,null,null," ",null,1,1900]
[null,null,null,null,null,null,null,null,null,null,null," ",null,1,1900]
[null,null,null,null,null,null,null,null,null,null,null," ",null,1,1900]
[null,null,null,null,null,null,null,null,null,null,null," ",null,1,1900]
[null,null,null,null,null,null,null,null,null,null,null," ",null,1,1900]
[null,null,null,null,null,null,null,null,null,null,null," ",null,1,1900]
[null,null,null,null,null,null,null,null,null,null,null," ",null,1,1900]
[null,null,null,null,null,null,null,null,null,null,null," ",null,1,1900]
[null,null,null,null,null,null,null,null,null,null,null," ",null,1,1900]
[null,null,null,null,null,null,null,null,null,null,null," ",null,1,1900]
[null,null,null,null,null,null,null,null,null,null,null," ",null,1,1900]
[null,null,null,null,null,null,null,null,null,null,null," ",null,1,1900]
[null,null,null,null,null,null,null,null,null,null,null," ",null,1,1900]
[null,null,null,null,null,null,null,null,null,null,null," ",null,1,1900]
[null,null,null,null,null,null,null,null,null,null,null," ",null,1,1900]
[null,null,null,null,null,null,null,null,null,null,null," ",null,1,1900]
[null,null,null,null,null,null,null,null,null,null,null," ",null,1,1900]
[null,null,null,null,null,null,null,null,null,null,null," ",null,1,1900]
[null,null,null,null,null,null,null,null,null,null,null," ",null,1,1900]
[null,null,null,null,null,null,null,null,null,null,null," ",null,1,1900]
[null,null,null,null,null,null,null,null,null,null,null," ",null,1,1900]
[null,null,null,null,null,null,null,null,null,null,null," ",null,1,1900]
[null,null,null,null,null,null,null,null,null,null,null," ",null,1,1900]
[null,null,null,null,null,null,null,null,null,null,null," ",null,1,1900]
[null,null,null,null,null,null,null,null,null,null,null," ",null,1,1900]
[null,null,null,null,null,null,null,null,null,null,null," ",null,1,1900]
[null,null,null,null,null,null,null,null,null,null,null," ",null,1,1900]
[null,null,null,null,null,null,null,null,null,null,null," ",null,1,1900]
[null,null,null,null,null,null,null,null,null,null,null," ",null,1,1900]
[null,null,null,null,null,null,null,null,null,null,null," ",null,1,1900]
[null,null,null,null,null,null,null,null,null,null,null," ",null,1,1900]
[null,null,null,null,null,null,null,null,null,null,null," ",null,1,1900]
[null,null,null,null,null,null,null,null,null,null,null," ",null,1,1900]
[null,null,null,null,null,null,null,null,null,null,null," ",null,1,1900]
[null,null,null,null,null,null,null,null,null,null,null," ",null,1,1900]
[null,null,null,null,null,null,null,null,null,null,null," ",null,1,1900]
[null,null,null,null,null,null,null,null,null,null,null," ",null,1,1900]
[null,null,null,null,null,null,null,null,null,null,null," ",null,1,1900]
[null,null,null,null,null,null,null,null,null,null,null," ",null,1,1900]
[null,null,null,null,null,null,null,null,null,null,null," ",null,1,1900]
[null,null,null,null,null,null,null,null,null,null,null," ",null,1,1900]
[null,null,null,null,null,null,null,null,null,null,null," ",null,1,1900]
[null,null,null,null,null,null,null,null,null,null,null," ",null,1,1900]
[null,null,null,null,null,null,null,null,null,null,null," ",null,1,1900]
[null,null,null,null,null,null,null,null,null,null,null," ",null,1,1900]
[null,null,null,null,null,null,null,null,null,null,null," ",null,1,1900]
[null,null,null,null,null,null,null,null,null,null,null," ",null,1,1900]
[null,null,null,null,null,null,null,null,null,null,null," ",null,1,1900]
[null,null,null,null,null,null,null,null,null,null,null," ",null,1,1900]
[null,null,null,null,null,null,null,null,null,null,null," ",null,1,1900]
[null,null,null,null,null,null,null,null,null,null,null," ",null,1,1900]
[null,null,null,null,null,null,null,null,null,null,null," ",null,1,1900]
[null,null,null,null,null,null,null,null,null,null,null," ",null,1,1900]
[null,null,null,null,null,null,null,null,null,null,null," ",null,1,1900]
[null,null,null,null,null,null,null,null,null,null,null," ",null,1,1900]
[null,null,null,null,null,null,null,null,null,null,null," ",null,1,1900]
[null,null,null,null,null,null,null,null,null,null,null," ",null,1,1900]
[null,null,null,null,null,null,null,null,null,null,null," ",null,1,1900]
[null,null,null,null,null,null,null,null,null,null,null," ",null,1,1900]
[null,null,null,null,null,null,null,null,null,null,null," ",null,1,1900]
[null,null,null,null,null,null,null,null,null,null,null," ",null,1,1900]
[null,null,null,null,null,null,null,null,null,null,null," ",null,1,1900]
[null,null,null,null,null,null,null,null,null,null,null," ",null,1,1900]
[null,null,null,null,null,null,null,null,null,null,null," ",null,1,1900]
[null,null,null,null,null,null,null,null,null,null,null," ",null,1,1900]
[null,null,null,null,null,null,null,null,null,null,null," ",null,1,1900]
[null,null,null,null,null,null,null,null,null,null,null," ",null,1,1900]
[null,null,null,null,null,null,null,null,null,null,null," ",null,1,1900]
[null,null,null,null,null,null,null,null,null,null,null," ",null,1,1900]
[null,null,null,null,null,null,null,null,null,null,null," ",null,1,1900]
[null,null,null,null,null,null,null,null,null,null,null," ",null,1,1900]
[null,null,null,null,null,null,null,null,null,null,null," ",null,1,1900]
[null,null,null,null,null,null,null,null,null,null,null," ",null,1,1900]
[null,null,null,null,null,null,null,null,null,null,null," ",null,1,1900]
[null,null,null,null,null,null,null,null,null,null,null," ",null,1,1900]
[null,null,null,null,null,null,null,null,null,null,null," ",null,1,1900]
[null,null,null,null,null,null,null,null,null,null,null," ",null,1,1900]
[null,null,null,null,null,null,null,null,null,null,null," ",null,1,1900]
[null,null,null,null,null,null,null,null,null,null,null," ",null,1,1900]
[null,null,null,null,null,null,null,null,null,null,null," ",null,1,1900]
[null,null,null,null,null,null,null,null,null,null,null," ",null,1,1900]
[null,null,null,null,null,null,null,null,null,null,null," ",null,1,1900]
[null,null,null,null,null,null,null,null,null,null,null," ",null,1,1900]
[null,null,null,null,null,null,null,null,null,null,null," ",null,1,1900]
[null,null,null,null,null,null,null,null,null,null,null," ",null,1,1900]
[null,null,null,null,null,null,null,null,null,null,null," ",null,1,1900]
[null,null,null,null,null,null,null,null,null,null,null," ",null,1,1900]
[null,null,null,null,null,null,null,null,null,null,null," ",null,1,1900]
[null,null,null,null,null,null,null,null,null,null,null," ",null,1,1900]
[null,null,null,null,null,null,null,null,null,null,null," ",null,1,1900]
[null,null,null,null,null,null,null,null,null,null,null," ",null,1,1900]
[null,null,null,null,null,null,null,null,null,null,null," ",null,1,1900]
[null,null,null,null,null,null,null,null,null,null,null," ",null,1,1900]
[null,null,null,null,null,null,null,null,null,null,null," ",null,1,1900]
[null,null,null,null,null,null,null,null,null,null,null," ",null,1,1900]
[null,null,null,null,null,null,null,null,null,null,null," ",null,1,1900]
[null,null,null,null,null,null,null,null,null,null,null," ",null,1,1900]
[null,null,null,null,null,null,null,null,null,null,null," ",null,1,1900]
[null,null,null,null,null,null,null,null,null,null,null," ",null,1,1900]
[null,null,null,null,null,null,null,null,null,null,null," ",null,1,1900]
[null,null,null,null,null,null,null,null,null,null,null," ",null,1,1900]
[null,null,null,null,null,null,null,null,null,null,null,{"$f":"+IF(K52408=K52407,\" \",K52408)","v":" "},null,{"$f":"+MONTH(A52408)","v":1},{"$f":"+YEAR(A52408)","v":1900}]
[null,null,null,null,null,null,null,null,null,null,null," ",null,1,1900]
[null,null,null,null,null,null,null,null,null,null,null," ",null,1,1900]
[null,null,null,null,null,null,null,null,null,null,null," ",null,1,1900]
[null,null,null,null,null,null,null,null,null,null,null," ",null,1,1900]
[null,null,null,null,null,null,null,null,null,null,null," ",null,1,1900]
[null,null,null,null,null,null,null,null,null,null,null," ",null,1,1900]
[null,null,null,null,null,null,null,null,null,null,null," ",null,1,1900]
[null,null,null,null,null,null,null,null,null,null,null," ",null,1,1900]
[null,null,null,null,null,null,null,null,null,null,null," ",null,1,1900]
[null,null,null,null,null,null,null,null,null,null,null," ",null,1,1900]
[null,null,null,null,null,null,null,null,null,null,null," ",null,1,1900]
[null,null,null,null,null,null,null,null,null,null,null," ",null,1,1900]
[null,null,null,null,null,null,null,null,null,null,null," ",null,1,1900]
[null,null,null,null,null,null,null,null,null,null,null," ",null,1,1900]
[null,null,null,null,null,null,null,null,null,null,null," ",null,1,1900]
[null,null,null,null,null,null,null,null,null,null,null," ",null,1,1900]
[null,null,null,null,null,null,null,null,null,null,null," ",null,1,1900]
[null,null,null,null,null,null,null,null,null,null,null," ",null,1,1900]
[null,null,null,null,null,null,null,null,null,null,null," ",null,1,1900]
[null,null,null,null,null,null,null,null,null,null,null," ",null,1,1900]
[null,null,null,null,null,null,null,null,null,null,null," ",null,1,1900]
[null,null,null,null,null,null,null,null,null,null,null," ",null,1,1900]
[null,null,null,null,null,null,null,null,null,null,null," ",null,1,1900]
[null,null,null,null,null,null,null,null,null,null,null," ",null,1,1900]
[null,null,null,null,null,null,null,null,null,null,null," ",null,1,1900]
[null,null,null,null,null,null,null,null,null,null,null," ",null,1,1900]
[null,null,null,null,null,null,null,null,null,null,null," ",null,1,1900]
[null,null,null,null,null,null,null,null,null,null,null," ",null,1,1900]
[null,null,null,null,null,null,null,null,null,null,null," ",null,1,1900]
[null,null,null,null,null,null,null,null,null,null,null," ",null,1,1900]
[null,null,null,null,null,null,null,null,null,null,null," ",null,1,1900]
[null,null,null,null,null,null,null,null,null,null,null," ",null,1,1900]
[null,null,null,null,null,null,null,null,null,null,null," ",null,1,1900]
[null,null,null,null,null,null,null,null,null,null,null," ",null,1,1900]
[null,null,null,null,null,null,null,null,null,null,null," ",null,1,1900]
[null,null,null,null,null,null,null,null,null,null,null," ",null,1,1900]
[null,null,null,null,null,null,null,null,null,null,null," ",null,1,1900]
[null,null,null,null,null,null,null,null,null,null,null," ",null,1,1900]
[null,null,null,null,null,null,null,null,null,null,null," ",null,1,1900]
[null,null,null,null,null,null,null,null,null,null,null," ",null,1,1900]
[null,null,null,null,null,null,null,null,null,null,null," ",null,1,1900]
[null,null,null,null,null,null,null,null,null,null,null," ",null,1,1900]
[null,null,null,null,null,null,null,null,null,null,null," ",null,1,1900]
[null,null,null,null,null,null,null,null,null,null,null," ",null,1,1900]
[null,null,null,null,null,null,null,null,null,null,null," ",null,1,1900]
[null,null,null,null,null,null,null,null,null,null,null," ",null,1,1900]
[null,null,null,null,null,null,null,null,null,null,null," ",null,1,1900]
[null,null,null,null,null,null,null,null,null,null,null," ",null,1,1900]
[null,null,null,null,null,null,null,null,null,null,null," ",null,1,1900]
[null,null,null,null,null,null,null,null,null,null,null," ",null,1,1900]
[null,null,null,null,null,null,null,null,null,null,null," ",null,1,1900]
[null,null,null,null,null,null,null,null,null,null,null," ",null,1,1900]
[null,null,null,null,null,null,null,null,null,null,null," ",null,1,1900]
[null,null,null,null,null,null,null,null,null,null,null," ",null,1,1900]
[null,null,null,null,null,null,null,null,null,null,null," ",null,1,1900]
[null,null,null,null,null,null,null,null,null,null,null," ",null,1,1900]
[null,null,null,null,null,null,null,null,null,null,null," ",null,1,1900]
[null,null,null,null,null,null,null,null,null,null,null," ",null,1,1900]
[null,null,null,null,null,null,null,null,null,null,null," ",null,1,1900]
[null,null,null,null,null,null,null,null,null,null,null," ",null,1,1900]
[null,null,null,null,null,null,null,null,null,null,null," ",null,1,1900]
[null,null,null,null,null,null,null,null,null,null,null," ",null,1,1900]
[null,null,null,null,null,null,null,null,null,null,null," ",null,1,1900]
[null,null,null,null,null,null,null,null,null,null,null," ",null,1,1900]
[null,null,null,null,null,null,null,null,null,null,null," ",null,1,1900]
[null,null,null,null,null,null,null,null,null,null,null," ",null,1,1900]
[null,null,null,null,null,null,null,null,null,null,null," ",null,1,1900]
[null,null,null,null,null,null,null,null,null,null,null," ",null,1,1900]
[null,null,null,null,null,null,null,null,null,null,null," ",null,1,1900]
[null,null,null,null,null,null,null,null,null,null,null," ",null,1,1900]
[null,null,null,null,null,null,null,null,null,null,null," ",null,1,1900]
[null,null,null,null,null,null,null,null,null,null,null," ",null,1,1900]
[null,null,null,null,null,null,null,null,null,null,null," ",null,1,1900]
[null,null,null,null,null,null,null,null,null,null,null," ",null,1,1900]
[null,null,null,null,null,null,null,null,null,null,null," ",null,1,1900]
[null,null,null,null,null,null,null,null,null,null,null," ",null,1,1900]
[null,null,null,null,null,null,null,null,null,null,null," ",null,1,1900]
[null,null,null,null,null,null,null,null,null,null,null," ",null,1,1900]
[null,null,null,null,null,null,null,null,null,null,null," ",null,1,1900]
[null,null,null,null,null,null,null,null,null,null,null," ",null,1,1900]
[null,null,null,null,null,null,null,null,null,null,null," ",null,1,1900]
[null,null,null,null,null,null,null,null,null,null,null," ",null,1,1900]
[null,null,null,null,null,null,null,null,null,null,null," ",null,1,1900]
[null,null,null,null,null,null,null,null,null,null,null," ",null,1,1900]
[null,null,null,null,null,null,null,null,null,null,null," ",null,1,1900]
[null,null,null,null,null,null,null,null,null,null,null," ",null,1,1900]
[null,null,null,null,null,null,null,null,null,null,null," ",null,1,1900]
[null,null,null,null,null,null,null,null,null,null,null," ",null,1,1900]
[null,null,null,null,null,null,null,null,null,null,null," ",null,1,1900]
[null,null,null,null,null,null,null,null,null,null,null," ",null,1,1900]
[null,null,null,null,null,null,null,null,null,null,null," ",null,1,1900]
[null,null,null,null,null,null,null,null,null,null,null," ",null,1,1900]
[null,null,null,null,null,null,null,null,null,null,null," ",null,1,1900]
[null,null,null,null,null,null,null,null,null,null,null," ",null,1,1900]
[null,null,null,null,null,null,null,null,null,null,null," ",null,1,1900]
[null,null,null,null,null,null,null,null,null,null,null," ",null,1,1900]
[null,null,null,null,null,null,null,null,null,null,null,{"$f":"+IF(K55480=K55479,\" \",K55480)","v":" "},null,{"$f":"+MONTH(A55480)","v":1},{"$f":"+YEAR(A55480)","v":1900}]
[null,null,null,null,null,null,null,null,null,null,null," ",null,1,1900]
[null,null,null,null,null,null,null,null,null,null,null," ",null,1,1900]
[null,null,null,null,null,null,null,null,null,null,null," ",null,1,1900]
[null,null,null,null,null,null,null,null,null,null,null," ",null,1,1900]
[null,null,null,null,null,null,null,null,null,null,null," ",null,1,1900]
[null,null,null,null,null,null,null,null,null,null,null," ",null,1,1900]
[null,null,null,null,null,null,null,null,null,null,null," ",null,1,1900]
[null,null,null,null,null,null,null,null,null,null,null," ",null,1,1900]
[null,null,null,null,null,null,null,null,null,null,null," ",null,1,1900]
[null,null,null,null,null,null,null,null,null,null,null," ",null,1,1900]
[null,null,null,null,null,null,null,null,null,null,null," ",null,1,1900]
[null,null,null,null,null,null,null,null,null,null,null," ",null,1,1900]
[null,null,null,null,null,null,null,null,null,null,null," ",null,1,1900]
[null,null,null,null,null,null,null,null,null,null,null," ",null,1,1900]
[null,null,null,null,null,null,null,null,null,null,null," ",null,1,1900]
[null,null,null,null,null,null,null,null,null,null,null," ",null,1,1900]
[null,null,null,null,null,null,null,null,null,null,null," ",null,1,1900]
[null,null,null,null,null,null,null,null,null,null,null," ",null,1,1900]
[null,null,null,null,null,null,null,null,null,null,null," ",null,1,1900]
[null,null,null,null,null,null,null,null,null,null,null," ",null,1,1900]
[null,null,null,null,null,null,null,null,null,null,null," ",null,1,1900]
[null,null,null,null,null,null,null,null,null,null,null," ",null,1,1900]
[null,null,null,null,null,null,null,null,null,null,null," ",null,1,1900]
[null,null,null,null,null,null,null,null,null,null,null," ",null,1,1900]
[null,null,null,null,null,null,null,null,null,null,null," ",null,1,1900]
[null,null,null,null,null,null,null,null,null,null,null," ",null,1,1900]
[null,null,null,null,null,null,null,null,null,null,null," ",null,1,1900]
[null,null,null,null,null,null,null,null,null,null,null," ",null,1,1900]
[null,null,null,null,null,null,null,null,null,null,null," ",null,1,1900]
[null,null,null,null,null,null,null,null,null,null,null," ",null,1,1900]
[null,null,null,null,null,null,null,null,null,null,null,{"$f":"+IF(K56440=K56439,\" \",K56440)","v":" "},null,{"$f":"+MONTH(A56440)","v":1},{"$f":"+YEAR(A56440)","v":1900}]
[null,null,null,null,null,null,null,null,null,null,null," ",null,1,1900]
[null,null,null,null,null,null,null,null,null,null,null," ",null,1,1900]
[null,null,null,null,null,null,null,null,null,null,null," ",null,1,1900]
[null,null,null,null,null,null,null,null,null,null,null," ",null,1,1900]
[null,null,null,null,null,null,null,null,null,null,null," ",null,1,1900]
[null,null,null,null,null,null,null,null,null,null,null," ",null,1,1900]
[null,null,null,null,null,null,null,null,null,null,null," ",null,1,1900]
[null,null,null,null,null,null,null,null,null,null,null," ",null,1,1900]
[null,null,null,null,null,null,null,null,null,null,null," ",null,1,1900]
[null,null,null,null,null,null,null,null,null,null,null," ",null,1,1900]
[null,null,null,null,null,null,null,null,null,null,null," ",null,1,1900]
[null,null,null,null,null,null,null,null,null,null,null," ",null,1,1900]
[null,null,null,null,null,null,null,null,null,null,null," ",null,1,1900]
[null,null,null,null,null,null,null,null,null,null,null," ",null,1,1900]
[null,null,null,null,null,null,null,null,null,null,null," ",null,1,1900]
[null,null,null,null,null,null,null,null,null,null,null," ",null,1,1900]
[null,null,null,null,null,null,null,null,null,null,null," ",null,1,1900]
[null,null,null,null,null,null,null,null,null,null,null," ",null,1,1900]
[null,null,null,null,null,null,null,null,null,null,null," ",null,1,1900]
[null,null,null,null,null,null,null,null,null,null,null," ",null,1,1900]
[null,null,null,null,null,null,null,null,null,null,null," ",null,1,1900]
[null,null,null,null,null,null,null,null,null,null,null," ",null,1,1900]
[null,null,null,null,null,null,null,null,null,null,null," ",null,1,1900]
[null,null,null,null,null,null,null,null,null,null,null," ",null,1,1900]
[null,null,null,null,null,null,null,null,null,null,null," ",null,1,1900]
[null,null,null,null,null,null,null,null,null,null,null," ",null,1,1900]
[null,null,null,null,null,null,null,null,null,null,null," ",null,1,1900]
[null,null,null,null,null,null,null,null,null,null,null," ",null,1,1900]
[null,null,null,null,null,null,null,null,null,null,null," ",null,1,1900]
[null,null,null,null,null,null,null,null,null,null,null," ",null,1,1900]
[null,null,null,null,null,null,null,null,null,null,null," ",null,1,1900]
[null,null,null,null,null,null,null,null,null,null,null," ",null,1,1900]
[null,null,null,null,null,null,null,null,null,null,null," ",null,1,1900]
[null,null,null,null,null,null,null,null,null,null,null," ",null,1,1900]
[null,null,null,null,null,null,null,null,null,null,null," ",null,1,1900]
[null,null,null,null,null,null,null,null,null,null,null," ",null,1,1900]
[null,null,null,null,null,null,null,null,null,null,null," ",null,1,1900]
[null,null,null,null,null,null,null,null,null,null,null," ",null,1,1900]
[null,null,null,null,null,null,null,null,null,null,null," ",null,1,1900]
[null,null,null,null,null,null,null,null,null,null,null," ",null,1,1900]
[null,null,null,null,null,null,null,null,null,null,null," ",null,1,1900]
[null,null,null,null,null,null,null,null,null,null,null," ",null,1,1900]
[null,null,null,null,null,null,null,null,null,null,null," ",null,1,1900]
[null,null,null,null,null,null,null,null,null,null,null," ",null,1,1900]
[null,null,null,null,null,null,null,null,null,null,null," ",null,1,1900]
[null,null,null,null,null,null,null,null,null,null,null," ",null,1,1900]
[null,null,null,null,null,null,null,null,null,null,null," ",null,1,1900]
[null,null,null,null,null,null,null,null,null,null,null," ",null,1,1900]
[null,null,null,null,null,null,null,null,null,null,null," ",null,1,1900]
[null,null,null,null,null,null,null,null,null,null,null," ",null,1,1900]
[null,null,null,null,null,null,null,null,null,null,null," ",null,1,1900]
[null,null,null,null,null,null,null,null,null,null,null," ",null,1,1900]
[null,null,null,null,null,null,null,null,null,null,null," ",null,1,1900]
[null,null,null,null,null,null,null,null,null,null,null," ",null,1,1900]
[null,null,null,null,null,null,null,null,null,null,null," ",null,1,1900]
[null,null,null,null,null,null,null,null,null,null,null," ",null,1,1900]
[null,null,null,null,null,null,null,null,null,null,null," ",null,1,1900]
[null,null,null,null,null,null,null,null,null,null,null," ",null,1,1900]
[null,null,null,null,null,null,null,null,null,null,null," ",null,1,1900]
[null,null,null,null,null,null,null,null,null,null,null," ",null,1,1900]
[null,null,null,null,null,null,null,null,null,null,null," ",null,1,1900]
[null,null,null,null,null,null,null,null,null,null,null," ",null,1,1900]
[null,null,null,null,null,null,null,null,null,null,null," ",null,1,1900]
[null,null,null,null,null,null,null,null,null,null,null," ",null,1,1900]
[null,null,null,null,null,null,null,null,null,null,null," ",null,1,1900]
[null,null,null,null,null,null,null,null,null,null,null," ",null,1,1900]
[null,null,null,null,null,null,null,null,null,null,null," ",null,1,1900]
[null,null,null,null,null,null,null,null,null,null,null," ",null,1,1900]
[null,null,null,null,null,null,null,null,null,null,null," ",null,1,1900]
[null,null,null,null,null,null,null,null,null,null,null," ",null,1,1900]
[null,null,null,null,null,null,null,null,null,null,null," ",null,1,1900]
[null,null,null,null,null,null,null,null,null,null,null," ",null,1,1900]
[null,null,null,null,null,null,null,null,null,null,null," ",null,1,1900]
[null,null,null,null,null,null,null,null,null,null,null," ",null,1,1900]
[null,null,null,null,null,null,null,null,null,null,null," ",null,1,1900]
[null,null,null,null,null,null,null,null,null,null,null," ",null,1,1900]
[null,null,null,null,null,null,null,null,null,null,null," ",null,1,1900]
[null,null,null,null,null,null,null,null,null,null,null," ",null,1,1900]
[null,null,null,null,null,null,null,null,null,null,null," ",null,1,1900]
[null,null,null,null,null,null,null,null,null,null,null," ",null,1,1900]
[null,null,null,null,null,null,null,null,null,null,null," ",null,1,1900]
[null,null,null,null,null,null,null,null,null,null,null," ",null,1,1900]
[null,null,null,null,null,null,null,null,null,null,null," ",null,1,1900]
[null,null,null,null,null,null,null,null,null,null,null," ",null,1,1900]
[null,null,null,null,null,null,null,null,null,null,null," ",null,1,1900]
[null,null,null,null,null,null,null,null,null,null,null," ",null,1,1900]
[null,null,null,null,null,null,null,null,null,null,null," ",null,1,1900]
[null,null,null,null,null,null,null,null,null,null,null," ",null,1,1900]
[null,null,null,null,null,null,null,null,null,null,null," ",null,1,1900]
[null,null,null,null,null,null,null,null,null,null,null," ",null,1,1900]
[null,null,null,null,null,null,null,null,null,null,null," ",null,1,1900]
[null,null,null,null,null,null,null,null,null,null,null," ",null,1,1900]
[null,null,null,null,null,null,null,null,null,null,null,{"$f":"+IF(K59384=K59383,\" \",K59384)","v":" "},null,{"$f":"+MONTH(A59384)","v":1},{"$f":"+YEAR(A59384)","v":1900}]
[null,null,null,null,null,null,null,null,null,null,null," ",null,1,1900]
[null,null,null,null,null,null,null,null,null,null,null," ",null,1,1900]
[null,null,null,null,null,null,null,null,null,null,null," ",null,1,1900]
[null,null,null,null,null,null,null,null,null,null,null," ",null,1,1900]
[null,null,null,null,null,null,null,null,null,null,null," ",null,1,1900]
[null,null,null,null,null,null,null,null,null,null,null," ",null,1,1900]
[null,null,null,null,null,null,null,null,null,null,null," ",null,1,1900]
[null,null,null,null,null,null,null,null,null,null,null," ",null,1,1900]
[null,null,null,null,null,null,null,null,null,null,null," ",null,1,1900]
[null,null,null,null,null,null,null,null,null,null,null," ",null,1,1900]
[null,null,null,null,null,null,null,null,null,null,null," ",null,1,1900]
[null,null,null,null,null,null,null,null,null,null,null," ",null,1,1900]
[null,null,null,null,null,null,null,null,null,null,null," ",null,1,1900]
[null,null,null,null,null,null,null,null,null,null,null," ",null,1,1900]
[null,null,null,null,null,null,null,null,null,null,null," ",null,1,1900]
[null,null,null,null,null,null,null,null,null,null,null," ",null,1,1900]
[null,null,null,null,null,null,null,null,null,null,null," ",null,1,1900]
[null,null,null,null,null,null,null,null,null,null,null," ",null,1,1900]
[null,null,null,null,null,null,null,null,null,null,null," ",null,1,1900]
[null,null,null,null,null,null,null,null,null,null,null," ",null,1,1900]
[null,null,null,null,null,null,null,null,null,null,null," ",null,1,1900]
[null,null,null,null,null,null,null,null,null,null,null," ",null,1,1900]
[null,null,null,null,null,null,null,null,null,null,null," ",null,1,1900]
[null,null,null,null,null,null,null,null,null,null,null," ",null,1,1900]
[null,null,null,null,null,null,null,null,null,null,null," ",null,1,1900]
[null,null,null,null,null,null,null,null,null,null,null," ",null,1,1900]
[null,null,null,null,null,null,null,null,null,null,null," ",null,1,1900]
[null,null,null,null,null,null,null,null,null,null,null," ",null,1,1900]
[null,null,null,null,null,null,null,null,null,null,null," ",null,1,1900]
[null,null,null,null,null,null,null,null,null,null,null," ",null,1,1900]
[null,null,null,null,null,null,null,null,null,null,null,{"$f":"+IF(K60344=K60343,\" \",K60344)","v":" "},null,{"$f":"+MONTH(A60344)","v":1},{"$f":"+YEAR(A60344)","v":1900}]
[null,null,null,null,null,null,null,null,null,null,null," ",null,1,1900]
[null,null,null,null,null,null,null,null,null,null,null," ",null,1,1900]
[null,null,null,null,null,null,null,null,null,null,null," ",null,1,1900]
[null,null,null,null,null,null,null,null,null,null,null," ",null,1,1900]
[null,null,null,null,null,null,null,null,null,null,null," ",null,1,1900]
[null,null,null,null,null,null,null,null,null,null,null," ",null,1,1900]
[null,null,null,null,null,null,null,null,null,null,null," ",null,1,1900]
[null,null,null,null,null,null,null,null,null,null,null," ",null,1,1900]
[null,null,null,null,null,null,null,null,null,null,null," ",null,1,1900]
[null,null,null,null,null,null,null,null,null,null,null," ",null,1,1900]
[null,null,null,null,null,null,null,null,null,null,null," ",null,1,1900]
[null,null,null,null,null,null,null,null,null,null,null," ",null,1,1900]
[null,null,null,null,null,null,null,null,null,null,null," ",null,1,1900]
[null,null,null,null,null,null,null,null,null,null,null," ",null,1,1900]
[null,null,null,null,null,null,null,null,null,null,null," ",null,1,1900]
[null,null,null,null,null,null,null,null,null,null,null," ",null,1,1900]
[null,null,null,null,null,null,null,null,null,null,null," ",null,1,1900]
[null,null,null,null,null,null,null,null,null,null,null," ",null,1,1900]
[null,null,null,null,null,null,null,null,null,null,null," ",null,1,1900]
[null,null,null,null,null,null,null,null,null,null,null,{"$f":"+IF(K60984=K60983,\" \",K60984)","v":" "},null,{"$f":"+MONTH(A60984)","v":1},{"$f":"+YEAR(A60984)","v":1900}]
[null,null,null,null,null,null,null,null,null,null,null," ",null,1,1900]
[null,null,null,null,null,null,null,null,null,null,null," ",null,1,1900]
[null,null,null,null,null,null,null,null,null,null,null," ",null,1,1900]
[null,null,null,null,null,null,null,null,null,null,null," ",null,1,1900]
[null,null,null,null,null,null,null,null,null,null,null," ",null,1,1900]
[null,null,null,null,null,null,null,null,null,null,null," ",null,1,1900]
[null,null,null,null,null,null,null,null,null,null,null," ",null,1,1900]
[null,null,null,null,null,null,null,null,null,null,null," ",null,1,1900]
[null,null,null,null,null,null,null,null,null,null,null," ",null,1,1900]
[null,null,null,null,null,null,null,null,null,null,null," ",null,1,1900]
[null,null,null,null,null,null,null,null,null,null,null," ",null,1,1900]
[null,null,null,null,null,null,null,null,null,null,null," ",null,1,1900]
[null,null,null,null,null,null,null,null,null,null,null," ",null,1,1900]
[null,null,null,null,null,null,null,null,null,null,null," ",null,1,1900]
[null,null,null,null,null,null,null,null,null,null,null," ",null,1,1900]
[null,null,null,null,null,null,null,null,null,null,null," ",null,1,1900]
[null,null,null,null,null,null,null,null,null,null,null," ",null,1,1900]
[null,null,null,null,null,null,null,null,null,null,null," ",null,1,1900]
[null,null,null,null,null,null,null,null,null,null,null," ",null,1,1900]
[null,null,null,null,null,null,null,null,null,null,null," ",null,1,1900]
[null,null,null,null,null,null,null,null,null,null,null," ",null,1,1900]
[null,null,null,null,null,null,null,null,null,null,null," ",null,1,1900]
[null,null,null,null,null,null,null,null,null,null,null," ",null,1,1900]
[null,null,null,null,null,null,null,null,null,null,null," ",null,1,1900]
[null,null,null,null,null,null,null,null,null,null,null," ",null,1,1900]
[null,null,null,null,null,null,null,null,null,null,null," ",null,1,1900]
[null,null,null,null,null,null,null,null,null,null,null," ",null,1,1900]
[null,null,null,null,null,null,null,null,null,null,null," ",null,1,1900]
[null,null,null,null,null,null,null,null,null,null,null," ",null,1,1900]
[null,null,null,null,null,null,null,null,null,null,null," ",null,1,1900]
[null,null,null,null,null,null,null,null,null,null,null," ",null,1,1900]
[null,null,null,null,null,null,null,null,null,null,null," ",null,1,1900]
[null,null,null,null,null,null,null,null,null,null,null," ",null,1,1900]
[null,null,null,null,null,null,null,null,null,null,null," ",null,1,1900]
[null,null,null,null,null,null,null,null,null,null,null," ",null,1,1900]
[null,null,null,null,null,null,null,null,null,null,null," ",null,1,1900]
[null,null,null,null,null,null,null,null,null,null,null," ",null,1,1900]
[null,null,null,null,null,null,null,null,null,null,null," ",null,1,1900]
[null,null,null,null,null,null,null,null,null,null,null," ",null,1,1900]
[null,null,null,null,null,null,null,null,null,null,null," ",null,1,1900]
[null,null,null,null,null,null,null,null,null,null,null," ",null,1,1900]
[null,null,null,null,null,null,null,null,null,null,null," ",null,1,1900]
[null,null,null,null,null,null,null,null,null,null,null," ",null,1,1900]
[null,null,null,null,null,null,null,null,null,null,null," ",null,1,1900]
[null,null,null,null,null,null,null,null,null,null,null," ",null,1,1900]
[null,null,null,null,null,null,null,null,null,null,null," ",null,1,1900]
[null,null,null,null,null,null,null,null,null,null,null," ",null,1,1900]
[null,null,null,null,null,null,null,null,null,null,null," ",null,1,1900]
[null,null,null,null,null,null,null,null,null,null,null," ",null,1,1900]
[null,null,null,null,null,null,null,null,null,null,null," ",null,1,1900]
[null,null,null,null,null,null,null,null,null,null,null," ",null,1,1900]
[null,null,null,null,null,null,null,null,null,null,null," ",null,1,1900]
[null,null,null,null,null,null,null,null,null,null,null," ",null,1,1900]
[null,null,null,null,null,null,null,null,null,null,null," ",null,1,1900]
[null,null,null,null,null,null,null,null,null,null,null," ",null,1,1900]
[null,null,null,null,null,null,null,null,null,null,null," ",null,1,1900]
[null,null,null,null,null,null,null,null,null,null,null," ",null,1,1900]
[null,null,null,null,null,null,null,null,null,null,null," ",null,1,1900]
[null,null,null,null,null,null,null,null,null,null,null," ",null,1,1900]
[null,null,null,null,null,null,null,null,null,null,null," ",null,1,1900]
[null,null,null,null,null,null,null,null,null,null,null," ",null,1,1900]
[null,null,null,null,null,null,null,null,null,null,null," ",null,1,1900]
[null,null,null,null,null,null,null,null,null,null,null," ",null,1,1900]
[null,null,null,null,null,null,null,null,null,null,null," ",null,1,1900]
[null,null,null,null,null,null,null,null,null,null,null," ",null,1,1900]
[null,null,null,null,null,null,null,null,null,null,null," ",null,1,1900]
[null,null,null,null,null,null,null,null,null,null,null," ",null,1,1900]
[null,null,null,null,null,null,null,null,null,null,null," ",null,1,1900]
[null,null,null,null,null,null,null,null,null,null,null," ",null,1,1900]
[null,null,null,null,null,null,null,null,null,null,null," ",null,1,1900]
[null,null,null,null,null,null,null,null,null,null,null," ",null,1,1900]
[null,null,null,null,null,null,null,null,null,null,null," ",null,1,1900]
[null,null,null,null,null,null,null,null,null,null,null,{"$f":"+IF(K63288=K63287,\" \",K63288)","v":" "},null,{"$f":"+MONTH(A63288)","v":1},{"$f":"+YEAR(A63288)","v":1900}]
[null,null,null,null,null,null,null,null,null,null,null," ",null,1,1900]
[null,null,null,null,null,null,null,null,null,null,null," ",null,1,1900]
[null,null,null,null,null,null,null,null,null,null,null," ",null,1,1900]
[null,null,null,null,null,null,null,null,null,null,null," ",null,1,1900]
[null,null,null,null,null,null,null,null,null,null,null," ",null,1,1900]
[null,null,null,null,null,null,null,null,null,null,null," ",null,1,1900]
[null,null,null,null,null,null,null,null,null,null,null," ",null,1,1900]
[null,null,null,null,null,null,null,null,null,null,null," ",null,1,1900]
[null,null,null,null,null,null,null,null,null,null,null," ",null,1,1900]
[null,null,null,null,null,null,null,null,null,null,null," ",null,1,1900]
[null,null,null,null,null,null,null,null,null,null,null," ",null,1,1900]
[null,null,null,null,null,null,null,null,null,null,null," ",null,1,1900]
[null,null,null,null,null,null,null,null,null,null,null," ",null,1,1900]
[null,null,null,null,null,null,null,null,null,null,null," ",null,1,1900]
[null,null,null,null,null,null,null,null,null,null,null," ",null,1,1900]
[null,null,null,null,null,null,null,null,null,null,null," ",null,1,1900]
[null,null,null,null,null,null,null,null,null,null,null," ",null,1,1900]
[null,null,null,null,null,null,null,null,null,null,null," ",null,1,1900]
[null,null,null,null,null,null,null,null,null,null,null," ",null,1,1900]
[null,null,null,null,null,null,null,null,null,null,null," ",null,1,1900]
[null,null,null,null,null,null,null,null,null,null,null," ",null,1,1900]
[null,null,null,null,null,null,null,null,null,null,null,{"$f":"+IF(K63992=K63991,\" \",K63992)","v":" "},null,{"$f":"+MONTH(A63992)","v":1},{"$f":"+YEAR(A63992)","v":1900}]
[null,null,null,null,null,null,null,null,null,null,null," ",null,1,1900]
[null,null,null,null,null,null,null,null,null,null,null," ",null,1,1900]
[null,null,null,null,null,null,null,null,null,null,null," ",null,1,1900]
[null,null,null,null,null,null,null,null,null,null,null," ",null,1,1900]
[null,null,null,null,null,null,null,null,null,null,null," ",null,1,1900]
[null,null,null,null,null,null,null,null,null,null,null," ",null,1,1900]
[null,null,null,null,null,null,null,null,null,null,null," ",null,1,1900]
[null,null,null,null,null,null,null,null,null,null,null," ",null,1,1900]
[null,null,null,null,null,null,null,null,null,null,null," ",null,1,1900]
[null,null,null,null,null,null,null,null,null,null,null," ",null,1,1900]
[null,null,null,null,null,null,null,null,null,null,null," ",null,1,1900]
[null,null,null,null,null,null,null,null,null,null,null," ",null,1,1900]
[null,null,null,null,null,null,null,null,null,null,null," ",null,1,1900]
[null,null,null,null,null,null,null,null,null,null,null," ",null,1,1900]
[null,null,null,null,null,null,null,null,null,null,null," ",null,1,1900]
[null,null,null,null,null,null,null,null,null,null,null," ",null,1,1900]
[null,null,null,null,null,null,null,null,null,null,null," ",null,1,1900]
[null,null,null,null,null,null,null,null,null,null,null," ",null,1,1900]
[null,null,null,null,null,null,null,null,null,null,null," ",null,1,1900]
[null,null,null,null,null,null,null,null,null,null,null," ",null,1,1900]
[null,null,null,null,null,null,null,null,null,null,null," ",null,1,1900]
[null,null,null,null,null,null,null,null,null,null,null," ",null,1,1900]
[null,null,null,null,null,null,null,null,null,null,null," ",null,1,1900]
[null,null,null,null,null,null,null,null,null,null,null," ",null,1,1900]
[null,null,null,null,null,null,null,null,null,null,null," ",null,1,1900]
[null,null,null,null,null,null,null,null,null,null,null," ",null,1,1900]
[null,null,null,null,null,null,null,null,null,null,null," ",null,1,1900]
[null,null,null,null,null,null,null,null,null,null,null," ",null,1,1900]
[null,null,null,null,null,null,null,null,null,null,null," ",null,1,1900]
[null,null,null,null,null,null,null,null,null,null,null," ",null,1,1900]
[null,null,null,null,null,null,null,null,null,null,null," ",null,1,1900]
[null,null,null,null,null,null,null,null,null,null,null," ",null,1,1900]
[null,null,null,null,null,null,null,null,null,null,null," ",null,1,1900]
[null,null,null,null,null,null,null,null,null,null,null," ",null,1,1900]
[null,null,null,null,null,null,null,null,null,null,null," ",null,1,1900]
[null,null,null,null,null,null,null,null,null,null,null," ",null,1,1900]
[null,null,null,null,null,null,null,null,null,null,null," ",null,1,1900]
[null,null,null,null,null,null,null,null,null,null,null," ",null,1,1900]
[null,null,null,null,null,null,null,null,null,null,null," ",null,1,1900]
[null,null,null,null,null,null,null,null,null,null,null," ",null,1,1900]
[null,null,null,null,null,null,null,null,null,null,null," ",null,1,1900]
[null,null,null,null,null,null,null,null,null,null,null," ",null,1,1900]
[null,null,null,null,null,null,null,null,null,null,null," ",null,1,1900]
[null,null,null,null,null,null,null,null,null,null,null," ",null,1,1900]
[null,null,null,null,null,null,null,null,null,null,null," ",null,1,1900]
[null,null,null,null,null,null,null,null,null,null,null," ",null,1,1900]
[null,null,null,null,null,null,null,null,null,null,null," ",null,1,1900]
[null,null,null,null,null,null,null,null,null,null,null," ",null,1,1900]
[null,null,null,null,null,null,null,null,null,null,null," ",null,1,1900]
[null,null,null,null,null,null,null,null,null,null,null," ",null,1,1900]
[null,null,null,null,null,null,null,null,null,null,null," ",null,1,1900]
[null,null,null,null,null,null,null,null,null,null,null," ",null,1,1900]
[null,null,null,null,null,null,null,null,null,null,null," ",null,1,1900]
[null,null,null,null,null,null,null,null,null,null,null," ",null,1,1900]
[null,null,null,null,null,null,null,null,null,null,null," ",null,1,1900]
[null,null,null,null,null,null,null,null,null,null,null," ",null,1,1900]
[null,null,null,null,null,null,null,null,null,null,null," ",null,1,1900]
[null,null,null,null,null,null,null,null,null,null,null," ",null,1,1900]
[null,null,null,null,null,null,null,null,null,null,null," ",null,1,1900]
[null,null,null,null,null,null,null,null,null,null,null," ",null,1,1900]
[null,null,null,null,null,null,null,null,null,null,null," ",null,1,1900]
[null,null,null,null,null,null,null,null,null,null,null," ",null,1,1900]
[null,null,null,null,null,null,null,null,null,null,null," ",null,1,1900]
[null,null,null,null,null,null,null,null,null,null,null," ",null,1,1900]
[null,null,null,null,null,null,null,null,null,null,null," ",null,1,1900]
[null,null,null,null,null,null,null,null,null,null,null," ",null,1,1900]
[null,null,null,null,null,null,null,null,null,null,null," ",null,1,1900]
[null,null,null,null,null,null,null,null,null,null,null," ",null,1,1900]
[null,null,null,null,null,null,null,null,null,null,null," ",null,1,1900]
[null,null,null,null,null,null,null,null,null,null,null," ",null,1,1900]
[null,null,null,null,null,null,null,null,null,null,null," ",null,1,1900]
[null,null,null,null,null,null,null,null,null,null,null," ",null,1,1900]
[null,null,null,null,null,null,null,null,null,null,null," ",null,1,1900]
[null,null,null,null,null,null,null,null,null,null,null," ",null,1,1900]
[null,null,null,null,null,null,null,null,null,null,null," ",null,1,1900]
[null,null,null,null,null,null,null,null,null,null,null," ",null,1,1900]
[null,null,null,null,null,null,null,null,null,null,null,{"$f":"+IF(K65080=K65079,\" \",K65080)","v":" "},null,{"$f":"+MONTH(A65080)","v":1},{"$f":"+YEAR(A65080)","v":1900}]
[null,null,null,null,null,null,null,null,null,null,null," ",null,1,1900]
[null,null,null,null,null,null,null,null,null,null,null," ",null,1,1900]
[null,null,null,null,null,null,null,null,null,null,null," ",null,1,1900]
[null,null,null,null,null,null,null,null,null,null,null," ",null,1,1900]
[null,null,null,null,null,null,null,null,null,null,null," ",null,1,1900]
[null,null,null,null,null,null,null,null,null,null,null," ",null,1,1900]
[null,null,null,null,null,null,null,null,null,null,null," ",null,1,1900]
[null,null,null,null,null,null,null,null,null,null,null," ",null,1,1900]
[null,null,null,null,null,null,null,null,null,null,null," ",null,1,1900]
[null,null,null,null,null,null,null,null,null,null,null," ",null,1,1900]
[null,null,null,null,null,null,null,null,null,null,null," ",null,1,1900]
[null,null,null,null,null,null,null,null,null,null,null," ",null,1,1900]
[null,null,null,null,null,null,null,null,null,null,null," ",null,1,1900]
[null,null,null,null,null,null,null,null,null,null,null," ",null,1,1900]
[null,null,null,null,null,null,null,null,null,null,null," ",null,1,1900]
[null,null,null,null,null,null,null,null,null,null,null," ",null,1,1900]
[null,null,null,null,null,null,null,null,null,null,null," ",null,1,1900]
[null,null,null,null,null,null,null,null,null,null,null," ",null,1,1900]
[null,null,null,null,null,null,null,null,null,null,null," ",null,1,1900]
[null,null,null,null,null,null,null,null,null,null,null," ",null,1,1900]
[null,null,null,null,null,null,null,null,null,null,null," ",null,1,1900]
[null,null,null,null,null,null,null,null,null,null,null," ",null,1,1900]
[null,null,null,null,null,null,null,null,null,null,null," ",null,1,1900]
[null,null,null,null,null,null,null,null,null,null,null," ",null,1,1900]
[null,null,null,null,null,null,null,null,null,null,null," ",null,1,1900]
[null,null,null,null,null,null,null,null,null,null,null," ",null,1,1900]
[null,null,null,null,null,null,null,null,null,null,null," ",null,1,1900]
[null,null,null,null,null,null,null,null,null,null,null," ",null,1,1900]
[null,null,null,null,null,null,null,null,null,null,null," ",null,1,1900]
[null,null,null,null,null,null,null,null,null,null,null," ",null,1,1900]
[null,null,null,null,null,null,null,null,null,null,null," ",null,1,1900]
[null,null,null,null,null,null,null,null,null,null,null," ",null,1,1900]
[null,null,null,null,null,null,null,null,null,null,null," ",null,1,1900]
[null,null,null,null,null,null,null,null,null,null,null," ",null,1,1900]
[null,null,null,null,null,null,null,null,null,null,null," ",null,1,1900]
[null,null,null,null,null,null,null,null,null,null,null," ",null,1,1900]
[null,null,null,null,null,null,null,null,null,null,null," ",null,1,1900]
[null,null,null,null,null,null,null,null,null,null,null," ",null,1,1900]
[null,null,null,null,null,null,null,null,null,null,null," ",null,1,1900]
[null,null,null,null,null,null,null,null,null,null,null," ",null,1,1900]
[null,null,null,null,null,null,null,null,null,null,null," ",null,1,1900]
[null,null,null,null,null,null,null,null,null,null,null," ",null,1,1900]
[null,null,null,null,null,null,null,null,null,null,null," ",null,1,1900]
[null,null,null,null,null,null,null,null,null,null,null," ",null,1,1900]
[null,null,null,null,null,null,null,null,null,null,null," ",null,1,1900]
[null,null,null,null,null,null,null,null,null,null,null," ",null,1,1900]
[null,null,null,null,null,null,null,null,null,null,null," ",null,1,1900]
[null,null,null,null,null,null,null,null,null,null,null," ",null,1,1900]
[null,null,null,null,null,null,null,null,null,null,null," ",null,1,1900]
[null,null,null,null,null,null,null,null,null,null,null," ",null,1,1900]
[null,null,null,null,null,null,null,null,null,null,null," ",null,1,1900]
[null,null,null,null,null,null,null,null,null,null,null," ",null,1,1900]
[null,null,null,null,null,null,null,null,null,null,null," ",null,1,1900]
[null,null,null,null,null,null,null,null,null,null,null," ",null,1,1900]
[null,null,null,null,null,null,null,null,null,null,null," ",null,1,1900]
[null,null,null,null,null,null,null,null,null,null,null," ",null,1,1900]
[null,null,null,null,null,null,null,null,null,null,null," ",null,1,1900]
[null,null,null,null,null,null,null,null,null,null,null," ",null,1,1900]
[null,null,null,null,null,null,null,null,null,null,null," ",null,1,1900]
[null,null,null,null,null,null,null,null,null,null,null," ",null,1,1900]
[null,null,null,null,null,null,null,null,null,null,null," ",null,1,1900]
[null,null,null,null,null,null,null,null,null,null,null," ",null,1,1900]
[null,null,null,null,null,null,null,null,null,null,null," ",null,1,1900]
[null,null,null,null,null,null,null,null,null,null,null,{"$f":"+IF(K65144=K65143,\" \",K65144)","v":" "},null,{"$f":"+MONTH(A65144)","v":1},{"$f":"+YEAR(A65144)","v":1900}]
[null,null,null,null,null,null,null,null,null,null,null," ",null,1,1900]
[null,null,null,null,null,null,null,null,null,null,null," ",null,1,1900]
[null,null,null,null,null,null,null,null,null,null,null," ",null,1,1900]
[null,null,null,null,null,null,null,null,null,null,null," ",null,1,1900]
[null,null,null,null,null,null,null,null,null,null,null," ",null,1,1900]
[null,null,null,null,null,null,null,null,null,null,null," ",null,1,1900]
[null,null,null,null,null,null,null,null,null,null,null," ",null,1,1900]
[null,null,null,null,null,null,null,null,null,null,null," ",null,1,1900]
[null,null,null,null,null,null,null,null,null,null,null," ",null,1,1900]
[null,null,null,null,null,null,null,null,null,null,null," ",null,1,1900]
[null,null,null,null,null,null,null,null,null,null,null," ",null,1,1900]
[null,null,null,null,null,null,null,null,null,null,null," ",null,1,1900]
[null,null,null,null,null,null,null,null,null,null,null," ",null,1,1900]
[null,null,null,null,null,null,null,null,null,null,null," ",null,1,1900]
[null,null,null,null,null,null,null,null,null,null,null," ",null,1,1900]
[null,null,null,null,null,null,null,null,null,null,null," ",null,1,1900]
[null,null,null,null,null,null,null,null,null,null,null," ",null,1,1900]
[null,null,null,null,null,null,null,null,null,null,null," ",null,1,1900]
[null,null,null,null,null,null,null,null,null,null,null," ",null,1,1900]
[null,null,null,null,null,null,null,null,null,null,null," ",null,1,1900]
[null,null,null,null,null,null,null,null,null,null,null," ",null,1,1900]
[null,null,null,null,null,null,null,null,null,null,null," ",null,1,1900]
[null,null,null,null,null,null,null,null,null,null,null," ",null,1,1900]
[null,null,null,null,null,null,null,null,null,null,null," ",null,1,1900]
[null,null,null,null,null,null,null,null,null,null,null," ",null,1,1900]
[null,null,null,null,null,null,null,null,null,null,null," ",null,1,1900]
[null,null,null,null,null,null,null,null,null,null,null," ",null,1,1900]
[null,null,null,null,null,null,null,null,null,null,null," ",null,1,1900]
[null,null,null,null,null,null,null,null,null,null,null," ",null,1,1900]
[null,null,null,null,null,null,null,null,null,null,null," ",null,1,1900]
[null,null,null,null,null,null,null,null,null,null,null," ",null,1,1900]
[null,null,null,null,null,null,null,null,null,null,null," ",null,1,1900]
[null,null,null,null,null,null,null,null,null,null,null," ",null,1,1900]
[null,null,null,null,null,null,null,null,null,null,null," ",null,1,1900]
[null,null,null,null,null,null,null,null,null,null,null," ",null,1,1900]
[null,null,null,null,null,null,null,null,null,null,null," ",null,1,1900]
[null,null,null,null,null,null,null,null,null,null,null," ",null,1,1900]
[null,null,null,null,null,null,null,null,null,null,null," ",null,1,1900]
[null,null,null,null,null,null,null,null,null,null,null," ",null,1,1900]
[null,null,null,null,null,null,null,null,null,null,null," ",null,1,1900]
[null,null,null,null,null,null,null,null,null,null,null," ",null,1,1900]
[null,null,null,null,null,null,null,null,null,null,null," ",null,1,1900]
[null,null,null,null,null,null,null,null,null,null,null," ",null,1,1900]
[null,null,null,null,null,null,null,null,null,null,null," ",null,1,1900]
[null,null,null,null,null,null,null,null,null,null,null," ",null,1,1900]
[null,null,null,null,null,null,null,null,null,null,null," ",null,1,1900]
[null,null,null,null,null,null,null,null,null,null,null," ",null,1,1900]
[null,null,null,null,null,null,null,null,null,null,null," ",null,1,1900]
[null,null,null,null,null,null,null,null,null,null,null," ",null,1,1900]
[null,null,null,null,null,null,null,null,null,null,null," ",null,1,1900]
[null,null,null,null,null,null,null,null,null,null,null," ",null,1,1900]
[null,null,null,null,null,null,null,null,null,null,null," ",null,1,1900]
[null,null,null,null,null,null,null,null,null,null,null," ",null,1,1900]
[null,null,null,null,null,null,null,null,null,null,null," ",null,1,1900]
[null,null,null,null,null,null,null,null,null,null,null," ",null,1,1900]
[null,null,null,null,null,null,null,null,null,null,null," ",null,1,1900]
[null,null,null,null,null,null,null,null,null,null,null," ",null,1,1900]
[null,null,null,null,null,null,null,null,null,null,null," ",null,1,1900]
[null,null,null,null,null,null,null,null,null,null,null," ",null,1,1900]
[null,null,null,null,null,null,null,null,null,null,null," ",null,1,1900]
[null,null,null,null,null,null,null,null,null,null,null," ",null,1,1900]
[null,null,null,null,null,null,null,null,null,null,null," ",null,1,1900]
[null,null,null,null,null,null,null,null,null,null,null," ",null,1,1900]
[null,null,null,null,null,null,null,null,null,null,null,{"$f":"+IF(K65208=K65207,\" \",K65208)","v":" "},null,{"$f":"+MONTH(A65208)","v":1},{"$f":"+YEAR(A65208)","v":1900}]
[null,null,null,null,null,null,null,null,null,null,null," ",null,1,1900]
[null,null,null,null,null,null,null,null,null,null,null," ",null,1,1900]
[null,null,null,null,null,null,null,null,null,null,null," ",null,1,1900]
[null,null,null,null,null,null,null,null,null,null,null," ",null,1,1900]
[null,null,null,null,null,null,null,null,null,null,null," ",null,1,1900]
[null,null,null,null,null,null,null,null,null,null,null," ",null,1,1900]
[null,null,null,null,null,null,null,null,null,null,null," ",null,1,1900]
[null,null,null,null,null,null,null,null,null,null,null," ",null,1,1900]
[null,null,null,null,null,null,null,null,null,null,null," ",null,1,1900]
[null,null,null,null,null,null,null,null,null,null,null," ",null,1,1900]
[null,null,null,null,null,null,null,null,null,null,null," ",null,1,1900]
[null,null,null,null,null,null,null,null,null,null,null," ",null,1,1900]
[null,null,null,null,null,null,null,null,null,null,null," ",null,1,1900]
[null,null,null,null,null,null,null,null,null,null,null," ",null,1,1900]
[null,null,null,null,null,null,null,null,null,null,null," ",null,1,1900]
[null,null,null,null,null,null,null,null,null,null,null," ",null,1,1900]
[null,null,null,null,null,null,null,null,null,null,null," ",null,1,1900]
[null,null,null,null,null,null,null,null,null,null,null," ",null,1,1900]
[null,null,null,null,null,null,null,null,null,null,null," ",null,1,1900]
[null,null,null,null,null,null,null,null,null,null,null," ",null,1,1900]
[null,null,null,null,null,null,null,null,null,null,null," ",null,1,1900]
[null,null,null,null,null,null,null,null,null,null,null," ",null,1,1900]
[null,null,null,null,null,null,null,null,null,null,null," ",null,1,1900]
[null,null,null,null,null,null,null,null,null,null,null," ",null,1,1900]
[null,null,null,null,null,null,null,null,null,null,null," ",null,1,1900]
[null,null,null,null,null,null,null,null,null,null,null," ",null,1,1900]
[null,null,null,null,null,null,null,null,null,null,null," ",null,1,1900]
[null,null,null,null,null,null,null,null,null,null,null," ",null,1,1900]
[null,null,null,null,null,null,null,null,null,null,null," ",null,1,1900]
[null,null,null,null,null,null,null,null,null,null,null," ",null,1,1900]
[null,null,null,null,null,null,null,null,null,null,null," ",null,1,1900]
[null,null,null,null,null,null,null,null,null,null,null," ",null,1,1900]
[null,null,null,null,null,null,null,null,null,null,null," ",null,1,1900]
[null,null,null,null,null,null,null,null,null,null,null," ",null,1,1900]
[null,null,null,null,null,null,null,null,null,null,null," ",null,1,1900]
[null,null,null,null,null,null,null,null,null,null,null," ",null,1,1900]
[null,null,null,null,null,null,null,null,null,null,null," ",null,1,1900]
[null,null,null,null,null,null,null,null,null,null,null," ",null,1,1900]
[null,null,null,null,null,null,null,null,null,null,null," ",null,1,1900]
[null,null,null,null,null,null,null,null,null,null,null," ",null,1,1900]
[null,null,null,null,null,null,null,null,null,null,null," ",null,1,1900]
[null,null,null,null,null,null,null,null,null,null,null," ",null,1,1900]
[null,null,null,null,null,null,null,null,null,null,null," ",null,1,1900]
[null,null,null,null,null,null,null,null,null,null,null," ",null,1,1900]
[null,null,null,null,null,null,null,null,null,null,null," ",null,1,1900]
[null,null,null,null,null,null,null,null,null,null,null," ",null,1,1900]
[null,null,null,null,null,null,null,null,null,null,null," ",null,1,1900]
[null,null,null,null,null,null,null,null,null,null,null," ",null,1,1900]
[null,null,null,null,null,null,null,null,null,null,null," ",null,1,1900]
[null,null,null,null,null,null,null,null,null,null,null," ",null,1,1900]
[null,null,null,null,null,null,null,null,null,null,null," ",null,1,1900]
[null,null,null,null,null,null,null,null,null,null,null," ",null,1,1900]
[null,null,null,null,null,null,null,null,null,null,null," ",null,1,1900]
[null,null,null,null,null,null,null,null,null,null,null," ",null,1,1900]
[null,null,null,null,null,null,null,null,null,null,null," ",null,1,1900]
[null,null,null,null,null,null,null,null,null,null,null," ",null,1,1900]
[null,null,null,null,null,null,null,null,null,null,null," ",null,1,1900]
[null,null,null,null,null,null,null,null,null,null,null," ",null,1,1900]
[null,null,null,null,null,null,null,null,null,null,null," ",null,1,1900]
[null,null,null,null,null,null,null,null,null,null,null," ",null,1,1900]
[null,null,null,null,null,null,null,null,null,null,null," ",null,1,1900]
[null,null,null,null,null,null,null,null,null,null,null," ",null,1,1900]
[null,null,null,null,null,null,null,null,null,null,null," ",null,1,1900]
[null,null,null,null,null,null,null,null,null,null,null,{"$f":"+IF(K65272=K65271,\" \",K65272)","v":" "},null,{"$f":"+MONTH(A65272)","v":1},{"$f":"+YEAR(A65272)","v":1900}]
[null,null,null,null,null,null,null,null,null,null,null," ",null,1,1900]
[null,null,null,null,null,null,null,null,null,null,null," ",null,1,1900]
[null,null,null,null,null,null,null,null,null,null,null," ",null,1,1900]
[null,null,null,null,null,null,null,null,null,null,null," ",null,1,1900]
[null,null,null,null,null,null,null,null,null,null,null," ",null,1,1900]
[null,null,null,null,null,null,null,null,null,null,null," ",null,1,1900]
[null,null,null,null,null,null,null,null,null,null,null," ",null,1,1900]
[null,null,null,null,null,null,null,null,null,null,null," ",null,1,1900]
[null,null,null,null,null,null,null,null,null,null,null," ",null,1,1900]
[null,null,null,null,null,null,null,null,null,null,null," ",null,1,1900]
[null,null,null,null,null,null,null,null,null,null,null," ",null,1,1900]
[null,null,null,null,null,null,null,null,null,null,null," ",null,1,1900]
[null,null,null,null,null,null,null,null,null,null,null," ",null,1,1900]
[null,null,null,null,null,null,null,null,null,null,null," ",null,1,1900]
[null,null,null,null,null,null,null,null,null,null,null," ",null,1,1900]
[null,null,null,null,null,null,null,null,null,null,null," ",null,1,1900]
[null,null,null,null,null,null,null,null,null,null,null," ",null,1,1900]
[null,null,null,null,null,null,null,null,null,null,null," ",null,1,1900]
[null,null,null,null,null,null,null,null,null,null,null," ",null,1,1900]
[null,null,null,null,null,null,null,null,null,null,null," ",null,1,1900]
[null,null,null,null,null,null,null,null,null,null,null," ",null,1,1900]
[null,null,null,null,null,null,null,null,null,null,null," ",null,1,1900]
[null,null,null,null,null,null,null,null,null,null,null," ",null,1,1900]
[null,null,null,null,null,null,null,null,null,null,null," ",null,1,1900]
[null,null,null,null,null,null,null,null,null,null,null," ",null,1,1900]
[null,null,null,null,null,null,null,null,null,null,null," ",null,1,1900]
[null,null,null,null,null,null,null,null,null,null,null," ",null,1,1900]
[null,null,null,null,null,null,null,null,null,null,null," ",null,1,1900]
[null,null,null,null,null,null,null,null,null,null,null," ",null,1,1900]
[null,null,null,null,null,null,null,null,null,null,null," ",null,1,1900]
[null,null,null,null,null,null,null,null,null,null,null," ",null,1,1900]
[null,null,null,null,null,null,null,null,null,null,null," ",null,1,1900]
[null,null,null,null,null,null,null,null,null,null,null," ",null,1,1900]
[null,null,null,null,null,null,null,null,null,null,null," ",null,1,1900]
[null,null,null,null,null,null,null,null,null,null,null," ",null,1,1900]
[null,null,null,null,null,null,null,null,null,null,null," ",null,1,1900]
[null,null,null,null,null,null,null,null,null,null,null," ",null,1,1900]
[null,null,null,null,null,null,null,null,null,null,null," ",null,1,1900]
[null,null,null,null,null,null,null,null,null,null,null," ",null,1,1900]
[null,null,null,null,null,null,null,null,null,null,null," ",null,1,1900]
[null,null,null,null,null,null,null,null,null,null,null," ",null,1,1900]
[null,null,null,null,null,null,null,null,null,null,null," ",null,1,1900]
[null,null,null,null,null,null,null,null,null,null,null," ",null,1,1900]
[null,null,null,null,null,null,null,null,null,null,null," ",null,1,1900]
[null,null,null,null,null,null,null,null,null,null,null," ",null,1,1900]
[null,null,null,null,null,null,null,null,null,null,null," ",null,1,1900]
[null,null,null,null,null,null,null,null,null,null,null," ",null,1,1900]
[null,null,null,null,null,null,null,null,null,null,null," ",null,1,1900]
[null,null,null,null,null,null,null,null,null,null,null," ",null,1,1900]
[null,null,null,null,null,null,null,null,null,null,null," ",null,1,1900]
[null,null,null,null,null,null,null,null,null,null,null," ",null,1,1900]
[null,null,null,null,null,null,null,null,null,null,null," ",null,1,1900]
[null,null,null,null,null,null,null,null,null,null,null," ",null,1,1900]
[null,null,null,null,null,null,null,null,null,null,null," ",null,1,1900]
[null,null,null,null,null,null,null,null,null,null,null," ",null,1,1900]
[null,null,null,null,null,null,null,null,null,null,null," ",null,1,1900]
[null,null,null,null,null,null,null,null,null,null,null," ",null,1,1900]
[null,null,null,null,null,null,null,null,null,null,null," ",null,1,1900]
[null,null,null,null,null,null,null,null,null,null,null," ",null,1,1900]
[null,null,null,null,null,null,null,null,null,null,null," ",null,1,1900]
[null,null,null,null,null,null,null,null,null,null,null," ",null,1,1900]
[null,null,null,null,null,null,null,null,null,null,null," ",null,1,1900]
[null,null,null,null,null,null,null,null,null,null,null," ",null,1,1900]
[null,null,null,null,null,null,null,null,null,null,null,{"$f":"+IF(K65336=K65335,\" \",K65336)","v":" "},null,{"$f":"+MONTH(A65336)","v":1},{"$f":"+YEAR(A65336)","v":1900}]
[null,null,null,null,null,null,null,null,null,null,null," ",null,1,1900]
[null,null,null,null,null,null,null,null,null,null,null," ",null,1,1900]
[null,null,null,null,null,null,null,null,null,null,null," ",null,1,1900]
[null,null,null,null,null,null,null,null,null,null,null," ",null,1,1900]
[null,null,null,null,null,null,null,null,null,null,null," ",null,1,1900]
[null,null,null,null,null,null,null,null,null,null,null," ",null,1,1900]
[null,null,null,null,null,null,null,null,null,null,null," ",null,1,1900]
[null,null,null,null,null,null,null,null,null,null,null," ",null,1,1900]
[null,null,null,null,null,null,null,null,null,null,null," ",null,1,1900]
[null,null,null,null,null,null,null,null,null,null,null," ",null,1,1900]
[null,null,null,null,null,null,null,null,null,null,null," ",null,1,1900]
[null,null,null,null,null,null,null,null,null,null,null," ",null,1,1900]
[null,null,null,null,null,null,null,null,null,null,null," ",null,1,1900]
[null,null,null,null,null,null,null,null,null,null,null," ",null,1,1900]
[null,null,null,null,null,null,null,null,null,null,null," ",null,1,1900]
[null,null,null,null,null,null,null,null,null,null,null," ",null,1,1900]
[null,null,null,null,null,null,null,null,null,null,null," ",null,1,1900]
[null,null,null,null,null,null,null,null,null,null,null," ",null,1,1900]
[null,null,null,null,null,null,null,null,null,null,null," ",null,1,1900]
[null,null,null,null,null,null,null,null,null,null,null," ",null,1,1900]
[null,null,null,null,null,null,null,null,null,null,null," ",null,1,1900]
[null,null,null,null,null,null,null,null,null,null,null," ",null,1,1900]
[null,null,null,null,null,null,null,null,null,null,null," ",null,1,1900]
[null,null,null,null,null,null,null,null,null,null,null," ",null,1,1900]
[null,null,null,null,null,null,null,null,null,null,null," ",null,1,1900]
[null,null,null,null,null,null,null,null,null,null,null," ",null,1,1900]
[null,null,null,null,null,null,null,null,null,null,null," ",null,1,1900]
[null,null,null,null,null,null,null,null,null,null,null," ",null,1,1900]
[null,null,null,null,null,null,null,null,null,null,null," ",null,1,1900]
[null,null,null,null,null,null,null,null,null,null,null," ",null,1,1900]
[null,null,null,null,null,null,null,null,null,null,null," ",null,1,1900]
[null,null,null,null,null,null,null,null,null,null,null," ",null,1,1900]
[null,null,null,null,null,null,null,null,null,null,null," ",null,1,1900]
[null,null,null,null,null,null,null,null,null,null,null," ",null,1,1900]
[null,null,null,null,null,null,null,null,null,null,null," ",null,1,1900]
[null,null,null,null,null,null,null,null,null,null,null," ",null,1,1900]
[null,null,null,null,null,null,null,null,null,null,null," ",null,1,1900]
[null,null,null,null,null,null,null,null,null,null,null," ",null,1,1900]
[null,null,null,null,null,null,null,null,null,null,null," ",null,1,1900]
[null,null,null,null,null,null,null,null,null,null,null," ",null,1,1900]
[null,null,null,null,null,null,null,null,null,null,null," ",null,1,1900]
[null,null,null,null,null,null,null,null,null,null,null," ",null,1,1900]
[null,null,null,null,null,null,null,null,null,null,null," ",null,1,1900]
[null,null,null,null,null,null,null,null,null,null,null," ",null,1,1900]
[null,null,null,null,null,null,null,null,null,null,null," ",null,1,1900]
[null,null,null,null,null,null,null,null,null,null,null," ",null,1,1900]
[null,null,null,null,null,null,null,null,null,null,null," ",null,1,1900]
[null,null,null,null,null,null,null,null,null,null,null," ",null,1,1900]
[null,null,null,null,null,null,null,null,null,null,null," ",null,1,1900]
[null,null,null,null,null,null,null,null,null,null,null," ",null,1,1900]
[null,null,null,null,null,null,null,null,null,null,null," ",null,1,1900]
[null,null,null,null,null,null,null,null,null,null,null," ",null,1,1900]
[null,null,null,null,null,null,null,null,null,null,null," ",null,1,1900]
[null,null,null,null,null,null,null,null,null,null,null," ",null,1,1900]
[null,null,null,null,null,null,null,null,null,null,null," ",null,1,1900]
[null,null,null,null,null,null,null,null,null,null,null," ",null,1,1900]
[null,null,null,null,null,null,null,null,null,null,null," ",null,1,1900]
[null,null,null,null,null,null,null,null,null,null,null," ",null,1,1900]
[null,null,null,null,null,null,null,null,null,null,null," ",null,1,1900]
[null,null,null,null,null,null,null,null,null,null,null," ",null,1,1900]
[null,null,null,null,null,null,null,null,null,null,null," ",null,1,1900]
[null,null,null,null,null,null,null,null,null,null,null," ",null,1,1900]
[null,null,null,null,null,null,null,null,null,null,null," ",null,1,1900]
[null,null,null,null,null,null,null,null,null,null,null,{"$f":"+IF(K65400=K65399,\" \",K65400)","v":" "},null,{"$f":"+MONTH(A65400)","v":1},{"$f":"+YEAR(A65400)","v":1900}]
[null,null,null,null,null,null,null,null,null,null,null," ",null,1,1900]
[null,null,null,null,null,null,null,null,null,null,null," ",null,1,1900]
[null,null,null,null,null,null,null,null,null,null,null," ",null,1,1900]
[null,null,null,null,null,null,null,null,null,null,null," ",null,1,1900]
[null,null,null,null,null,null,null,null,null,null,null," ",null,1,1900]
[null,null,null,null,null,null,null,null,null,null,null," ",null,1,1900]
[null,null,null,null,null,null,null,null,null,null,null," ",null,1,1900]
[null,null,null,null,null,null,null,null,null,null,null," ",null,1,1900]
[null,null,null,null,null,null,null,null,null,null,null," ",null,1,1900]
[null,null,null,null,null,null,null,null,null,null,null," ",null,1,1900]
[null,null,null,null,null,null,null,null,null,null,null," ",null,1,1900]
[null,null,null,null,null,null,null,null,null,null,null," ",null,1,1900]
[null,null,null,null,null,null,null,null,null,null,null," ",null,1,1900]
[null,null,null,null,null,null,null,null,null,null,null," ",null,1,1900]
[null,null,null,null,null,null,null,null,null,null,null," ",null,1,1900]
[null,null,null,null,null,null,null,null,null,null,null," ",null,1,1900]
[null,null,null,null,null,null,null,null,null,null,null," ",null,1,1900]
[null,null,null,null,null,null,null,null,null,null,null," ",null,1,1900]
[null,null,null,null,null,null,null,null,null,null,null," ",null,1,1900]
[null,null,null,null,null,null,null,null,null,null,null," ",null,1,1900]
[null,null,null,null,null,null,null,null,null,null,null," ",null,1,1900]
[null,null,null,null,null,null,null,null,null,null,null," ",null,1,1900]
[null,null,null,null,null,null,null,null,null,null,null," ",null,1,1900]
[null,null,null,null,null,null,null,null,null,null,null," ",null,1,1900]
[null,null,null,null,null,null,null,null,null,null,null," ",null,1,1900]
[null,null,null,null,null,null,null,null,null,null,null," ",null,1,1900]
[null,null,null,null,null,null,null,null,null,null,null," ",null,1,1900]
[null,null,null,null,null,null,null,null,null,null,null," ",null,1,1900]
[null,null,null,null,null,null,null,null,null,null,null," ",null,1,1900]
[null,null,null,null,null,null,null,null,null,null,null," ",null,1,1900]
[null,null,null,null,null,null,null,null,null,null,null," ",null,1,1900]
[null,null,null,null,null,null,null,null,null,null,null," ",null,1,1900]
[null,null,null,null,null,null,null,null,null,null,null," ",null,1,1900]
[null,null,null,null,null,null,null,null,null,null,null," ",null,1,1900]
[null,null,null,null,null,null,null,null,null,null,null," ",null,1,1900]
[null,null,null,null,null,null,null,null,null,null,null," ",null,1,1900]
[null,null,null,null,null,null,null,null,null,null,null," ",null,1,1900]
[null,null,null,null,null,null,null,null,null,null,null," ",null,1,1900]
[null,null,null,null,null,null,null,null,null,null,null," ",null,1,1900]
[null,null,null,null,null,null,null,null,null,null,null," ",null,1,1900]
[null,null,null,null,null,null,null,null,null,null,null," ",null,1,1900]
[null,null,null,null,null,null,null,null,null,null,null," ",null,1,1900]
[null,null,null,null,null,null,null,null,null,null,null," ",null,1,1900]
[null,null,null,null,null,null,null,null,null,null,null," ",null,1,1900]
[null,null,null,null,null,null,null,null,null,null,null," ",null,1,1900]
[null,null,null,null,null,null,null,null,null,null,null," ",null,1,1900]
[null,null,null,null,null,null,null,null,null,null,null," ",null,1,1900]
[null,null,null,null,null,null,null,null,null,null,null," ",null,1,1900]
[null,null,null,null,null,null,null,null,null,null,null," ",null,1,1900]
[null,null,null,null,null,null,null,null,null,null,null," ",null,1,1900]
[null,null,null,null,null,null,null,null,null,null,null," ",null,1,1900]
[null,null,null,null,null,null,null,null,null,null,null," ",null,1,1900]
[null,null,null,null,null,null,null,null,null,null,null," ",null,1,1900]
[null,null,null,null,null,null,null,null,null,null,null," ",null,1,1900]
[null,null,null,null,null,null,null,null,null,null,null," ",null,1,1900]
[null,null,null,null,null,null,null,null,null,null,null," ",null,1,1900]
[null,null,null,null,null,null,null,null,null,null,null," ",null,1,1900]
[null,null,null,null,null,null,null,null,null,null,null," ",null,1,1900]
[null,null,null,null,null,null,null,null,null,null,null," ",null,1,1900]
[null,null,null,null,null,null,null,null,null,null,null," ",null,1,1900]
[null,null,null,null,null,null,null,null,null,null,null," ",null,1,1900]
[null,null,null,null,null,null,null,null,null,null,null," ",null,1,1900]
[null,null,null,null,null,null,null,null,null,null,null," ",null,1,1900]
[null,null,null,null,null,null,null,null,null,null,null,{"$f":"+IF(K65464=K65463,\" \",K65464)","v":" "},null,{"$f":"+MONTH(A65464)","v":1},{"$f":"+YEAR(A65464)","v":1900}]
[null,null,null,null,null,null,null,null,null,null,null," ",null,1,1900]
[null,null,null,null,null,null,null,null,null,null,null," ",null,1,1900]
[null,null,null,null,null,null,null,null,null,null,null," ",null,1,1900]
[null,null,null,null,null,null,null,null,null,null,null," ",null,1,1900]
[null,null,null,null,null,null,null,null,null,null,null," ",null,1,1900]
[null,null,null,null,null,null,null,null,null,null,null," ",null,1,1900]
[null,null,null,null,null,null,null,null,null,null,null," ",null,1,1900]
[null,null,null,null,null,null,null,null,null,null,null," ",null,1,1900]
[null,null,null,null,null,null,null,null,null,null,null," ",null,1,1900]
[null,null,null,null,null,null,null,null,null,null,null," ",null,1,1900]
[null,null,null,null,null,null,null,null,null,null,null," ",null,1,1900]
[null,null,null,null,null,null,null,null,null,null,null," ",null,1,1900]
[null,null,null,null,null,null,null,null,null,null,null," ",null,1,1900]
[null,null,null,null,null,null,null,null,null,null,null," ",null,1,1900]
[null,null,null,null,null,null,null,null,null,null,null," ",null,1,1900]
[null,null,null,null,null,null,null,null,null,null,null," ",null,1,1900]
[null,null,null,null,null,null,null,null,null,null,null," ",null,1,1900]
[null,null,null,null,null,null,null,null,null,null,null," ",null,1,1900]
[null,null,null,null,null,null,null,null,null,null,null," ",null,1,1900]
[null,null,null,null,null,null,null,null,null,null,null," ",null,1,1900]
[null,null,null,null,null,null,null,null,null,null,null," ",null,1,1900]
[null,null,null,null,null,null,null,null,null,null,null," ",null,1,1900]
[null,null,null,null,null,null,null,null,null,null,null," ",null,1,1900]
[null,null,null,null,null,null,null,null,null,null,null," ",null,1,1900]
[null,null,null,null,null,null,null,null,null,null,null," ",null,1,1900]
[null,null,null,null,null,null,null,null,null,null,null," ",null,1,1900]
[null,null,null,null,null,null,null,null,null,null,null," ",null,1,1900]
[null,null,null,null,null,null,null,null,null,null,null," ",null,1,1900]
[null,null,null,null,null,null,null,null,null,null,null," ",null,1,1900]
[null,null,null,null,null,null,null,null,null,null,null," ",null,1,1900]
[null,null,null,null,null,null,null,null,null,null,null," ",null,1,1900]
[null,null,null,null,null,null,null,null,null,null,null," ",null,1,1900]
[null,null,null,null,null,null,null,null,null,null,null," ",null,1,1900]
[null,null,null,null,null,null,null,null,null,null,null," ",null,1,1900]
[null,null,null,null,null,null,null,null,null,null,null," ",null,1,1900]
[null,null,null,null,null,null,null,null,null,null,null," ",null,1,1900]
[null,null,null,null,null,null,null,null,null,null,null," ",null,1,1900]
[null,null,null,null,null,null,null,null,null,null,null," ",null,1,1900]
[null,null,null,null,null,null,null,null,null,null,null," ",null,1,1900]
[null,null,null,null,null,null,null,null,null,null,null," ",null,1,1900]
[null,null,null,null,null,null,null,null,null,null,null," ",null,1,1900]
[null,null,null,null,null,null,null,null,null,null,null," ",null,1,1900]
[null,null,null,null,null,null,null,null,null,null,null," ",null,1,1900]
[null,null,null,null,null,null,null,null,null,null,null," ",null,1,1900]
[null,null,null,null,null,null,null,null,null,null,null," ",null,1,1900]
[null,null,null,null,null,null,null,null,null,null,null," ",null,1,1900]
[null,null,null,null,null,null,null,null,null,null,null," ",null,1,1900]
[null,null,null,null,null,null,null,null,null,null,null," ",null,1,1900]
[null,null,null,null,null,null,null,null,null,null,null," ",null,1,1900]
[null,null,null,null,null,null,null,null,null,null,null," ",null,1,1900]
[null,null,null,null,null,null,null,null,null,null,null," ",null,1,1900]
[null,null,null,null,null,null,null,null,null,null,null," ",null,1,1900]
[null,null,null,null,null,null,null,null,null,null,null," ",null,1,1900]
[null,null,null,null,null,null,null,null,null,null,null," ",null,1,1900]
[null,null,null,null,null,null,null,null,null,null,null," ",null,1,1900]
[null,null,null,null,null,null,null,null,null,null,null," ",null,1,1900]
[null,null,null,null,null,null,null,null,null,null,null," ",null,1,1900]
[null,null,null,null,null,null,null,null,null,null,null," ",null,1,1900]
[null,null,null,null,null,null,null,null,null,null,null," ",null,1,1900]
[null,null,null,null,null,null,null,null,null,null,null," ",null,1,1900]
[null,null,null,null,null,null,null,null,null,null,null," ",null,1,1900]
[null,null,null,null,null,null,null,null,null,null,null," ",null,1,1900]
[null,null,null,null,null,null,null,null,null,null,null," ",null,1,1900]
[null,null,null,null,null,null,null,null,null,null,null,{"$f":"+IF(K65528=K65527,\" \",K65528)","v":" "},null,{"$f":"+MONTH(A65528)","v":1},{"$f":"+YEAR(A65528)","v":1900}]
[null,null,null,null,null,null,null,null,null,null,null," ",null,1,1900]
[null,null,null,null,null,null,null,null,null,null,null," ",null,1,1900]
[null,null,null,null,null,null,null,null,null,null,null," ",null,1,1900]
[null,null,null,null,null,null,null,null,null,null,null," ",null,1,1900]
[null,null,null,null,null,null,null,null,null,null,null," ",null,1,1900]
[null,null,null,null,null,null,null,null,null,null,null," ",null,1,1900]
[null,null,null,null,null,null,null,null,null,null,null," ",null,1,1900]
[null,null,null,null,null,null,null,null,null,null,null," ",null,1,1900]

{"sheet":"Exclusión","index":4,"n_rows":1,"n_cols":1,"rows_kept":1,"cut":false,"hidden":false,"merged":[[0,0,13,7]]}
["“Titularizadora Colombiana S.A publica el presente documento con un carácter estrictamente informativo para los inversionistas. Aunque la información aquí contenida ha sido obtenida de fuentes que la compañía considera confiables, Titularizadora Colombiana S.A no garantiza su exactitud. En ningún caso su contenido se puede considerar como una opinión financiera o legal ni como una recomendación de negocios o de inversión por parte de nuestra compañía. Tampoco puede ser considerado como una invitación a realizar negocios ni como una oferta para comprar o vender ningún tipo de valor. En ningún caso Titularizadora Colombiana S.A asume responsabilidad por las decisiones de inversión que se tomen, o el resultado de cualquier operación que se efectúe por parte de los destinatarios o de terceras personas, sobre la información aquí contenida. Tal responsabilidad es exclusiva de los inversionistas que hagan uso de ella. Dicha información puede tener variaciones posteriores a la fecha de su publicación razón por la cual Titularizadora Colombiana S.A se reserva el derecho de modificarla o actualizarla en cualquier tiempo y sin previo aviso.”"]

{"sheet":"UVR","index":5,"n_rows":3033,"n_cols":2,"rows_kept":3033,"cut":false,"hidden":true,"merged":[]}
["Fecha","UVR"]
["2017-09-14",251.64320000000001]
["2017-09-15",251.63910000000001]
["2017-09-16",251.6508]
["2017-09-17",251.6626]
["2017-09-18",251.67429999999999]
["2017-09-19",251.68600000000001]
["2017-09-20",251.6978]
["2017-09-21",251.70949999999999]
["2017-09-22",251.72130000000001]
["2017-09-23",251.733]
["2017-09-24",251.74469999999999]
["2017-09-25",251.75649999999999]
["2017-09-26",251.76820000000001]
["2017-09-27",251.78]
["2017-09-28",251.79169999999999]
["2017-09-29",251.80340000000001]
["2017-09-30",251.8152]
["2017-10-01",251.82689999999999]
["2017-10-02",251.83869999999999]
["2017-10-03",251.85040000000001]
["2017-10-04",251.8622]
["2017-10-05",251.87389999999999]
["2017-10-06",251.88570000000001]
["2017-10-07",251.8974]
["2017-10-08",251.9091]
["2017-10-09",251.92089999999999]
["2017-10-10",251.93260000000001]
["2017-10-11",251.9444]
["2017-10-12",251.95609999999999]
["2017-10-13",251.96789999999999]
["2017-10-14",251.9796]
["2017-10-15",251.9914]
["2017-10-16",251.99469999999999]
["2017-10-17",251.99789999999999]
["2017-10-18",252.00120000000001]
["2017-10-19",252.0044]
["2017-10-20",252.0077]
["2017-10-21",252.01089999999999]
["2017-10-22",252.01419999999999]
["2017-10-23",252.01740000000001]
["2017-10-24",252.02070000000001]
["2017-10-25",252.0239]
["2017-10-26",252.02719999999999]
["2017-10-27",252.03039999999999]
["2017-10-28",252.03370000000001]
["2017-10-29",252.0369]
["2017-10-30",252.0402]
["2017-10-31",252.04339999999999]
["2017-11-01",252.04669999999999]
["2017-11-02",252.04990000000001]
["2017-11-03",252.0532]
["2017-11-04",252.0564]
["2017-11-05",252.05969999999999]
["2017-11-06",252.06290000000001]
["2017-11-07",252.06620000000001]
["2017-11-08",252.0694]
["2017-11-09",252.0727]
["2017-11-10",252.07589999999999]
["2017-11-11",252.07919999999999]
["2017-11-12",252.08240000000001]
["2017-11-13",252.0857]
["2017-11-14",252.0889]
["2017-11-15",252.09219999999999]
["2017-11-16",252.09389999999999]
["2017-11-17",252.09559999999999]
["2017-11-18",252.09719999999999]
["2017-11-19",252.09889999999999]
["2017-11-20",252.10059999999999]
["2017-11-21",252.10230000000001]
["2017-11-22",252.10400000000001]
["2017-11-23",252.10560000000001]
["2017-11-24",252.10730000000001]
["2017-11-25",252.10900000000001]
["2017-11-26",252.11070000000001]
["2017-11-27",252.11240000000001]
["2017-11-28",252.114]
["2017-11-29",252.1157]
["2017-11-30",252.1174]
["2017-12-01",252.1191]
["2017-12-02",252.1208]
["2017-12-03",252.1224]
["2017-12-04",252.1241]
["2017-12-05",252.1258]
["2017-12-06",252.1275]
["2017-12-07",252.1292]
["2017-12-08",252.1309]
["2017-12-09",252.13249999999999]
["2017-12-10",252.13419999999999]
["2017-12-11",252.13589999999999]
["2017-12-12",252.13759999999999]
["2017-12-13",252.13929999999999]
["2017-12-14",252.14089999999999]
["2017-12-15",252.14259999999999]
["2017-12-16",252.15719999999999]
["2017-12-17",252.17189999999999]
["2017-12-18",252.1865]
["2017-12-19",252.2011]
["2017-12-20",252.2157]
["2017-12-21",252.2304]
["2017-12-22",252.245]
["2017-12-23",252.25960000000001]
["2017-12-24",252.27430000000001]
["2017-12-25",252.28890000000001]
["2017-12-26",252.30359999999999]
["2017-12-27",252.31819999999999]
["2017-12-28",252.33279999999999]
["2017-12-29",252.3475]
["2017-12-30",252.3621]
["2017-12-31",252.3767]
["2018-01-01",252.3914]
["2018-01-02",252.40600000000001]
["2018-01-03",252.42070000000001]
["2018-01-04",252.43530000000001]
["2018-01-05",252.45]
["2018-01-06",252.46459999999999]
["2018-01-07",252.47929999999999]
["2018-01-08",252.4939]
["2018-01-09",252.5085]
["2018-01-10",252.5232]
["2018-01-11",252.5378]
["2018-01-12",252.55250000000001]
["2018-01-13",252.56720000000001]
["2018-01-14",252.58179999999999]
["2018-01-15",252.59649999999999]
["2018-01-16",252.62739999999999]
["2018-01-17",252.6583]
["2018-01-18",252.6892]
["2018-01-19",252.7201]
["2018-01-20",252.75110000000001]
["2018-01-21",252.78200000000001]
["2018-01-22",252.81290000000001]
["2018-01-23",252.84389999999999]
["2018-01-24",252.87479999999999]
["2018-01-25",252.9057]
["2018-01-26",252.9367]
["2018-01-27",252.9676]
["2018-01-28",252.99860000000001]
["2018-01-29",253.02950000000001]
["2018-01-30",253.06049999999999]
["2018-01-31",253.0915]
["2018-02-01",253.1224]
["2018-02-02",253.1534]
["2018-02-03",253.18440000000001]
["2018-02-04",253.21539999999999]
["2018-02-05",253.24629999999999]
["2018-02-06",253.2773]
["2018-02-07",253.3083]
["2018-02-08",253.33930000000001]
["2018-02-09",253.37029999999999]
["2018-02-10",253.40129999999999]
["2018-02-11",253.4323]
["2018-02-12",253.4633]
["2018-02-13",253.49430000000001]
["2018-02-14",253.52529999999999]
["2018-02-15",253.5564]
["2018-02-16",253.61330000000001]
["2018-02-17",253.67019999999999]
["2018-02-18",253.72710000000001]
["2018-02-19",253.78399999999999]
["2018-02-20",253.8409]
["2018-02-21",253.89789999999999]
["2018-02-22",253.95480000000001]
["2018-02-23",254.01179999999999]
["2018-02-24",254.06880000000001]
["2018-02-25",254.1258]
["2018-02-26",254.18279999999999]
["2018-02-27",254.2398]
["2018-02-28",254.29679999999999]
["2018-03-01",254.35380000000001]
["2018-03-02",254.4109]
["2018-03-03",254.46799999999999]
["2018-03-04",254.52510000000001]
["2018-03-05",254.5822]
["2018-03-06",254.63929999999999]
["2018-03-07",254.69640000000001]
["2018-03-08",254.7535]
["2018-03-09",254.8107]
["2018-03-10",254.86779999999999]
["2018-03-11",254.92500000000001]
["2018-03-12",254.98220000000001]
["2018-03-13",255.0394]
["2018-03-14",255.0966]
["2018-03-15",255.15379999999999]
["2018-03-16",255.21199999999999]
["2018-03-17",255.27029999999999]
["2018-03-18",255.32859999999999]
["2018-03-19",255.38679999999999]
["2018-03-20",255.4451]
["2018-03-21",255.5034]
["2018-03-22",255.5617]
["2018-03-23",255.62010000000001]
["2018-03-24",255.67840000000001]
["2018-03-25",255.73679999999999]
["2018-03-26",255.79519999999999]
["2018-03-27",255.8535]
["2018-03-28",255.9119]
["2018-03-29",255.97040000000001]
["2018-03-30",256.02879999999999]
["2018-03-31",256.0872]
["2018-04-01",256.14569999999998]
["2018-04-02",256.20409999999998]
["2018-04-03",256.26260000000002]
["2018-04-04",256.3211]
["2018-04-05",256.37959999999998]
["2018-04-06",256.43810000000002]
["2018-04-07",256.49669999999998]
["2018-04-08",256.55520000000001]
["2018-04-09",256.61380000000003]
["2018-04-10",256.67230000000001]
["2018-04-11",256.73090000000002]
["2018-04-12",256.78949999999998]
["2018-04-13",256.84809999999999]
["2018-04-14",256.90679999999998]
["2018-04-15",256.96539999999999]
["2018-04-16",256.98590000000002]
["2018-04-17",257.00650000000002]
["2018-04-18",257.02699999999999]
["2018-04-19",257.04750000000001]
["2018-04-20",257.06810000000002]
["2018-04-21",257.08859999999999]
["2018-04-22",257.10919999999999]
["2018-04-23",257.12970000000001]
["2018-04-24",257.15030000000002]
["2018-04-25",257.17079999999999]
["2018-04-26",257.19139999999999]
["2018-04-27",257.21190000000001]
["2018-04-28",257.23250000000002]
["2018-04-29",257.25299999999999]
["2018-04-30",257.27359999999999]
["2018-05-01",257.29410000000001]
["2018-05-02",257.31470000000002]
["2018-05-03",257.33530000000002]
["2018-05-04",257.35579999999999]
["2018-05-05",257.37639999999999]
["2018-05-06",257.39690000000002]
["2018-05-07",257.41750000000002]
["2018-05-08",257.43810000000002]
["2018-05-09",257.45870000000002]
["2018-05-10",257.47919999999999]
["2018-05-11",257.49979999999999]
["2018-05-12",257.5204]
["2018-05-13",257.541]
["2018-05-14",257.56150000000002]
["2018-05-15",257.58210000000003]
["2018-05-16",257.62020000000001]
["2018-05-17",257.65839999999997]
["2018-05-18",257.69650000000001]
["2018-05-19",257.73469999999998]
["2018-05-20",257.77280000000002]
["2018-05-21",257.81099999999998]
["2018-05-22",257.8492]
["2018-05-23",257.88740000000001]
["2018-05-24",257.9255]
["2018-05-25",257.96370000000002]
["2018-05-26",258.00189999999998]
["2018-05-27",258.0401]
["2018-05-28",258.07830000000001]
["2018-05-29",258.11649999999997]
["2018-05-30",258.15469999999999]
["2018-05-31",258.19299999999998]
["2018-06-01",258.2312]
["2018-06-02",258.26940000000002]
["2018-06-03",258.30770000000001]
["2018-06-04",258.34589999999997]
["2018-06-05",258.38420000000002]
["2018-06-06",258.42239999999998]
["2018-06-07",258.46069999999997]
["2018-06-08",258.49889999999999]
["2018-06-09",258.53719999999998]
["2018-06-10",258.57549999999998]
["2018-06-11",258.61380000000003]
["2018-06-12",258.65210000000002]
["2018-06-13",258.69040000000001]
["2018-06-14",258.7287]
["2018-06-15",258.767]
["2018-06-16",258.7885]
["2018-06-17",258.81009999999998]
["2018-06-18",258.83159999999998]
["2018-06-19",258.85320000000002]
["2018-06-20",258.87470000000002]
["2018-06-21",258.8963]
["2018-06-22",258.9178]
["2018-06-23",258.93939999999998]
["2018-06-24",258.96089999999998]
["2018-06-25",258.98250000000002]
["2018-06-26",259.00400000000002]
["2018-06-27",259.0256]
["2018-06-28",259.0471]
["2018-06-29",259.06869999999998]
["2018-06-30",259.09030000000001]
["2018-07-01",259.11180000000002]
["2018-07-02",259.13339999999999]
["2018-07-03",259.15499999999997]
["2018-07-04",259.17649999999998]
["2018-07-05",259.19810000000001]
["2018-07-06",259.21969999999999]
["2018-07-07",259.24119999999999]
["2018-07-08",259.26280000000003]
["2018-07-09",259.28440000000001]
["2018-07-10",259.30599999999998]
["2018-07-11",259.32760000000002]
["2018-07-12",259.3492]
["2018-07-13",259.3707]
["2018-07-14",259.39229999999998]
["2018-07-15",259.41390000000001]
["2018-07-16",259.4264]
["2018-07-17",259.43900000000002]
["2018-07-18",259.45150000000001]
["2018-07-19",259.46409999999997]
["2018-07-20",259.47660000000002]
["2018-07-21",259.48919999999998]
["2018-07-22",259.50170000000003]
["2018-07-23",259.51429999999999]
["2018-07-24",259.52679999999998]
["2018-07-25",259.5394]
["2018-07-26",259.55189999999999]
["2018-07-27",259.56450000000001]
["2018-07-28",259.577]
["2018-07-29",259.58960000000002]
["2018-07-30",259.60210000000001]
["2018-07-31",259.61470000000003]
["2018-08-01",259.62720000000002]
["2018-08-02",259.63979999999998]
["2018-08-03",259.65230000000003]
["2018-08-04",259.66489999999999]
["2018-08-05",259.67739999999998]
["2018-08-06",259.69]
["2018-08-07",259.70249999999999]
["2018-08-08",259.71510000000001]
["2018-08-09",259.72770000000003]
["2018-08-10",259.74020000000002]
["2018-08-11",259.75279999999998]
["2018-08-12",259.76530000000002]
["2018-08-13",259.77789999999999]
["2018-08-14",259.79050000000001]
["2018-08-15",259.803]
["2018-08-16",259.7921]
["2018-08-17",259.78120000000001]
["2018-08-18",259.77030000000002]
["2018-08-19",259.75940000000003]
["2018-08-20",259.74849999999998]
["2018-08-21",259.73759999999999]
["2018-08-22",259.72669999999999]
["2018-08-23",259.7158]
["2018-08-24",259.70490000000001]
["2018-08-25",259.69400000000002]
["2018-08-26",259.68310000000002]
["2018-08-27",259.67219999999998]
["2018-08-28",259.66129999999998]
["2018-08-29",259.65039999999999]
["2018-08-30",259.6395]
["2018-08-31",259.62860000000001]
["2018-09-01",259.61770000000001]
["2018-09-02",259.60680000000002]
["2018-09-03",259.59589999999997]
["2018-09-04",259.58510000000001]
["2018-09-05",259.57420000000002]
["2018-09-06",259.56330000000003]
["2018-09-07",259.55239999999998]
["2018-09-08",259.54149999999998]
["2018-09-09",259.53059999999999]
["2018-09-10",259.5197]
["2018-09-11",259.50880000000001]
["2018-09-12",259.49790000000002]
["2018-09-13",259.48700000000002]
["2018-09-14",259.47609999999997]
["2018-09-15",259.46530000000001]
["2018-09-16",259.47570000000002]
["2018-09-17",259.48599999999999]
["2018-09-18",259.49639999999999]
["2018-09-19",259.5068]
["2018-09-20",259.5172]
["2018-09-21",259.52749999999997]
["2018-09-22",259.53789999999998]
["2018-09-23",259.54829999999998]
["2018-09-24",259.55869999999999]
["2018-09-25",259.56900000000002]
["2018-09-26",259.57940000000002]
["2018-09-27",259.58980000000003]
["2018-09-28",259.60019999999997]
["2018-09-29",259.61059999999998]
["2018-09-30",259.62090000000001]
["2018-10-01",259.63130000000001]
["2018-10-02",259.64170000000001]
["2018-10-03",259.65210000000002]
["2018-10-04",259.66250000000002]
["2018-10-05",259.6728]
["2018-10-06",259.6832]
["2018-10-07",259.6936]
["2018-10-08",259.70400000000001]
["2018-10-09",259.71440000000001]
["2018-10-10",259.72469999999998]
["2018-10-11",259.73509999999999]
["2018-10-12",259.74549999999999]
["2018-10-13",259.7559]
["2018-10-14",259.7663]
["2018-10-15",259.77670000000001]
["2018-10-16",259.7901]
["2018-10-17",259.80349999999999]
["2018-10-18",259.81689999999998]
["2018-10-19",259.83030000000002]
["2018-10-20",259.84370000000001]
["2018-10-21",259.8571]
["2018-10-22",259.87049999999999]
["2018-10-23",259.88389999999998]
["2018-10-24",259.89729999999997]
["2018-10-25",259.91070000000002]
["2018-10-26",259.92410000000001]
["2018-10-27",259.9375]
["2018-10-28",259.95089999999999]
["2018-10-29",259.96429999999998]
["2018-10-30",259.97770000000003]
["2018-10-31",259.99110000000002]
["2018-11-01",260.00459999999998]
["2018-11-02",260.01799999999997]
["2018-11-03",260.03140000000002]
["2018-11-04",260.04480000000001]
["2018-11-05",260.0582]
["2018-11-06",260.07159999999999]
["2018-11-07",260.08499999999998]
["2018-11-08",260.09840000000003]
["2018-11-09",260.11180000000002]
["2018-11-10",260.12529999999998]
["2018-11-11",260.13869999999997]
["2018-11-12",260.15210000000002]
["2018-11-13",260.16550000000001]
["2018-11-14",260.1789]
["2018-11-15",260.19229999999999]
["2018-11-16",260.20269999999999]
["2018-11-17",260.2131]
["2018-11-18",260.2235]
["2018-11-19",260.23390000000001]
["2018-11-20",260.24430000000001]
["2018-11-21",260.25470000000001]
["2018-11-22",260.26510000000002]
["2018-11-23",260.27550000000002]
["2018-11-24",260.28590000000003]
["2018-11-25",260.29629999999997]
["2018-11-26",260.30669999999998]
["2018-11-27",260.31709999999998]
["2018-11-28",260.32760000000002]
["2018-11-29",260.33800000000002]
["2018-11-30",260.34840000000003]
["2018-12-01",260.35879999999997]
["2018-12-02",260.36919999999998]
["2018-12-03",260.37959999999998]
["2018-12-04",260.39]
["2018-12-05",260.40039999999999]
["2018-12-06",260.41079999999999]
["2018-12-07",260.4212]
["2018-12-08",260.4316]
["2018-12-09",260.44209999999998]
["2018-12-10",260.45249999999999]
["2018-12-11",260.46289999999999]
["2018-12-12",260.47329999999999]
["2018-12-13",260.4837]
["2018-12-14",260.4941]
["2018-12-15",260.50450000000001]
["2018-12-16",260.51459999999997]
["2018-12-17",260.5247]
["2018-12-18",260.53469999999999]
["2018-12-19",260.54480000000001]
["2018-12-20",260.55489999999998]
["2018-12-21",260.565]
["2018-12-22",260.57510000000002]
["2018-12-23",260.58510000000001]
["2018-12-24",260.59519999999998]
["2018-12-25",260.6053]
["2018-12-26",260.61540000000002]
["2018-12-27",260.62549999999999]
["2018-12-28",260.63549999999998]
["2018-12-29",260.6456]
["2018-12-30",260.65570000000002]
["2018-12-31",260.66579999999999]
["2019-01-01",260.67590000000001]
["2019-01-02",260.68599999999998]
["2019-01-03",260.6961]
["2019-01-04",260.70609999999999]
["2019-01-05",260.71620000000001]
["2019-01-06",260.72629999999998]
["2019-01-07",260.7364]
["2019-01-08",260.74650000000003]
["2019-01-09",260.75659999999999]
["2019-01-10",260.76670000000001]
["2019-01-11",260.77670000000001]
["2019-01-12",260.78680000000003]
["2019-01-13",260.79689999999999]
["2019-01-14",260.80700000000002]
["2019-01-15",260.81709999999998]
["2019-01-15",260.81709999999998]
["2019-01-16",260.84230000000002]
["2019-01-17",260.86750000000001]
["2019-01-18",260.89269999999999]
["2019-01-19",260.91789999999997]
["2019-01-20",260.94310000000002]
["2019-01-21",260.96839999999997]
["2019-01-22",260.99360000000001]
["2019-01-23",261.0188]
["2019-01-24",261.04399999999998]
["2019-01-25",261.06920000000002]
["2019-01-26",261.09449999999998]
["2019-01-27",261.11970000000002]
["2019-01-28",261.14490000000001]
["2019-01-29",261.17020000000002]
["2019-01-30",261.19540000000001]
["2019-01-31",261.22070000000002]
["2019-02-01",261.24590000000001]
["2019-02-02",261.27109999999999]
["2019-02-03",261.29640000000001]
["2019-02-04",261.32159999999999]
["2019-02-05",261.34690000000001]
["2019-02-06",261.37209999999999]
["2019-02-07",261.3974]
["2019-02-08",261.42270000000002]
["2019-02-09",261.4479]
["2019-02-10",261.47320000000002]
["2019-02-11",261.49849999999998]
["2019-02-12",261.52370000000002]
["2019-02-13",261.54899999999998]
["2019-02-14",261.57429999999999]
["2019-02-15",261.59960000000001]
["2019-02-16","$ 261.6555"]
["2019-02-17","$ 261.7114"]
["2019-02-18","$ 261.7673"]
["2019-02-19","$ 261.8233"]
["2019-02-20","$ 261.8792"]
["2019-02-21","$ 261.9352"]
["2019-02-22","$ 261.9911"]
["2019-02-23","$ 262.0471"]
["2019-02-24","$ 262.1031"]
["2019-02-25","$ 262.1591"]
["2019-02-26","$ 262.2151"]
["2019-02-27","$ 262.2711"]
["2019-02-28","$ 262.3272"]
["2019-03-01","$ 262.3832"]
["2019-03-02","$ 262.4393"]
["2019-03-03","$ 262.4954"]
["2019-03-04","$ 262.5514"]
["2019-03-05","$ 262.6075"]
["2019-03-06","$ 262.6637"]
["2019-03-07","$ 262.7198"]
["2019-03-08","$ 262.7759"]
["2019-03-09","$ 262.8321"]
["2019-03-10","$ 262.8882"]
["2019-03-11","$ 262.9444"]
["2019-03-12","$ 263.0006"]
["2019-03-13","$ 263.0568"]
["2019-03-14","$ 263.1130"]
["2019-03-15","$ 263.1692"]
["2019-03-16",263.21749999999997]
["2019-03-17",263.26569999999998]
["2019-03-18",263.31400000000002]
["2019-03-19",263.3623]
["2019-03-20",263.41059999999999]
["2019-03-21",263.45890000000003]
["2019-03-22",263.50720000000001]
["2019-03-23",263.55549999999999]
["2019-03-24",263.60379999999998]
["2019-03-25",263.65219999999999]
["2019-03-26",263.70049999999998]
["2019-03-27",263.74889999999999]
["2019-03-28",263.79719999999998]
["2019-03-29",263.84559999999999]
["2019-03-30",263.89400000000001]
["2019-03-31",263.94240000000002]
["2019-04-01",263.99079999999998]
["2019-04-02",264.03919999999999]
["2019-04-03",264.08760000000001]
["2019-04-04",264.13600000000002]
["2019-04-05",264.18439999999998]
["2019-04-06",264.23289999999997]
["2019-04-07",264.28129999999999]
["2019-04-08",264.32979999999998]
["2019-04-09",264.37830000000002]
["2019-04-10",264.42669999999998]
["2019-04-11",264.47519999999997]
["2019-04-12",264.52370000000002]
["2019-04-13",264.57220000000001]
["2019-04-14",264.6207]
["2019-04-15",264.66930000000002]
["2019-04-16",264.7072]
["2019-04-17",264.745]
["2019-04-18",264.78289999999998]
["2019-04-19",264.82080000000002]
["2019-04-20",264.85860000000002]
["2019-04-21",264.8965]
["2019-04-22",264.93439999999998]
["2019-04-23",264.97230000000002]
["2019-04-24",265.0102]
["2019-04-25",265.04809999999998]
["2019-04-26",265.08600000000001]
["2019-04-27",265.12389999999999]
["2019-04-28",265.1619]
["2019-04-29",265.19979999999998]
["2019-04-30",265.23770000000002]
["2019-05-01",265.27569999999997]
["2019-05-02",265.31360000000001]
["2019-05-03",265.35160000000002]
["2019-05-04",265.3895]
["2019-05-05",265.42750000000001]
["2019-05-06",265.46539999999999]
["2019-05-07",265.5034]
["2019-05-08",265.54140000000001]
["2019-05-09",265.57940000000002]
["2019-05-10",265.61739999999998]
["2019-05-11",265.65539999999999]
["2019-05-12",265.6934]
["2019-05-13",265.73140000000001]
["2019-05-14",265.76940000000002]
["2019-05-15",265.80739999999997]
["2019-05-16",265.85019999999997]
["2019-05-17",265.8929]
["2019-05-18",265.9357]
["2019-05-19",265.9785]
["2019-05-20",266.0213]
["2019-05-21",266.0641]
["2019-05-22",266.1069]
["2019-05-23",266.1497]
["2019-05-24",266.19260000000003]
["2019-05-25",266.23540000000003]
["2019-05-26",266.27820000000003]
["2019-05-27",266.3211]
["2019-05-28",266.3639]
["2019-05-29",266.40679999999998]
["2019-05-30",266.44970000000001]
["2019-05-31",266.49250000000001]
["2019-06-01",266.53539999999998]
["2019-06-02",266.57830000000001]
["2019-06-03",266.62119999999999]
["2019-06-04",266.66410000000002]
["2019-06-05",266.70699999999999]
["2019-06-06",266.74990000000003]
["2019-06-07",266.7928]
["2019-06-08",266.83580000000001]
["2019-06-09",266.87869999999998]
["2019-06-10",266.92160000000001]
["2019-06-11",266.96460000000002]
["2019-06-12",267.00749999999999]
["2019-06-13",267.0505]
["2019-06-14",267.09350000000001]
["2019-06-15",267.13639999999998]
["2019-06-16",267.16399999999999]
["2019-06-17",267.19150000000002]
["2019-06-18",267.21910000000003]
["2019-06-19",267.24669999999998]
["2019-06-20",267.27420000000001]
["2019-06-21",267.30180000000001]
["2019-06-22",267.32940000000002]
["2019-06-23",267.35700000000003]
["2019-06-24",267.38459999999998]
["2019-06-25",267.41219999999998]
["2019-06-26",267.43970000000002]
["2019-06-27",267.46730000000002]
["2019-06-28",267.49489999999997]
["2019-06-29",267.52249999999998]
["2019-06-30",267.55009999999999]
["2019-07-01",267.57769999999999]
["2019-07-02",267.60539999999997]
["2019-07-03",267.63299999999998]
["2019-07-04",267.66059999999999]
["2019-07-05",267.68819999999999]
["2019-07-06",267.7158]
["2019-07-07",267.74340000000001]
["2019-07-08",267.77109999999999]
["2019-07-09",267.7987]
["2019-07-10",267.8263]
["2019-07-11",267.85399999999998]
["2019-07-12",267.88159999999999]
["2019-07-13",267.9092]
["2019-07-14",267.93689999999998]
["2019-07-15",267.96449999999999]
["2019-07-16",267.98779999999999]
["2019-07-17",268.0111]
["2019-07-18",268.03440000000001]
["2019-07-19",268.05770000000001]
["2019-07-20",268.08109999999999]
["2019-07-21",268.1044]
["2019-07-22",268.1277]
["2019-07-23",268.15100000000001]
["2019-07-24",268.17430000000002]
["2019-07-25",268.1977]
["2019-07-26",268.221]
["2019-07-27",268.24430000000001]
["2019-07-28",268.26769999999999]
["2019-07-29",268.291]
["2019-07-30",268.3143]
["2019-07-31",268.33769999999998]
["2019-08-01",268.36099999999999]
["2019-08-02",268.38440000000003]
["2019-08-03",268.40769999999998]
["2019-08-04",268.43110000000001]
["2019-08-05",268.45440000000002]
["2019-08-06",268.4778]
["2019-08-07",268.50110000000001]
["2019-08-08",268.52449999999999]
["2019-08-09",268.5478]
["2019-08-10",268.57119999999998]
["2019-08-11",268.59449999999998]
["2019-08-12",268.61790000000002]
["2019-08-13",268.6413]
["2019-08-14",268.66460000000001]
["2019-08-15",268.68799999999999]
["2019-08-16",268.70699999999999]
["2019-08-17",268.72609999999997]
["2019-08-18",268.74509999999998]
["2019-08-19",268.76420000000002]
["2019-08-20",268.7833]
["2019-08-21",268.8023]
["2019-08-22",268.82139999999998]
["2019-08-23",268.84039999999999]
["2019-08-24",268.85950000000003]
["2019-08-25",268.87849999999997]
["2019-08-26",268.89760000000001]
["2019-08-27",268.91669999999999]
["2019-08-28",268.9357]
["2019-08-29",268.95479999999998]
["2019-08-30",268.97390000000001]
["2019-08-31",268.99290000000002]
["2019-09-01",269.012]
["2019-09-02",269.03109999999998]
["2019-09-03",269.05009999999999]
["2019-09-04",269.06920000000002]
["2019-09-05",269.0883]
["2019-09-06",269.10739999999998]
["2019-09-07",269.12639999999999]
["2019-09-08",269.14550000000003]
["2019-09-09",269.16460000000001]
["2019-09-10",269.18369999999999]
["2019-09-11",269.20280000000002]
["2019-09-12",269.22190000000001]
["2019-09-13",269.24090000000001]
["2019-09-14",269.26]
["2019-09-15",269.27910000000003]
["2019-09-16",269.28719999999998]
["2019-09-17",269.952]
["2019-09-18",269.03300000000002]
["2019-09-19",269.11399999999998]
["2019-09-20",269.19499999999999]
["2019-09-21",269.27600000000001]
["2019-09-22",269.35599999999999]
["2019-09-23",269.43700000000001]
["2019-09-24",269.51799999999997]
["2019-09-25",269.59899999999999]
["2019-09-26",269.67899999999997]
["2019-09-27",269.76]
["2019-09-28",269.84100000000001]
["2019-09-29",269.92200000000003]
["2019-09-30",269.00200000000001]
["2019-10-01",269.08300000000003]
["2019-10-02",269.16399999999999]
["2019-10-03",269.245]
["2019-10-04",269.32600000000002]
["2019-10-05",269.40600000000001]
["2019-10-06",269.48700000000002]
["2019-10-07",269.56799999999998]
["2019-10-08",269.649]
["2019-10-09",269.73]
["2019-10-10",269.81]
["2019-10-11",269.89100000000002]
["2019-10-12",269.97199999999998]
["2019-10-13",269.053]
["2019-10-14",269.13400000000001]
["2019-10-15",269.21499999999997]
["2019-10-16",269.54149999999998]
["2019-10-17",269.56150000000002]
["2019-10-18",269.58139999999997]
["2019-10-19",269.60140000000001]
["2019-10-20",269.62139999999999]
["2019-10-21",269.64139999999998]
["2019-10-22",269.66140000000001]
["2019-10-23",269.68130000000002]
["2019-10-24",269.7013]
["2019-10-25",269.72129999999999]
["2019-10-26",269.74130000000002]
["2019-10-27",269.76130000000001]
["2019-10-28",269.78129999999999]
["2019-10-29",269.80130000000003]
["2019-10-30",269.82130000000001]
["2019-10-31",269.84129999999999]
["2019-11-01",269.86130000000003]
["2019-11-02",269.88130000000001]
["2019-11-03",269.90129999999999]
["2019-11-04",269.92129999999997]
["2019-11-05",269.94130000000001]
["2019-11-06",269.96129999999999]
["2019-11-07",269.98129999999998]
["2019-11-08",270.00130000000001]
["2019-11-09",270.0213]
["2019-11-10",270.04129999999998]
["2019-11-11",270.06130000000002]
["2019-11-12",270.0813]
["2019-11-13",270.10140000000001]
["2019-11-14",270.12139999999999]
["2019-11-15",270.14139999999998]
["2019-11-16",270.1558]
["2019-11-17",270.17020000000002]
["2019-11-18",270.18459999999999]
["2019-11-19",270.19900000000001]
["2019-11-20",270.21339999999998]
["2019-11-21",270.2278]
["2019-11-22",270.24220000000003]
["2019-11-23",270.25659999999999]
["2019-11-24",270.27100000000002]
["2019-11-25",270.28539999999998]
["2019-11-26",270.2998]
["2019-11-27",270.31420000000003]
["2019-11-28",270.32859999999999]
["2019-11-29",270.34300000000002]
["2019-11-30",270.35739999999998]
["2019-12-01",270.37180000000001]
["2019-12-02",270.38619999999997]
["2019-12-03",270.40069999999997]
["2019-12-04",270.4151]
["2019-12-05",270.42950000000002]
["2019-12-06",270.44389999999999]
["2019-12-07",270.45830000000001]
["2019-12-08",270.47269999999997]
["2019-12-09",270.4871]
["2019-12-10",270.50150000000002]
["2019-12-11",270.51600000000002]
["2019-12-12",270.53039999999999]
["2019-12-13",270.54480000000001]
["2019-12-14",270.55919999999998]
["2019-12-15",270.5736]
["2019-12-16",270.58229999999998]
["2019-12-17",270.59100000000001]
["2019-12-18",270.59980000000002]
["2019-12-19",270.60849999999999]
["2019-12-20",270.61720000000003]
["2019-12-21",270.6259]
["2019-12-22",270.63470000000001]
["2019-12-23",270.64339999999999]
["2019-12-24",270.65210000000002]
["2019-12-25",270.66090000000003]
["2019-12-26",270.58229999999998]
["2019-12-27",270.67829999999998]
["2019-12-28",270.68700000000001]
["2019-12-29",270.69580000000002]
["2019-12-30",270.7045]
["2019-12-31",270.71319999999997]
["2020-01-01",270.72190000000001]
["2020-01-02",270.59100000000001]
["2020-01-03",270.73939999999999]
["2020-01-04",270.74810000000002]
["2020-01-05",270.75689999999997]
["2020-01-06",270.76560000000001]
["2020-01-07",270.77429999999998]
["2020-01-08",270.78309999999999]
["2020-01-09",270.79180000000002]
["2020-01-10",270.8005]
["2020-01-11",270.58229999999998]
["2020-01-12",270.81799999999998]
["2020-01-13",270.82670000000002]
["2020-01-14",270.83539999999999]
["2020-01-15",270.8442]
["2020-01-16"," 270.8669"]
["2020-01-17"," 270.8896"]
["2020-01-18"," 270.9123"]
["2020-01-19"," 270.9350"]
["2020-01-20"," 270.9577"]
["2020-01-21"," 270.9804"]
["2020-01-22"," 271.0031"]
["2020-01-23"," 271.0258"]
["2020-01-24",271.04849999999999]
["2020-01-25",271.07119999999998]
["2020-01-26",271.09390000000002]
["2020-01-27",271.11660000000001]
["2020-01-28",271.13929999999999]
["2020-01-29",271.16199999999998]
["2020-01-30",271.18470000000002]
["2020-01-31",271.20740000000001]
["2020-02-01",271.23009999999999]
["2020-02-02",271.25290000000001]
["2020-02-03",271.2756]
["2020-02-04",271.29829999999998]
["2020-02-05",271.32100000000003]
["2020-02-06",271.34379999999999]
["2020-02-07",271.36649999999997]
["2020-02-08",271.38920000000002]
["2020-02-09",271.41199999999998]
["2020-02-10",271.43470000000002]
["2020-02-11",271.45740000000001]
["2020-02-12",271.48020000000002]
["2020-02-13",271.50290000000001]
["2020-02-14",271.52569999999997]
["2020-02-15",271.54840000000002]
["2020-02-16",271.58760000000001]
["2020-02-17",271.62689999999998]
["2020-02-18",271.6662]
["2020-02-19",271.7054]
["2020-02-20",271.74470000000002]
["2020-02-21",271.78399999999999]
["2020-02-22",271.82330000000002]
["2020-02-23",271.86250000000001]
["2020-02-24",271.90179999999998]
["2020-02-25",271.94110000000001]
["2020-02-26",271.98039999999997]
["2020-02-27",272.01979999999998]
["2020-02-28",272.0591]
["2020-02-29",272.09840000000003]
["2020-03-01",272.1377]
["2020-03-02",272.1771]
["2020-03-03",272.21640000000002]
["2020-03-04",272.25569999999999]
["2020-03-05",272.29509999999999]
["2020-03-06",272.33440000000002]
["2020-03-07",272.37380000000002]
["2020-03-08",272.41320000000002]
["2020-03-09",272.45249999999999]
["2020-03-10",272.49189999999999]
["2020-03-11",272.53129999999999]
["2020-03-12",272.57069999999999]
["2020-03-13",272.61009999999999]
["2020-03-14",272.64949999999999]
["2020-03-15",272.68889999999999]
["2020-03-16",272.74759999999998]
["2020-03-17",272.8064]
["2020-03-18",272.86520000000002]
["2020-03-19",272.92399999999998]
["2020-03-20",272.9828]
["2020-03-21",273.04160000000002]
["2020-03-22",273.10039999999998]
["2020-03-23",273.1592]
["2020-03-24",273.21809999999999]
["2020-03-25",273.27690000000001]
["2020-03-26",273.33580000000001]
["2020-03-27",273.3947]
["2020-03-28",273.45359999999999]
["2020-03-29",273.51249999999999]
["2020-03-30",273.57139999999998]
["2020-03-31",273.63040000000001]
["2020-04-01",273.6893]
["2020-04-02",273.74829999999997]
["2020-04-03",273.80720000000002]
["2020-04-04",273.86619999999999]
["2020-04-05",273.92520000000002]
["2020-04-06",273.98419999999999]
["2020-04-07",274.04329999999999]
["2020-04-08",274.10230000000001]
["2020-04-09",274.16129999999998]
["2020-04-10",274.22039999999998]
["2020-04-11",274.27949999999998]
["2020-04-12",274.33859999999999]
["2020-04-13",274.39769999999999]
["2020-04-14",274.45679999999999]
["2020-04-15",274.51589999999999]
["2020-04-16",274.56790000000001]
["2020-04-17",274.61989999999997]
["2020-04-18",274.67200000000003]
["2020-04-19",274.72399999999999]
["2020-04-20",274.77609999999999]
["2020-04-21",274.82810000000001]
["2020-04-22",274.8802]
["2020-04-23",274.9323]
["2020-04-24",274.98439999999999]
["2020-04-25",275.03649999999999]
["2020-04-26",275.08859999999999]
["2020-04-27",275.14069999999998]
["2020-04-28",275.19290000000001]
["2020-04-29",275.245]
["2020-04-30",275.29719999999998]
["2020-05-01",275.34930000000003]
["2020-05-02",275.4015]
["2020-05-03",275.45370000000003]
["2020-05-04",275.5059]
["2020-05-05",275.55810000000002]
["2020-05-06",275.6103]
["2020-05-07",275.66250000000002]
["2020-05-08",275.71469999999999]
["2020-05-09",275.767]
["2020-05-10",275.81920000000002]
["2020-05-11",275.87150000000003]
["2020-05-12",275.92380000000003]
["2020-05-13",275.976]
["2020-05-14",276.0283]
["2020-05-15",276.0806]
["2020-05-16",276.09480000000002]
["2020-05-17",276.10910000000001]
["2020-05-18",276.12329999999997]
["2020-05-19",276.13760000000002]
["2020-05-20",276.15179999999998]
["2020-05-21",276.166]
["2020-05-22",276.18029999999999]
["2020-05-23",276.19450000000001]
["2020-05-24",276.2088]
["2020-05-25",276.22300000000001]
["2020-05-26",276.2373]
["2020-05-27",276.25150000000002]
["2020-05-28",276.26580000000001]
["2020-05-29",276.27999999999997]
["2020-05-30",276.29430000000002]
["2020-05-31",276.30849999999998]
["2020-06-01",276.32279999999997]
["2020-06-02",276.33699999999999]
["2020-06-03",276.35129999999998]
["2020-06-04",276.3655]
["2020-06-05",276.37979999999999]
["2020-06-06",276.39400000000001]
["2020-06-07",276.4083]
["2020-06-08",276.42250000000001]
["2020-06-09",276.43680000000001]
["2020-06-10",276.45100000000002]
["2020-06-11",276.46530000000001]
["2020-06-12",276.4796]
["2020-06-13",276.49380000000002]
["2020-06-14",276.50810000000001]
["2020-06-15",276.52229999999997]
["2020-06-16",276.49279999999999]
["2020-06-17",276.46319999999997]
["2020-06-18",276.43369999999999]
["2020-06-19",276.4042]
["2020-06-20",276.37459999999999]
["2020-06-21",276.3451]
["2020-06-22",276.31560000000002]
["2020-06-23",276.28609999999998]
["2020-06-24",276.25650000000002]
["2020-06-25",276.22699999999998]
["2020-06-26",276.19749999999999]
["2020-06-27",276.16800000000001]
["2020-06-28",276.13850000000002]
["2020-06-29",276.10899999999998]
["2020-06-30",276.0795]
["2020-07-01",276.05]
["2020-07-02",276.02050000000003]
["2020-07-03",275.99099999999999]
["2020-07-04",275.96159999999998]
["2020-07-05",275.93209999999999]
["2020-07-06",275.90260000000001]
["2020-07-07",275.87310000000002]
["2020-07-08",275.84359999999998]
["2020-07-09",275.81420000000003]
["2020-07-10",275.78469999999999]
["2020-07-11",275.7552]
["2020-07-12",275.72579999999999]
["2020-07-13",275.69630000000001]
["2020-07-14",275.6669]
["2020-07-15",275.63740000000001]
["2020-07-16",275.6035]
["2020-07-17",275.56970000000001]
["2020-07-18",275.53590000000003]
["2020-07-19",275.50200000000001]
["2020-07-20",275.46820000000002]
["2020-07-21",275.43439999999998]
["2020-07-22",275.40050000000002]
["2020-07-23",275.36669999999998]
["2020-07-24",275.3329]
["2020-07-25",275.29910000000001]
["2020-07-26",275.26530000000002]
["2020-07-27",275.23149999999998]
["2020-07-28",275.1977]
["2020-07-29",275.16390000000001]
["2020-07-30",275.13010000000003]
["2020-07-31",275.09629999999999]
["2020-08-01",275.0625]
["2020-08-02",275.02870000000001]
["2020-08-03",274.995]
["2020-08-04",274.96120000000002]
["2020-08-05",274.92739999999998]
["2020-08-06",274.89370000000002]
["2020-08-07",274.85989999999998]
["2020-08-08",274.8261]
["2020-08-09",274.79239999999999]
["2020-08-10",274.7586]
["2020-08-11",274.72489999999999]
["2020-08-12",274.69119999999998]
["2020-08-13",274.6574]
["2020-08-14",274.62369999999999]
["2020-08-15",274.58999999999997]
["2020-08-16",274.58999999999997]
["2020-08-17",274.58999999999997]
["2020-08-18",274.58999999999997]
["2020-08-19",274.58999999999997]
["2020-08-20",274.58999999999997]
["2020-08-21",274.58999999999997]
["2020-08-22",274.58999999999997]
["2020-08-23",274.58999999999997]
["2020-08-24",274.58999999999997]
["2020-08-25",274.58999999999997]
["2020-08-26",274.58999999999997]
["2020-08-27",274.58999999999997]
["2020-08-28",274.58999999999997]
["2020-08-29",274.58999999999997]
["2020-08-30",274.58999999999997]
["2020-08-31",274.58999999999997]
["2020-09-01",274.58999999999997]
["2020-09-02",274.58999999999997]
["2020-09-03",274.58999999999997]
["2020-09-04",274.58999999999997]
["2020-09-05",274.58999999999997]
["2020-09-06",274.58999999999997]
["2020-09-07",274.58999999999997]
["2020-09-08",274.58999999999997]
["2020-09-09",274.58999999999997]
["2020-09-10",274.58999999999997]
["2020-09-11",274.58999999999997]
["2020-09-12",274.58999999999997]
["2020-09-13",274.58999999999997]
["2020-09-14",274.58999999999997]
["2020-09-15",274.58999999999997]
["2020-09-16",274.589]
["2020-09-17",274.58800000000002]
["2020-09-18",274.58699999999999]
["2020-09-19",274.58600000000001]
["2020-09-20",274.58499999999998]
["2020-09-21",274.584]
["2020-09-22",274.58300000000003]
["2020-09-23",274.58199999999999]
["2020-09-24",274.58100000000002]
["2020-09-25",274.58]
["2020-09-26",274.57900000000001]
["2020-09-27",274.57900000000001]
["2020-09-28",274.57799999999997]
["2020-09-29",274.577]
["2020-09-30",274.57600000000002]
["2020-10-01",274.57499999999999]
["2020-10-02",274.57400000000001]
["2020-10-03",274.57299999999998]
["2020-10-04",274.572]
["2020-10-05",274.57100000000003]
["2020-10-06",274.57]
["2020-10-07",274.56900000000002]
["2020-10-08",274.56799999999998]
["2020-10-09",274.56799999999998]
["2020-10-10",274.56700000000001]
["2020-10-11",274.56599999999997]
["2020-10-12",274.565]
["2020-10-13",274.56400000000002]
["2020-10-14",274.56299999999999]
["2020-10-15",274.56200000000001]
["2020-10-16",274.58999999999997]
["2020-10-17",274.61900000000003]
["2020-10-18",274.64699999999999]
["2020-10-19",274.67500000000001]
["2020-10-20",274.70400000000001]
["2020-10-21",274.73200000000003]
["2020-10-22",274.76]
["2020-10-23",274.78899999999999]
["2020-10-24",274.81700000000001]
["2020-10-25",274.84500000000003]
["2020-10-26",274.87299999999999]
["2020-10-27",274.90199999999999]
["2020-10-28",274.93]
["2020-10-29",274.95800000000003]
["2020-10-30",274.98700000000002]
["2020-10-31",275.01499999999999]
["2020-11-01",275.04399999999998]
["2020-11-02",275.072]
["2020-11-03",275.10000000000002]
["2020-11-04",275.12900000000002]
["2020-11-05",275.15699999999998]
["2020-11-06",275.185]
["2020-11-07",275.214]
["2020-11-08",275.24200000000002]
["2020-11-09",275.27]
["2020-11-10",275.29899999999998]
["2020-11-11",275.327]
["2020-11-12",275.35599999999999]
["2020-11-13",275.38400000000001]
["2020-11-14",275.41199999999998]
["2020-11-15",275.44099999999997]
["2020-11-16",275.435]
["2020-11-17",275.43]
["2020-11-18",275.42399999999998]
["2020-11-19",275.41899999999998]
["2020-11-20",275.41300000000001]
["2020-11-21",275.40800000000002]
["2020-11-22",275.40199999999999]
["2020-11-23",275.39699999999999]
["2020-11-24",275.39100000000002]
["2020-11-25",275.38600000000002]
["2020-11-26",275.38]
["2020-11-27",275.375]
["2020-11-28",275.36900000000003]
["2020-11-29",275.36399999999998]
["2020-11-30",275.358]
["2020-12-01",275.35199999999998]
["2020-12-02",275.34699999999998]
["2020-12-03",275.34100000000001]
["2020-12-04",275.33600000000001]
["2020-12-05",275.33]
["2020-12-06",275.32499999999999]
["2020-12-07",275.31900000000002]
["2020-12-08",275.31400000000002]
["2020-12-09",275.30799999999999]
["2020-12-10",275.303]
["2020-12-11",275.29700000000003]
["2020-12-12",275.29199999999997]
["2020-12-13",275.28680000000003]
["2020-12-14",275.28129999999999]
["2020-12-15",275.2758]
["2020-12-16",275.26249999999999]
["2020-12-17",275.2491]
["2020-12-18",275.23579999999998]
["2020-12-19",275.22250000000003]
["2020-12-20",275.20920000000001]
["2020-12-21",275.19580000000002]
["2020-12-22",275.1825]
["2020-12-23",275.16919999999999]
["2020-12-24",275.15589999999997]
["2020-12-25",275.14249999999998]
["2020-12-26",275.12920000000003]
["2020-12-27",275.11590000000001]
["2020-12-28",275.1026]
["2020-12-29",275.08920000000001]
["2020-12-30",275.07589999999999]
["2020-12-31",275.06259999999997]
["2021-01-01",275.04930000000002]
["2021-01-02",275.036]
["2021-01-03",275.02269999999999]
["2021-01-04",275.0093]
["2021-01-05",274.99599999999998]
["2021-01-06",274.98270000000002]
["2021-01-07",274.96940000000001]
["2021-01-08",274.95609999999999]
["2021-01-09",274.94279999999998]
["2021-01-10",274.92939999999999]
["2021-01-11",274.91609999999997]
["2021-01-12",274.90280000000001]
["2021-01-13",274.8895]
["2021-01-14",274.87619999999998]
["2021-01-15",274.86290000000002]
["2021-01-16",274.8965]
["2021-01-17",274.93020000000001]
["2021-01-18",274.96379999999999]
["2021-01-19",274.99740000000003]
["2021-01-20",275.03109999999998]
["2021-01-21",275.06470000000002]
["2021-01-22",275.09840000000003]
["2021-01-23",275.13209999999998]
["2021-01-24",275.16570000000002]
["2021-01-25",275.19940000000003]
["2021-01-26",275.23309999999998]
["2021-01-27",275.26670000000001]
["2021-01-28",275.30040000000002]
["2021-01-29",275.33409999999998]
["2021-01-30",275.36779999999999]
["2021-01-31",275.4015]
["2021-02-01",275.43520000000001]
["2021-02-02",275.46890000000002]
["2021-02-03",275.50259999999997]
["2021-02-04",275.53629999999998]
["2021-02-05",275.57]
["2021-02-06",275.6037]
["2021-02-07",275.63749999999999]
["2021-02-08",275.6712]
["2021-02-09",275.70490000000001]
["2021-02-10",275.73860000000002]
["2021-02-11",275.7724]
["2021-02-12",275.80610000000001]
["2021-02-13",275.8399]
["2021-02-14",275.87360000000001]
["2021-02-15",275.9074]
["2021-02-16",275.9477]
["2021-02-17",275.988]
["2021-02-18",276.02839999999998]
["2021-02-19",276.06869999999998]
["2021-02-20",276.10910000000001]
["2021-02-21",276.14940000000001]
["2021-02-22",276.18979999999999]
["2021-02-23",276.23009999999999]
["2021-02-24",276.27050000000003]
["2021-02-25",276.3109]
["2021-02-26",276.35129999999998]
["2021-02-27",276.39159999999998]
["2021-02-28",276.43200000000002]
["2021-03-01",276.47239999999999]
["2021-03-02",276.51280000000003]
["2021-03-03",276.5532]
["2021-03-04",276.59370000000001]
["2021-03-05",276.63409999999999]
["2021-03-06",276.67450000000002]
["2021-03-07",276.7149]
["2021-03-08",276.75540000000001]
["2021-03-09",276.79579999999999]
["2021-03-10",276.83629999999999]
["2021-03-11",276.87670000000003]
["2021-03-12",276.91719999999998]
["2021-03-13",276.95769999999999]
["2021-03-14",276.99810000000002]
["2021-03-15",277.03859999999997]
["2021-03-16",277.09559999999999]
["2021-03-17",277.15260000000001]
["2021-03-18",277.2097]
["2021-03-19",277.26670000000001]
["2021-03-20",277.32380000000001]
["2021-03-21",277.3809]
["2021-03-22",277.43799999999999]
["2021-03-23",277.49509999999998]
["2021-03-24",277.55220000000003]
["2021-03-25",277.60930000000002]
["2021-03-26",277.66649999999998]
["2021-03-27",277.72359999999998]
["2021-03-28",277.7808]
["2021-03-29",277.83789999999999]
["2021-03-30",277.89510000000001]
["2021-03-31",277.95229999999998]
["2021-04-01",278.0095]
["2021-04-02",278.06670000000003]
["2021-04-03",278.12400000000002]
["2021-04-04",278.18119999999999]
["2021-04-05",278.23849999999999]
["2021-04-06",278.29570000000001]
["2021-04-07",278.35300000000001]
["2021-04-08",278.41030000000001]
["2021-04-09",278.4676]
["2021-04-10",278.5249]
["2021-04-11",278.5822]
["2021-04-12",278.63959999999997]
["2021-04-13",278.69690000000003]
["2021-04-14",278.7543]
["2021-04-15",278.8116]
["2021-04-16",278.85890000000001]
["2021-04-17",278.90620000000001]
["2021-04-18",278.95350000000002]
["2021-04-19",279.00080000000003]
["2021-04-20",279.04809999999998]
["2021-04-21",279.09539999999998]
["2021-04-22",279.14269999999999]
["2021-04-23",279.19009999999997]
["2021-04-24",279.23739999999998]
["2021-04-25",279.28480000000002]
["2021-04-26",279.33210000000003]
["2021-04-27",279.37950000000001]
["2021-04-28",279.42689999999999]
["2021-04-29",279.47430000000003]
["2021-04-30",279.52170000000001]
["2021-05-01",279.56909999999999]
["2021-05-02",279.61649999999997]
["2021-05-03",279.66390000000001]
["2021-05-04",279.71129999999999]
["2021-05-05",279.75880000000001]
["2021-05-06",279.80619999999999]
["2021-05-07",279.85359999999997]
["2021-05-08",279.90109999999999]
["2021-05-09",279.9486]
["2021-05-10",279.99599999999998]
["2021-05-11",280.04349999999999]
["2021-05-12",280.09100000000001]
["2021-05-13",280.13850000000002]
["2021-05-14",280.18599999999998]
["2021-05-15",280.23349999999999]
["2021-05-16",280.2867]
["2021-05-17",280.3399]
["2021-05-18",280.3931]
["2021-05-19",280.44630000000001]
["2021-05-20",280.49950000000001]
["2021-05-21",280.55270000000002]
["2021-05-22",280.60599999999999]
["2021-05-23",280.6592]
["2021-05-24",280.71249999999998]
["2021-05-25",280.76580000000001]
["2021-05-26",280.81909999999999]
["2021-05-27",280.87240000000003]
["2021-05-28",280.92570000000001]
["2021-05-29",280.97899999999998]
["2021-05-30",281.03230000000002]
["2021-05-31",281.0856]
["2021-06-01",281.13900000000001]
["2021-06-02",281.19229999999999]
["2021-06-03",281.2457]
["2021-06-04",281.29910000000001]
["2021-06-05",281.35250000000002]
["2021-06-06",281.40589999999997]
["2021-06-07",281.45929999999998]
["2021-06-08",281.5127]
["2021-06-09",281.56610000000001]
["2021-06-10",281.61950000000002]
["2021-06-11",281.673]
["2021-06-12",281.72640000000001]
["2021-06-13",281.7799]
["2021-06-14",281.83339999999998]
["2021-06-15",281.88690000000003]
["2021-06-16",281.98039999999997]
["2021-06-17",282.07400000000001]
["2021-06-18",282.16750000000002]
["2021-06-19",282.2611]
["2021-06-20",282.35480000000001]
["2021-06-21",282.44839999999999]
["2021-06-22",282.5421]
["2021-06-23",282.63589999999999]
["2021-06-24",282.7296]
["2021-06-25",282.82339999999999]
["2021-06-26",282.91719999999998]
["2021-06-27",283.0111]
["2021-06-28",283.10500000000002]
["2021-06-29",283.19889999999998]
["2021-06-30",283.2928]
["2021-07-01",283.38679999999999]
["2021-07-02",283.48079999999999]
["2021-07-03",283.57490000000001]
["2021-07-04",283.66890000000001]
["2021-07-05",283.76299999999998]
["2021-07-06",283.85719999999998]
["2021-07-07",283.9513]
["2021-07-08",284.0455]
["2021-07-09",284.1397]
["2021-07-10",284.23399999999998]
["2021-07-11",284.32830000000001]
["2021-07-12",284.42259999999999]
["2021-07-13",284.517]
["2021-07-14",284.6114]
["2021-07-15",284.70580000000001]
["2021-07-16",284.69659999999999]
["2021-07-17",284.69200000000001]
["2021-07-18",284.68740000000003]
["2021-07-19",284.68279999999999]
["2021-07-20",284.6782]
["2021-07-21",284.67360000000002]
["2021-07-22",284.66910000000001]
["2021-07-23",284.66449999999998]
["2021-07-24",284.65989999999999]
["2021-07-25",284.65530000000001]
["2021-07-26",284.65069999999997]
["2021-07-27",284.64609999999999]
["2021-07-28",284.64150000000001]
["2021-07-29",284.63690000000003]
["2021-07-30",284.63229999999999]
["2021-07-31",284.6277]
["2021-08-01",284.62310000000002]
["2021-08-02",284.61849999999998]
["2021-08-03",284.61399999999998]
["2021-08-04",284.60939999999999]
["2021-08-05",284.60480000000001]
["2021-08-06",284.60019999999997]
["2021-08-07",284.59559999999999]
["2021-08-08",284.59100000000001]
["2021-08-09",284.58640000000003]
["2021-08-10",284.58179999999999]
["2021-08-11",284.5772]
["2021-08-12",284.57260000000002]
["2021-08-13",284.56799999999998]
["2021-08-14",284.5634]
["2021-08-15",284.59269999999998]
["2021-08-16",284.62209999999999]
["2021-08-17",284.65140000000002]
["2021-08-18",284.6807]
["2021-08-19",284.71010000000001]
["2021-08-20",284.73939999999999]
["2021-08-21",284.7688]
["2021-08-22",284.79809999999998]
["2021-08-23",284.82749999999999]
["2021-08-24",284.85680000000002]
["2021-08-25",284.88619999999997]
["2021-08-26",284.91550000000001]
["2021-08-27",284.94490000000002]
["2021-08-28",284.97430000000003]
["2021-08-29",285.00369999999998]
["2021-08-30",285.03300000000002]
["2021-08-31",285.06240000000003]
["2021-09-01",285.09179999999998]
["2021-09-02",285.12119999999999]
["2021-09-03",285.1506]
["2021-09-04",285.17989999999998]
["2021-09-05",285.20929999999998]
["2021-09-06",285.23869999999999]
["2021-09-07",285.2681]
["2021-09-08",285.2681]
["2021-09-09",285.29750000000001]
["2021-09-10",285.32690000000002]
["2021-09-11",285.35629999999998]
["2021-09-12",285.38580000000002]
["2021-09-13",285.41520000000003]
["2021-09-14",285.44459999999998]
["2021-09-15",285.47399999999999]
["2021-09-16",285.51670000000001]
["2021-09-17",285.55950000000001]
["2021-09-18",285.60219999999998]
["2021-09-19",285.64499999999998]
["2021-09-20",285.68770000000001]
["2021-09-21",285.73050000000001]
["2021-09-22",285.77319999999997]
["2021-09-23",285.81599999999997]
["2021-09-24",285.85879999999997]
["2021-09-25",285.90159999999997]
["2021-09-26",285.94439999999997]
["2021-09-27",285.98719999999997]
["2021-09-28",286.02999999999997]
["2021-09-29",286.07279999999997]
["2021-09-30",286.11559999999997]
["2021-10-01",286.15839999999997]
["2021-10-02",286.2013]
["2021-10-03",286.2441]
["2021-10-04",286.2869]
["2021-10-05",286.32979999999998]
["2021-10-06"," 286.3726"]
["2021-10-07",286.37259999999998]
["2021-10-08",286.45839999999998]
["2021-10-09",286.50119999999998]
["2021-10-10",286.54410000000001]
["2021-10-11",286.58699999999999]
["2021-10-12",286.62990000000002]
["2021-10-13",286.6728]
["2021-10-14",286.71570000000003]
["2021-10-15",286.7586]
["2021-10-16",286.7937]
["2021-10-17",286.8288]
["2021-10-18",286.8639]
["2021-10-19",286.899]
["2021-10-20",286.9341]
["2021-10-21",286.9692]
["2021-10-22",287.0043]
["2021-10-23",287.0394]
["2021-10-24",287.0745]
["2021-10-25",287.10969999999998]
["2021-10-26",287.14479999999998]
["2021-10-27",287.17989999999998]
["2021-10-28",287.21510000000001]
["2021-10-29",287.25020000000001]
["2021-10-30",287.28530000000001]
["2021-10-31",287.32049999999998]
["2021-11-01",287.35570000000001]
["2021-11-02",287.39080000000001]
["2021-11-03",287.42599999999999]
["2021-11-04",287.46109999999999]
["2021-11-05",287.49630000000002]
["2021-11-06",287.53149999999999]
["2021-11-07",287.56670000000003]
["2021-11-08",287.6019]
["2021-11-09",287.63709999999998]
["2021-11-10",287.67219999999998]
["2021-11-11",287.70740000000001]
["2021-11-12",287.74259999999998]
["2021-11-13",287.77789999999999]
["2021-11-14",287.81310000000002]
["2021-11-15",287.84829999999999]
["2021-11-16",287.84930000000003]
["2021-11-17",287.85019999999997]
["2021-11-18",287.85120000000001]
["2021-11-19",287.85210000000001]
["2021-11-20",287.85309999999998]
["2021-11-21",287.85410000000002]
["2021-11-22",287.85500000000002]
["2021-11-23",287.85599999999999]
["2021-11-24",287.8569]
["2021-11-25",287.85789999999997]
["2021-11-26",287.85890000000001]
["2021-11-27",287.85980000000001]
["2021-11-28",287.86079999999998]
["2021-11-29",287.86169999999998]
["2021-11-30",287.86270000000002]
["2021-12-01",287.86369999999999]
["2021-12-02",287.8646]
["2021-12-03",287.86559999999997]
["2021-12-04",287.86649999999997]
["2021-12-05",287.86750000000001]
["2021-12-06",287.86840000000001]
["2021-12-07",287.86939999999998]
["2021-12-08",287.87040000000002]
["2021-12-09",287.87130000000002]
["2021-12-10",287.8723]
["2021-12-11",287.8732]
["2021-12-12",287.87419999999997]
["2021-12-13",287.87520000000001]
["2021-12-14",287.87610000000001]
["2021-12-15",287.87709999999998]
["2021-12-16",287.923]
["2021-12-17",287.96899999999999]
["2021-12-18",288.01600000000002]
["2021-12-19",288.06200000000001]
["2021-12-20",288.108]
["2021-12-21",288.15499999999997]
["2021-12-22",288.20100000000002]
["2021-12-23",288.24700000000001]
["2021-12-24",288.29399999999998]
["2021-12-25",288.33999999999997]
["2021-12-26",288.387]
["2021-12-27",288.43299999999999]
["2021-12-28",288.47899999999998]
["2021-12-29",288.52600000000001]
["2021-12-30",288.572]
["2021-12-31",288.61900000000003]
["2022-01-01",288.66500000000002]
["2022-01-02",288.71199999999999]
["2022-01-03",288.75799999999998]
["2022-01-04",288.80399999999997]
["2022-01-05",288.851]
["2022-01-06",288.89699999999999]
["2022-01-07",288.94400000000002]
["2022-01-08",288.99]
["2022-01-09",289.03699999999998]
["2022-01-10",289.08300000000003]
["2022-01-11",289.13]
["2022-01-12",289.17599999999999]
["2022-01-13",289.22300000000001]
["2022-01-14",289.26900000000001]
["2022-01-15",289.31599999999997]
["2022-01-16",289.38440000000003]
["2022-01-17",289.45229999999998]
["2022-01-18",289.52019999999999]
["2022-01-19",289.58819999999997]
["2022-01-20",289.65609999999998]
["2022-01-21",289.72410000000002]
["2022-01-22",289.7921]
["2022-01-23",289.86009999999999]
["2022-01-24",289.92809999999997]
["2022-01-25",289.99610000000001]
["2022-01-26",290.06420000000003]
["2022-01-27",290.13220000000001]
["2022-01-28",290.20030000000003]
["2022-01-29",290.26839999999999]
["2022-01-30",290.3365]
["2022-01-31",290.40469999999999]
["2022-02-01",290.47280000000001]
["2022-02-02",290.541]
["2022-02-03",290.60910000000001]
["2022-02-04",290.6773]
["2022-02-05",290.74549999999999]
["2022-02-06",290.81380000000001]
["2022-02-07",290.88200000000001]
["2022-02-08",290.95030000000003]
["2022-02-09",291.01850000000002]
["2022-02-10",291.08679999999998]
["2022-02-11",291.1551]
["2022-02-12",291.2235]
["2022-02-13",291.29180000000002]
["2022-02-14",291.36009999999999]
["2022-02-15",291.42849999999999]
["2022-02-16",291.60090000000002]
["2022-02-17",291.77350000000001]
["2022-02-18",291.9461]
["2022-02-19",292.11880000000002]
["2022-02-20",292.29169999999999]
["2022-02-21",292.46460000000002]
["2022-02-22",292.6377]
["2022-02-23",292.81079999999997]
["2022-02-24",292.98410000000001]
["2022-02-25",293.1574]
["2022-02-26",293.33089999999999]
["2022-02-27",293.50439999999998]
["2022-02-28",293.67809999999997]
["2022-03-01",293.8519]
["2022-03-02",294.02569999999997]
["2022-03-03",294.19970000000001]
["2022-03-04",294.37380000000002]
["2022-03-05",294.54790000000003]
["2022-03-06",294.72219999999999]
["2022-03-07",294.89659999999998]
["2022-03-08",295.0711]
["2022-03-09",295.2457]
["2022-03-10",295.42039999999997]
["2022-03-11",295.5951]
["2022-03-12",295.77]
["2022-03-13",295.94499999999999]
["2022-03-14",296.12009999999998]
["2022-03-15",296.29539999999997]
["2022-03-16",296.45]
["2022-03-17",296.6046]
["2022-03-18",296.75940000000003]
["2022-03-19",296.91419999999999]
["2022-03-20",297.06909999999999]
["2022-03-21",297.22410000000002]
["2022-03-22",297.37909999999999]
["2022-03-23",297.53429999999997]
["2022-03-24",297.68950000000001]
["2022-03-25",297.84480000000002]
["2022-03-26",298.00020000000001]
["2022-03-27",298.15570000000002]
["2022-03-28",298.31119999999999]
["2022-03-29",298.46679999999998]
["2022-03-30",298.62259999999998]
["2022-03-31",298.77839999999998]
["2022-04-01",298.93419999999998]
["2022-04-02",299.09019999999998]
["2022-04-03",299.24619999999999]
["2022-04-04",299.40230000000003]
["2022-04-05",299.55849999999998]
["2022-04-06",299.71480000000003]
["2022-04-07",299.87119999999999]
["2022-04-08",300.02760000000001]
["2022-04-09",300.1841]
["2022-04-10",300.3408]
["2022-04-11",300.49740000000003]
["2022-04-12",300.6542]
["2022-04-13",300.81110000000001]
["2022-04-14",300.96800000000002]
["2022-04-15",301.125]
["2022-04-16",301.22489999999999]
["2022-04-17",301.32479999999998]
["2022-04-18",301.4248]
["2022-04-19",301.52480000000003]
["2022-04-20",301.62479999999999]
["2022-04-21",301.72489999999999]
["2022-04-22",301.82490000000001]
["2022-04-23",301.92509999999999]
["2022-04-24",302.02519999999998]
["2022-04-25",302.12540000000001]
["2022-04-26",302.22559999999999]
["2022-04-27",302.32589999999999]
["2022-04-28",302.42619999999999]
["2022-04-29",302.5265]
["2022-04-30",302.62689999999998]
["2022-05-01",302.72730000000001]
["2022-05-02",302.82769999999999]
["2022-05-03",302.9282]
["2022-05-04",303.02859999999998]
["2022-05-05",303.12920000000003]
["2022-05-06",303.22969999999998]
["2022-05-07",303.33030000000002]
["2022-05-08",303.43090000000001]
["2022-05-09",303.53160000000003]
["2022-05-10",303.63229999999999]
["2022-05-11",303.733]
["2022-05-12",303.8338]
["2022-05-13",303.93459999999999]
["2022-05-14",304.03539999999998]
["2022-05-15",304.13630000000001]
["2022-05-16",304.25813071537874]
["2022-05-17",304.38007942886622]
["2022-05-18",304.50207702022169]
["2022-05-19",304.62412350903554]
["2022-05-20",304.74621891490636]
["2022-05-21",304.86836325744036]
["2022-05-22",304.99055655625165]
["2022-05-23",305.11279883096239]
["2022-05-24",305.23509010120233]
["2022-05-25",305.35743038660922]
["2022-05-26",305.47981970682866]
["2022-05-27",305.60225808151421]
["2022-05-28",305.72474553032714]
["2022-05-29",305.84728207293671]
["2022-05-30",305.96986772902005]
["2022-05-31",306.09250251826228]
["2022-06-01",306.21518646035611]
["2022-06-02",306.33791957500245]
["2022-06-03",306.46070188191004]
["2022-06-04",306.58353340079532]
["2022-06-05",306.70641415138294]
["2022-06-06",306.82934415340515]
["2022-06-07",306.95240000000001]
["2022-06-08",307.0754]
["2022-06-09",307.19850000000002]
["2022-06-10",307.32159999999999]
["2022-06-11",307.44479999999999]
["2022-06-12",307.56799999999998]
["2022-06-13",307.69130000000001]
["2022-06-14",307.81459999999998]
["2022-06-15",307.93799999999999]
["2022-06-16",308.02390000000003]
["2022-06-17",308.10980000000001]
["2022-06-18",308.19569999999999]
["2022-06-19",308.28160000000003]
["2022-06-20",308.36759999999998]
["2022-06-21",308.45359999999999]
["2022-06-22",308.53960000000001]
["2022-06-23",308.62569999999999]
["2022-06-24",308.71170000000001]
["2022-06-25",308.7978]
["2022-06-26",308.88389999999998]
["2022-06-27",308.9701]
["2022-06-28",309.05619999999999]
["2022-06-29",309.14240000000001]
["2022-06-30",309.22859999999997]
["2022-07-01",309.31490000000002]
["2022-07-02",309.40109999999999]
["2022-07-03",309.48739999999998]
["2022-07-04",309.57369999999997]
["2022-07-05",309.66000000000003]
["2022-07-06",309.74639999999999]
["2022-07-07",309.83280000000002]
["2022-07-08",309.91919999999999]
["2022-07-09",310.00560000000002]
["2022-07-10",310.09210000000002]
["2022-07-11",310.17849999999999]
["2022-07-12",310.26499999999999]
["2022-07-13",310.35160000000002]
["2022-07-14",310.43810000000002]
["2022-07-15",310.5247]
["2022-07-16",310.57569999999998]
["2022-07-17",310.6266]
["2022-07-18",310.67759999999998]
["2022-07-19",310.72859999999997]
["2022-07-20",310.77960000000002]
["2022-07-21",310.8306]
["2022-07-22",310.88159999999999]
["2022-07-23",310.93259999999998]
["2022-07-24",310.98360000000002]
["2022-07-25",311.03469999999999]
["2022-07-26",311.08569999999997]
["2022-07-27",311.13679999999999]
["2022-07-28",311.18779999999998]
["2022-07-29",311.2389]
["2022-07-30",311.29000000000002]
["2022-07-31",311.34109999999998]
["2022-08-01",311.3922]
["2022-08-02",311.44330000000002]
["2022-08-03",311.49439999999998]
["2022-08-04",311.5455]
["2022-08-05",311.59660000000002]
["2022-08-06",311.64780000000002]
["2022-08-07",311.69889999999998]
["2022-08-08",311.75009999999997]
["2022-08-09",311.80119999999999]
["2022-08-10",311.85239999999999]
["2022-08-11",311.90359999999998]
["2022-08-12",311.95479999999998]
["2022-08-13",312.00599999999997]
["2022-08-14",312.05720000000002]
["2022-08-15",312.10840000000002]
["2022-08-16",312.18959999999998]
["2022-08-17",312.27089999999998]
["2022-08-18",312.35219999999998]
["2022-08-19",312.43349999999998]
["2022-08-20",312.51479999999998]
["2022-08-21",312.59609999999998]
["2022-08-22",312.67750000000001]
["2022-08-23",312.75889999999998]
["2022-08-24",312.84030000000001]
["2022-08-25",312.92169999999999]
["2022-08-26",313.00310000000002]
["2022-08-27",313.08460000000002]
["2022-08-28",313.16609999999997]
["2022-08-29",313.24759999999998]
["2022-08-30",313.32909999999998]
["2022-08-31",313.41070000000002]
["2022-09-01",313.49220000000003]
["2022-09-02",313.57380000000001]
["2022-09-03",313.65539999999999]
["2022-09-04",313.7371]
["2022-09-05",313.81869999999998]
["2022-09-06",313.90039999999999]
["2022-09-07",313.9821]
["2022-09-08",314.06380000000001]
["2022-09-09",314.1456]
["2022-09-10",314.22730000000001]
["2022-09-11",314.3091]
["2022-09-12",314.39089999999999]
["2022-09-13",314.47280000000001]
["2022-09-14",314.55459999999999]
["2022-09-15",314.63650000000001]
["2022-09-16",314.74299999999999]
["2022-09-17",314.8494]
["2022-09-18",314.95600000000002]
["2022-09-19",315.0625]
["2022-09-20",315.16910000000001]
["2022-09-21",315.2758]
["2022-09-22",315.38240000000002]
["2022-09-23",315.48910000000001]
["2022-09-24",315.59589999999997]
["2022-09-25",315.70260000000002]
["2022-09-26",315.80950000000001]
["2022-09-27",315.91629999999998]
["2022-09-28",316.02319999999997]
["2022-09-29",316.13010000000003]
["2022-09-30",316.2371]
["2022-10-01",316.34410000000003]
["2022-10-02",316.4511]
["2022-10-03",316.5582]
["2022-10-04",316.6653]
["2022-10-05",316.7724]
["2022-10-06",316.87959999999998]
["2022-10-07",316.98680000000002]
["2022-10-08",317.09399999999999]
["2022-10-09",317.2013]
["2022-10-10",317.30860000000001]
["2022-10-11",317.416]
["2022-10-12",317.52339999999998]
["2022-10-13",317.63080000000002]
["2022-10-14",317.73829999999998]
["2022-10-15",317.8458]
["2022-10-16",317.94069999999999]
["2022-10-17",318.03570000000002]
["2022-10-18",318.13069999999999]
["2022-10-19",318.22570000000002]
["2022-10-20",318.32069999999999]
["2022-10-21",318.41579999999999]
["2022-10-22",318.51089999999999]
["2022-10-23",318.60599999999999]
["2022-10-24",318.70119999999997]
["2022-10-25",318.79629999999997]
["2022-10-26",318.89159999999998]
["2022-10-27",318.98680000000002]
["2022-10-28",319.08210000000003]
["2022-10-29",319.17739999999998]
["2022-10-30",319.27269999999999]
["2022-10-31",319.36799999999999]
["2022-11-01",319.46339999999998]
["2022-11-02",319.55880000000002]
["2022-11-03",319.65429999999998]
["2022-11-04",319.74970000000002]
["2022-11-05",319.84519999999998]
["2022-11-06",319.94080000000002]
["2022-11-07",320.03629999999998]
["2022-11-08",320.13189999999997]
["2022-11-09",320.22750000000002]
["2022-11-10",320.32310000000001]
["2022-11-11",320.41879999999998]
["2022-11-12",320.5145]
["2022-11-13",320.61020000000002]
["2022-11-14",320.70600000000002]
["2022-11-15",320.80180000000001]
["2022-11-16",320.87849999999997]
["2022-11-17",320.95530000000002]
["2022-11-18",321.03199999999998]
["2022-11-19",321.10879999999997]
["2022-11-20",321.18560000000002]
["2022-11-21",321.26240000000001]
["2022-11-22",321.33929999999998]
["2022-11-23",321.41609999999997]
["2022-11-24",321.49299999999999]
["2022-11-25",321.56990000000002]
["2022-11-26",321.64679999999998]
["2022-11-27",321.72370000000001]
["2022-11-28",321.80070000000001]
["2022-11-29",321.87759999999997]
["2022-11-30",321.95460000000003]
["2022-12-01",322.03160000000003]
["2022-12-02",322.10860000000002]
["2022-12-03",322.1857]
["2022-12-04",322.2627]
["2022-12-05",322.33980000000003]
["2022-12-06",322.4169]
["2022-12-07",322.49400000000003]
["2022-12-08",322.5711]
["2022-12-09",322.64830000000001]
["2022-12-10",322.72550000000001]
["2022-12-11",322.80259999999998]
["2022-12-12",322.87979999999999]
["2022-12-13",322.95710000000003]
["2022-12-14",323.03429999999997]
["2022-12-15",323.11160000000001]
["2022-12-16",323.19159999999999]
["2022-12-17",323.2715]
["2022-12-18",323.35149999999999]
["2022-12-19",323.4316]
["2022-12-20",323.51159999999999]
["2022-12-21",323.5917]
["2022-12-22",323.67169999999999]
["2022-12-23",323.7518]
["2022-12-24",323.83190000000002]
["2022-12-25",323.91210000000001]
["2022-12-26",323.99220000000003]
["2022-12-27",324.07240000000002]
["2022-12-28",324.15260000000001]
["2022-12-29",324.2328]
["2022-12-30",324.31310000000002]
["2022-12-31",324.39330000000001]
["2023-01-01",324.47359999999998]
["2023-01-02",324.5539]
["2023-01-03",324.63420000000002]
["2023-01-04",324.71449999999999]
["2023-01-05",324.79489999999998]
["2023-01-06",324.87529999999998]
["2023-01-07",324.95569999999998]
["2023-01-08",325.03609999999998]
["2023-01-09",325.11649999999997]
["2023-01-10",325.197]
["2023-01-11",325.27749999999997]
["2023-01-12",325.358]
["2023-01-13",325.43849999999998]
["2023-01-14",325.51900000000001]
["2023-01-15",325.59960000000001]
["2023-01-16",325.73110000000003]
["2023-01-17",325.86270000000002]
["2023-01-18",325.99439999999998]
["2023-01-19",326.12610000000001]
["2023-01-20",326.25779999999997]
["2023-01-21",326.38959999999997]
["2023-01-22",326.5215]
["2023-01-23",326.65339999999998]
["2023-01-24",326.78539999999998]
["2023-01-25",326.91739999999999]
["2023-01-26",327.04950000000002]
["2023-01-27",327.1816]
["2023-01-28",327.31380000000001]
["2023-01-29",327.44600000000003]
["2023-01-30",327.57830000000001]
["2023-01-31",327.7106]
["2023-02-01",327.84300000000002]
["2023-02-02",327.97550000000001]
["2023-02-03",328.108]
["2023-02-04",328.2405]
["2023-02-05",328.37310000000002]
["2023-02-06",328.50580000000002]
["2023-02-07",328.63850000000002]
["2023-02-08",328.7713]
["2023-02-09",328.90410000000003]
["2023-02-10",329.03699999999998]
["2023-02-11",329.16989999999998]
["2023-02-12",329.30290000000002]
["2023-02-13",329.4359]
["2023-02-14",329.56900000000002]
["2023-02-15",329.7022]
["2023-02-16",329.91]
["2023-02-17",330.11799999999999]
["2023-02-18",330.32600000000002]
["2023-02-19",330.53429999999997]
["2023-02-20",330.74259999999998]
["2023-02-21",330.9511]
["2023-02-22",331.15969999999999]
["2023-02-23",331.36840000000001]
["2023-02-24",331.57729999999998]
["2023-02-25",331.78629999999998]
["2023-02-26",331.99540000000002]
["2023-02-27",332.2047]
["2023-02-28",332.41410000000002]
["2023-03-01",332.62360000000001]
["2023-03-02",332.83330000000001]
["2023-03-03",333.04309999999998]
["2023-03-04",333.25299999999999]
["2023-03-05",333.46300000000002]
["2023-03-06",333.67320000000001]
["2023-03-07",333.88350000000003]
["2023-03-08",334.09399999999999]
["2023-03-09",334.30459999999999]
["2023-03-10",334.51530000000002]
["2023-03-11",334.72620000000001]
["2023-03-12",334.93709999999999]
["2023-03-13",335.14830000000001]
["2023-03-14",335.35950000000003]
["2023-03-15",335.57089999999999]
["2023-03-16",335.74919999999997]
["2023-03-17",335.92750000000001]
["2023-03-18",336.10599999999999]
["2023-03-19",336.28449999999998]
["2023-03-20",336.46319999999997]
["2023-03-21",336.64190000000002]
["2023-03-22",336.82069999999999]
["2023-03-23",336.99970000000002]
["2023-03-24",337.17869999999999]
["2023-03-25",337.3578]
["2023-03-26",337.53699999999998]
["2023-03-27",337.71629999999999]
["2023-03-28",337.89569999999998]
["2023-03-29",338.0752]
["2023-03-30",338.25479999999999]
["2023-03-31",338.43450000000001]
["2023-04-01",338.61430000000001]
["2023-04-02",338.79419999999999]
["2023-04-03",338.9742]
["2023-04-04",339.15429999999998]
["2023-04-05",339.33440000000002]
["2023-04-06",339.5147]
["2023-04-07",339.69499999999999]
["2023-04-08",339.87549999999999]
["2023-04-09",340.05610000000001]
["2023-04-10",340.23669999999998]
["2023-04-11",340.41739999999999]
["2023-04-12",340.59829999999999]
["2023-04-13",340.7792]
["2023-04-14",340.96019999999999]
["2023-04-15",341.14139999999998]
["2023-04-16",341.2602]
["2023-04-17",341.37900000000002]
["2023-04-18",341.49790000000002]
["2023-04-19",341.61680000000001]
["2023-04-20",341.73579999999998]
["2023-04-21",341.85480000000001]
["2023-04-22",341.97390000000001]
["2023-04-23",342.09289999999999]
["2023-04-24",342.21210000000002]
["2023-04-25",342.33120000000002]
["2023-04-26",342.45049999999998]
["2023-04-27",342.56970000000001]
["2023-04-28",342.68900000000002]
["2023-04-29",342.80829999999997]
["2023-04-30",342.92770000000002]
["2023-05-01",343.0471]
["2023-05-02",343.16660000000002]
["2023-05-03",343.28609999999998]
["2023-05-04",343.40559999999999]
["2023-05-05",343.52519999999998]
["2023-05-06",343.64490000000001]
["2023-05-07",343.7645]
["2023-05-08",343.88420000000002]
["2023-05-09",344.00400000000002]
["2023-05-10",344.12380000000002]
["2023-05-11",344.24360000000001]
["2023-05-12",344.36349999999999]
["2023-05-13",344.48340000000002]
["2023-05-14",344.60340000000002]
["2023-05-15",344.72340000000003]
["2023-05-16",{"$f":"+VLOOKUP(A2073,[1]PORFIN!$A$1:$B$65536,2,0)","v":344.8098}]
["2023-05-17",{"$f":"+VLOOKUP(A2074,[1]PORFIN!$A$1:$B$65536,2,0)","v":344.89620000000002}]
["2023-05-18",{"$f":"+VLOOKUP(A2075,[1]PORFIN!$A$1:$B$65536,2,0)","v":344.98270000000002}]
["2023-05-19",{"$f":"+VLOOKUP(A2076,[1]PORFIN!$A$1:$B$65536,2,0)","v":345.06920000000002}]
["2023-05-20",{"$f":"+VLOOKUP(A2077,[1]PORFIN!$A$1:$B$65536,2,0)","v":345.15570000000002}]
["2023-05-21",{"$f":"+VLOOKUP(A2078,[1]PORFIN!$A$1:$B$65536,2,0)","v":345.24220000000003}]
["2023-05-22",{"$f":"+VLOOKUP(A2079,[1]PORFIN!$A$1:$B$65536,2,0)","v":345.32870000000003}]
["2023-05-23",{"$f":"+VLOOKUP(A2080,[1]PORFIN!$A$1:$B$65536,2,0)","v":345.4153}]
["2023-05-24",{"$f":"+VLOOKUP(A2081,[1]PORFIN!$A$1:$B$65536,2,0)","v":345.50189999999998}]
["2023-05-25",{"$f":"+VLOOKUP(A2082,[1]PORFIN!$A$1:$B$65536,2,0)","v":345.58850000000001}]
["2023-05-26",{"$f":"+VLOOKUP(A2083,[1]PORFIN!$A$1:$B$65536,2,0)","v":345.67509999999999}]
["2023-05-27",{"$f":"+VLOOKUP(A2084,[1]PORFIN!$A$1:$B$65536,2,0)","v":345.76179999999999}]
["2023-05-28",{"$f":"+VLOOKUP(A2085,[1]PORFIN!$A$1:$B$65536,2,0)","v":345.84840000000003}]
["2023-05-29",{"$f":"+VLOOKUP(A2086,[1]PORFIN!$A$1:$B$65536,2,0)","v":345.93509999999998}]
["2023-05-30",{"$f":"+VLOOKUP(A2087,[1]PORFIN!$A$1:$B$65536,2,0)","v":346.02179999999998}]
["2023-05-31",{"$f":"+VLOOKUP(A2088,[1]PORFIN!$A$1:$B$65536,2,0)","v":346.10860000000002}]
["2023-06-01",{"$f":"+VLOOKUP(A2089,[1]PORFIN!$A$1:$B$65536,2,0)","v":346.19529999999997}]
["2023-06-02",{"$f":"+VLOOKUP(A2090,[1]PORFIN!$A$1:$B$65536,2,0)","v":346.28210000000001}]
["2023-06-03",{"$f":"+VLOOKUP(A2091,[1]PORFIN!$A$1:$B$65536,2,0)","v":346.3689}]
["2023-06-04",{"$f":"+VLOOKUP(A2092,[1]PORFIN!$A$1:$B$65536,2,0)","v":346.45569999999998}]
["2023-06-05",{"$f":"+VLOOKUP(A2093,[1]PORFIN!$A$1:$B$65536,2,0)","v":346.54259999999999}]
["2023-06-06",{"$f":"+VLOOKUP(A2094,[1]PORFIN!$A$1:$B$65536,2,0)","v":346.62950000000001}]
["2023-06-07",{"$f":"+VLOOKUP(A2095,[1]PORFIN!$A$1:$B$65536,2,0)","v":346.71629999999999}]
["2023-06-08",{"$f":"+VLOOKUP(A2096,[1]PORFIN!$A$1:$B$65536,2,0)","v":346.80329999999998}]
["2023-06-09",{"$f":"+VLOOKUP(A2097,[1]PORFIN!$A$1:$B$65536,2,0)","v":346.89019999999999}]
["2023-06-10",{"$f":"+VLOOKUP(A2098,[1]PORFIN!$A$1:$B$65536,2,0)","v":346.97710000000001}]
["2023-06-11",{"$f":"+VLOOKUP(A2099,[1]PORFIN!$A$1:$B$65536,2,0)","v":347.0641}]
["2023-06-12",{"$f":"+VLOOKUP(A2100,[1]PORFIN!$A$1:$B$65536,2,0)","v":347.15109999999999}]
["2023-06-13",{"$f":"+VLOOKUP(A2101,[1]PORFIN!$A$1:$B$65536,2,0)","v":347.23809999999997}]
["2023-06-14",{"$f":"+VLOOKUP(A2102,[1]PORFIN!$A$1:$B$65536,2,0)","v":347.3252}]
["2023-06-15",{"$f":"+VLOOKUP(A2103,[1]PORFIN!$A$1:$B$65536,2,0)","v":347.41219999999998}]
["2023-06-16",{"$f":"+VLOOKUP(A2104,[1]PORFIN!$A$1:$B$65536,2,0)","v":347.46190000000001}]
["2023-06-17",{"$f":"+VLOOKUP(A2105,[1]PORFIN!$A$1:$B$65536,2,0)","v":347.51159999999999}]
["2023-06-18",{"$f":"+VLOOKUP(A2106,[1]PORFIN!$A$1:$B$65536,2,0)","v":347.56130000000002}]
["2023-06-19",{"$f":"+VLOOKUP(A2107,[1]PORFIN!$A$1:$B$65536,2,0)","v":347.61099999999999}]
["2023-06-20",{"$f":"+VLOOKUP(A2108,[1]PORFIN!$A$1:$B$65536,2,0)","v":347.66070000000002}]
["2023-06-21",{"$f":"+VLOOKUP(A2109,[1]PORFIN!$A$1:$B$65536,2,0)","v":347.71050000000002}]
["2023-06-22",{"$f":"+VLOOKUP(A2110,[1]PORFIN!$A$1:$B$65536,2,0)","v":347.7602}]
["2023-06-23",{"$f":"+VLOOKUP(A2111,[1]PORFIN!$A$1:$B$65536,2,0)","v":347.80990000000003}]
["2023-06-24",{"$f":"+VLOOKUP(A2112,[1]PORFIN!$A$1:$B$65536,2,0)","v":347.85969999999998}]
["2023-06-25",{"$f":"+VLOOKUP(A2113,[1]PORFIN!$A$1:$B$65536,2,0)","v":347.90940000000001}]
["2023-06-26",{"$f":"+VLOOKUP(A2114,[1]PORFIN!$A$1:$B$65536,2,0)","v":347.95920000000001}]
["2023-06-27",{"$f":"+VLOOKUP(A2115,[1]PORFIN!$A$1:$B$65536,2,0)","v":348.00900000000001}]
["2023-06-28",{"$f":"+VLOOKUP(A2116,[1]PORFIN!$A$1:$B$65536,2,0)","v":348.05880000000002}]
["2023-06-29",{"$f":"+VLOOKUP(A2117,[1]PORFIN!$A$1:$B$65536,2,0)","v":348.10849999999999}]
["2023-06-30",{"$f":"+VLOOKUP(A2118,[1]PORFIN!$A$1:$B$65536,2,0)","v":348.1583}]
["2023-07-01",{"$f":"+VLOOKUP(A2119,[1]PORFIN!$A$1:$B$65536,2,0)","v":348.2081}]
["2023-07-02",{"$f":"+VLOOKUP(A2120,[1]PORFIN!$A$1:$B$65536,2,0)","v":348.25790000000001}]
["2023-07-03",{"$f":"+VLOOKUP(A2121,[1]PORFIN!$A$1:$B$65536,2,0)","v":348.30779999999999}]
["2023-07-04",{"$f":"+VLOOKUP(A2122,[1]PORFIN!$A$1:$B$65536,2,0)","v":348.35759999999999}]
["2023-07-05",{"$f":"+VLOOKUP(A2123,[1]PORFIN!$A$1:$B$65536,2,0)","v":348.4074}]
["2023-07-06",{"$f":"+VLOOKUP(A2124,[1]PORFIN!$A$1:$B$65536,2,0)","v":348.4572}]
["2023-07-07",{"$f":"+VLOOKUP(A2125,[1]PORFIN!$A$1:$B$65536,2,0)","v":348.50709999999998}]
["2023-07-08",{"$f":"+VLOOKUP(A2126,[1]PORFIN!$A$1:$B$65536,2,0)","v":348.55689999999998}]
["2023-07-09",{"$f":"+VLOOKUP(A2127,[1]PORFIN!$A$1:$B$65536,2,0)","v":348.60680000000002}]
["2023-07-10",{"$f":"+VLOOKUP(A2128,[1]PORFIN!$A$1:$B$65536,2,0)","v":348.65660000000003}]
["2023-07-11",{"$f":"+VLOOKUP(A2129,[1]PORFIN!$A$1:$B$65536,2,0)","v":348.70650000000001}]
["2023-07-12",{"$f":"+VLOOKUP(A2130,[1]PORFIN!$A$1:$B$65536,2,0)","v":348.75639999999999}]
["2023-07-13",{"$f":"+VLOOKUP(A2131,[1]PORFIN!$A$1:$B$65536,2,0)","v":348.80630000000002}]
["2023-07-14",{"$f":"+VLOOKUP(A2132,[1]PORFIN!$A$1:$B$65536,2,0)","v":348.8562}]
["2023-07-15",{"$f":"+VLOOKUP(A2133,[1]PORFIN!$A$1:$B$65536,2,0)","v":348.90609999999998}]
["2023-07-16",{"$f":"+VLOOKUP(A2134,[1]PORFIN!$A$1:$B$65536,2,0)","v":348.93979999999999}]
["2023-07-17",{"$f":"+VLOOKUP(A2135,[1]PORFIN!$A$1:$B$65536,2,0)","v":348.9735}]
["2023-07-18",{"$f":"+VLOOKUP(A2136,[1]PORFIN!$A$1:$B$65536,2,0)","v":349.00729999999999}]
["2023-07-19",{"$f":"+VLOOKUP(A2137,[1]PORFIN!$A$1:$B$65536,2,0)","v":349.041}]
["2023-07-20",{"$f":"+VLOOKUP(A2138,[1]PORFIN!$A$1:$B$65536,2,0)","v":349.07470000000001}]
["2023-07-21",{"$f":"+VLOOKUP(A2139,[1]PORFIN!$A$1:$B$65536,2,0)","v":349.10840000000002}]
["2023-07-22",{"$f":"+VLOOKUP(A2140,[1]PORFIN!$A$1:$B$65536,2,0)","v":349.1422}]
["2023-07-23",{"$f":"+VLOOKUP(A2141,[1]PORFIN!$A$1:$B$65536,2,0)","v":349.17590000000001}]
["2023-07-24",{"$f":"+VLOOKUP(A2142,[1]PORFIN!$A$1:$B$65536,2,0)","v":349.2097}]
["2023-07-25",{"$f":"+VLOOKUP(A2143,[1]PORFIN!$A$1:$B$65536,2,0)","v":349.24340000000001}]
["2023-07-26",{"$f":"+VLOOKUP(A2144,[1]PORFIN!$A$1:$B$65536,2,0)","v":349.27719999999999}]
["2023-07-27",{"$f":"+VLOOKUP(A2145,[1]PORFIN!$A$1:$B$65536,2,0)","v":349.3109}]
["2023-07-28",{"$f":"+VLOOKUP(A2146,[1]PORFIN!$A$1:$B$65536,2,0)","v":349.34469999999999}]
["2023-07-29",{"$f":"+VLOOKUP(A2147,[1]PORFIN!$A$1:$B$65536,2,0)","v":349.3784}]
["2023-07-30",{"$f":"+VLOOKUP(A2148,[1]PORFIN!$A$1:$B$65536,2,0)","v":349.41219999999998}]
["2023-07-31",{"$f":"+VLOOKUP(A2149,[1]PORFIN!$A$1:$B$65536,2,0)","v":349.44600000000003}]
["2023-08-01",{"$f":"+VLOOKUP(A2150,[1]PORFIN!$A$1:$B$65536,2,0)","v":349.47969999999998}]
["2023-08-02",{"$f":"+VLOOKUP(A2151,[1]PORFIN!$A$1:$B$65536,2,0)","v":349.51350000000002}]
["2023-08-03",{"$f":"+VLOOKUP(A2152,[1]PORFIN!$A$1:$B$65536,2,0)","v":349.54730000000001}]
["2023-08-04",{"$f":"+VLOOKUP(A2153,[1]PORFIN!$A$1:$B$65536,2,0)","v":349.58100000000002}]
["2023-08-05",{"$f":"+VLOOKUP(A2154,[1]PORFIN!$A$1:$B$65536,2,0)","v":349.6148}]
["2023-08-06",{"$f":"+VLOOKUP(A2155,[1]PORFIN!$A$1:$B$65536,2,0)","v":349.64859999999999}]
["2023-08-07",{"$f":"+VLOOKUP(A2156,[1]PORFIN!$A$1:$B$65536,2,0)","v":349.68239999999997}]
["2023-08-08",{"$f":"+VLOOKUP(A2157,[1]PORFIN!$A$1:$B$65536,2,0)","v":349.71620000000001}]
["2023-08-09",{"$f":"+VLOOKUP(A2158,[1]PORFIN!$A$1:$B$65536,2,0)","v":349.75}]
["2023-08-10",{"$f":"+VLOOKUP(A2159,[1]PORFIN!$A$1:$B$65536,2,0)","v":349.78379999999999}]
["2023-08-11",{"$f":"+VLOOKUP(A2160,[1]PORFIN!$A$1:$B$65536,2,0)","v":349.81760000000003}]
["2023-08-12",{"$f":"+VLOOKUP(A2161,[1]PORFIN!$A$1:$B$65536,2,0)","v":349.85140000000001}]
["2023-08-13",{"$f":"+VLOOKUP(A2162,[1]PORFIN!$A$1:$B$65536,2,0)","v":349.8852}]
["2023-08-14",{"$f":"+VLOOKUP(A2163,[1]PORFIN!$A$1:$B$65536,2,0)","v":349.91899999999998}]
["2023-08-15",{"$f":"+VLOOKUP(A2164,[1]PORFIN!$A$1:$B$65536,2,0)","v":349.95280000000002}]
["2023-08-16",{"$f":"+VLOOKUP(A2165,[1]PORFIN!$A$1:$B$65536,2,0)","v":350.00909999999999}]
["2023-08-17",{"$f":"+VLOOKUP(A2166,[1]PORFIN!$A$1:$B$65536,2,0)","v":350.06540000000001}]
["2023-08-18",{"$f":"+VLOOKUP(A2167,[1]PORFIN!$A$1:$B$65536,2,0)","v":350.12180000000001}]
["2023-08-19",{"$f":"+VLOOKUP(A2168,[1]PORFIN!$A$1:$B$65536,2,0)","v":350.17809999999997}]
["2023-08-20",{"$f":"+VLOOKUP(A2169,[1]PORFIN!$A$1:$B$65536,2,0)","v":350.23439999999999}]
["2023-08-21",{"$f":"+VLOOKUP(A2170,[1]PORFIN!$A$1:$B$65536,2,0)","v":350.29079999999999}]
["2023-08-22",{"$f":"+VLOOKUP(A2171,[1]PORFIN!$A$1:$B$65536,2,0)","v":350.34710000000001}]
["2023-08-23",{"$f":"+VLOOKUP(A2172,[1]PORFIN!$A$1:$B$65536,2,0)","v":350.40350000000001}]
["2023-08-24",{"$f":"+VLOOKUP(A2173,[1]PORFIN!$A$1:$B$65536,2,0)","v":350.4599}]
["2023-08-25",{"$f":"+VLOOKUP(A2174,[1]PORFIN!$A$1:$B$65536,2,0)","v":350.5163}]
["2023-08-26",{"$f":"+VLOOKUP(A2175,[1]PORFIN!$A$1:$B$65536,2,0)","v":350.5727}]
["2023-08-27",{"$f":"+VLOOKUP(A2176,[1]PORFIN!$A$1:$B$65536,2,0)","v":350.62909999999999}]
["2023-08-28",{"$f":"+VLOOKUP(A2177,[1]PORFIN!$A$1:$B$65536,2,0)","v":350.68549999999999}]
["2023-08-29",{"$f":"+VLOOKUP(A2178,[1]PORFIN!$A$1:$B$65536,2,0)","v":350.74189999999999}]
["2023-08-30",{"$f":"+VLOOKUP(A2179,[1]PORFIN!$A$1:$B$65536,2,0)","v":350.79840000000002}]
["2023-08-31",{"$f":"+VLOOKUP(A2180,[1]PORFIN!$A$1:$B$65536,2,0)","v":350.85480000000001}]
["2023-09-01",{"$f":"+VLOOKUP(A2181,[1]PORFIN!$A$1:$B$65536,2,0)","v":350.91129999999998}]
["2023-09-02",{"$f":"+VLOOKUP(A2182,[1]PORFIN!$A$1:$B$65536,2,0)","v":350.96769999999998}]
["2023-09-03",{"$f":"+VLOOKUP(A2183,[1]PORFIN!$A$1:$B$65536,2,0)","v":351.02420000000001}]
["2023-09-04",{"$f":"+VLOOKUP(A2184,[1]PORFIN!$A$1:$B$65536,2,0)","v":351.08069999999998}]
["2023-09-05",{"$f":"+VLOOKUP(A2185,[1]PORFIN!$A$1:$B$65536,2,0)","v":351.13720000000001}]
["2023-09-06",{"$f":"+VLOOKUP(A2186,[1]PORFIN!$A$1:$B$65536,2,0)","v":351.19369999999998}]
["2023-09-07",{"$f":"+VLOOKUP(A2187,[1]PORFIN!$A$1:$B$65536,2,0)","v":351.25020000000001}]
["2023-09-08",{"$f":"+VLOOKUP(A2188,[1]PORFIN!$A$1:$B$65536,2,0)","v":351.30669999999998}]
["2023-09-09",{"$f":"+VLOOKUP(A2189,[1]PORFIN!$A$1:$B$65536,2,0)","v":351.36320000000001}]
["2023-09-10",{"$f":"+VLOOKUP(A2190,[1]PORFIN!$A$1:$B$65536,2,0)","v":351.41980000000001}]
["2023-09-11",{"$f":"+VLOOKUP(A2191,[1]PORFIN!$A$1:$B$65536,2,0)","v":351.47629999999998}]
["2023-09-12",{"$f":"+VLOOKUP(A2192,[1]PORFIN!$A$1:$B$65536,2,0)","v":351.53289999999998}]
["2023-09-13",{"$f":"+VLOOKUP(A2193,[1]PORFIN!$A$1:$B$65536,2,0)","v":351.58940000000001}]
["2023-09-14",{"$f":"+VLOOKUP(A2194,[1]PORFIN!$A$1:$B$65536,2,0)","v":351.64600000000002}]
["2023-09-15",{"$f":"+VLOOKUP(A2195,[1]PORFIN!$A$1:$B$65536,2,0)","v":351.70260000000002}]
["2023-09-16",{"$f":"+VLOOKUP(A2196,[1]PORFIN!$A$1:$B$65536,2,0)","v":351.78440000000001}]
["2023-09-17",{"$f":"+VLOOKUP(A2197,[1]PORFIN!$A$1:$B$65536,2,0)","v":351.86619999999999}]
["2023-09-18",{"$f":"+VLOOKUP(A2198,[1]PORFIN!$A$1:$B$65536,2,0)","v":351.94799999999998}]
["2023-09-19",{"$f":"+VLOOKUP(A2199,[1]PORFIN!$A$1:$B$65536,2,0)","v":352.0299}]
["2023-09-20",{"$f":"+VLOOKUP(A2200,[1]PORFIN!$A$1:$B$65536,2,0)","v":352.11169999999998}]
["2023-09-21",{"$f":"+VLOOKUP(A2201,[1]PORFIN!$A$1:$B$65536,2,0)","v":352.1936}]
["2023-09-22",{"$f":"+VLOOKUP(A2202,[1]PORFIN!$A$1:$B$65536,2,0)","v":352.27550000000002}]
["2023-09-23",{"$f":"+VLOOKUP(A2203,[1]PORFIN!$A$1:$B$65536,2,0)","v":352.35739999999998}]
["2023-09-24",{"$f":"+VLOOKUP(A2204,[1]PORFIN!$A$1:$B$65536,2,0)","v":352.43939999999998}]
["2023-09-25",{"$f":"+VLOOKUP(A2205,[1]PORFIN!$A$1:$B$65536,2,0)","v":352.5213}]
["2023-09-26",{"$f":"+VLOOKUP(A2206,[1]PORFIN!$A$1:$B$65536,2,0)","v":352.60329999999999}]
["2023-09-27",{"$f":"+VLOOKUP(A2207,[1]PORFIN!$A$1:$B$65536,2,0)","v":352.68529999999998}]
["2023-09-28",{"$f":"+VLOOKUP(A2208,[1]PORFIN!$A$1:$B$65536,2,0)","v":352.76729999999998}]
["2023-09-29",{"$f":"+VLOOKUP(A2209,[1]PORFIN!$A$1:$B$65536,2,0)","v":352.8494}]
["2023-09-30",{"$f":"+VLOOKUP(A2210,[1]PORFIN!$A$1:$B$65536,2,0)","v":352.9314}]
["2023-10-01",{"$f":"+VLOOKUP(A2211,[1]PORFIN!$A$1:$B$65536,2,0)","v":353.01350000000002}]
["2023-10-02",{"$f":"+VLOOKUP(A2212,[1]PORFIN!$A$1:$B$65536,2,0)","v":353.09559999999999}]
["2023-10-03",{"$f":"+VLOOKUP(A2213,[1]PORFIN!$A$1:$B$65536,2,0)","v":353.17770000000002}]
["2023-10-04",{"$f":"+VLOOKUP(A2214,[1]PORFIN!$A$1:$B$65536,2,0)","v":353.25979999999998}]
["2023-10-05",{"$f":"+VLOOKUP(A2215,[1]PORFIN!$A$1:$B$65536,2,0)","v":353.34199999999998}]
["2023-10-06",{"$f":"+VLOOKUP(A2216,[1]PORFIN!$A$1:$B$65536,2,0)","v":353.42410000000001}]
["2023-10-07",{"$f":"+VLOOKUP(A2217,[1]PORFIN!$A$1:$B$65536,2,0)","v":353.50630000000001}]
["2023-10-08",{"$f":"+VLOOKUP(A2218,[1]PORFIN!$A$1:$B$65536,2,0)","v":353.58850000000001}]
["2023-10-09",{"$f":"+VLOOKUP(A2219,[1]PORFIN!$A$1:$B$65536,2,0)","v":353.67079999999999}]
["2023-10-10",{"$f":"+VLOOKUP(A2220,[1]PORFIN!$A$1:$B$65536,2,0)","v":353.75299999999999}]
["2023-10-11",{"$f":"+VLOOKUP(A2221,[1]PORFIN!$A$1:$B$65536,2,0)","v":353.83530000000002}]
["2023-10-12",{"$f":"+VLOOKUP(A2222,[1]PORFIN!$A$1:$B$65536,2,0)","v":353.91759999999999}]
["2023-10-13",{"$f":"+VLOOKUP(A2223,[1]PORFIN!$A$1:$B$65536,2,0)","v":353.99990000000003}]
["2023-10-14",{"$f":"+VLOOKUP(A2224,[1]PORFIN!$A$1:$B$65536,2,0)","v":354.0822}]
["2023-10-15",{"$f":"+VLOOKUP(A2225,[1]PORFIN!$A$1:$B$65536,2,0)","v":354.16449999999998}]
["2023-10-16",{"$f":"+VLOOKUP(A2226,[1]PORFIN!$A$1:$B$65536,2,0)","v":354.226}]
["2023-10-17",{"$f":"+VLOOKUP(A2227,[1]PORFIN!$A$1:$B$65536,2,0)","v":354.2876}]
["2023-10-18",{"$f":"+VLOOKUP(A2228,[1]PORFIN!$A$1:$B$65536,2,0)","v":354.34910000000002}]
["2023-10-19",{"$f":"+VLOOKUP(A2229,[1]PORFIN!$A$1:$B$65536,2,0)","v":354.41070000000002}]
["2023-10-20",{"$f":"+VLOOKUP(A2230,[1]PORFIN!$A$1:$B$65536,2,0)","v":354.47230000000002}]
["2023-10-21",{"$f":"+VLOOKUP(A2231,[1]PORFIN!$A$1:$B$65536,2,0)","v":354.53390000000002}]
["2023-10-22",{"$f":"+VLOOKUP(A2232,[1]PORFIN!$A$1:$B$65536,2,0)","v":354.59550000000002}]
["2023-10-23",{"$f":"+VLOOKUP(A2233,[1]PORFIN!$A$1:$B$65536,2,0)","v":354.65710000000001}]
["2023-10-24",{"$f":"+VLOOKUP(A2234,[1]PORFIN!$A$1:$B$65536,2,0)","v":354.71870000000001}]
["2023-10-25",{"$f":"+VLOOKUP(A2235,[1]PORFIN!$A$1:$B$65536,2,0)","v":354.78030000000001}]
["2023-10-26",{"$f":"+VLOOKUP(A2236,[1]PORFIN!$A$1:$B$65536,2,0)","v":354.84190000000001}]
["2023-10-27",{"$f":"+VLOOKUP(A2237,[1]PORFIN!$A$1:$B$65536,2,0)","v":354.90359999999998}]
["2023-10-28",{"$f":"+VLOOKUP(A2238,[1]PORFIN!$A$1:$B$65536,2,0)","v":354.96530000000001}]
["2023-10-29",{"$f":"+VLOOKUP(A2239,[1]PORFIN!$A$1:$B$65536,2,0)","v":355.02690000000001}]
["2023-10-30",{"$f":"+VLOOKUP(A2240,[1]PORFIN!$A$1:$B$65536,2,0)","v":355.08859999999999}]
["2023-10-31",{"$f":"+VLOOKUP(A2241,[1]PORFIN!$A$1:$B$65536,2,0)","v":355.15030000000002}]
["2023-11-01",{"$f":"+VLOOKUP(A2242,[1]PORFIN!$A$1:$B$65536,2,0)","v":355.21199999999999}]
["2023-11-02",{"$f":"+VLOOKUP(A2243,[1]PORFIN!$A$1:$B$65536,2,0)","v":355.27370000000002}]
["2023-11-03",{"$f":"+VLOOKUP(A2244,[1]PORFIN!$A$1:$B$65536,2,0)","v":355.33539999999999}]
["2023-11-04",{"$f":"+VLOOKUP(A2245,[1]PORFIN!$A$1:$B$65536,2,0)","v":355.3972}]
["2023-11-05",{"$f":"+VLOOKUP(A2246,[1]PORFIN!$A$1:$B$65536,2,0)","v":355.45890000000003}]
["2023-11-06",{"$f":"+VLOOKUP(A2247,[1]PORFIN!$A$1:$B$65536,2,0)","v":355.52069999999998}]
["2023-11-07",{"$f":"+VLOOKUP(A2248,[1]PORFIN!$A$1:$B$65536,2,0)","v":355.58249999999998}]
["2023-11-08",{"$f":"+VLOOKUP(A2249,[1]PORFIN!$A$1:$B$65536,2,0)","v":355.64420000000001}]
["2023-11-09",{"$f":"+VLOOKUP(A2250,[1]PORFIN!$A$1:$B$65536,2,0)","v":355.70600000000002}]
["2023-11-10",{"$f":"+VLOOKUP(A2251,[1]PORFIN!$A$1:$B$65536,2,0)","v":355.76780000000002}]
["2023-11-11",{"$f":"+VLOOKUP(A2252,[1]PORFIN!$A$1:$B$65536,2,0)","v":355.82960000000003}]
["2023-11-12",{"$f":"+VLOOKUP(A2253,[1]PORFIN!$A$1:$B$65536,2,0)","v":355.89150000000001}]
["2023-11-13",{"$f":"+VLOOKUP(A2254,[1]PORFIN!$A$1:$B$65536,2,0)","v":355.95330000000001}]
["2023-11-14",{"$f":"+VLOOKUP(A2255,[1]PORFIN!$A$1:$B$65536,2,0)","v":356.01510000000002}]
["2023-11-15",{"$f":"+VLOOKUP(A2256,[1]PORFIN!$A$1:$B$65536,2,0)","v":356.077}]
["2023-11-16",{"$f":"+VLOOKUP(A2257,[1]PORFIN!$A$1:$B$65536,2,0)","v":356.10660000000001}]
["2023-11-17",{"$f":"+VLOOKUP(A2258,[1]PORFIN!$A$1:$B$65536,2,0)","v":356.13630000000001}]
["2023-11-18",{"$f":"+VLOOKUP(A2259,[1]PORFIN!$A$1:$B$65536,2,0)","v":356.16590000000002}]
["2023-11-19",{"$f":"+VLOOKUP(A2260,[1]PORFIN!$A$1:$B$65536,2,0)","v":356.19560000000001}]
["2023-11-20",{"$f":"+VLOOKUP(A2261,[1]PORFIN!$A$1:$B$65536,2,0)","v":356.22519999999997}]
["2023-11-21",{"$f":"+VLOOKUP(A2262,[1]PORFIN!$A$1:$B$65536,2,0)","v":356.25490000000002}]
["2023-11-22",{"$f":"+VLOOKUP(A2263,[1]PORFIN!$A$1:$B$65536,2,0)","v":356.28449999999998}]
["2023-11-23",{"$f":"+VLOOKUP(A2264,[1]PORFIN!$A$1:$B$65536,2,0)","v":356.31420000000003}]
["2023-11-24",{"$f":"+VLOOKUP(A2265,[1]PORFIN!$A$1:$B$65536,2,0)","v":356.34379999999999}]
["2023-11-25",{"$f":"+VLOOKUP(A2266,[1]PORFIN!$A$1:$B$65536,2,0)","v":356.37349999999998}]
["2023-11-26",{"$f":"+VLOOKUP(A2267,[1]PORFIN!$A$1:$B$65536,2,0)","v":356.40309999999999}]
["2023-11-27",{"$f":"+VLOOKUP(A2268,[1]PORFIN!$A$1:$B$65536,2,0)","v":356.43279999999999}]
["2023-11-28",{"$f":"+VLOOKUP(A2269,[1]PORFIN!$A$1:$B$65536,2,0)","v":356.46249999999998}]
["2023-11-29",{"$f":"+VLOOKUP(A2270,[1]PORFIN!$A$1:$B$65536,2,0)","v":356.49209999999999}]
["2023-11-30",{"$f":"+VLOOKUP(A2271,[1]PORFIN!$A$1:$B$65536,2,0)","v":356.52179999999998}]
["2023-12-01",{"$f":"+VLOOKUP(A2272,[1]PORFIN!$A$1:$B$65536,2,0)","v":356.55149999999998}]
["2023-12-02",{"$f":"+VLOOKUP(A2273,[1]PORFIN!$A$1:$B$65536,2,0)","v":356.58120000000002}]
["2023-12-03",{"$f":"+VLOOKUP(A2274,[1]PORFIN!$A$1:$B$65536,2,0)","v":356.61079999999998}]
["2023-12-04",{"$f":"+VLOOKUP(A2275,[1]PORFIN!$A$1:$B$65536,2,0)","v":356.64049999999997}]
["2023-12-05",{"$f":"+VLOOKUP(A2276,[1]PORFIN!$A$1:$B$65536,2,0)","v":356.67020000000002}]
["2023-12-06",{"$f":"+VLOOKUP(A2277,[1]PORFIN!$A$1:$B$65536,2,0)","v":356.69990000000001}]
["2023-12-07",{"$f":"+VLOOKUP(A2278,[1]PORFIN!$A$1:$B$65536,2,0)","v":356.7296}]
["2023-12-08",{"$f":"+VLOOKUP(A2279,[1]PORFIN!$A$1:$B$65536,2,0)","v":356.7593}]
["2023-12-09",{"$f":"+VLOOKUP(A2280,[1]PORFIN!$A$1:$B$65536,2,0)","v":356.78899999999999}]
["2023-12-10",{"$f":"+VLOOKUP(A2281,[1]PORFIN!$A$1:$B$65536,2,0)","v":356.81869999999998}]
["2023-12-11",{"$f":"+VLOOKUP(A2282,[1]PORFIN!$A$1:$B$65536,2,0)","v":356.84840000000003}]
["2023-12-12",{"$f":"+VLOOKUP(A2283,[1]PORFIN!$A$1:$B$65536,2,0)","v":356.87810000000002}]
["2023-12-13",{"$f":"+VLOOKUP(A2284,[1]PORFIN!$A$1:$B$65536,2,0)","v":356.90780000000001}]
["2023-12-14",{"$f":"+VLOOKUP(A2285,[1]PORFIN!$A$1:$B$65536,2,0)","v":356.9375}]
["2023-12-15",{"$f":"+VLOOKUP(A2286,[1]PORFIN!$A$1:$B$65536,2,0)","v":356.96719999999999}]
["2023-12-16",{"$f":"+VLOOKUP(A2287,[1]PORFIN!$A$1:$B$65536,2,0)","v":356.10660000000001}]
["2023-12-17",{"$f":"+VLOOKUP(A2288,[1]PORFIN!$A$1:$B$65536,2,0)","v":356.13630000000001}]
["2023-12-18",{"$f":"+VLOOKUP(A2289,[1]PORFIN!$A$1:$B$65536,2,0)","v":356.16590000000002}]
["2023-12-19",{"$f":"+VLOOKUP(A2290,[1]PORFIN!$A$1:$B$65536,2,0)","v":356.19560000000001}]
["2023-12-20",{"$f":"+VLOOKUP(A2291,[1]PORFIN!$A$1:$B$65536,2,0)","v":356.22519999999997}]
["2023-12-21",{"$f":"+VLOOKUP(A2292,[1]PORFIN!$A$1:$B$65536,2,0)","v":356.25490000000002}]
["2023-12-22",{"$f":"+VLOOKUP(A2293,[1]PORFIN!$A$1:$B$65536,2,0)","v":356.28449999999998}]
["2023-12-23",{"$f":"+VLOOKUP(A2294,[1]PORFIN!$A$1:$B$65536,2,0)","v":356.31420000000003}]
["2023-12-24",{"$f":"+VLOOKUP(A2295,[1]PORFIN!$A$1:$B$65536,2,0)","v":356.34379999999999}]
["2023-12-25",{"$f":"+VLOOKUP(A2296,[1]PORFIN!$A$1:$B$65536,2,0)","v":356.37349999999998}]
["2023-12-26",{"$f":"+VLOOKUP(A2297,[1]PORFIN!$A$1:$B$65536,2,0)","v":356.40309999999999}]
["2023-12-27",{"$f":"+VLOOKUP(A2298,[1]PORFIN!$A$1:$B$65536,2,0)","v":356.43279999999999}]
["2023-12-28",{"$f":"+VLOOKUP(A2299,[1]PORFIN!$A$1:$B$65536,2,0)","v":356.46249999999998}]
["2023-12-29",{"$f":"+VLOOKUP(A2300,[1]PORFIN!$A$1:$B$65536,2,0)","v":356.49209999999999}]
["2023-12-30",{"$f":"+VLOOKUP(A2301,[1]PORFIN!$A$1:$B$65536,2,0)","v":356.52179999999998}]
["2023-12-31",{"$f":"+VLOOKUP(A2302,[1]PORFIN!$A$1:$B$65536,2,0)","v":356.55149999999998}]
["2024-01-01",{"$f":"+VLOOKUP(A2303,[1]PORFIN!$A$1:$B$65536,2,0)","v":356.58120000000002}]
["2024-01-02",{"$f":"+VLOOKUP(A2304,[1]PORFIN!$A$1:$B$65536,2,0)","v":356.61079999999998}]
["2024-01-03",{"$f":"+VLOOKUP(A2305,[1]PORFIN!$A$1:$B$65536,2,0)","v":356.64049999999997}]
["2024-01-04",{"$f":"+VLOOKUP(A2306,[1]PORFIN!$A$1:$B$65536,2,0)","v":356.67020000000002}]
["2024-01-05",{"$f":"+VLOOKUP(A2307,[1]PORFIN!$A$1:$B$65536,2,0)","v":356.69990000000001}]
["2024-01-06",{"$f":"+VLOOKUP(A2308,[1]PORFIN!$A$1:$B$65536,2,0)","v":356.7296}]
["2024-01-07",{"$f":"+VLOOKUP(A2309,[1]PORFIN!$A$1:$B$65536,2,0)","v":356.7593}]
["2024-01-08",{"$f":"+VLOOKUP(A2310,[1]PORFIN!$A$1:$B$65536,2,0)","v":356.78899999999999}]
["2024-01-09",{"$f":"+VLOOKUP(A2311,[1]PORFIN!$A$1:$B$65536,2,0)","v":356.81869999999998}]
["2024-01-10",{"$f":"+VLOOKUP(A2312,[1]PORFIN!$A$1:$B$65536,2,0)","v":356.84840000000003}]
["2024-01-11",{"$f":"+VLOOKUP(A2313,[1]PORFIN!$A$1:$B$65536,2,0)","v":356.87810000000002}]
["2024-01-12",{"$f":"+VLOOKUP(A2314,[1]PORFIN!$A$1:$B$65536,2,0)","v":356.90780000000001}]
["2024-01-13",{"$f":"+VLOOKUP(A2315,[1]PORFIN!$A$1:$B$65536,2,0)","v":356.9375}]
["2024-01-14",{"$f":"+VLOOKUP(A2316,[1]PORFIN!$A$1:$B$65536,2,0)","v":356.96719999999999}]
["2024-01-15",{"$f":"+VLOOKUP(A2317,[1]PORFIN!$A$1:$B$65536,2,0)","v":360.25880000000001}]
["2024-01-16",{"$f":"+VLOOKUP(A2318,[1]PORFIN!$A$1:$B$65536,2,0)","v":360.20659999999998}]
["2024-01-17",{"$f":"+VLOOKUP(A2319,[1]PORFIN!$A$1:$B$65536,2,0)","v":360.15449999999998}]
["2024-01-18",{"$f":"+VLOOKUP(A2320,[1]PORFIN!$A$1:$B$65536,2,0)","v":360.10230000000001}]
["2024-01-19",{"$f":"+VLOOKUP(A2321,[1]PORFIN!$A$1:$B$65536,2,0)","v":360.05009999999999}]
["2024-01-20",{"$f":"+VLOOKUP(A2322,[1]PORFIN!$A$1:$B$65536,2,0)","v":359.99799999999999}]
["2024-01-21",{"$f":"+VLOOKUP(A2323,[1]PORFIN!$A$1:$B$65536,2,0)","v":359.94589999999999}]
["2024-01-22",{"$f":"+VLOOKUP(A2324,[1]PORFIN!$A$1:$B$65536,2,0)","v":359.89370000000002}]
["2024-01-23",{"$f":"+VLOOKUP(A2325,[1]PORFIN!$A$1:$B$65536,2,0)","v":359.84160000000003}]
["2024-01-24",{"$f":"+VLOOKUP(A2326,[1]PORFIN!$A$1:$B$65536,2,0)","v":359.78949999999998}]
["2024-01-25",{"$f":"+VLOOKUP(A2327,[1]PORFIN!$A$1:$B$65536,2,0)","v":359.73739999999998}]
["2024-01-26",{"$f":"+VLOOKUP(A2328,[1]PORFIN!$A$1:$B$65536,2,0)","v":359.68529999999998}]
["2024-01-27",{"$f":"+VLOOKUP(A2329,[1]PORFIN!$A$1:$B$65536,2,0)","v":359.63319999999999}]
["2024-01-28",{"$f":"+VLOOKUP(A2330,[1]PORFIN!$A$1:$B$65536,2,0)","v":359.58109999999999}]
["2024-01-29",{"$f":"+VLOOKUP(A2331,[1]PORFIN!$A$1:$B$65536,2,0)","v":359.529}]
["2024-01-30",{"$f":"+VLOOKUP(A2332,[1]PORFIN!$A$1:$B$65536,2,0)","v":359.47699999999998}]
["2024-01-31",{"$f":"+VLOOKUP(A2333,[1]PORFIN!$A$1:$B$65536,2,0)","v":359.42489999999998}]
["2024-02-01",{"$f":"+VLOOKUP(A2334,[1]PORFIN!$A$1:$B$65536,2,0)","v":359.37290000000002}]
["2024-02-02",{"$f":"+VLOOKUP(A2335,[1]PORFIN!$A$1:$B$65536,2,0)","v":359.32080000000002}]
["2024-02-03",{"$f":"+VLOOKUP(A2336,[1]PORFIN!$A$1:$B$65536,2,0)","v":359.2688}]
["2024-02-04",{"$f":"+VLOOKUP(A2337,[1]PORFIN!$A$1:$B$65536,2,0)","v":359.2167}]
["2024-02-05",{"$f":"+VLOOKUP(A2338,[1]PORFIN!$A$1:$B$65536,2,0)","v":359.16469999999998}]
["2024-02-06",{"$f":"+VLOOKUP(A2339,[1]PORFIN!$A$1:$B$65536,2,0)","v":359.11270000000002}]
["2024-02-07",{"$f":"+VLOOKUP(A2340,[1]PORFIN!$A$1:$B$65536,2,0)","v":359.0607}]
["2024-02-08",{"$f":"+VLOOKUP(A2341,[1]PORFIN!$A$1:$B$65536,2,0)","v":359.00869999999998}]
["2024-02-09",{"$f":"+VLOOKUP(A2342,[1]PORFIN!$A$1:$B$65536,2,0)","v":358.95670000000001}]
["2024-02-10",{"$f":"+VLOOKUP(A2343,[1]PORFIN!$A$1:$B$65536,2,0)","v":358.90469999999999}]
["2024-02-11",{"$f":"+VLOOKUP(A2344,[1]PORFIN!$A$1:$B$65536,2,0)","v":358.85270000000003}]
["2024-02-12",{"$f":"+VLOOKUP(A2345,[1]PORFIN!$A$1:$B$65536,2,0)","v":358.80079999999998}]
["2024-02-13",{"$f":"+VLOOKUP(A2346,[1]PORFIN!$A$1:$B$65536,2,0)","v":358.74880000000002}]
["2024-02-14",{"$f":"+VLOOKUP(A2347,[1]PORFIN!$A$1:$B$65536,2,0)","v":358.6968}]
["2024-02-15",{"$f":"+VLOOKUP(A2348,[1]PORFIN!$A$1:$B$65536,2,0)","v":358.64490000000001}]
["2024-02-16",{"$f":"+VLOOKUP(A2349,[1]PORFIN!$A$1:$B$65536,2,0)","v":360.37259999999998}]
["2024-02-17",{"$f":"+VLOOKUP(A2350,[1]PORFIN!$A$1:$B$65536,2,0)","v":360.4864}]
["2024-02-18",{"$f":"+VLOOKUP(A2351,[1]PORFIN!$A$1:$B$65536,2,0)","v":360.6003}]
["2024-02-19",{"$f":"+VLOOKUP(A2352,[1]PORFIN!$A$1:$B$65536,2,0)","v":360.71420000000001}]
["2024-02-20",{"$f":"+VLOOKUP(A2353,[1]PORFIN!$A$1:$B$65536,2,0)","v":360.82810000000001}]
["2024-02-21",{"$f":"+VLOOKUP(A2354,[1]PORFIN!$A$1:$B$65536,2,0)","v":360.94200000000001}]
["2024-02-22",{"$f":"+VLOOKUP(A2355,[1]PORFIN!$A$1:$B$65536,2,0)","v":361.05599999999998}]
["2024-02-23",{"$f":"+VLOOKUP(A2356,[1]PORFIN!$A$1:$B$65536,2,0)","v":361.17009999999999}]
["2024-02-24",{"$f":"+VLOOKUP(A2357,[1]PORFIN!$A$1:$B$65536,2,0)","v":361.2842}]
["2024-02-25",{"$f":"+VLOOKUP(A2358,[1]PORFIN!$A$1:$B$65536,2,0)","v":361.39830000000001}]
["2024-02-26",{"$f":"+VLOOKUP(A2359,[1]PORFIN!$A$1:$B$65536,2,0)","v":361.51240000000001}]
["2024-02-27",{"$f":"+VLOOKUP(A2360,[1]PORFIN!$A$1:$B$65536,2,0)","v":361.6266}]
["2024-02-28",{"$f":"+VLOOKUP(A2361,[1]PORFIN!$A$1:$B$65536,2,0)","v":361.74079999999998}]
["2024-02-29",{"$f":"+VLOOKUP(A2362,[1]PORFIN!$A$1:$B$65536,2,0)","v":361.85509999999999}]
["2024-03-01",{"$f":"+VLOOKUP(A2363,[1]PORFIN!$A$1:$B$65536,2,0)","v":361.96929999999998}]
["2024-03-02",{"$f":"+VLOOKUP(A2364,[1]PORFIN!$A$1:$B$65536,2,0)","v":362.08370000000002}]
["2024-03-03",{"$f":"+VLOOKUP(A2365,[1]PORFIN!$A$1:$B$65536,2,0)","v":362.19799999999998}]
["2024-03-04",{"$f":"+VLOOKUP(A2366,[1]PORFIN!$A$1:$B$65536,2,0)","v":362.31240000000003}]
["2024-03-05",{"$f":"+VLOOKUP(A2367,[1]PORFIN!$A$1:$B$65536,2,0)","v":362.42689999999999}]
["2024-03-06",{"$f":"+VLOOKUP(A2368,[1]PORFIN!$A$1:$B$65536,2,0)","v":362.54129999999998}]
["2024-03-07",{"$f":"+VLOOKUP(A2369,[1]PORFIN!$A$1:$B$65536,2,0)","v":362.6558}]
["2024-03-08",{"$f":"+VLOOKUP(A2370,[1]PORFIN!$A$1:$B$65536,2,0)","v":362.7704}]
["2024-03-09",{"$f":"+VLOOKUP(A2371,[1]PORFIN!$A$1:$B$65536,2,0)","v":362.88499999999999}]
["2024-03-10",{"$f":"+VLOOKUP(A2372,[1]PORFIN!$A$1:$B$65536,2,0)","v":362.99959999999999}]
["2024-03-11",{"$f":"+VLOOKUP(A2373,[1]PORFIN!$A$1:$B$65536,2,0)","v":363.11419999999998}]
["2024-03-12",{"$f":"+VLOOKUP(A2374,[1]PORFIN!$A$1:$B$65536,2,0)","v":363.22890000000001}]
["2024-03-13",{"$f":"+VLOOKUP(A2375,[1]PORFIN!$A$1:$B$65536,2,0)","v":363.34359999999998}]
["2024-03-14",{"$f":"+VLOOKUP(A2376,[1]PORFIN!$A$1:$B$65536,2,0)","v":363.45839999999998}]
["2024-03-15",{"$f":"+VLOOKUP(A2377,[1]PORFIN!$A$1:$B$65536,2,0)","v":363.57319999999999}]
["2024-03-16",{"$f":"+VLOOKUP(A2378,[1]PORFIN!$A$1:$B$65536,2,0)","v":363.7004}]
["2024-03-17",{"$f":"+VLOOKUP(A2379,[1]PORFIN!$A$1:$B$65536,2,0)","v":363.82760000000002}]
["2024-03-18",{"$f":"+VLOOKUP(A2380,[1]PORFIN!$A$1:$B$65536,2,0)","v":363.95479999999998}]
["2024-03-19",{"$f":"+VLOOKUP(A2381,[1]PORFIN!$A$1:$B$65536,2,0)","v":364.08210000000003}]
["2024-03-20",{"$f":"+VLOOKUP(A2382,[1]PORFIN!$A$1:$B$65536,2,0)","v":364.20949999999999}]
["2024-03-21",{"$f":"+VLOOKUP(A2383,[1]PORFIN!$A$1:$B$65536,2,0)","v":364.33690000000001}]
["2024-03-22",{"$f":"+VLOOKUP(A2384,[1]PORFIN!$A$1:$B$65536,2,0)","v":364.46429999999998}]
["2024-03-23",{"$f":"+VLOOKUP(A2385,[1]PORFIN!$A$1:$B$65536,2,0)","v":364.59179999999998}]
["2024-03-24",{"$f":"+VLOOKUP(A2386,[1]PORFIN!$A$1:$B$65536,2,0)","v":364.71929999999998}]
["2024-03-25",{"$f":"+VLOOKUP(A2387,[1]PORFIN!$A$1:$B$65536,2,0)","v":364.84690000000001}]
["2024-03-26",{"$f":"+VLOOKUP(A2388,[1]PORFIN!$A$1:$B$65536,2,0)","v":364.97449999999998}]
["2024-03-27",{"$f":"+VLOOKUP(A2389,[1]PORFIN!$A$1:$B$65536,2,0)","v":365.10210000000001}]
["2024-03-28",{"$f":"+VLOOKUP(A2390,[1]PORFIN!$A$1:$B$65536,2,0)","v":365.22989999999999}]
["2024-03-29",{"$f":"+VLOOKUP(A2391,[1]PORFIN!$A$1:$B$65536,2,0)","v":365.35759999999999}]
["2024-03-30",{"$f":"+VLOOKUP(A2392,[1]PORFIN!$A$1:$B$65536,2,0)","v":365.48540000000003}]
["2024-03-31",{"$f":"+VLOOKUP(A2393,[1]PORFIN!$A$1:$B$65536,2,0)","v":365.61320000000001}]
["2024-04-01",{"$f":"+VLOOKUP(A2394,[1]PORFIN!$A$1:$B$65536,2,0)","v":365.74110000000002}]
["2024-04-02",{"$f":"+VLOOKUP(A2395,[1]PORFIN!$A$1:$B$65536,2,0)","v":365.86900000000003}]
["2024-04-03",{"$f":"+VLOOKUP(A2396,[1]PORFIN!$A$1:$B$65536,2,0)","v":365.99700000000001}]
["2024-04-04",{"$f":"+VLOOKUP(A2397,[1]PORFIN!$A$1:$B$65536,2,0)","v":366.125}]
["2024-04-05",{"$f":"+VLOOKUP(A2398,[1]PORFIN!$A$1:$B$65536,2,0)","v":366.25310000000002}]
["2024-04-06",{"$f":"+VLOOKUP(A2399,[1]PORFIN!$A$1:$B$65536,2,0)","v":366.38119999999998}]
["2024-04-07",{"$f":"+VLOOKUP(A2400,[1]PORFIN!$A$1:$B$65536,2,0)","v":366.5093}]
["2024-04-08",{"$f":"+VLOOKUP(A2401,[1]PORFIN!$A$1:$B$65536,2,0)","v":366.63749999999999}]
["2024-04-09",{"$f":"+VLOOKUP(A2402,[1]PORFIN!$A$1:$B$65536,2,0)","v":366.76580000000001}]
["2024-04-10",{"$f":"+VLOOKUP(A2403,[1]PORFIN!$A$1:$B$65536,2,0)","v":366.89409999999998}]
["2024-04-11",{"$f":"+VLOOKUP(A2404,[1]PORFIN!$A$1:$B$65536,2,0)","v":367.0224}]
["2024-04-12",{"$f":"+VLOOKUP(A2405,[1]PORFIN!$A$1:$B$65536,2,0)","v":367.1508}]
["2024-04-13",{"$f":"+VLOOKUP(A2406,[1]PORFIN!$A$1:$B$65536,2,0)","v":367.2792}]
["2024-04-14",{"$f":"+VLOOKUP(A2407,[1]PORFIN!$A$1:$B$65536,2,0)","v":367.4076}]
["2024-04-15",{"$f":"+VLOOKUP(A2408,[1]PORFIN!$A$1:$B$65536,2,0)","v":367.53609999999998}]
["2024-04-16",{"$f":"+VLOOKUP(A2409,[1]PORFIN!$A$1:$B$65536,2,0)","v":367.6216}]
["2024-04-17",{"$f":"+VLOOKUP(A2410,[1]PORFIN!$A$1:$B$65536,2,0)","v":367.70710000000003}]
["2024-04-18",{"$f":"+VLOOKUP(A2411,[1]PORFIN!$A$1:$B$65536,2,0)","v":367.79259999999999}]
["2024-04-19",{"$f":"+VLOOKUP(A2412,[1]PORFIN!$A$1:$B$65536,2,0)","v":367.87810000000002}]
["2024-04-20",{"$f":"+VLOOKUP(A2413,[1]PORFIN!$A$1:$B$65536,2,0)","v":367.96359999999999}]
["2024-04-21",{"$f":"+VLOOKUP(A2414,[1]PORFIN!$A$1:$B$65536,2,0)","v":368.04919999999998}]
["2024-04-22",{"$f":"+VLOOKUP(A2415,[1]PORFIN!$A$1:$B$65536,2,0)","v":368.13479999999998}]
["2024-04-23",{"$f":"+VLOOKUP(A2416,[1]PORFIN!$A$1:$B$65536,2,0)","v":368.22039999999998}]
["2024-04-24",{"$f":"+VLOOKUP(A2417,[1]PORFIN!$A$1:$B$65536,2,0)","v":368.30599999999998}]
["2024-04-25",{"$f":"+VLOOKUP(A2418,[1]PORFIN!$A$1:$B$65536,2,0)","v":368.39170000000001}]
["2024-04-26",{"$f":"+VLOOKUP(A2419,[1]PORFIN!$A$1:$B$65536,2,0)","v":368.47739999999999}]
["2024-04-27",{"$f":"+VLOOKUP(A2420,[1]PORFIN!$A$1:$B$65536,2,0)","v":368.56299999999999}]
["2024-04-28",{"$f":"+VLOOKUP(A2421,[1]PORFIN!$A$1:$B$65536,2,0)","v":368.64879999999999}]
["2024-04-29",{"$f":"+VLOOKUP(A2422,[1]PORFIN!$A$1:$B$65536,2,0)","v":368.73450000000003}]
["2024-04-30",{"$f":"+VLOOKUP(A2423,[1]PORFIN!$A$1:$B$65536,2,0)","v":368.8202}]
["2024-05-01",{"$f":"+VLOOKUP(A2424,[1]PORFIN!$A$1:$B$65536,2,0)","v":368.90600000000001}]
["2024-05-02",{"$f":"+VLOOKUP(A2425,[1]PORFIN!$A$1:$B$65536,2,0)","v":368.99180000000001}]
["2024-05-03",{"$f":"+VLOOKUP(A2426,[1]PORFIN!$A$1:$B$65536,2,0)","v":369.07760000000002}]
["2024-05-04",{"$f":"+VLOOKUP(A2427,[1]PORFIN!$A$1:$B$65536,2,0)","v":369.16340000000002}]
["2024-05-05",{"$f":"+VLOOKUP(A2428,[1]PORFIN!$A$1:$B$65536,2,0)","v":369.24930000000001}]
["2024-05-06",{"$f":"+VLOOKUP(A2429,[1]PORFIN!$A$1:$B$65536,2,0)","v":369.33510000000001}]
["2024-05-07",{"$f":"+VLOOKUP(A2430,[1]PORFIN!$A$1:$B$65536,2,0)","v":369.42099999999999}]
["2024-05-08",{"$f":"+VLOOKUP(A2431,[1]PORFIN!$A$1:$B$65536,2,0)","v":369.50689999999997}]
["2024-05-09",{"$f":"+VLOOKUP(A2432,[1]PORFIN!$A$1:$B$65536,2,0)","v":369.59289999999999}]
["2024-05-10",{"$f":"+VLOOKUP(A2433,[1]PORFIN!$A$1:$B$65536,2,0)","v":369.67880000000002}]
["2024-05-11",{"$f":"+VLOOKUP(A2434,[1]PORFIN!$A$1:$B$65536,2,0)","v":369.76479999999998}]
["2024-05-12",{"$f":"+VLOOKUP(A2435,[1]PORFIN!$A$1:$B$65536,2,0)","v":369.85079999999999}]
["2024-05-13",{"$f":"+VLOOKUP(A2436,[1]PORFIN!$A$1:$B$65536,2,0)","v":369.93680000000001}]
["2024-05-14",{"$f":"+VLOOKUP(A2437,[1]PORFIN!$A$1:$B$65536,2,0)","v":370.02280000000002}]
["2024-05-15",{"$f":"+VLOOKUP(A2438,[1]PORFIN!$A$1:$B$65536,2,0)","v":370.10890000000001}]
["2024-05-16",{"$f":"+VLOOKUP(A2439,[1]PORFIN!$A$1:$B$65536,2,0)","v":370.17910000000001}]
["2024-05-17",{"$f":"+VLOOKUP(A2440,[1]PORFIN!$A$1:$B$65536,2,0)","v":370.24939999999998}]
["2024-05-18",{"$f":"+VLOOKUP(A2441,[1]PORFIN!$A$1:$B$65536,2,0)","v":370.31970000000001}]
["2024-05-19",{"$f":"+VLOOKUP(A2442,[1]PORFIN!$A$1:$B$65536,2,0)","v":370.38990000000001}]
["2024-05-20",{"$f":"+VLOOKUP(A2443,[1]PORFIN!$A$1:$B$65536,2,0)","v":370.46019999999999}]
["2024-05-21",{"$f":"+VLOOKUP(A2444,[1]PORFIN!$A$1:$B$65536,2,0)","v":370.53050000000002}]
["2024-05-22",{"$f":"+VLOOKUP(A2445,[1]PORFIN!$A$1:$B$65536,2,0)","v":370.60090000000002}]
["2024-05-23",{"$f":"+VLOOKUP(A2446,[1]PORFIN!$A$1:$B$65536,2,0)","v":370.6712}]
["2024-05-24",{"$f":"+VLOOKUP(A2447,[1]PORFIN!$A$1:$B$65536,2,0)","v":370.74149999999997}]
["2024-05-25",{"$f":"+VLOOKUP(A2448,[1]PORFIN!$A$1:$B$65536,2,0)","v":370.81189999999998}]
["2024-05-26",{"$f":"+VLOOKUP(A2449,[1]PORFIN!$A$1:$B$65536,2,0)","v":370.88229999999999}]
["2024-05-27",{"$f":"+VLOOKUP(A2450,[1]PORFIN!$A$1:$B$65536,2,0)","v":370.95269999999999}]
["2024-05-28",{"$f":"+VLOOKUP(A2451,[1]PORFIN!$A$1:$B$65536,2,0)","v":371.0231}]
["2024-05-29",{"$f":"+VLOOKUP(A2452,[1]PORFIN!$A$1:$B$65536,2,0)","v":371.09350000000001}]
["2024-05-30",{"$f":"+VLOOKUP(A2453,[1]PORFIN!$A$1:$B$65536,2,0)","v":371.16390000000001}]
["2024-05-31",{"$f":"+VLOOKUP(A2454,[1]PORFIN!$A$1:$B$65536,2,0)","v":371.23430000000002}]
["2024-06-01",{"$f":"+VLOOKUP(A2455,[1]PORFIN!$A$1:$B$65536,2,0)","v":371.3048}]
["2024-06-02",{"$f":"+VLOOKUP(A2456,[1]PORFIN!$A$1:$B$65536,2,0)","v":371.37529999999998}]
["2024-06-03",{"$f":"+VLOOKUP(A2457,[1]PORFIN!$A$1:$B$65536,2,0)","v":371.44569999999999}]
["2024-06-04",{"$f":"+VLOOKUP(A2458,[1]PORFIN!$A$1:$B$65536,2,0)","v":371.51620000000003}]
["2024-06-05",{"$f":"+VLOOKUP(A2459,[1]PORFIN!$A$1:$B$65536,2,0)","v":371.58670000000001}]
["2024-06-06",{"$f":"+VLOOKUP(A2460,[1]PORFIN!$A$1:$B$65536,2,0)","v":371.65730000000002}]
["2024-06-07",{"$f":"+VLOOKUP(A2461,[1]PORFIN!$A$1:$B$65536,2,0)","v":371.7278}]
["2024-06-08",{"$f":"+VLOOKUP(A2462,[1]PORFIN!$A$1:$B$65536,2,0)","v":371.79829999999998}]
["2024-06-09",{"$f":"+VLOOKUP(A2463,[1]PORFIN!$A$1:$B$65536,2,0)","v":371.8689}]
["2024-06-10",{"$f":"+VLOOKUP(A2464,[1]PORFIN!$A$1:$B$65536,2,0)","v":371.93950000000001}]
["2024-06-11",{"$f":"+VLOOKUP(A2465,[1]PORFIN!$A$1:$B$65536,2,0)","v":372.01010000000002}]
["2024-06-12",{"$f":"+VLOOKUP(A2466,[1]PORFIN!$A$1:$B$65536,2,0)","v":372.08069999999998}]
["2024-06-13",{"$f":"+VLOOKUP(A2467,[1]PORFIN!$A$1:$B$65536,2,0)","v":372.15129999999999}]
["2024-06-14",{"$f":"+VLOOKUP(A2468,[1]PORFIN!$A$1:$B$65536,2,0)","v":372.22190000000001}]
["2024-06-15",{"$f":"+VLOOKUP(A2469,[1]PORFIN!$A$1:$B$65536,2,0)","v":372.29250000000002}]
["2024-06-16",{"$f":"+VLOOKUP(A2470,[1]PORFIN!$A$1:$B$65536,2,0)","v":372.3458}]
["2024-06-17",{"$f":"+VLOOKUP(A2471,[1]PORFIN!$A$1:$B$65536,2,0)","v":372.399}]
["2024-06-18",{"$f":"+VLOOKUP(A2472,[1]PORFIN!$A$1:$B$65536,2,0)","v":372.45229999999998}]
["2024-06-19",{"$f":"+VLOOKUP(A2473,[1]PORFIN!$A$1:$B$65536,2,0)","v":372.50560000000002}]
["2024-06-20",{"$f":"+VLOOKUP(A2474,[1]PORFIN!$A$1:$B$65536,2,0)","v":372.55880000000002}]
["2024-06-21",{"$f":"+VLOOKUP(A2475,[1]PORFIN!$A$1:$B$65536,2,0)","v":372.6121}]
["2024-06-22",{"$f":"+VLOOKUP(A2476,[1]PORFIN!$A$1:$B$65536,2,0)","v":372.66539999999998}]
["2024-06-23",{"$f":"+VLOOKUP(A2477,[1]PORFIN!$A$1:$B$65536,2,0)","v":372.71870000000001}]
["2024-06-24",{"$f":"+VLOOKUP(A2478,[1]PORFIN!$A$1:$B$65536,2,0)","v":372.77199999999999}]
["2024-06-25",{"$f":"+VLOOKUP(A2479,[1]PORFIN!$A$1:$B$65536,2,0)","v":372.8254}]
["2024-06-26",{"$f":"+VLOOKUP(A2480,[1]PORFIN!$A$1:$B$65536,2,0)","v":372.87869999999998}]
["2024-06-27",{"$f":"+VLOOKUP(A2481,[1]PORFIN!$A$1:$B$65536,2,0)","v":372.93200000000002}]
["2024-06-28",{"$f":"+VLOOKUP(A2482,[1]PORFIN!$A$1:$B$65536,2,0)","v":372.98540000000003}]
["2024-06-29",{"$f":"+VLOOKUP(A2483,[1]PORFIN!$A$1:$B$65536,2,0)","v":373.03870000000001}]
["2024-06-30",{"$f":"+VLOOKUP(A2484,[1]PORFIN!$A$1:$B$65536,2,0)","v":373.09210000000002}]
["2024-07-01",{"$f":"+VLOOKUP(A2485,[1]PORFIN!$A$1:$B$65536,2,0)","v":373.1454}]
["2024-07-02",{"$f":"+VLOOKUP(A2486,[1]PORFIN!$A$1:$B$65536,2,0)","v":373.19880000000001}]
["2024-07-03",{"$f":"+VLOOKUP(A2487,[1]PORFIN!$A$1:$B$65536,2,0)","v":373.25220000000002}]
["2024-07-04",{"$f":"+VLOOKUP(A2488,[1]PORFIN!$A$1:$B$65536,2,0)","v":373.30560000000003}]
["2024-07-05",{"$f":"+VLOOKUP(A2489,[1]PORFIN!$A$1:$B$65536,2,0)","v":373.35899999999998}]
["2024-07-06",{"$f":"+VLOOKUP(A2490,[1]PORFIN!$A$1:$B$65536,2,0)","v":373.41239999999999}]
["2024-07-07",{"$f":"+VLOOKUP(A2491,[1]PORFIN!$A$1:$B$65536,2,0)","v":373.4658}]
["2024-07-08",{"$f":"+VLOOKUP(A2492,[1]PORFIN!$A$1:$B$65536,2,0)","v":373.51920000000001}]
["2024-07-09",{"$f":"+VLOOKUP(A2493,[1]PORFIN!$A$1:$B$65536,2,0)","v":373.57260000000002}]
["2024-07-10",{"$f":"+VLOOKUP(A2494,[1]PORFIN!$A$1:$B$65536,2,0)","v":373.62610000000001}]
["2024-07-11",{"$f":"+VLOOKUP(A2495,[1]PORFIN!$A$1:$B$65536,2,0)","v":373.67950000000002}]
["2024-07-12",{"$f":"+VLOOKUP(A2496,[1]PORFIN!$A$1:$B$65536,2,0)","v":373.733}]
["2024-07-13",{"$f":"+VLOOKUP(A2497,[1]PORFIN!$A$1:$B$65536,2,0)","v":373.78640000000001}]
["2024-07-14",{"$f":"+VLOOKUP(A2498,[1]PORFIN!$A$1:$B$65536,2,0)","v":373.8399}]
["2024-07-15",{"$f":"+VLOOKUP(A2499,[1]PORFIN!$A$1:$B$65536,2,0)","v":373.89339999999999}]
["2024-07-16",{"$f":"+VLOOKUP(A2500,[1]PORFIN!$A$1:$B$65536,2,0)","v":373.93189999999998}]
["2024-07-17",{"$f":"+VLOOKUP(A2501,[1]PORFIN!$A$1:$B$65536,2,0)","v":373.97050000000002}]
["2024-07-18",{"$f":"+VLOOKUP(A2502,[1]PORFIN!$A$1:$B$65536,2,0)","v":374.00900000000001}]
["2024-07-19",{"$f":"+VLOOKUP(A2503,[1]PORFIN!$A$1:$B$65536,2,0)","v":374.04759999999999}]
["2024-07-20",{"$f":"+VLOOKUP(A2504,[1]PORFIN!$A$1:$B$65536,2,0)","v":374.08609999999999}]
["2024-07-21",{"$f":"+VLOOKUP(A2505,[1]PORFIN!$A$1:$B$65536,2,0)","v":374.12470000000002}]
["2024-07-22",{"$f":"+VLOOKUP(A2506,[1]PORFIN!$A$1:$B$65536,2,0)","v":374.16320000000002}]
["2024-07-23",{"$f":"+VLOOKUP(A2507,[1]PORFIN!$A$1:$B$65536,2,0)","v":374.20179999999999}]
["2024-07-24",{"$f":"+VLOOKUP(A2508,[1]PORFIN!$A$1:$B$65536,2,0)","v":374.24040000000002}]
["2024-07-25",{"$f":"+VLOOKUP(A2509,[1]PORFIN!$A$1:$B$65536,2,0)","v":374.27890000000002}]
["2024-07-26",{"$f":"+VLOOKUP(A2510,[1]PORFIN!$A$1:$B$65536,2,0)","v":374.3175}]
["2024-07-27",{"$f":"+VLOOKUP(A2511,[1]PORFIN!$A$1:$B$65536,2,0)","v":374.35610000000003}]
["2024-07-28",{"$f":"+VLOOKUP(A2512,[1]PORFIN!$A$1:$B$65536,2,0)","v":374.3947}]
["2024-07-29",{"$f":"+VLOOKUP(A2513,[1]PORFIN!$A$1:$B$65536,2,0)","v":374.43329999999997}]
["2024-07-30",{"$f":"+VLOOKUP(A2514,[1]PORFIN!$A$1:$B$65536,2,0)","v":374.47190000000001}]
["2024-07-31",{"$f":"+VLOOKUP(A2515,[1]PORFIN!$A$1:$B$65536,2,0)","v":374.5104}]
["2024-08-01",{"$f":"+VLOOKUP(A2516,[1]PORFIN!$A$1:$B$65536,2,0)","v":374.54899999999998}]
["2024-08-02",{"$f":"+VLOOKUP(A2517,[1]PORFIN!$A$1:$B$65536,2,0)","v":374.58769999999998}]
["2024-08-03",{"$f":"+VLOOKUP(A2518,[1]PORFIN!$A$1:$B$65536,2,0)","v":374.62630000000001}]
["2024-08-04",{"$f":"+VLOOKUP(A2519,[1]PORFIN!$A$1:$B$65536,2,0)","v":374.66489999999999}]
["2024-08-05",{"$f":"+VLOOKUP(A2520,[1]PORFIN!$A$1:$B$65536,2,0)","v":374.70350000000002}]
["2024-08-06",{"$f":"+VLOOKUP(A2521,[1]PORFIN!$A$1:$B$65536,2,0)","v":374.74209999999999}]
["2024-08-07",{"$f":"+VLOOKUP(A2522,[1]PORFIN!$A$1:$B$65536,2,0)","v":374.78070000000002}]
["2024-08-08",{"$f":"+VLOOKUP(A2523,[1]PORFIN!$A$1:$B$65536,2,0)","v":374.81939999999997}]
["2024-08-09",{"$f":"+VLOOKUP(A2524,[1]PORFIN!$A$1:$B$65536,2,0)","v":374.858}]
["2024-08-10",{"$f":"+VLOOKUP(A2525,[1]PORFIN!$A$1:$B$65536,2,0)","v":374.89659999999998}]
["2024-08-11",{"$f":"+VLOOKUP(A2526,[1]PORFIN!$A$1:$B$65536,2,0)","v":374.93529999999998}]
["2024-08-12",{"$f":"+VLOOKUP(A2527,[1]PORFIN!$A$1:$B$65536,2,0)","v":374.97390000000001}]
["2024-08-13",{"$f":"+VLOOKUP(A2528,[1]PORFIN!$A$1:$B$65536,2,0)","v":375.01260000000002}]
["2024-08-14",{"$f":"+VLOOKUP(A2529,[1]PORFIN!$A$1:$B$65536,2,0)","v":375.05119999999999}]
["2024-08-15",{"$f":"+VLOOKUP(A2530,[1]PORFIN!$A$1:$B$65536,2,0)","v":375.0899}]
["2024-08-16",{"$f":"+VLOOKUP(A2531,[1]PORFIN!$A$1:$B$65536,2,0)","v":375.11410000000001}]
["2024-08-17",{"$f":"+VLOOKUP(A2532,[1]PORFIN!$A$1:$B$65536,2,0)","v":375.13830000000002}]
["2024-08-18",{"$f":"+VLOOKUP(A2533,[1]PORFIN!$A$1:$B$65536,2,0)","v":375.16239999999999}]
["2024-08-19",{"$f":"+VLOOKUP(A2534,[1]PORFIN!$A$1:$B$65536,2,0)","v":375.1866}]
["2024-08-20",{"$f":"+VLOOKUP(A2535,[1]PORFIN!$A$1:$B$65536,2,0)","v":375.21080000000001}]
["2024-08-21",{"$f":"+VLOOKUP(A2536,[1]PORFIN!$A$1:$B$65536,2,0)","v":375.23500000000001}]
["2024-08-22",{"$f":"+VLOOKUP(A2537,[1]PORFIN!$A$1:$B$65536,2,0)","v":375.25920000000002}]
["2024-08-23",{"$f":"+VLOOKUP(A2538,[1]PORFIN!$A$1:$B$65536,2,0)","v":375.28339999999997}]
["2024-08-24",{"$f":"+VLOOKUP(A2539,[1]PORFIN!$A$1:$B$65536,2,0)","v":375.3075}]
["2024-08-25",{"$f":"+VLOOKUP(A2540,[1]PORFIN!$A$1:$B$65536,2,0)","v":375.33170000000001}]
["2024-08-26",{"$f":"+VLOOKUP(A2541,[1]PORFIN!$A$1:$B$65536,2,0)","v":375.35590000000002}]
["2024-08-27",{"$f":"+VLOOKUP(A2542,[1]PORFIN!$A$1:$B$65536,2,0)","v":375.38010000000003}]
["2024-08-28",{"$f":"+VLOOKUP(A2543,[1]PORFIN!$A$1:$B$65536,2,0)","v":375.40429999999998}]
["2024-08-29",{"$f":"+VLOOKUP(A2544,[1]PORFIN!$A$1:$B$65536,2,0)","v":375.42849999999999}]
["2024-08-30",{"$f":"+VLOOKUP(A2545,[1]PORFIN!$A$1:$B$65536,2,0)","v":375.45269999999999}]
["2024-08-31",{"$f":"+VLOOKUP(A2546,[1]PORFIN!$A$1:$B$65536,2,0)","v":375.4769}]
["2024-09-01",{"$f":"+VLOOKUP(A2547,[1]PORFIN!$A$1:$B$65536,2,0)","v":375.50110000000001}]
["2024-09-02",{"$f":"+VLOOKUP(A2548,[1]PORFIN!$A$1:$B$65536,2,0)","v":375.52530000000002}]
["2024-09-03",{"$f":"+VLOOKUP(A2549,[1]PORFIN!$A$1:$B$65536,2,0)","v":375.54950000000002}]
["2024-09-04",{"$f":"+VLOOKUP(A2550,[1]PORFIN!$A$1:$B$65536,2,0)","v":375.57369999999997}]
["2024-09-05",{"$f":"+VLOOKUP(A2551,[1]PORFIN!$A$1:$B$65536,2,0)","v":375.59789999999998}]
["2024-09-06",{"$f":"+VLOOKUP(A2552,[1]PORFIN!$A$1:$B$65536,2,0)","v":375.62209999999999}]
["2024-09-07",{"$f":"+VLOOKUP(A2553,[1]PORFIN!$A$1:$B$65536,2,0)","v":375.6463}]
["2024-09-08",{"$f":"+VLOOKUP(A2554,[1]PORFIN!$A$1:$B$65536,2,0)","v":375.67059999999998}]
["2024-09-09",{"$f":"+VLOOKUP(A2555,[1]PORFIN!$A$1:$B$65536,2,0)","v":375.69479999999999}]
["2024-09-10",{"$f":"+VLOOKUP(A2556,[1]PORFIN!$A$1:$B$65536,2,0)","v":375.71899999999999}]
["2024-09-11",{"$f":"+VLOOKUP(A2557,[1]PORFIN!$A$1:$B$65536,2,0)","v":375.7432}]
["2024-09-12",{"$f":"+VLOOKUP(A2558,[1]PORFIN!$A$1:$B$65536,2,0)","v":375.76740000000001}]
["2024-09-13",{"$f":"+VLOOKUP(A2559,[1]PORFIN!$A$1:$B$65536,2,0)","v":375.79160000000002}]
["2024-09-14",{"$f":"+VLOOKUP(A2560,[1]PORFIN!$A$1:$B$65536,2,0)","v":375.8159}]
["2024-09-15",{"$f":"+VLOOKUP(A2561,[1]PORFIN!$A$1:$B$65536,2,0)","v":375.84010000000001}]
["2024-09-16",{"$f":"+VLOOKUP(A2562,[1]PORFIN!$A$1:$B$65536,2,0)","v":375.84010000000001}]
["2024-09-17",{"$f":"+VLOOKUP(A2563,[1]PORFIN!$A$1:$B$65536,2,0)","v":375.84010000000001}]
["2024-09-18",{"$f":"+VLOOKUP(A2564,[1]PORFIN!$A$1:$B$65536,2,0)","v":375.84010000000001}]
["2024-09-19",{"$f":"+VLOOKUP(A2565,[1]PORFIN!$A$1:$B$65536,2,0)","v":375.84010000000001}]
["2024-09-20",{"$f":"+VLOOKUP(A2566,[1]PORFIN!$A$1:$B$65536,2,0)","v":375.84010000000001}]
["2024-09-21",{"$f":"+VLOOKUP(A2567,[1]PORFIN!$A$1:$B$65536,2,0)","v":375.84010000000001}]
["2024-09-22",{"$f":"+VLOOKUP(A2568,[1]PORFIN!$A$1:$B$65536,2,0)","v":375.84010000000001}]
["2024-09-23",{"$f":"+VLOOKUP(A2569,[1]PORFIN!$A$1:$B$65536,2,0)","v":375.84010000000001}]
["2024-09-24",{"$f":"+VLOOKUP(A2570,[1]PORFIN!$A$1:$B$65536,2,0)","v":375.84010000000001}]
["2024-09-25",{"$f":"+VLOOKUP(A2571,[1]PORFIN!$A$1:$B$65536,2,0)","v":375.84010000000001}]
["2024-09-26",{"$f":"+VLOOKUP(A2572,[1]PORFIN!$A$1:$B$65536,2,0)","v":375.84010000000001}]
["2024-09-27",{"$f":"+VLOOKUP(A2573,[1]PORFIN!$A$1:$B$65536,2,0)","v":375.84010000000001}]
["2024-09-28",{"$f":"+VLOOKUP(A2574,[1]PORFIN!$A$1:$B$65536,2,0)","v":375.84010000000001}]
["2024-09-29",{"$f":"+VLOOKUP(A2575,[1]PORFIN!$A$1:$B$65536,2,0)","v":375.84010000000001}]
["2024-09-30",{"$f":"+VLOOKUP(A2576,[1]PORFIN!$A$1:$B$65536,2,0)","v":375.84010000000001}]
["2024-10-01",{"$f":"+VLOOKUP(A2577,[1]PORFIN!$A$1:$B$65536,2,0)","v":375.84010000000001}]
["2024-10-02",{"$f":"+VLOOKUP(A2578,[1]PORFIN!$A$1:$B$65536,2,0)","v":375.84010000000001}]
["2024-10-03",{"$f":"+VLOOKUP(A2579,[1]PORFIN!$A$1:$B$65536,2,0)","v":375.84010000000001}]
["2024-10-04",{"$f":"+VLOOKUP(A2580,[1]PORFIN!$A$1:$B$65536,2,0)","v":375.84010000000001}]
["2024-10-05",{"$f":"+VLOOKUP(A2581,[1]PORFIN!$A$1:$B$65536,2,0)","v":375.84010000000001}]
["2024-10-06",{"$f":"+VLOOKUP(A2582,[1]PORFIN!$A$1:$B$65536,2,0)","v":375.84010000000001}]
["2024-10-07",{"$f":"+VLOOKUP(A2583,[1]PORFIN!$A$1:$B$65536,2,0)","v":375.84010000000001}]
["2024-10-08",{"$f":"+VLOOKUP(A2584,[1]PORFIN!$A$1:$B$65536,2,0)","v":375.84010000000001}]
["2024-10-09",{"$f":"+VLOOKUP(A2585,[1]PORFIN!$A$1:$B$65536,2,0)","v":375.84010000000001}]
["2024-10-10",{"$f":"+VLOOKUP(A2586,[1]PORFIN!$A$1:$B$65536,2,0)","v":375.84010000000001}]
["2024-10-11",{"$f":"+VLOOKUP(A2587,[1]PORFIN!$A$1:$B$65536,2,0)","v":375.84010000000001}]
["2024-10-12",{"$f":"+VLOOKUP(A2588,[1]PORFIN!$A$1:$B$65536,2,0)","v":375.84010000000001}]
["2024-10-13",{"$f":"+VLOOKUP(A2589,[1]PORFIN!$A$1:$B$65536,2,0)","v":375.84010000000001}]
["2024-10-14",{"$f":"+VLOOKUP(A2590,[1]PORFIN!$A$1:$B$65536,2,0)","v":375.84010000000001}]
["2024-10-15",{"$f":"+VLOOKUP(A2591,[1]PORFIN!$A$1:$B$65536,2,0)","v":375.84010000000001}]
["2024-10-16",{"$f":"+VLOOKUP(A2592,[1]PORFIN!$A$1:$B$65536,2,0)","v":375.86919999999998}]
["2024-10-17",{"$f":"+VLOOKUP(A2593,[1]PORFIN!$A$1:$B$65536,2,0)","v":375.89819999999997}]
["2024-10-18",{"$f":"+VLOOKUP(A2594,[1]PORFIN!$A$1:$B$65536,2,0)","v":375.9273}]
["2024-10-19",{"$f":"+VLOOKUP(A2595,[1]PORFIN!$A$1:$B$65536,2,0)","v":375.95639999999997}]
["2024-10-20",{"$f":"+VLOOKUP(A2596,[1]PORFIN!$A$1:$B$65536,2,0)","v":375.98540000000003}]
["2024-10-21",{"$f":"+VLOOKUP(A2597,[1]PORFIN!$A$1:$B$65536,2,0)","v":376.0145}]
["2024-10-22",{"$f":"+VLOOKUP(A2598,[1]PORFIN!$A$1:$B$65536,2,0)","v":376.04360000000003}]
["2024-10-23",{"$f":"+VLOOKUP(A2599,[1]PORFIN!$A$1:$B$65536,2,0)","v":376.0727}]
["2024-10-24",{"$f":"+VLOOKUP(A2600,[1]PORFIN!$A$1:$B$65536,2,0)","v":376.10180000000003}]
["2024-10-25",{"$f":"+VLOOKUP(A2601,[1]PORFIN!$A$1:$B$65536,2,0)","v":376.13080000000002}]
["2024-10-26",{"$f":"+VLOOKUP(A2602,[1]PORFIN!$A$1:$B$65536,2,0)","v":376.15989999999999}]
["2024-10-27",{"$f":"+VLOOKUP(A2603,[1]PORFIN!$A$1:$B$65536,2,0)","v":376.18900000000002}]
["2024-10-28",{"$f":"+VLOOKUP(A2604,[1]PORFIN!$A$1:$B$65536,2,0)","v":376.21809999999999}]
["2024-10-29",{"$f":"+VLOOKUP(A2605,[1]PORFIN!$A$1:$B$65536,2,0)","v":376.24720000000002}]
["2024-10-30",{"$f":"+VLOOKUP(A2606,[1]PORFIN!$A$1:$B$65536,2,0)","v":376.27629999999999}]
["2024-10-31",{"$f":"+VLOOKUP(A2607,[1]PORFIN!$A$1:$B$65536,2,0)","v":376.30540000000002}]
["2024-11-01",{"$f":"+VLOOKUP(A2608,[1]PORFIN!$A$1:$B$65536,2,0)","v":376.33449999999999}]
["2024-11-02",{"$f":"+VLOOKUP(A2609,[1]PORFIN!$A$1:$B$65536,2,0)","v":376.36360000000002}]
["2024-11-03",{"$f":"+VLOOKUP(A2610,[1]PORFIN!$A$1:$B$65536,2,0)","v":376.39269999999999}]
["2024-11-04",{"$f":"+VLOOKUP(A2611,[1]PORFIN!$A$1:$B$65536,2,0)","v":376.42180000000002}]
["2024-11-05",{"$f":"+VLOOKUP(A2612,[1]PORFIN!$A$1:$B$65536,2,0)","v":376.45089999999999}]
["2024-11-06",{"$f":"+VLOOKUP(A2613,[1]PORFIN!$A$1:$B$65536,2,0)","v":376.48}]
["2024-11-07",{"$f":"+VLOOKUP(A2614,[1]PORFIN!$A$1:$B$65536,2,0)","v":376.50909999999999}]
["2024-11-08",{"$f":"+VLOOKUP(A2615,[1]PORFIN!$A$1:$B$65536,2,0)","v":376.53820000000002}]
["2024-11-09",{"$f":"+VLOOKUP(A2616,[1]PORFIN!$A$1:$B$65536,2,0)","v":376.56740000000002}]
["2024-11-10",{"$f":"+VLOOKUP(A2617,[1]PORFIN!$A$1:$B$65536,2,0)","v":376.59649999999999}]
["2024-11-11",{"$f":"+VLOOKUP(A2618,[1]PORFIN!$A$1:$B$65536,2,0)","v":376.62560000000002}]
["2024-11-12",{"$f":"+VLOOKUP(A2619,[1]PORFIN!$A$1:$B$65536,2,0)","v":376.65469999999999}]
["2024-11-13",{"$f":"+VLOOKUP(A2620,[1]PORFIN!$A$1:$B$65536,2,0)","v":376.68389999999999}]
["2024-11-14",{"$f":"+VLOOKUP(A2621,[1]PORFIN!$A$1:$B$65536,2,0)","v":376.71300000000002}]
["2024-11-15",{"$f":"+VLOOKUP(A2622,[1]PORFIN!$A$1:$B$65536,2,0)","v":376.74209999999999}]
["2024-11-16",{"$f":"+VLOOKUP(A2623,[1]PORFIN!$A$1:$B$65536,2,0)","v":376.72579999999999}]
["2024-11-17",{"$f":"+VLOOKUP(A2624,[1]PORFIN!$A$1:$B$65536,2,0)","v":376.70940000000002}]
["2024-11-18",{"$f":"+VLOOKUP(A2625,[1]PORFIN!$A$1:$B$65536,2,0)","v":376.69310000000002}]
["2024-11-19",{"$f":"+VLOOKUP(A2626,[1]PORFIN!$A$1:$B$65536,2,0)","v":376.67680000000001}]
["2024-11-20",{"$f":"+VLOOKUP(A2627,[1]PORFIN!$A$1:$B$65536,2,0)","v":376.66039999999998}]
["2024-11-21",{"$f":"+VLOOKUP(A2628,[1]PORFIN!$A$1:$B$65536,2,0)","v":376.64409999999998}]
["2024-11-22",{"$f":"+VLOOKUP(A2629,[1]PORFIN!$A$1:$B$65536,2,0)","v":376.62779999999998}]
["2024-11-23",{"$f":"+VLOOKUP(A2630,[1]PORFIN!$A$1:$B$65536,2,0)","v":376.6114}]
["2024-11-24",{"$f":"+VLOOKUP(A2631,[1]PORFIN!$A$1:$B$65536,2,0)","v":376.5951}]
["2024-11-25",{"$f":"+VLOOKUP(A2632,[1]PORFIN!$A$1:$B$65536,2,0)","v":376.5788}]
["2024-11-26",{"$f":"+VLOOKUP(A2633,[1]PORFIN!$A$1:$B$65536,2,0)","v":376.56240000000003}]
["2024-11-27",{"$f":"+VLOOKUP(A2634,[1]PORFIN!$A$1:$B$65536,2,0)","v":376.54610000000002}]
["2024-11-28",{"$f":"+VLOOKUP(A2635,[1]PORFIN!$A$1:$B$65536,2,0)","v":376.52980000000002}]
["2024-11-29",{"$f":"+VLOOKUP(A2636,[1]PORFIN!$A$1:$B$65536,2,0)","v":376.51350000000002}]
["2024-11-30",{"$f":"+VLOOKUP(A2637,[1]PORFIN!$A$1:$B$65536,2,0)","v":376.49709999999999}]
["2024-12-01",{"$f":"+VLOOKUP(A2638,[1]PORFIN!$A$1:$B$65536,2,0)","v":376.48079999999999}]
["2024-12-02",{"$f":"+VLOOKUP(A2639,[1]PORFIN!$A$1:$B$65536,2,0)","v":376.46449999999999}]
["2024-12-03",{"$f":"+VLOOKUP(A2640,[1]PORFIN!$A$1:$B$65536,2,0)","v":376.44819999999999}]
["2024-12-04",{"$f":"+VLOOKUP(A2641,[1]PORFIN!$A$1:$B$65536,2,0)","v":376.43180000000001}]
["2024-12-05",{"$f":"+VLOOKUP(A2642,[1]PORFIN!$A$1:$B$65536,2,0)","v":376.41550000000001}]
["2024-12-06",{"$f":"+VLOOKUP(A2643,[1]PORFIN!$A$1:$B$65536,2,0)","v":376.39920000000001}]
["2024-12-07",{"$f":"+VLOOKUP(A2644,[1]PORFIN!$A$1:$B$65536,2,0)","v":376.38290000000001}]
["2024-12-08",{"$f":"+VLOOKUP(A2645,[1]PORFIN!$A$1:$B$65536,2,0)","v":376.36660000000001}]
["2024-12-09",{"$f":"+VLOOKUP(A2646,[1]PORFIN!$A$1:$B$65536,2,0)","v":376.35019999999997}]
["2024-12-10",{"$f":"+VLOOKUP(A2647,[1]PORFIN!$A$1:$B$65536,2,0)","v":376.33390000000003}]
["2024-12-11",{"$f":"+VLOOKUP(A2648,[1]PORFIN!$A$1:$B$65536,2,0)","v":376.31760000000003}]
["2024-12-12",{"$f":"+VLOOKUP(A2649,[1]PORFIN!$A$1:$B$65536,2,0)","v":376.30130000000003}]
["2024-12-13",{"$f":"+VLOOKUP(A2650,[1]PORFIN!$A$1:$B$65536,2,0)","v":376.28500000000003}]
["2024-12-14",{"$f":"+VLOOKUP(A2651,[1]PORFIN!$A$1:$B$65536,2,0)","v":376.26870000000002}]
["2024-12-15",{"$f":"+VLOOKUP(A2652,[1]PORFIN!$A$1:$B$65536,2,0)","v":376.25229999999999}]
["2024-12-16",{"$f":"+VLOOKUP(A2653,[1]PORFIN!$A$1:$B$65536,2,0)","v":376.28500000000003}]
["2024-12-17",{"$f":"+VLOOKUP(A2654,[1]PORFIN!$A$1:$B$65536,2,0)","v":376.31779999999998}]
["2024-12-18",{"$f":"+VLOOKUP(A2655,[1]PORFIN!$A$1:$B$65536,2,0)","v":376.35050000000001}]
["2024-12-19",{"$f":"+VLOOKUP(A2656,[1]PORFIN!$A$1:$B$65536,2,0)","v":376.38319999999999}]
["2024-12-20",{"$f":"+VLOOKUP(A2657,[1]PORFIN!$A$1:$B$65536,2,0)","v":376.416}]
["2024-12-21",{"$f":"+VLOOKUP(A2658,[1]PORFIN!$A$1:$B$65536,2,0)","v":376.44869999999997}]
["2024-12-22",{"$f":"+VLOOKUP(A2659,[1]PORFIN!$A$1:$B$65536,2,0)","v":376.48149999999998}]
["2024-12-23",{"$f":"+VLOOKUP(A2660,[1]PORFIN!$A$1:$B$65536,2,0)","v":376.51420000000002}]
["2024-12-24",{"$f":"+VLOOKUP(A2661,[1]PORFIN!$A$1:$B$65536,2,0)","v":376.54700000000003}]
["2024-12-25",{"$f":"+VLOOKUP(A2662,[1]PORFIN!$A$1:$B$65536,2,0)","v":376.5797}]
["2024-12-26",{"$f":"+VLOOKUP(A2663,[1]PORFIN!$A$1:$B$65536,2,0)","v":376.61250000000001}]
["2024-12-27",{"$f":"+VLOOKUP(A2664,[1]PORFIN!$A$1:$B$65536,2,0)","v":376.64519999999999}]
["2024-12-28",{"$f":"+VLOOKUP(A2665,[1]PORFIN!$A$1:$B$65536,2,0)","v":376.678}]
["2024-12-29",{"$f":"+VLOOKUP(A2666,[1]PORFIN!$A$1:$B$65536,2,0)","v":376.71069999999997}]
["2024-12-30",{"$f":"+VLOOKUP(A2667,[1]PORFIN!$A$1:$B$65536,2,0)","v":376.74349999999998}]
["2024-12-31",{"$f":"+VLOOKUP(A2668,[1]PORFIN!$A$1:$B$65536,2,0)","v":376.77629999999999}]
["2025-01-01",{"$f":"+VLOOKUP(A2669,[1]PORFIN!$A$1:$B$65536,2,0)","v":376.8091}]
["2025-01-02",{"$f":"+VLOOKUP(A2670,[1]PORFIN!$A$1:$B$65536,2,0)","v":376.84179999999998}]
["2025-01-03",{"$f":"+VLOOKUP(A2671,[1]PORFIN!$A$1:$B$65536,2,0)","v":376.87459999999999}]
["2025-01-04",{"$f":"+VLOOKUP(A2672,[1]PORFIN!$A$1:$B$65536,2,0)","v":376.9074}]
["2025-01-05",{"$f":"+VLOOKUP(A2673,[1]PORFIN!$A$1:$B$65536,2,0)","v":376.9402}]
["2025-01-06",{"$f":"+VLOOKUP(A2674,[1]PORFIN!$A$1:$B$65536,2,0)","v":376.97300000000001}]
["2025-01-07",{"$f":"+VLOOKUP(A2675,[1]PORFIN!$A$1:$B$65536,2,0)","v":377.00580000000002}]
["2025-01-08",{"$f":"+VLOOKUP(A2676,[1]PORFIN!$A$1:$B$65536,2,0)","v":377.0385}]
["2025-01-09",{"$f":"+VLOOKUP(A2677,[1]PORFIN!$A$1:$B$65536,2,0)","v":377.07130000000001}]
["2025-01-10",{"$f":"+VLOOKUP(A2678,[1]PORFIN!$A$1:$B$65536,2,0)","v":377.10410000000002}]
["2025-01-11",{"$f":"+VLOOKUP(A2679,[1]PORFIN!$A$1:$B$65536,2,0)","v":377.13690000000003}]
["2025-01-12",{"$f":"+VLOOKUP(A2680,[1]PORFIN!$A$1:$B$65536,2,0)","v":377.16980000000001}]
["2025-01-13",{"$f":"+VLOOKUP(A2681,[1]PORFIN!$A$1:$B$65536,2,0)","v":377.20260000000002}]
["2025-01-14",{"$f":"+VLOOKUP(A2682,[1]PORFIN!$A$1:$B$65536,2,0)","v":377.23540000000003}]
["2025-01-15",{"$f":"+VLOOKUP(A2683,[1]PORFIN!$A$1:$B$65536,2,0)","v":377.26819999999998}]
["2025-01-16",{"$f":"+VLOOKUP(A2684,[1]PORFIN!$A$1:$B$65536,2,0)","v":377.32409999999999}]
["2025-01-17",{"$f":"+VLOOKUP(A2685,[1]PORFIN!$A$1:$B$65536,2,0)","v":377.37990000000002}]
["2025-01-18",{"$f":"+VLOOKUP(A2686,[1]PORFIN!$A$1:$B$65536,2,0)","v":377.43579999999997}]
["2025-01-19",{"$f":"+VLOOKUP(A2687,[1]PORFIN!$A$1:$B$65536,2,0)","v":377.49169999999998}]
["2025-01-20",{"$f":"+VLOOKUP(A2688,[1]PORFIN!$A$1:$B$65536,2,0)","v":377.54759999999999}]
["2025-01-21",{"$f":"+VLOOKUP(A2689,[1]PORFIN!$A$1:$B$65536,2,0)","v":377.6035}]
["2025-01-22",{"$f":"+VLOOKUP(A2690,[1]PORFIN!$A$1:$B$65536,2,0)","v":377.65940000000001}]
["2025-01-23",{"$f":"+VLOOKUP(A2691,[1]PORFIN!$A$1:$B$65536,2,0)","v":377.71530000000001}]
["2025-01-24",{"$f":"+VLOOKUP(A2692,[1]PORFIN!$A$1:$B$65536,2,0)","v":377.77120000000002}]
["2025-01-25",{"$f":"+VLOOKUP(A2693,[1]PORFIN!$A$1:$B$65536,2,0)","v":377.82709999999997}]
["2025-01-26",{"$f":"+VLOOKUP(A2694,[1]PORFIN!$A$1:$B$65536,2,0)","v":377.88310000000001}]
["2025-01-27",{"$f":"+VLOOKUP(A2695,[1]PORFIN!$A$1:$B$65536,2,0)","v":377.93900000000002}]
["2025-01-28",{"$f":"+VLOOKUP(A2696,[1]PORFIN!$A$1:$B$65536,2,0)","v":377.995}]
["2025-01-29",{"$f":"+VLOOKUP(A2697,[1]PORFIN!$A$1:$B$65536,2,0)","v":378.05099999999999}]
["2025-01-30",{"$f":"+VLOOKUP(A2698,[1]PORFIN!$A$1:$B$65536,2,0)","v":378.1069}]
["2025-01-31",{"$f":"+VLOOKUP(A2699,[1]PORFIN!$A$1:$B$65536,2,0)","v":378.16289999999998}]
["2025-02-01",{"$f":"+VLOOKUP(A2700,[1]PORFIN!$A$1:$B$65536,2,0)","v":378.21890000000002}]
["2025-02-02",{"$f":"+VLOOKUP(A2701,[1]PORFIN!$A$1:$B$65536,2,0)","v":378.2749}]
["2025-02-03",{"$f":"+VLOOKUP(A2702,[1]PORFIN!$A$1:$B$65536,2,0)","v":378.33089999999999}]
["2025-02-04",{"$f":"+VLOOKUP(A2703,[1]PORFIN!$A$1:$B$65536,2,0)","v":378.38690000000003}]
["2025-02-05",{"$f":"+VLOOKUP(A2704,[1]PORFIN!$A$1:$B$65536,2,0)","v":378.44290000000001}]
["2025-02-06",{"$f":"+VLOOKUP(A2705,[1]PORFIN!$A$1:$B$65536,2,0)","v":378.49900000000002}]
["2025-02-07",{"$f":"+VLOOKUP(A2706,[1]PORFIN!$A$1:$B$65536,2,0)","v":378.55500000000001}]
["2025-02-08",{"$f":"+VLOOKUP(A2707,[1]PORFIN!$A$1:$B$65536,2,0)","v":378.61110000000002}]
["2025-02-09",{"$f":"+VLOOKUP(A2708,[1]PORFIN!$A$1:$B$65536,2,0)","v":378.6671}]
["2025-02-10",{"$f":"+VLOOKUP(A2709,[1]PORFIN!$A$1:$B$65536,2,0)","v":378.72320000000002}]
["2025-02-11",{"$f":"+VLOOKUP(A2710,[1]PORFIN!$A$1:$B$65536,2,0)","v":378.77929999999998}]
["2025-02-12",{"$f":"+VLOOKUP(A2711,[1]PORFIN!$A$1:$B$65536,2,0)","v":378.83530000000002}]
["2025-02-13",{"$f":"+VLOOKUP(A2712,[1]PORFIN!$A$1:$B$65536,2,0)","v":378.89139999999998}]
["2025-02-14",{"$f":"+VLOOKUP(A2713,[1]PORFIN!$A$1:$B$65536,2,0)","v":378.94749999999999}]
["2025-02-15",{"$f":"+VLOOKUP(A2714,[1]PORFIN!$A$1:$B$65536,2,0)","v":379.00360000000001}]
["2025-02-16",{"$f":"+VLOOKUP(A2715,[1]PORFIN!$A$1:$B$65536,2,0)","v":379.13029999999998}]
["2025-02-17",{"$f":"+VLOOKUP(A2716,[1]PORFIN!$A$1:$B$65536,2,0)","v":379.25700000000001}]
["2025-02-18",{"$f":"+VLOOKUP(A2717,[1]PORFIN!$A$1:$B$65536,2,0)","v":379.38369999999998}]
["2025-02-19",{"$f":"+VLOOKUP(A2718,[1]PORFIN!$A$1:$B$65536,2,0)","v":379.51049999999998}]
["2025-02-20",{"$f":"+VLOOKUP(A2719,[1]PORFIN!$A$1:$B$65536,2,0)","v":379.63729999999998}]
["2025-02-21",{"$f":"+VLOOKUP(A2720,[1]PORFIN!$A$1:$B$65536,2,0)","v":379.76420000000002}]
["2025-02-22",{"$f":"+VLOOKUP(A2721,[1]PORFIN!$A$1:$B$65536,2,0)","v":379.89109999999999}]
["2025-02-23",{"$f":"+VLOOKUP(A2722,[1]PORFIN!$A$1:$B$65536,2,0)","v":380.0181}]
["2025-02-24",{"$f":"+VLOOKUP(A2723,[1]PORFIN!$A$1:$B$65536,2,0)","v":380.14510000000001}]
["2025-02-25",{"$f":"+VLOOKUP(A2724,[1]PORFIN!$A$1:$B$65536,2,0)","v":380.27210000000002}]
["2025-02-26",{"$f":"+VLOOKUP(A2725,[1]PORFIN!$A$1:$B$65536,2,0)","v":380.39920000000001}]
["2025-02-27",{"$f":"+VLOOKUP(A2726,[1]PORFIN!$A$1:$B$65536,2,0)","v":380.52640000000002}]
["2025-02-28",{"$f":"+VLOOKUP(A2727,[1]PORFIN!$A$1:$B$65536,2,0)","v":380.65350000000001}]
["2025-03-01",{"$f":"+VLOOKUP(A2728,[1]PORFIN!$A$1:$B$65536,2,0)","v":380.7808}]
["2025-03-02",{"$f":"+VLOOKUP(A2729,[1]PORFIN!$A$1:$B$65536,2,0)","v":380.90800000000002}]
["2025-03-03",{"$f":"+VLOOKUP(A2730,[1]PORFIN!$A$1:$B$65536,2,0)","v":381.03530000000001}]
["2025-03-04",{"$f":"+VLOOKUP(A2731,[1]PORFIN!$A$1:$B$65536,2,0)","v":381.16269999999997}]
["2025-03-05",{"$f":"+VLOOKUP(A2732,[1]PORFIN!$A$1:$B$65536,2,0)","v":381.29}]
["2025-03-06",{"$f":"+VLOOKUP(A2733,[1]PORFIN!$A$1:$B$65536,2,0)","v":381.41750000000002}]
["2025-03-07",{"$f":"+VLOOKUP(A2734,[1]PORFIN!$A$1:$B$65536,2,0)","v":381.54489999999998}]
["2025-03-08",{"$f":"+VLOOKUP(A2735,[1]PORFIN!$A$1:$B$65536,2,0)","v":381.67239999999998}]
["2025-03-09",{"$f":"+VLOOKUP(A2736,[1]PORFIN!$A$1:$B$65536,2,0)","v":381.8}]
["2025-03-10",{"$f":"+VLOOKUP(A2737,[1]PORFIN!$A$1:$B$65536,2,0)","v":381.92759999999998}]
["2025-03-11",{"$f":"+VLOOKUP(A2738,[1]PORFIN!$A$1:$B$65536,2,0)","v":382.05520000000001}]
["2025-03-12",{"$f":"+VLOOKUP(A2739,[1]PORFIN!$A$1:$B$65536,2,0)","v":382.18290000000002}]
["2025-03-13",{"$f":"+VLOOKUP(A2740,[1]PORFIN!$A$1:$B$65536,2,0)","v":382.3107}]
["2025-03-14",{"$f":"+VLOOKUP(A2741,[1]PORFIN!$A$1:$B$65536,2,0)","v":382.4384}]
["2025-03-15",{"$f":"+VLOOKUP(A2742,[1]PORFIN!$A$1:$B$65536,2,0)","v":382.56619999999998}]
["2025-03-16",{"$f":"+VLOOKUP(A2743,[1]PORFIN!$A$1:$B$65536,2,0)","v":378.89139999999998}]
["2025-03-17",{"$f":"+VLOOKUP(A2744,[1]PORFIN!$A$1:$B$65536,2,0)","v":378.94749999999999}]
["2025-03-18",{"$f":"+VLOOKUP(A2745,[1]PORFIN!$A$1:$B$65536,2,0)","v":379.00360000000001}]
["2025-03-19",{"$f":"+VLOOKUP(A2746,[1]PORFIN!$A$1:$B$65536,2,0)","v":379.13029999999998}]
["2025-03-20",{"$f":"+VLOOKUP(A2747,[1]PORFIN!$A$1:$B$65536,2,0)","v":379.25700000000001}]
["2025-03-21",{"$f":"+VLOOKUP(A2748,[1]PORFIN!$A$1:$B$65536,2,0)","v":379.38369999999998}]
["2025-03-22",{"$f":"+VLOOKUP(A2749,[1]PORFIN!$A$1:$B$65536,2,0)","v":379.51049999999998}]
["2025-03-23",{"$f":"+VLOOKUP(A2750,[1]PORFIN!$A$1:$B$65536,2,0)","v":379.63729999999998}]
["2025-03-24",{"$f":"+VLOOKUP(A2751,[1]PORFIN!$A$1:$B$65536,2,0)","v":379.76420000000002}]
["2025-03-25",{"$f":"+VLOOKUP(A2752,[1]PORFIN!$A$1:$B$65536,2,0)","v":379.89109999999999}]
["2025-03-26",{"$f":"+VLOOKUP(A2753,[1]PORFIN!$A$1:$B$65536,2,0)","v":380.0181}]
["2025-03-27",{"$f":"+VLOOKUP(A2754,[1]PORFIN!$A$1:$B$65536,2,0)","v":380.14510000000001}]
["2025-03-28",{"$f":"+VLOOKUP(A2755,[1]PORFIN!$A$1:$B$65536,2,0)","v":380.27210000000002}]
["2025-03-29",{"$f":"+VLOOKUP(A2756,[1]PORFIN!$A$1:$B$65536,2,0)","v":380.39920000000001}]
["2025-03-30",{"$f":"+VLOOKUP(A2757,[1]PORFIN!$A$1:$B$65536,2,0)","v":380.52640000000002}]
["2025-03-31",{"$f":"+VLOOKUP(A2758,[1]PORFIN!$A$1:$B$65536,2,0)","v":380.65350000000001}]
["2025-04-01",{"$f":"+VLOOKUP(A2759,[1]PORFIN!$A$1:$B$65536,2,0)","v":380.7808}]
["2025-04-02",{"$f":"+VLOOKUP(A2760,[1]PORFIN!$A$1:$B$65536,2,0)","v":380.90800000000002}]
["2025-04-03",{"$f":"+VLOOKUP(A2761,[1]PORFIN!$A$1:$B$65536,2,0)","v":381.03530000000001}]
["2025-04-04",{"$f":"+VLOOKUP(A2762,[1]PORFIN!$A$1:$B$65536,2,0)","v":381.16269999999997}]
["2025-04-05",{"$f":"+VLOOKUP(A2763,[1]PORFIN!$A$1:$B$65536,2,0)","v":381.29}]
["2025-04-06",{"$f":"+VLOOKUP(A2764,[1]PORFIN!$A$1:$B$65536,2,0)","v":381.41750000000002}]
["2025-04-07",{"$f":"+VLOOKUP(A2765,[1]PORFIN!$A$1:$B$65536,2,0)","v":381.54489999999998}]
["2025-04-08",{"$f":"+VLOOKUP(A2766,[1]PORFIN!$A$1:$B$65536,2,0)","v":381.67239999999998}]
["2025-04-09",{"$f":"+VLOOKUP(A2767,[1]PORFIN!$A$1:$B$65536,2,0)","v":381.8}]
["2025-04-10",{"$f":"+VLOOKUP(A2768,[1]PORFIN!$A$1:$B$65536,2,0)","v":381.92759999999998}]
["2025-04-11",{"$f":"+VLOOKUP(A2769,[1]PORFIN!$A$1:$B$65536,2,0)","v":382.05520000000001}]
["2025-04-12",{"$f":"+VLOOKUP(A2770,[1]PORFIN!$A$1:$B$65536,2,0)","v":382.18290000000002}]
["2025-04-13",{"$f":"+VLOOKUP(A2771,[1]PORFIN!$A$1:$B$65536,2,0)","v":382.3107}]
["2025-04-14",{"$f":"+VLOOKUP(A2772,[1]PORFIN!$A$1:$B$65536,2,0)","v":382.4384}]
["2025-04-15",{"$f":"+VLOOKUP(A2773,[1]PORFIN!$A$1:$B$65536,2,0)","v":382.56619999999998}]
["2025-04-16",{"$f":"+VLOOKUP(A2774,[1]PORFIN!$A$1:$B$65536,2,0)","v":367.53609999999998}]
["2025-04-17",{"$f":"+VLOOKUP(A2775,[1]PORFIN!$A$1:$B$65536,2,0)","v":375.15813818174809}]
["2025-04-18",{"$f":"+VLOOKUP(A2776,[1]PORFIN!$A$1:$B$65536,2,0)","v":375.17929855107741}]
["2025-04-19",{"$f":"+VLOOKUP(A2777,[1]PORFIN!$A$1:$B$65536,2,0)","v":375.2004601139335}]
["2025-04-20",{"$f":"+VLOOKUP(A2778,[1]PORFIN!$A$1:$B$65536,2,0)","v":375.28529078388061}]
["2025-04-21",{"$f":"+VLOOKUP(A2779,[1]PORFIN!$A$1:$B$65536,2,0)","v":375.3701406335552}]
["2025-04-22",{"$f":"+VLOOKUP(A2780,[1]PORFIN!$A$1:$B$65536,2,0)","v":375.45500966729367}]
["2025-04-23",{"$f":"+VLOOKUP(A2781,[1]PORFIN!$A$1:$B$65536,2,0)","v":375.53989788943329}]
["2025-04-24",{"$f":"+VLOOKUP(A2782,[1]PORFIN!$A$1:$B$65536,2,0)","v":375.6248053043127}]
["2025-04-25",{"$f":"+VLOOKUP(A2783,[1]PORFIN!$A$1:$B$65536,2,0)","v":375.70973191627115}]
["2025-04-26",{"$f":"+VLOOKUP(A2784,[1]PORFIN!$A$1:$B$65536,2,0)","v":375.79467772964892}]
["2025-04-27",{"$f":"+VLOOKUP(A2785,[1]PORFIN!$A$1:$B$65536,2,0)","v":375.87964274878743}]
["2025-04-28",{"$f":"+VLOOKUP(A2786,[1]PORFIN!$A$1:$B$65536,2,0)","v":375.96462697802906}]
["2025-04-29",{"$f":"+VLOOKUP(A2787,[1]PORFIN!$A$1:$B$65536,2,0)","v":376.04963042171687}]
["2025-04-30",{"$f":"+VLOOKUP(A2788,[1]PORFIN!$A$1:$B$65536,2,0)","v":376.13465308419541}]
["2025-05-01",{"$f":"+VLOOKUP(A2789,[1]PORFIN!$A$1:$B$65536,2,0)","v":376.21969496980972}]
["2025-05-02",{"$f":"+VLOOKUP(A2790,[1]PORFIN!$A$1:$B$65536,2,0)","v":376.30475608290618}]
["2025-05-03",{"$f":"+VLOOKUP(A2791,[1]PORFIN!$A$1:$B$65536,2,0)","v":376.38983642783194}]
["2025-05-04",{"$f":"+VLOOKUP(A2792,[1]PORFIN!$A$1:$B$65536,2,0)","v":376.47493600893523}]
["2025-05-05",{"$f":"+VLOOKUP(A2793,[1]PORFIN!$A$1:$B$65536,2,0)","v":376.56005483056521}]
["2025-05-06",{"$f":"+VLOOKUP(A2794,[1]PORFIN!$A$1:$B$65536,2,0)","v":376.64519289707209}]
["2025-05-07",{"$f":"+VLOOKUP(A2795,[1]PORFIN!$A$1:$B$65536,2,0)","v":376.73035021280708}]
["2025-05-08",{"$f":"+VLOOKUP(A2796,[1]PORFIN!$A$1:$B$65536,2,0)","v":376.81552678212216}]
["2025-05-09",{"$f":"+VLOOKUP(A2797,[1]PORFIN!$A$1:$B$65536,2,0)","v":376.90072260937063}]
["2025-05-10",{"$f":"+VLOOKUP(A2798,[1]PORFIN!$A$1:$B$65536,2,0)","v":376.98593769890641}]
["2025-05-11",{"$f":"+VLOOKUP(A2799,[1]PORFIN!$A$1:$B$65536,2,0)","v":377.07117205508484}]
["2025-05-12",{"$f":"+VLOOKUP(A2800,[1]PORFIN!$A$1:$B$65536,2,0)","v":377.15642568226178}]
["2025-05-13",{"$f":"+VLOOKUP(A2801,[1]PORFIN!$A$1:$B$65536,2,0)","v":377.24169858479439}]
["2025-05-14",{"$f":"+VLOOKUP(A2802,[1]PORFIN!$A$1:$B$65536,2,0)","v":377.32699076704068}]
["2025-05-15",{"$f":"+VLOOKUP(A2803,[1]PORFIN!$A$1:$B$65536,2,0)","v":377.41230223335975}]
["2025-05-16",{"$f":"+VLOOKUP(A2804,[1]PORFIN!$A$1:$B$65536,2,0)","v":377.49763298811143}]
["2025-05-17",{"$f":"+VLOOKUP(A2805,[1]PORFIN!$A$1:$B$65536,2,0)","v":377.58298303565704}]
["2025-05-18",{"$f":"+VLOOKUP(A2806,[1]PORFIN!$A$1:$B$65536,2,0)","v":377.58298303565704}]
["2025-05-19",{"$f":"+VLOOKUP(A2807,[1]PORFIN!$A$1:$B$65536,2,0)","v":377.68729841614021}]
["2025-05-20",{"$f":"+VLOOKUP(A2808,[1]PORFIN!$A$1:$B$65536,2,0)","v":377.79164261597998}]
["2025-05-21",{"$f":"+VLOOKUP(A2809,[1]PORFIN!$A$1:$B$65536,2,0)","v":377.89601564313813}]
["2025-05-22",{"$f":"+VLOOKUP(A2810,[1]PORFIN!$A$1:$B$65536,2,0)","v":378.00041750557904}]
["2025-05-23",{"$f":"+VLOOKUP(A2811,[1]PORFIN!$A$1:$B$65536,2,0)","v":378.10484821126886}]
["2025-05-24",{"$f":"+VLOOKUP(A2812,[1]PORFIN!$A$1:$B$65536,2,0)","v":378.2093077681763}]
["2025-05-25",{"$f":"+VLOOKUP(A2813,[1]PORFIN!$A$1:$B$65536,2,0)","v":378.31379618427212}]
["2025-05-26",{"$f":"+VLOOKUP(A2814,[1]PORFIN!$A$1:$B$65536,2,0)","v":378.41831346752923}]
["2025-05-27",{"$f":"+VLOOKUP(A2815,[1]PORFIN!$A$1:$B$65536,2,0)","v":378.52285962592276}]
["2025-05-28",{"$f":"+VLOOKUP(A2816,[1]PORFIN!$A$1:$B$65536,2,0)","v":378.62743466743029}]
["2025-05-29",{"$f":"+VLOOKUP(A2817,[1]PORFIN!$A$1:$B$65536,2,0)","v":378.73203860003116}]
["2025-05-30",{"$f":"+VLOOKUP(A2818,[1]PORFIN!$A$1:$B$65536,2,0)","v":378.83667143170726}]
["2025-05-31",{"$f":"+VLOOKUP(A2819,[1]PORFIN!$A$1:$B$65536,2,0)","v":378.94133317044259}]
["2025-06-01",{"$f":"+VLOOKUP(A2820,[1]PORFIN!$A$1:$B$65536,2,0)","v":379.04602382422337}]
["2025-06-02",{"$f":"+VLOOKUP(A2821,[1]PORFIN!$A$1:$B$65536,2,0)","v":379.15074340103791}]
["2025-06-03",{"$f":"+VLOOKUP(A2822,[1]PORFIN!$A$1:$B$65536,2,0)","v":379.25549190887688}]
["2025-06-04",{"$f":"+VLOOKUP(A2823,[1]PORFIN!$A$1:$B$65536,2,0)","v":379.36026935573301}]
["2025-06-05",{"$f":"+VLOOKUP(A2824,[1]PORFIN!$A$1:$B$65536,2,0)","v":379.46507574960145}]
["2025-06-06",{"$f":"+VLOOKUP(A2825,[1]PORFIN!$A$1:$B$65536,2,0)","v":379.56991109847928}]
["2025-06-07",{"$f":"+VLOOKUP(A2826,[1]PORFIN!$A$1:$B$65536,2,0)","v":379.67477541036618}]
["2025-06-08",{"$f":"+VLOOKUP(A2827,[1]PORFIN!$A$1:$B$65536,2,0)","v":379.77966869326355}]
["2025-06-09",{"$f":"+VLOOKUP(A2828,[1]PORFIN!$A$1:$B$65536,2,0)","v":379.88459095517538}]
["2025-06-10",{"$f":"+VLOOKUP(A2829,[1]PORFIN!$A$1:$B$65536,2,0)","v":379.98954220410775}]
["2025-06-11",{"$f":"+VLOOKUP(A2830,[1]PORFIN!$A$1:$B$65536,2,0)","v":380.09452244806891}]
["2025-06-12",{"$f":"+VLOOKUP(A2831,[1]PORFIN!$A$1:$B$65536,2,0)","v":380.19953169506925}]
["2025-06-13",{"$f":"+VLOOKUP(A2832,[1]PORFIN!$A$1:$B$65536,2,0)","v":380.3045699531217}]
["2025-06-14",{"$f":"+VLOOKUP(A2833,[1]PORFIN!$A$1:$B$65536,2,0)","v":380.40963723024112}]
["2025-06-15",{"$f":"+VLOOKUP(A2834,[1]PORFIN!$A$1:$B$65536,2,0)","v":380.51473353444447}]
["2025-06-16",{"$f":"+VLOOKUP(A2835,[1]PORFIN!$A$1:$B$65536,2,0)","v":380.6198588737513}]
["2025-06-17",{"$f":"+VLOOKUP(A2836,[1]PORFIN!$A$1:$B$65536,2,0)","v":380.72501325618305}]
["2025-06-18",{"$f":"+VLOOKUP(A2837,[1]PORFIN!$A$1:$B$65536,2,0)","v":380.83019668976368}]
["2025-06-19",{"$f":"+VLOOKUP(A2838,[1]PORFIN!$A$1:$B$65536,2,0)","v":380.91812733064171}]
["2025-06-20",{"$f":"+VLOOKUP(A2839,[1]PORFIN!$A$1:$B$65536,2,0)","v":381.00607827400012}]
["2025-06-21",{"$f":"+VLOOKUP(A2840,[1]PORFIN!$A$1:$B$65536,2,0)","v":381.09404952452661}]
["2025-06-22",{"$f":"+VLOOKUP(A2841,[1]PORFIN!$A$1:$B$65536,2,0)","v":381.18204108690992}]
["2025-06-23",{"$f":"+VLOOKUP(A2842,[1]PORFIN!$A$1:$B$65536,2,0)","v":381.27005296583997}]
["2025-06-24",{"$f":"+VLOOKUP(A2843,[1]PORFIN!$A$1:$B$65536,2,0)","v":381.35808516600758}]
["2025-06-25",{"$f":"+VLOOKUP(A2844,[1]PORFIN!$A$1:$B$65536,2,0)","v":381.44613769210486}]
["2025-06-26",{"$f":"+VLOOKUP(A2845,[1]PORFIN!$A$1:$B$65536,2,0)","v":381.53421054882483}]
["2025-06-27",{"$f":"+VLOOKUP(A2846,[1]PORFIN!$A$1:$B$65536,2,0)","v":381.62230374086175}]
["2025-06-28",{"$f":"+VLOOKUP(A2847,[1]PORFIN!$A$1:$B$65536,2,0)","v":381.71041727291083}]
["2025-06-29",{"$f":"+VLOOKUP(A2848,[1]PORFIN!$A$1:$B$65536,2,0)","v":381.79855114966841}]
["2025-06-30",{"$f":"+VLOOKUP(A2849,[1]PORFIN!$A$1:$B$65536,2,0)","v":381.88670537583192}]
["2025-07-01",{"$f":"+VLOOKUP(A2850,[1]PORFIN!$A$1:$B$65536,2,0)","v":381.97487995609987}]
["2025-07-02",{"$f":"+VLOOKUP(A2851,[1]PORFIN!$A$1:$B$65536,2,0)","v":382.06307489517189}]
["2025-07-03",{"$f":"+VLOOKUP(A2852,[1]PORFIN!$A$1:$B$65536,2,0)","v":382.15129019774861}]
["2025-07-04",{"$f":"+VLOOKUP(A2853,[1]PORFIN!$A$1:$B$65536,2,0)","v":382.23952586853187}]
["2025-07-05",{"$f":"+VLOOKUP(A2854,[1]PORFIN!$A$1:$B$65536,2,0)","v":382.32778191222451}]
["2025-07-06",{"$f":"+VLOOKUP(A2855,[1]PORFIN!$A$1:$B$65536,2,0)","v":382.41605833353043}]
["2025-07-07",{"$f":"+VLOOKUP(A2856,[1]PORFIN!$A$1:$B$65536,2,0)","v":382.50435513715473}]
["2025-07-08",{"$f":"+VLOOKUP(A2857,[1]PORFIN!$A$1:$B$65536,2,0)","v":382.59267232780348}]
["2025-07-09",{"$f":"+VLOOKUP(A2858,[1]PORFIN!$A$1:$B$65536,2,0)","v":382.68100991018389}]
["2025-07-10",{"$f":"+VLOOKUP(A2859,[1]PORFIN!$A$1:$B$65536,2,0)","v":382.76936788900412}]
["2025-07-11",{"$f":"+VLOOKUP(A2860,[1]PORFIN!$A$1:$B$65536,2,0)","v":382.8577462689737}]
["2025-07-12",{"$f":"+VLOOKUP(A2861,[1]PORFIN!$A$1:$B$65536,2,0)","v":382.94614505480314}]
["2025-07-13",{"$f":"+VLOOKUP(A2862,[1]PORFIN!$A$1:$B$65536,2,0)","v":383.03456425120379}]
["2025-07-14",{"$f":"+VLOOKUP(A2863,[1]PORFIN!$A$1:$B$65536,2,0)","v":383.12300386288842}]
["2025-07-15",{"$f":"+VLOOKUP(A2864,[1]PORFIN!$A$1:$B$65536,2,0)","v":383.21146389457084}]
["2025-07-16",{"$f":"+VLOOKUP(A2865,[1]PORFIN!$A$1:$B$65536,2,0)","v":383.29994435096569}]
["2025-07-17",{"$f":"+VLOOKUP(A2866,[1]PORFIN!$A$1:$B$65536,2,0)","v":383.38844523678887}]
["2025-07-18",{"$f":"+VLOOKUP(A2867,[1]PORFIN!$A$1:$B$65536,2,0)","v":383.46059033438013}]
["2025-07-19",{"$f":"+VLOOKUP(A2868,[1]PORFIN!$A$1:$B$65536,2,0)","v":383.53274900805894}]
["2025-07-20",{"$f":"+VLOOKUP(A2869,[1]PORFIN!$A$1:$B$65536,2,0)","v":383.60492126038008}]
["2025-07-21",{"$f":"+VLOOKUP(A2870,[1]PORFIN!$A$1:$B$65536,2,0)","v":383.67710709389866}]
["2025-07-22",{"$f":"+VLOOKUP(A2871,[1]PORFIN!$A$1:$B$65536,2,0)","v":383.7493065111704}]
["2025-07-23",{"$f":"+VLOOKUP(A2872,[1]PORFIN!$A$1:$B$65536,2,0)","v":383.82151951475157}]
["2025-07-24",{"$f":"+VLOOKUP(A2873,[1]PORFIN!$A$1:$B$65536,2,0)","v":383.89374610719852}]
["2025-07-25",{"$f":"+VLOOKUP(A2874,[1]PORFIN!$A$1:$B$65536,2,0)","v":383.96598629106865}]
["2025-07-26",{"$f":"+VLOOKUP(A2875,[1]PORFIN!$A$1:$B$65536,2,0)","v":384.03824006891944}]
["2025-07-27",{"$f":"+VLOOKUP(A2876,[1]PORFIN!$A$1:$B$65536,2,0)","v":384.11050744330896}]
["2025-07-28",{"$f":"+VLOOKUP(A2877,[1]PORFIN!$A$1:$B$65536,2,0)","v":384.1827884167958}]
["2025-07-29",{"$f":"+VLOOKUP(A2878,[1]PORFIN!$A$1:$B$65536,2,0)","v":384.2550829919391}]
["2025-07-30",{"$f":"+VLOOKUP(A2879,[1]PORFIN!$A$1:$B$65536,2,0)","v":384.32739117129825}]
["2025-07-31",{"$f":"+VLOOKUP(A2880,[1]PORFIN!$A$1:$B$65536,2,0)","v":384.39971295743322}]
["2025-08-01",{"$f":"+VLOOKUP(A2881,[1]PORFIN!$A$1:$B$65536,2,0)","v":384.47204835290455}]
["2025-08-02",{"$f":"+VLOOKUP(A2882,[1]PORFIN!$A$1:$B$65536,2,0)","v":384.54439736027331}]
["2025-08-03",{"$f":"+VLOOKUP(A2883,[1]PORFIN!$A$1:$B$65536,2,0)","v":384.61675998210092}]
["2025-08-04",{"$f":"+VLOOKUP(A2884,[1]PORFIN!$A$1:$B$65536,2,0)","v":384.68913622094925}]
["2025-08-05",{"$f":"+VLOOKUP(A2885,[1]PORFIN!$A$1:$B$65536,2,0)","v":384.76152607938076}]
["2025-08-06",{"$f":"+VLOOKUP(A2886,[1]PORFIN!$A$1:$B$65536,2,0)","v":384.83392955995828}]
["2025-08-07",{"$f":"+VLOOKUP(A2887,[1]PORFIN!$A$1:$B$65536,2,0)","v":384.90634666524534}]
["2025-08-08",{"$f":"+VLOOKUP(A2888,[1]PORFIN!$A$1:$B$65536,2,0)","v":384.97877739780563}]
["2025-08-09",{"$f":"+VLOOKUP(A2889,[1]PORFIN!$A$1:$B$65536,2,0)","v":385.05122176020359}]
["2025-08-10",{"$f":"+VLOOKUP(A2890,[1]PORFIN!$A$1:$B$65536,2,0)","v":385.12367975500405}]
["2025-08-11",{"$f":"+VLOOKUP(A2891,[1]PORFIN!$A$1:$B$65536,2,0)","v":385.19615138477235}]
["2025-08-12",{"$f":"+VLOOKUP(A2892,[1]PORFIN!$A$1:$B$65536,2,0)","v":385.26863665207418}]
["2025-08-13",{"$f":"+VLOOKUP(A2893,[1]PORFIN!$A$1:$B$65536,2,0)","v":385.3411355594759}]
["2025-08-14",{"$f":"+VLOOKUP(A2894,[1]PORFIN!$A$1:$B$65536,2,0)","v":385.41364810954428}]
["2025-08-15",{"$f":"+VLOOKUP(A2895,[1]PORFIN!$A$1:$B$65536,2,0)","v":385.48617430484654}]
["2025-08-16",{"$f":"+VLOOKUP(A2896,[1]PORFIN!$A$1:$B$65536,2,0)","v":385.55871414795035}]
["2025-08-17",{"$f":"+VLOOKUP(A2897,[1]PORFIN!$A$1:$B$65536,2,0)","v":385.63126764142407}]
["2025-08-18",{"$f":"+VLOOKUP(A2898,[1]PORFIN!$A$1:$B$65536,2,0)","v":385.66592924312675}]
["2025-08-19",{"$f":"+VLOOKUP(A2899,[1]PORFIN!$A$1:$B$65536,2,0)","v":385.70059396030979}]
["2025-08-20",{"$f":"+VLOOKUP(A2900,[1]PORFIN!$A$1:$B$65536,2,0)","v":385.73526179325313}]
["2025-08-21",{"$f":"+VLOOKUP(A2901,[1]PORFIN!$A$1:$B$65536,2,0)","v":385.76993274223702}]
["2025-08-22",{"$f":"+VLOOKUP(A2902,[1]PORFIN!$A$1:$B$65536,2,0)","v":385.80460680754135}]
["2025-08-23",{"$f":"+VLOOKUP(A2903,[1]PORFIN!$A$1:$B$65536,2,0)","v":385.83928398944624}]
["2025-08-24",{"$f":"+VLOOKUP(A2904,[1]PORFIN!$A$1:$B$65536,2,0)","v":385.87396428823183}]
["2025-08-25",{"$f":"+VLOOKUP(A2905,[1]PORFIN!$A$1:$B$65536,2,0)","v":385.90864770417841}]
["2025-08-26",{"$f":"+VLOOKUP(A2906,[1]PORFIN!$A$1:$B$65536,2,0)","v":385.94333423756598}]
["2025-08-27",{"$f":"+VLOOKUP(A2907,[1]PORFIN!$A$1:$B$65536,2,0)","v":385.97802388867484}]
["2025-08-28",{"$f":"+VLOOKUP(A2908,[1]PORFIN!$A$1:$B$65536,2,0)","v":386.01271665778523}]
["2025-08-29",{"$f":"+VLOOKUP(A2909,[1]PORFIN!$A$1:$B$65536,2,0)","v":386.04741254517728}]
["2025-08-30",{"$f":"+VLOOKUP(A2910,[1]PORFIN!$A$1:$B$65536,2,0)","v":386.08211155113145}]
["2025-08-31",{"$f":"+VLOOKUP(A2911,[1]PORFIN!$A$1:$B$65536,2,0)","v":386.11681367592792}]
["2025-09-01",{"$f":"+VLOOKUP(A2912,[1]PORFIN!$A$1:$B$65536,2,0)","v":386.15151891984709}]
["2025-09-02",{"$f":"+VLOOKUP(A2913,[1]PORFIN!$A$1:$B$65536,2,0)","v":386.18622728316922}]
["2025-09-03",{"$f":"+VLOOKUP(A2914,[1]PORFIN!$A$1:$B$65536,2,0)","v":386.22093876617487}]
["2025-09-04",{"$f":"+VLOOKUP(A2915,[1]PORFIN!$A$1:$B$65536,2,0)","v":386.25565336914423}]
["2025-09-05",{"$f":"+VLOOKUP(A2916,[1]PORFIN!$A$1:$B$65536,2,0)","v":386.29037109235776}]
["2025-09-06",{"$f":"+VLOOKUP(A2917,[1]PORFIN!$A$1:$B$65536,2,0)","v":386.3250919360961}]
["2025-09-07",{"$f":"+VLOOKUP(A2918,[1]PORFIN!$A$1:$B$65536,2,0)","v":386.35981590063966}]
["2025-09-08",{"$f":"+VLOOKUP(A2919,[1]PORFIN!$A$1:$B$65536,2,0)","v":386.39454298626879}]
["2025-09-09",{"$f":"+VLOOKUP(A2920,[1]PORFIN!$A$1:$B$65536,2,0)","v":386.42927319326412}]
["2025-09-10",{"$f":"+VLOOKUP(A2921,[1]PORFIN!$A$1:$B$65536,2,0)","v":386.4640065219063}]
["2025-09-11",{"$f":"+VLOOKUP(A2922,[1]PORFIN!$A$1:$B$65536,2,0)","v":386.49874297247578}]
["2025-09-12",{"$f":"+VLOOKUP(A2923,[1]PORFIN!$A$1:$B$65536,2,0)","v":386.53348254525338}]
["2025-09-13",{"$f":"+VLOOKUP(A2924,[1]PORFIN!$A$1:$B$65536,2,0)","v":386.56822524051938}]
["2025-09-14",{"$f":"+VLOOKUP(A2925,[1]PORFIN!$A$1:$B$65536,2,0)","v":386.60297105855472}]
["2025-09-15",{"$f":"+VLOOKUP(A2926,[1]PORFIN!$A$1:$B$65536,2,0)","v":386.63771999964001}]
["2025-09-16",{"$f":"+VLOOKUP(A2927,[1]PORFIN!$A$1:$B$65536,2,0)","v":386.67247206405591}]
["2025-09-17",{"$f":"+VLOOKUP(A2928,[1]PORFIN!$A$1:$B$65536,2,0)","v":386.67247206405591}]
["2025-09-18",{"$f":"+VLOOKUP(A2929,[1]PORFIN!$A$1:$B$65536,2,0)","v":386.67247206405591}]
["2025-09-19",{"$f":"+VLOOKUP(A2930,[1]PORFIN!$A$1:$B$65536,2,0)","v":386.67247206405591}]
["2025-09-20",{"$f":"+VLOOKUP(A2931,[1]PORFIN!$A$1:$B$65536,2,0)","v":386.67247206405591}]
["2025-09-21",{"$f":"+VLOOKUP(A2932,[1]PORFIN!$A$1:$B$65536,2,0)","v":386.67247206405591}]
["2025-09-22",{"$f":"+VLOOKUP(A2933,[1]PORFIN!$A$1:$B$65536,2,0)","v":386.67247206405591}]
["2025-09-23",{"$f":"+VLOOKUP(A2934,[1]PORFIN!$A$1:$B$65536,2,0)","v":386.67247206405591}]
["2025-09-24",{"$f":"+VLOOKUP(A2935,[1]PORFIN!$A$1:$B$65536,2,0)","v":386.67247206405591}]
["2025-09-25",{"$f":"+VLOOKUP(A2936,[1]PORFIN!$A$1:$B$65536,2,0)","v":386.67247206405591}]
["2025-09-26",{"$f":"+VLOOKUP(A2937,[1]PORFIN!$A$1:$B$65536,2,0)","v":386.67247206405591}]
["2025-09-27",{"$f":"+VLOOKUP(A2938,[1]PORFIN!$A$1:$B$65536,2,0)","v":386.67247206405591}]
["2025-09-28",{"$f":"+VLOOKUP(A2939,[1]PORFIN!$A$1:$B$65536,2,0)","v":386.67247206405591}]
["2025-09-29",{"$f":"+VLOOKUP(A2940,[1]PORFIN!$A$1:$B$65536,2,0)","v":386.67247206405591}]
["2025-09-30",{"$f":"+VLOOKUP(A2941,[1]PORFIN!$A$1:$B$65536,2,0)","v":386.67247206405591}]
["2025-10-01",{"$f":"+VLOOKUP(A2942,[1]PORFIN!$A$1:$B$65536,2,0)","v":386.67247206405591}]
["2025-10-02",{"$f":"+VLOOKUP(A2943,[1]PORFIN!$A$1:$B$65536,2,0)","v":386.67247206405591}]
["2025-10-03",{"$f":"+VLOOKUP(A2944,[1]PORFIN!$A$1:$B$65536,2,0)","v":386.67247206405591}]
["2025-10-04",{"$f":"+VLOOKUP(A2945,[1]PORFIN!$A$1:$B$65536,2,0)","v":386.67247206405591}]
["2025-10-05",{"$f":"+VLOOKUP(A2946,[1]PORFIN!$A$1:$B$65536,2,0)","v":386.67247206405591}]
["2025-10-06",{"$f":"+VLOOKUP(A2947,[1]PORFIN!$A$1:$B$65536,2,0)","v":386.67247206405591}]
["2025-10-07",{"$f":"+VLOOKUP(A2948,[1]PORFIN!$A$1:$B$65536,2,0)","v":386.67247206405591}]
["2025-10-08",{"$f":"+VLOOKUP(A2949,[1]PORFIN!$A$1:$B$65536,2,0)","v":386.67247206405591}]
["2025-10-09",{"$f":"+VLOOKUP(A2950,[1]PORFIN!$A$1:$B$65536,2,0)","v":386.67247206405591}]
["2025-10-10",{"$f":"+VLOOKUP(A2951,[1]PORFIN!$A$1:$B$65536,2,0)","v":386.67247206405591}]
["2025-10-11",{"$f":"+VLOOKUP(A2952,[1]PORFIN!$A$1:$B$65536,2,0)","v":386.67247206405591}]
["2025-10-12",{"$f":"+VLOOKUP(A2953,[1]PORFIN!$A$1:$B$65536,2,0)","v":386.67247206405591}]
["2025-10-13",{"$f":"+VLOOKUP(A2954,[1]PORFIN!$A$1:$B$65536,2,0)","v":386.67247206405591}]
["2025-10-14",{"$f":"+VLOOKUP(A2955,[1]PORFIN!$A$1:$B$65536,2,0)","v":386.67247206405591}]
["2025-10-15",{"$f":"+VLOOKUP(A2956,[1]PORFIN!$A$1:$B$65536,2,0)","v":386.67247206405591}]
["2025-10-16",{"$f":"+VLOOKUP(A2957,[1]PORFIN!$A$1:$B$65536,2,0)","v":386.67247206405591}]
["2025-10-17",{"$f":"+VLOOKUP(A2958,[1]PORFIN!$A$1:$B$65536,2,0)","v":386.67247206405591}]
["2025-10-18",{"$f":"+VLOOKUP(A2959,[1]PORFIN!$A$1:$B$65536,2,0)","v":386.67496648377886}]
["2025-10-19",{"$f":"+VLOOKUP(A2960,[1]PORFIN!$A$1:$B$65536,2,0)","v":386.67746091959322}]
["2025-10-20",{"$f":"+VLOOKUP(A2961,[1]PORFIN!$A$1:$B$65536,2,0)","v":386.6799553714992}]
["2025-10-21",{"$f":"+VLOOKUP(A2962,[1]PORFIN!$A$1:$B$65536,2,0)","v":386.68244983949688}]
["2025-10-22",{"$f":"+VLOOKUP(A2963,[1]PORFIN!$A$1:$B$65536,2,0)","v":386.68494432358636}]
["2025-10-23",{"$f":"+VLOOKUP(A2964,[1]PORFIN!$A$1:$B$65536,2,0)","v":386.68743882376771}]
["2025-10-24",{"$f":"+VLOOKUP(A2965,[1]PORFIN!$A$1:$B$65536,2,0)","v":386.68993334004102}]
["2025-10-25",{"$f":"+VLOOKUP(A2966,[1]PORFIN!$A$1:$B$65536,2,0)","v":386.69242787240654}]
["2025-10-26",{"$f":"+VLOOKUP(A2967,[1]PORFIN!$A$1:$B$65536,2,0)","v":386.69492242086415}]
["2025-10-27",{"$f":"+VLOOKUP(A2968,[1]PORFIN!$A$1:$B$65536,2,0)","v":386.69741698541401}]
["2025-10-28",{"$f":"+VLOOKUP(A2969,[1]PORFIN!$A$1:$B$65536,2,0)","v":386.69991156605641}]
["2025-10-29",{"$f":"+VLOOKUP(A2970,[1]PORFIN!$A$1:$B$65536,2,0)","v":386.70240616279119}]
["2025-10-30",{"$f":"+VLOOKUP(A2971,[1]PORFIN!$A$1:$B$65536,2,0)","v":386.70490077561868}]
["2025-10-31",{"$f":"+VLOOKUP(A2972,[1]PORFIN!$A$1:$B$65536,2,0)","v":386.70739540453889}]
["2025-11-01",{"$f":"+VLOOKUP(A2973,[1]PORFIN!$A$1:$B$65536,2,0)","v":386.70989004955197}]
["2025-11-02",{"$f":"+VLOOKUP(A2974,[1]PORFIN!$A$1:$B$65536,2,0)","v":386.71238471065783}]
["2025-11-03",{"$f":"+VLOOKUP(A2975,[1]PORFIN!$A$1:$B$65536,2,0)","v":386.7148793878568}]
["2025-11-04",{"$f":"+VLOOKUP(A2976,[1]PORFIN!$A$1:$B$65536,2,0)","v":386.71737408114893}]
["2025-11-05",{"$f":"+VLOOKUP(A2977,[1]PORFIN!$A$1:$B$65536,2,0)","v":386.71986879053424}]
["2025-11-06",{"$f":"+VLOOKUP(A2978,[1]PORFIN!$A$1:$B$65536,2,0)","v":386.72236351601293}]
["2025-11-07",{"$f":"+VLOOKUP(A2979,[1]PORFIN!$A$1:$B$65536,2,0)","v":386.72485825758508}]
["2025-11-08",{"$f":"+VLOOKUP(A2980,[1]PORFIN!$A$1:$B$65536,2,0)","v":386.72735301525074}]
["2025-11-09",{"$f":"+VLOOKUP(A2981,[1]PORFIN!$A$1:$B$65536,2,0)","v":386.72984778901008}]
["2025-11-10",{"$f":"+VLOOKUP(A2982,[1]PORFIN!$A$1:$B$65536,2,0)","v":386.73234257886315}]
["2025-11-11",{"$f":"+VLOOKUP(A2983,[1]PORFIN!$A$1:$B$65536,2,0)","v":386.73483738481008}]
["2025-11-12",{"$f":"+VLOOKUP(A2984,[1]PORFIN!$A$1:$B$65536,2,0)","v":386.73733220685102}]
["2025-11-13",{"$f":"+VLOOKUP(A2985,[1]PORFIN!$A$1:$B$65536,2,0)","v":386.73982704498599}]
["2025-11-14",{"$f":"+VLOOKUP(A2986,[1]PORFIN!$A$1:$B$65536,2,0)","v":386.7423218992152}]
["2025-11-15",{"$f":"+VLOOKUP(A2987,[1]PORFIN!$A$1:$B$65536,2,0)","v":386.7448167695386}]
["2025-11-16",{"$f":"+VLOOKUP(A2988,[1]PORFIN!$A$1:$B$65536,2,0)","v":386.74731165595642}]
["2025-11-17",{"$f":"+VLOOKUP(A2989,[1]PORFIN!$A$1:$B$65536,2,0)","v":386.74980655846872}]
["2025-11-18",{"$f":"+VLOOKUP(A2990,[1]PORFIN!$A$1:$B$65536,2,0)","v":386.7684863776127}]
["2025-11-19",{"$f":"+VLOOKUP(A2991,[1]PORFIN!$A$1:$B$65536,2,0)","v":386.78716709898237}]
["2025-11-20",{"$f":"+VLOOKUP(A2992,[1]PORFIN!$A$1:$B$65536,2,0)","v":386.80584872262142}]
["2025-11-21",{"$f":"+VLOOKUP(A2993,[1]PORFIN!$A$1:$B$65536,2,0)","v":386.82453124857335}]
["2025-11-22",{"$f":"+VLOOKUP(A2994,[1]PORFIN!$A$1:$B$65536,2,0)","v":386.84321467688187}]
["2025-11-23",{"$f":"+VLOOKUP(A2995,[1]PORFIN!$A$1:$B$65536,2,0)","v":386.86189900759052}]
["2025-11-24",{"$f":"+VLOOKUP(A2996,[1]PORFIN!$A$1:$B$65536,2,0)","v":386.88058424074273}]
["2025-11-25",{"$f":"+VLOOKUP(A2997,[1]PORFIN!$A$1:$B$65536,2,0)","v":386.89927037638233}]
["2025-11-26",{"$f":"+VLOOKUP(A2998,[1]PORFIN!$A$1:$B$65536,2,0)","v":386.91795741455269}]
["2025-11-27",{"$f":"+VLOOKUP(A2999,[1]PORFIN!$A$1:$B$65536,2,0)","v":386.93664535529751}]
["2025-11-28",{"$f":"+VLOOKUP(A3000,[1]PORFIN!$A$1:$B$65536,2,0)","v":386.95533419866035}]
["2025-11-29",{"$f":"+VLOOKUP(A3001,[1]PORFIN!$A$1:$B$65536,2,0)","v":386.97402394468492}]
["2025-11-30",{"$f":"+VLOOKUP(A3002,[1]PORFIN!$A$1:$B$65536,2,0)","v":386.99271459341469}]
["2025-12-01",{"$f":"+VLOOKUP(A3003,[1]PORFIN!$A$1:$B$65536,2,0)","v":387.01140614489333}]
["2025-12-02",{"$f":"+VLOOKUP(A3004,[1]PORFIN!$A$1:$B$65536,2,0)","v":387.03009859916426}]
["2025-12-03",{"$f":"+VLOOKUP(A3005,[1]PORFIN!$A$1:$B$65536,2,0)","v":387.04879195627137}]
["2025-12-04",{"$f":"+VLOOKUP(A3006,[1]PORFIN!$A$1:$B$65536,2,0)","v":387.06748621625809}]
["2025-12-05",{"$f":"+VLOOKUP(A3007,[1]PORFIN!$A$1:$B$65536,2,0)","v":387.08618137916807}]
["2025-12-06",{"$f":"+VLOOKUP(A3008,[1]PORFIN!$A$1:$B$65536,2,0)","v":387.10487744504491}]
["2025-12-07",{"$f":"+VLOOKUP(A3009,[1]PORFIN!$A$1:$B$65536,2,0)","v":387.12357441393232}]
["2025-12-08",{"$f":"+VLOOKUP(A3010,[1]PORFIN!$A$1:$B$65536,2,0)","v":387.14227228587367}]
["2025-12-09",{"$f":"+VLOOKUP(A3011,[1]PORFIN!$A$1:$B$65536,2,0)","v":387.16097106091291}]
["2025-12-10",{"$f":"+VLOOKUP(A3012,[1]PORFIN!$A$1:$B$65536,2,0)","v":387.17967073909335}]
["2025-12-11",{"$f":"+VLOOKUP(A3013,[1]PORFIN!$A$1:$B$65536,2,0)","v":387.19837132045876}]
["2025-12-12",{"$f":"+VLOOKUP(A3014,[1]PORFIN!$A$1:$B$65536,2,0)","v":387.21707280505279}]
["2025-12-13",{"$f":"+VLOOKUP(A3015,[1]PORFIN!$A$1:$B$65536,2,0)","v":387.23577519291905}]
["2025-12-14",{"$f":"+VLOOKUP(A3016,[1]PORFIN!$A$1:$B$65536,2,0)","v":387.25447848410107}]
["2025-12-15",{"$f":"+VLOOKUP(A3017,[1]PORFIN!$A$1:$B$65536,2,0)","v":387.27318267864257}]
["2025-12-16",{"$f":"+VLOOKUP(A3018,[1]PORFIN!$A$1:$B$65536,2,0)","v":387.29188777658715}]
["2025-12-17",{"$f":"+VLOOKUP(A3019,[1]PORFIN!$A$1:$B$65536,2,0)","v":387.31059377797845}]
["2025-12-18",{"$f":"+VLOOKUP(A3020,[1]PORFIN!$A$1:$B$65536,2,0)","v":387.33368680928959}]
["2025-12-19",{"$f":"+VLOOKUP(A3021,[1]PORFIN!$A$1:$B$65536,2,0)","v":387.35678121750112}]
["2025-12-20",{"$f":"+VLOOKUP(A3022,[1]PORFIN!$A$1:$B$65536,2,0)","v":387.37987700269503}]
["2025-12-21",{"$f":"+VLOOKUP(A3023,[1]PORFIN!$A$1:$B$65536,2,0)","v":387.4029741649536}]
["2025-12-22",{"$f":"+VLOOKUP(A3024,[1]PORFIN!$A$1:$B$65536,2,0)","v":387.42607270435872}]
["2025-12-23",{"$f":"+VLOOKUP(A3025,[1]PORFIN!$A$1:$B$65536,2,0)","v":387.44917262099267}]
["2025-12-24",{"$f":"+VLOOKUP(A3026,[1]PORFIN!$A$1:$B$65536,2,0)","v":387.47227391493755}]
["2025-12-25",{"$f":"+VLOOKUP(A3027,[1]PORFIN!$A$1:$B$65536,2,0)","v":387.49537658627543}]
["2025-12-26",{"$f":"+VLOOKUP(A3028,[1]PORFIN!$A$1:$B$65536,2,0)","v":387.51848063508839}]
["2025-12-27",{"$f":"+VLOOKUP(A3029,[1]PORFIN!$A$1:$B$65536,2,0)","v":387.54158606145859}]
["2025-12-28",{"$f":"+VLOOKUP(A3030,[1]PORFIN!$A$1:$B$65536,2,0)","v":387.5646928654682}]
["2025-12-29",{"$f":"+VLOOKUP(A3031,[1]PORFIN!$A$1:$B$65536,2,0)","v":387.58780104719949}]
["2025-12-30",{"$f":"+VLOOKUP(A3032,[1]PORFIN!$A$1:$B$65536,2,0)","v":387.61091060673436}]
["2025-12-31",{"$f":"+VLOOKUP(A3033,[1]PORFIN!$A$1:$B$65536,2,0)","v":387.63402154415508}]

{"sheet":"Tabla de Amortizacion","index":6,"n_rows":184,"n_cols":10,"rows_kept":184,"cut":false,"hidden":true,"merged":[]}
["FECHA","Tabla de Amortización Valoración",null,null,"Tabla de Amortización Valoración","Tabla de Amortización Valoración","Tabla de Amortización Valoración","Tabla de Amortización Valoración","Tabla de Amortización Valoración"]
[null,{"$f":"+CALCULADORA!C11","v":"TIPS UVR U-6 A 2037"},null,null,{"$f":"+Características!$B$1","v":"TIPS UVR U-2 A 2027"},{"$f":"+Características!$C$1","v":"TIPS UVR U-3 A 2028"},{"$f":"+Características!$D$1","v":"TIPS UVR U-4 A 2029"},{"$f":"+Características!$E$1","v":"TIPS UVR U-5 A 2036"},{"$f":"+Características!$F$1","v":"TIPS UVR U-6 A 2037"}]
[{"$f":"+Flujos!A3","v":"2023-01-16"},{"$f":"+VLOOKUP(A3,$D$2:$I$182,MATCH($B$2,$D$2:$I$2,0),FALSE)","v":1.013202E-2},null,{"$f":"+A3","v":"2023-01-16"},1.955465E-2,1.7167419999999999E-2,1.606318E-2,9.2677899999999997E-3,1.013202E-2]
[{"$f":"+Flujos!A4","v":"2023-02-16"},{"$f":"+VLOOKUP(A4,$D$2:$I$182,MATCH($B$2,$D$2:$I$2,0),FALSE)","v":6.7386900000000003E-3},null,{"$f":"+A4","v":"2023-02-16"},2.2050940000000002E-2,2.0163529999999999E-2,1.695723E-2,1.6523309999999999E-2,6.7386900000000003E-3,"TIPS UVR U-2 A 2027"]
[{"$f":"+Flujos!A5","v":"2023-03-16"},1.048377E-2,null,"2023-03-16",2.2931480000000001E-2,1.867077E-2,1.625132E-2,1.656473E-2,1.048377E-2,"TIPS UVR U-3 A 2028"]
[{"$f":"+Flujos!A6","v":"2023-04-16"},{"$f":"+VLOOKUP(A6,$D$2:$I$182,MATCH($B$2,$D$2:$I$2,0),FALSE)","v":5.95883E-3},null,"2023-04-16",1.492861E-2,1.6948589999999999E-2,1.6031150000000001E-2,1.43114E-2,5.95883E-3,"TIPS UVR U-4 A 2029"]
[{"$f":"+Flujos!A7","v":"2023-05-16"},{"$f":"+VLOOKUP(A7,$D$2:$I$182,MATCH($B$2,$D$2:$I$2,0),FALSE)","v":8.6504000000000008E-3},null,"2023-05-16",1.587976E-2,1.4761689999999999E-2,1.149681E-2,1.9070429999999999E-2,8.6504000000000008E-3,"TIPS UVR U-5 A 2036"]
[{"$f":"+Flujos!A8","v":"2023-06-16"},1.1264980000000001E-2,null,"2023-06-16",1.7430399999999999E-2,1.8577730000000001E-2,2.2314859999999999E-2,1.528383E-2,1.1264980000000001E-2,"TIPS UVR U-6 A 2037"]
[{"$f":"+Flujos!A9","v":"2023-07-16"},8.9572300000000001E-3,null,"2023-07-16",1.9560520000000001E-2,1.9026169999999999E-2,1.6630490000000001E-2,1.5831609999999999E-2,8.9572300000000001E-3]
[{"$f":"+Flujos!A10","v":"2023-08-16"},7.1490199999999999E-3,null,"2023-08-16",1.7365889999999998E-2,1.7149689999999999E-2,6.9221400000000002E-3,1.5647879999999999E-2,7.1490199999999999E-3]
[{"$f":"+Flujos!A11","v":"2023-09-16"},8.6948200000000007E-3,null,"2023-09-16",2.0558010000000002E-2,1.7337149999999999E-2,2.8538499999999998E-3,1.547286E-2,8.6948200000000007E-3]
[{"$f":"+Flujos!A12","v":"2023-10-16"},{"$f":"+VLOOKUP(A12,$D$2:$I$182,MATCH($B$2,$D$2:$I$2,0),FALSE)","v":4.2568500000000004E-3},null,"2023-10-16",1.9392550000000001E-2,1.489395E-2,5.8623800000000004E-3,1.531398E-2,4.2568500000000004E-3]
[{"$f":"+Flujos!A13","v":"2023-11-16"},1.0520750000000001E-2,null,"2023-11-16",1.719963E-2,1.1529299999999999E-2,6.3673999999999996E-3,1.513597E-2,1.0520750000000001E-2]
[{"$f":"+Flujos!A14","v":"2023-12-16"},7.7276000000000003E-3,null,"2023-12-16",1.696541E-2,1.1594480000000001E-2,8.6742899999999994E-3,1.481588E-2,7.7276000000000003E-3]
[{"$f":"+Flujos!A15","v":"2024-01-16"},{"$f":"+VLOOKUP(A15,$D$2:$I$182,MATCH($B$2,$D$2:$I$2,0),FALSE)","v":1.009764E-2},null,"2024-01-16",1.458126E-2,1.5224059999999999E-2,1.3599959999999999E-2,1.5710080000000001E-2,1.009764E-2]
[{"$f":"+Flujos!A16","v":"2024-02-16"},1.548427E-2,null,"2024-02-16",1.5178260000000001E-2,1.6667959999999999E-2,1.4171649999999999E-2,1.5346200000000001E-2,1.548427E-2]
[{"$f":"+Flujos!A17","v":"2024-03-16"},9.2886300000000008E-3,null,"2024-03-16",1.7657570000000001E-2,1.18286E-2,1.576903E-2,1.555523E-2,9.2886300000000008E-3]
[{"$f":"+Flujos!A18","v":"2024-04-16"},7.5426800000000004E-3,null,"2024-04-16",1.2730969999999999E-2,1.487251E-2,1.4101880000000001E-2,1.4729219999999999E-2,7.5426800000000004E-3]
[{"$f":"+Flujos!A19","v":"2024-05-16"},1.463474E-2,null,"2024-05-16",1.407281E-2,1.4905740000000001E-2,1.5821769999999999E-2,1.54965E-2,1.463474E-2]
[{"$f":"+Flujos!A20","v":"2024-06-16"},1.2428130000000001E-2,null,"2024-06-16",1.251554E-2,1.4343069999999999E-2,1.4737180000000001E-2,1.353915E-2,1.2428130000000001E-2]
[{"$f":"+Flujos!A21","v":"2024-07-16"},9.6018200000000005E-3,null,"2024-07-16",1.444464E-2,1.6264580000000001E-2,2.2867019999999998E-2,1.604877E-2,9.6018200000000005E-3]
[{"$f":"+Flujos!A22","v":"2024-08-16"},7.3403499999999998E-3,null,"2024-08-16",1.341147E-2,1.4421089999999999E-2,1.8514409999999999E-2,1.183874E-2,7.3403499999999998E-3]
[{"$f":"+Flujos!A23","v":"2024-09-16"},1.5514790000000001E-2,null,"2024-09-16",1.571063E-2,4.4175600000000001E-3,1.7179529999999998E-2,1.6538790000000001E-2,1.5514790000000001E-2]
[{"$f":"+Flujos!A24","v":"2024-10-16"},1.5878860000000002E-2,null,"2024-10-16",1.087367E-2,2.1030200000000001E-3,1.2613040000000001E-2,1.2696209999999999E-2,1.5878860000000002E-2]
[{"$f":"+Flujos!A25","v":"2024-11-16"},1.2802610000000001E-2,null,"2024-11-16",1.49029E-2,5.8471299999999999E-3,1.6169139999999999E-2,1.1060840000000001E-2,1.2802610000000001E-2]
[{"$f":"+Flujos!A26","v":"2024-12-16"},1.2297829999999999E-2,null,"2024-12-16",1.7384899999999998E-2,9.5264700000000004E-3,1.8447660000000001E-2,1.1306220000000001E-2,1.2297829999999999E-2]
[{"$f":"+Flujos!A27","v":"2025-01-16"},1.399737E-2,null,"2025-01-16",8.2538899999999998E-3,7.8977700000000001E-3,1.348238E-2,1.1651730000000001E-2,1.399737E-2]
[{"$f":"+Flujos!A28","v":"2025-02-16"},1.5820130000000002E-2,null,"2025-02-16",1.6348890000000001E-2,1.101237E-2,1.8196E-2,9.1303200000000008E-3,1.5820130000000002E-2]
[{"$f":"+Flujos!A29","v":"2025-03-16"},1.340969E-2,null,"2025-03-16",1.1572020000000001E-2,1.176142E-2,1.032785E-2,1.0507280000000001E-2,1.340969E-2]
[{"$f":"+Flujos!A30","v":"2025-04-16"},1.0733120000000001E-2,null,"2025-04-16",9.8824099999999995E-3,1.0558730000000001E-2,1.547013E-2,8.0458400000000003E-3,1.0733120000000001E-2]
[{"$f":"+Flujos!A31","v":"2025-05-16"},1.0678989999999999E-2,null,"2025-05-16",1.0613269999999999E-2,1.201472E-2,1.478898E-2,1.091876E-2,1.0678989999999999E-2]
[{"$f":"+Flujos!A32","v":"2025-06-16"},1.0669680000000001E-2,null,"2025-06-16",1.33135E-3,7.5776799999999998E-3,1.1844820000000001E-2,9.4411300000000007E-3,1.0669680000000001E-2]
[{"$f":"+Flujos!A33","v":"2025-07-16"},1.0596400000000001E-2,null,"2025-07-16",5.1869500000000001E-3,1.065728E-2,1.7780379999999998E-2,1.104627E-2,1.0596400000000001E-2]
[{"$f":"+Flujos!A34","v":"2025-08-16"},1.048296E-2,null,"2025-08-16",3.65936E-3,9.3326099999999999E-3,1.6777090000000001E-2,1.0620889999999999E-2,1.048296E-2]
[{"$f":"+Flujos!A35","v":"2025-09-16"},{"$f":"+VLOOKUP(A35,$D$2:$I$182,MATCH($B$2,$D$2:$I$2,0),FALSE)","v":1.047287E-2},null,"2025-09-16",7.6932499999999996E-3,1.0342779999999999E-2,1.3013490000000001E-2,1.1102849999999999E-2,1.047287E-2]
[{"$f":"+Flujos!A36","v":"2025-10-16"},1.043738E-2,null,"2025-10-16",8.6841599999999998E-3,8.6634699999999995E-3,1.3916100000000001E-2,1.0146499999999999E-2,1.043738E-2]
[{"$f":"+Flujos!A37","v":"2025-11-16"},1.039328E-2,null,"2025-11-16",1.303261E-2,1.100951E-2,1.467326E-2,1.1694080000000001E-2,1.039328E-2]
[{"$f":"+Flujos!A38","v":"2025-12-16"},9.37524E-3,null,"2025-12-16",8.2638699999999995E-3,1.025268E-2,1.4129050000000001E-2,1.2785349999999999E-2,9.37524E-3]
[{"$f":"+Flujos!A39","v":"2026-01-16"},1.026734E-2,null,"2026-01-16",9.2811200000000003E-3,9.8515600000000005E-3,1.481652E-2,9.1961200000000003E-3,1.026734E-2]
[{"$f":"+Flujos!A40","v":"2026-02-16"},1.0297250000000001E-2,null,"2026-02-16",1.1269599999999999E-2,1.209493E-2,1.372724E-2,1.3208640000000001E-2,1.0297250000000001E-2]
[{"$f":"+Flujos!A41","v":"2026-03-16"},1.0179519999999999E-2,null,"2026-03-16",1.344306E-2,1.126654E-2,1.329612E-2,1.120968E-2,1.0179519999999999E-2]
[{"$f":"+Flujos!A42","v":"2026-04-16"},1.0187460000000001E-2,null,"2026-04-16",1.2991549999999999E-2,1.089121E-2,1.4284689999999999E-2,1.0338119999999999E-2,1.0187460000000001E-2]
[{"$f":"+Flujos!A43","v":"2026-05-16"},1.0141010000000001E-2,null,"2026-05-16",9.2216099999999999E-3,1.069003E-2,1.304635E-2,1.01549E-2,1.0141010000000001E-2]
[{"$f":"+Flujos!A44","v":"2026-06-16"},1.007983E-2,null,"2026-06-16",1.468247E-2,6.8846000000000003E-3,1.031967E-2,1.074496E-2,1.007983E-2]
[{"$f":"+Flujos!A45","v":"2026-07-16"},1.005705E-2,null,"2026-07-16",1.4145919999999999E-2,1.091433E-2,1.4446509999999999E-2,1.0663540000000001E-2,1.005705E-2]
[{"$f":"+Flujos!A46","v":"2026-08-16"},1.006308E-2,null,"2026-08-16",1.6236609999999999E-2,2.54256E-2,1.120967E-2,1.0529180000000001E-2,1.006308E-2]
[{"$f":"+Flujos!A47","v":"2026-09-16"},9.9862200000000005E-3,null,"2026-09-16",1.4337569999999999E-2,6.7373499999999996E-3,1.0877070000000001E-2,1.046122E-2,9.9862200000000005E-3]
[{"$f":"+Flujos!A48","v":"2026-10-16"},9.9255999999999997E-3,null,"2026-10-16",1.1258199999999999E-2,1.008328E-2,1.1046790000000001E-2,1.034821E-2,9.9255999999999997E-3]
[{"$f":"+Flujos!A49","v":"2026-11-16"},9.8783699999999992E-3,null,"2026-11-16",1.2741870000000001E-2,8.5531600000000006E-3,1.029279E-2,1.0204619999999999E-2,9.8783699999999992E-3]
[{"$f":"+Flujos!A50","v":"2026-12-16"},8.7763200000000006E-3,null,"2026-12-16",9.5005799999999998E-3,1.0166980000000001E-2,9.5756499999999998E-3,9.7240699999999996E-3,8.7763200000000006E-3]
[{"$f":"+Flujos!A51","v":"2027-01-16"},9.7390900000000006E-3,null,"2027-01-16",1.020446E-2,1.1539000000000001E-2,9.3749699999999998E-3,9.9938700000000002E-3,9.7390900000000006E-3]
[{"$f":"+Flujos!A52","v":"2027-02-16"},9.6124399999999999E-3,null,"2027-02-16",1.0673419999999999E-2,9.4126999999999995E-3,9.1042199999999997E-3,9.8914299999999997E-3,9.6124399999999999E-3]
[{"$f":"+Flujos!A53","v":"2027-03-16"},9.4827699999999997E-3,null,"2027-03-16",1.239962E-2,9.5752400000000005E-3,7.8154399999999999E-3,9.7633100000000007E-3,9.4827699999999997E-3]
[{"$f":"+Flujos!A54","v":"2027-04-16"},9.4523899999999998E-3,null,"2027-04-16",1.305624E-2,1.1787789999999999E-2,9.6544100000000004E-3,9.6960099999999997E-3,9.4523899999999998E-3]
[{"$f":"+Flujos!A55","v":"2027-05-16"},9.3506400000000003E-3,null,"2027-05-16",1.10621E-2,8.4441099999999995E-3,7.7450899999999996E-3,9.5666799999999993E-3,9.3506400000000003E-3]
[{"$f":"+Flujos!A56","v":"2027-06-16"},9.2965700000000005E-3,null,"2027-06-16",9.5245199999999999E-3,8.3605799999999994E-3,8.6127700000000005E-3,9.3996800000000005E-3,9.2965700000000005E-3]
[{"$f":"+Flujos!A57","v":"2027-07-16"},9.1769399999999998E-3,null,"2027-07-16",1.143723E-2,1.0690689999999999E-2,7.0929900000000004E-3,9.3035099999999992E-3,9.1769399999999998E-3]
[{"$f":"+Flujos!A58","v":"2027-08-16"},9.1304400000000001E-3,null,"2027-08-16",7.2513899999999999E-3,8.2443599999999992E-3,6.7156200000000003E-3,9.1702599999999995E-3,9.1304400000000001E-3]
[{"$f":"+Flujos!A59","v":"2027-09-16"},9.01128E-3,null,"2027-09-16",1.206636E-2,9.1649599999999998E-3,8.0135399999999996E-3,9.1069600000000007E-3,9.01128E-3]
[{"$f":"+Flujos!A60","v":"2027-10-16"},8.9400199999999999E-3,null,"2027-10-16",1.094583E-2,9.2905000000000001E-3,7.3018400000000004E-3,8.9514499999999997E-3,8.9400199999999999E-3]
[{"$f":"+Flujos!A61","v":"2027-11-16"},8.8245200000000006E-3,null,"2027-11-16",1.003393E-2,7.3067699999999998E-3,7.7563900000000002E-3,8.8338800000000006E-3,8.8245200000000006E-3]
[{"$f":"+Flujos!A62","v":"2027-12-16"},7.6692000000000001E-3,null,"2027-12-16",8.7033900000000001E-3,7.3497099999999998E-3,8.4882299999999994E-3,8.31024E-3,7.6692000000000001E-3]
[{"$f":"+Flujos!A63","v":"2028-01-16"},8.5573300000000001E-3,null,"2028-01-16",7.4764699999999998E-3,7.5537599999999996E-3,8.9195200000000002E-3,8.5626299999999999E-3,8.5573300000000001E-3]
[{"$f":"+Flujos!A64","v":"2028-02-16"},8.3971099999999993E-3,null,"2028-02-16",7.1548799999999997E-3,5.4406200000000002E-3,8.61168E-3,8.4364799999999997E-3,8.3971099999999993E-3]
[{"$f":"+Flujos!A65","v":"2028-03-16"},8.3030599999999993E-3,null,"2028-03-16",8.9770600000000002E-3,6.09057E-3,9.0516199999999998E-3,8.3278699999999994E-3,8.3030599999999993E-3]
[{"$f":"+Flujos!A66","v":"2028-04-16"},8.2190800000000001E-3,null,"2028-04-16",7.3617500000000002E-3,6.2572399999999999E-3,7.4859100000000001E-3,8.2151299999999993E-3,8.2190800000000001E-3]
[{"$f":"+Flujos!A67","v":"2028-05-16"},{"$f":"+VLOOKUP(A67,$D$2:$I$182,MATCH($B$2,$D$2:$I$2,0),FALSE)","v":8.1051300000000003E-3},null,"2028-05-16",7.97695E-3,6.2860299999999997E-3,7.7389199999999998E-3,8.0759100000000004E-3,8.1051300000000003E-3]
[{"$f":"+Flujos!A68","v":"2028-06-16"},7.9514500000000005E-3,null,{"$f":"+A68","v":"2028-06-16"},5.6568299999999998E-3,7.89429E-3,7.3796E-3,7.9796799999999994E-3,7.9514500000000005E-3]
[{"$f":"+Flujos!A69","v":"2028-07-16"},7.8276999999999999E-3,null,"2028-07-16",7.4584600000000001E-3,6.3277200000000002E-3,7.2266600000000002E-3,7.6650599999999996E-3,7.8276999999999999E-3]
[{"$f":"+Flujos!A70","v":"2028-08-16"},7.7417199999999997E-3,null,"2028-08-16",7.0147899999999999E-3,7.6590299999999998E-3,7.0750199999999996E-3,6.6018700000000001E-3,7.7417199999999997E-3]
[{"$f":"+Flujos!A71","v":"2028-09-16"},7.6557300000000003E-3,null,"2028-09-16",6.5977600000000003E-3,6.8357399999999999E-3,6.9257800000000003E-3,6.4863999999999998E-3,7.6557300000000003E-3]
[{"$f":"+Flujos!A72","v":"2028-10-16"},7.5446899999999997E-3,null,"2028-10-16",6.9780500000000004E-3,5.4672799999999997E-3,6.7798700000000003E-3,6.3794300000000002E-3,7.5446899999999997E-3]
[{"$f":"+Flujos!A73","v":"2028-11-16"},7.4390999999999997E-3,null,"2028-11-16",6.35069E-3,5.3215600000000004E-3,6.6315699999999998E-3,6.2722400000000001E-3,7.4390999999999997E-3]
[{"$f":"+Flujos!A74","v":"2028-12-16"},6.2479800000000002E-3,null,"2028-12-16",5.8107200000000001E-3,7.2805200000000004E-3,6.2189400000000001E-3,6.1584099999999996E-3,6.2479800000000002E-3]
[{"$f":"+Flujos!A75","v":"2029-01-16"},7.1897000000000003E-3,null,"2029-01-16",6.37756E-3,5.4675000000000001E-3,6.3521300000000001E-3,6.0579099999999997E-3,7.1897000000000003E-3]
[{"$f":"+Flujos!A76","v":"2029-02-16"},7.0945899999999996E-3,null,"2029-02-16",4.7421499999999997E-3,7.3164399999999996E-3,6.2156299999999998E-3,5.9534200000000001E-3,7.0945899999999996E-3]
[{"$f":"+Flujos!A77","v":"2029-03-16"},6.9927599999999998E-3,null,"2029-03-16",6.6140699999999997E-3,5.8468900000000004E-3,6.0800799999999999E-3,5.8455199999999999E-3,6.9927599999999998E-3]
[{"$f":"+Flujos!A78","v":"2029-04-16"},6.9260099999999998E-3,null,"2029-04-16",5.1483299999999996E-3,5.2814400000000001E-3,5.9508800000000004E-3,5.73114E-3,6.9260099999999998E-3]
[{"$f":"+Flujos!A79","v":"2029-05-16"},6.8545300000000002E-3,null,"2029-05-16",6.1153800000000001E-3,6.3109699999999999E-3,5.8172199999999997E-3,5.6201100000000002E-3,6.8545300000000002E-3]
[{"$f":"+Flujos!A80","v":"2029-06-16"},6.7874399999999996E-3,null,"2029-06-16",6.8870099999999998E-3,6.1627799999999996E-3,5.6857699999999997E-3,5.5030599999999997E-3,6.7874399999999996E-3]
[{"$f":"+Flujos!A81","v":"2029-07-16"},6.7162699999999999E-3,null,"2029-07-16",6.2102900000000003E-3,6.2093199999999999E-3,5.56391E-3,5.39099E-3,6.7162699999999999E-3]
[{"$f":"+Flujos!A82","v":"2029-08-16"},6.6741400000000003E-3,null,"2029-08-16",4.3384299999999999E-3,5.4396999999999996E-3,5.4449700000000004E-3,5.2762199999999999E-3,6.6741400000000003E-3]
[{"$f":"+Flujos!A83","v":"2029-09-16"},6.6208899999999999E-3,null,"2029-09-16",5.9988699999999999E-3,5.3649099999999996E-3,5.3186300000000004E-3,5.1701899999999999E-3,6.6208899999999999E-3]
[{"$f":"+Flujos!A84","v":"2029-10-16"},6.5896799999999997E-3,null,"2029-10-16",5.3382600000000001E-3,5.3334699999999999E-3,5.1953700000000004E-3,5.0478299999999997E-3,6.5896799999999997E-3]
[{"$f":"+Flujos!A85","v":"2029-11-16"},6.5582799999999997E-3,null,"2029-11-16",7.9212299999999996E-3,5.32614E-3,5.07743E-3,4.9464399999999999E-3,6.5582799999999997E-3]
[{"$f":"+Flujos!A86","v":"2029-12-16"},5.4421900000000004E-3,null,"2029-12-16",6.2428300000000004E-3,5.0582999999999999E-3,4.6690999999999998E-3,4.8460600000000001E-3,5.4421900000000004E-3]
[{"$f":"+Flujos!A87","v":"2030-01-16"},6.4758999999999997E-3,null,"2030-01-16",4.6053999999999999E-3,5.1088799999999997E-3,4.8381400000000003E-3,4.75816E-3,6.4758999999999997E-3]
[{"$f":"+Flujos!A88","v":"2030-02-16"},6.4227700000000004E-3,null,"2030-02-16",5.8949900000000001E-3,5.0838100000000002E-3,4.7281700000000003E-3,4.6666399999999997E-3,6.4227700000000004E-3]
[{"$f":"+Flujos!A89","v":"2030-03-16"},6.3734799999999999E-3,null,"2030-03-16",6.4675699999999997E-3,4.9920800000000003E-3,4.6192300000000002E-3,4.5712499999999998E-3,6.3734799999999999E-3]
[{"$f":"+Flujos!A90","v":"2030-04-16"},6.2885700000000003E-3,null,"2030-04-16",5.8810900000000003E-3,4.91399E-3,4.5138899999999996E-3,4.4791400000000004E-3,6.2885700000000003E-3]
[{"$f":"+Flujos!A91","v":"2030-05-16"},6.2375599999999996E-3,null,"2030-05-16",4.9652300000000002E-3,4.8619099999999997E-3,4.4065900000000002E-3,4.3788899999999999E-3,6.2375599999999996E-3]
[{"$f":"+Flujos!A92","v":"2030-06-16"},6.1893900000000003E-3,null,"2030-06-16",4.9109799999999997E-3,4.8284499999999998E-3,4.3083599999999998E-3,4.2854599999999996E-3,6.1893900000000003E-3]
[{"$f":"+Flujos!A93","v":"2030-07-16"},6.14899E-3,null,"2030-07-16",4.9163999999999996E-3,4.7739799999999997E-3,4.2103899999999996E-3,4.2140299999999997E-3,6.14899E-3]
[{"$f":"+Flujos!A94","v":"2030-08-16"},6.1029600000000002E-3,null,"2030-08-16",4.8988199999999999E-3,4.6636799999999999E-3,4.1163399999999996E-3,4.1327100000000004E-3,6.1029600000000002E-3]
[{"$f":"+Flujos!A95","v":"2030-09-16"},6.0347300000000003E-3,null,"2030-09-16",4.7912400000000004E-3,4.6378299999999999E-3,4.0209299999999998E-3,4.0488299999999998E-3,6.0347300000000003E-3]
[{"$f":"+Flujos!A96","v":"2030-10-16"},5.9394799999999996E-3,null,"2030-10-16",4.7164299999999998E-3,4.5610800000000003E-3,3.9283E-3,3.9671100000000003E-3,5.9394799999999996E-3]
[{"$f":"+Flujos!A97","v":"2030-11-16"},5.8843100000000002E-3,null,"2030-11-16",4.6778100000000001E-3,4.5074499999999997E-3,3.8319500000000002E-3,3.89478E-3,5.8843100000000002E-3]
[{"$f":"+Flujos!A98","v":"2030-12-16"},4.7071300000000003E-3,null,"2030-12-16",4.3491299999999997E-3,4.2893000000000002E-3,3.4372999999999999E-3,3.8225899999999998E-3,4.7071300000000003E-3]
[{"$f":"+Flujos!A99","v":"2031-01-16"},{"$f":"+VLOOKUP(A99,$D$2:$I$182,MATCH($B$2,$D$2:$I$2,0),FALSE)","v":5.6815700000000004E-3},null,"2031-01-16",3.9029400000000001E-3,4.3834700000000004E-3,3.65833E-3,3.75546E-3,5.6815700000000004E-3]
[{"$f":"+Flujos!A100","v":"2031-02-16"},5.5966499999999999E-3,null,"2031-02-16",0,4.3058100000000002E-3,3.57457E-3,3.6893999999999998E-3,5.5966499999999999E-3]
[{"$f":"+Flujos!A101","v":"2031-03-16"},5.54844E-3,null,"2031-03-16",0,4.2415500000000002E-3,3.4980499999999999E-3,3.6281799999999999E-3,5.54844E-3]
[{"$f":"+Flujos!A102","v":"2031-04-16"},5.4979399999999998E-3,null,"2031-04-16",0,4.1860500000000002E-3,3.4188199999999999E-3,3.5657100000000001E-3,5.4979399999999998E-3]
[{"$f":"+Flujos!A103","v":"2031-05-16"},5.4505700000000001E-3,null,"2031-05-16",0,4.1174499999999999E-3,3.3451000000000002E-3,3.5058400000000001E-3,5.4505700000000001E-3]
[{"$f":"+Flujos!A104","v":"2031-06-16"},5.4137500000000002E-3,null,"2031-06-16",0,4.0236200000000003E-3,3.2735099999999999E-3,3.4450800000000001E-3,5.4137500000000002E-3]
[{"$f":"+Flujos!A105","v":"2031-07-16"},5.3798300000000004E-3,null,"2031-07-16",0,3.9315799999999996E-3,3.2026699999999999E-3,3.3832699999999999E-3,5.3798300000000004E-3]
[{"$f":"+Flujos!A106","v":"2031-08-16"},5.3444800000000004E-3,null,"2031-08-16",0,3.86937E-3,3.13292E-3,3.3120100000000002E-3,5.3444800000000004E-3]
[{"$f":"+Flujos!A107","v":"2031-09-16"},5.3076699999999996E-3,null,"2031-09-16",0,3.79598E-3,3.06289E-3,3.2357599999999999E-3,5.3076699999999996E-3]
[{"$f":"+Flujos!A108","v":"2031-10-16"},5.2732200000000003E-3,null,"2031-10-16",0,3.7101600000000001E-3,1.1565E-3,3.1641400000000002E-3,5.2732200000000003E-3]
[{"$f":"+Flujos!A109","v":"2031-11-16"},5.2463900000000001E-3,null,"2031-11-16",0,3.6456000000000001E-3,8.6936000000000001E-4,3.0899299999999998E-3,5.2463900000000001E-3]
[{"$f":"+Flujos!A110","v":"2031-12-16"},4.0574000000000001E-3,null,"2031-12-16",0,3.42217E-3,0,3.0242200000000002E-3,4.0574000000000001E-3]
[{"$f":"+Flujos!A111","v":"2032-01-16"},5.1535799999999996E-3,null,"2032-01-16",0,3.49731E-3,0,2.9619400000000001E-3,5.1535799999999996E-3]
[{"$f":"+Flujos!A112","v":"2032-02-16"},5.0872699999999996E-3,null,"2032-02-16",0,3.4053099999999999E-3,0,2.8898399999999999E-3,5.0872699999999996E-3]
[{"$f":"+Flujos!A113","v":"2032-03-16"},5.0219100000000001E-3,null,"2032-03-16",0,3.3140299999999999E-3,0,2.8285599999999999E-3,5.0219100000000001E-3]
[{"$f":"+Flujos!A114","v":"2032-04-16"},3.9646000000000004E-3,null,"2032-04-16",0,3.2245099999999999E-3,0,3.3940099999999998E-3,3.9646000000000004E-3]
[{"$f":"+Flujos!A115","v":"2032-05-16"},3.49125E-3,null,"2032-05-16",0,3.1368300000000002E-3,0,3.18988E-3,3.49125E-3]
[{"$f":"+Flujos!A116","v":"2032-06-16"},3.4118400000000002E-3,null,"2032-06-16",0,3.0599799999999999E-3,0,3.0714700000000002E-3,3.4118400000000002E-3]
[{"$f":"+Flujos!A117","v":"2032-07-16"},3.3483599999999999E-3,null,"2032-07-16",0,2.9583600000000002E-3,0,2.9714799999999999E-3,3.3483599999999999E-3]
[{"$f":"+Flujos!A118","v":"2032-08-16"},3.28999E-3,null,"2032-08-16",0,2.8668000000000001E-3,0,2.8518900000000002E-3,3.28999E-3]
[{"$f":"+Flujos!A119","v":"2032-09-16"},3.2190000000000001E-3,null,"2032-09-16",0,2.78547E-3,0,2.7632400000000001E-3,3.2190000000000001E-3]
[{"$f":"+Flujos!A120","v":"2032-10-16"},3.1506500000000001E-3,null,"2032-10-16",0,2.7168800000000001E-3,0,2.71784E-3,3.1506500000000001E-3]
[{"$f":"+Flujos!A121","v":"2032-11-16"},2.9396700000000001E-3,null,"2032-11-16",0,2.6548700000000001E-3,0,2.6781399999999999E-3,2.9396700000000001E-3]
[{"$f":"+Flujos!A122","v":"2032-12-16"},2.9396700000000001E-3,null,"2032-12-16",0,9.9429199999999992E-3,0,2.1459600000000001E-3,2.9396700000000001E-3]
[{"$f":"+Flujos!A123","v":"2033-01-16"},2.9396700000000001E-3,null,"2033-01-16",0,0,0,0,2.9396700000000001E-3]
[{"$f":"+Flujos!A124","v":"2033-02-16"},2.9396700000000001E-3,null,"2033-02-16",0,0,0,0,2.9396700000000001E-3]
[{"$f":"+Flujos!A125","v":"2033-03-16"},2.9396700000000001E-3,null,"2033-03-16",0,0,0,0,2.9396700000000001E-3]
[{"$f":"+Flujos!A126","v":"2033-04-16"},2.9396700000000001E-3,null,"2033-04-16",0,0,0,0,2.9396700000000001E-3]
[{"$f":"+Flujos!A127","v":"2033-05-16"},2.9396700000000001E-3,null,"2033-05-16",0,0,0,0,2.9396700000000001E-3]
[{"$f":"+Flujos!A128","v":"2033-06-16"},2.74348E-3,null,"2033-06-16",0,0,0,0,2.74348E-3]
[{"$f":"+Flujos!A129","v":"2033-07-16"},2.74348E-3,null,"2033-07-16",0,0,0,0,2.74348E-3]
[{"$f":"+Flujos!A130","v":"2033-08-16"},2.74348E-3,null,"2033-08-16",0,0,0,0,2.74348E-3]
[{"$f":"+Flujos!A131","v":"2033-09-16"},{"$f":"+VLOOKUP(A131,$D$2:$I$182,MATCH($B$2,$D$2:$I$2,0),FALSE)","v":2.74348E-3},null,"2033-09-16",0,0,0,0,2.74348E-3]
[{"$f":"+Flujos!A132","v":"2033-10-16"},2.74348E-3,null,{"$f":"+A132","v":"2033-10-16"},0,0,0,0,2.74348E-3]
[{"$f":"+Flujos!A133","v":"2033-11-16"},2.74348E-3,null,"2033-11-16",0,0,0,0,2.74348E-3]
[{"$f":"+Flujos!A134","v":"2033-12-16"},2.74347E-3,null,"2033-12-16",0,0,0,0,2.74347E-3]
[{"$f":"+Flujos!A135","v":"2034-01-16"},0,null,"2034-01-16",0,0,0,0,0]
[{"$f":"+Flujos!A136","v":"2034-02-16"},0,null,"2034-02-16",0,0,0,0,0]
[{"$f":"+Flujos!A137","v":"2034-03-16"},0,null,"2034-03-16",0,0,0,0,0]
[{"$f":"+Flujos!A138","v":"2034-04-16"},0,null,"2034-04-16",0,0,0,0,0]
[{"$f":"+Flujos!A139","v":"2034-05-16"},0,null,"2034-05-16",0,0,0,0,0]
[{"$f":"+Flujos!A140","v":"2034-06-16"},0,null,"2034-06-16",0,0,0,0,0]
[{"$f":"+Flujos!A141","v":"2034-07-16"},0,null,"2034-07-16",0,0,0,0,0]
[{"$f":"+Flujos!A142","v":"2034-08-16"},0,null,"2034-08-16",0,0,0,0,0]
[{"$f":"+Flujos!A143","v":"2034-09-16"},0,null,"2034-09-16",0,0,0,0,0]
[{"$f":"+Flujos!A144","v":"2034-10-16"},0,null,"2034-10-16",0,0,0,0,0]
[{"$f":"+Flujos!A145","v":"2034-11-16"},0,null,"2034-11-16",0,0,0,0,0]
[{"$f":"+Flujos!A146","v":"2034-12-16"},0,null,"2034-12-16",0,0,0,0,0]
[{"$f":"+Flujos!A147","v":"2035-01-16"},0,null,"2035-01-16",0,0,0,0,0]
[{"$f":"+Flujos!A148","v":"2035-02-16"},0,null,"2035-02-16",0,0,0,0,0]
[{"$f":"+Flujos!A149","v":"2035-03-16"},0,null,"2035-03-16",0,0,0,0,0]
[{"$f":"+Flujos!A150","v":"2035-04-16"},0,null,"2035-04-16",0,0,0,0,0]
[{"$f":"+Flujos!A151","v":"2035-05-16"},0,null,"2035-05-16",0,0,0,0,0]
[{"$f":"+Flujos!A152","v":"2035-06-16"},0,null,"2035-06-16",0,0,0,0,0]
[{"$f":"+Flujos!A153","v":"2035-07-16"},0,null,"2035-07-16",0,0,0,0,0]
[{"$f":"+Flujos!A154","v":"2035-08-16"},0,null,"2035-08-16",0,0,0,0,0]
[{"$f":"+Flujos!A155","v":"2035-09-16"},0,null,"2035-09-16",0,0,0,0,0]
[{"$f":"+Flujos!A156","v":"2035-10-16"},0,null,"2035-10-16",0,0,0,0,0]
[{"$f":"+Flujos!A157","v":"2035-11-16"},0,null,"2035-11-16",0,0,0,0,0]
[{"$f":"+Flujos!A158","v":"2035-12-16"},0,null,"2035-12-16",0,0,0,0,0]
[{"$f":"+Flujos!A159","v":"2036-01-16"},0,null,"2036-01-16",0,0,0,0,0]
[{"$f":"+Flujos!A160","v":"2036-02-16"},0,null,"2036-02-16",0,0,0,0,0]
[{"$f":"+Flujos!A161","v":"2036-03-16"},0,null,"2036-03-16",0,0,0,0,0]
[{"$f":"+Flujos!A162","v":"2036-04-16"},0,null,"2036-04-16",0,0,0,0,0]
[{"$f":"+Flujos!A163","v":"2036-05-16"},{"$f":"+VLOOKUP(A163,$D$2:$I$182,MATCH($B$2,$D$2:$I$2,0),FALSE)","v":0},null,"2036-05-16",0,0,0,0,0]
[{"$f":"+Flujos!A164","v":"2036-06-16"},0,null,"2036-06-16",0,0,0,0,0]
[{"$f":"+Flujos!A165","v":"2036-07-16"},0,null,"2036-07-16",0,0,0,0,0]
[{"$f":"+Flujos!A166","v":"2036-08-16"},0,null,"2036-08-16",0,0,0,0,0]
[{"$f":"+Flujos!A167","v":"2036-09-16"},0,null,"2036-09-16",0,0,0,0,0]
[{"$f":"+Flujos!A168","v":"2036-10-16"},0,null,"2036-10-16",0,0,0,0,0]
[{"$f":"+Flujos!A169","v":"2036-11-16"},0,null,"2036-11-16",0,0,0,0,0]
[{"$f":"+Flujos!A170","v":"2036-12-16"},0,null,"2036-12-16",0,0,0,0,0]
[{"$f":"+Flujos!A171","v":"2037-01-16"},0,null,"2037-01-16",0,0,0,0,0]
[{"$f":"+Flujos!A172","v":"2037-02-16"},0,null,"2037-02-16",0,0,0,0,0]
[{"$f":"+Flujos!A173","v":"2037-03-16"},0,null,"2037-03-16",0,0,0,0,0]
[{"$f":"+Flujos!A174","v":"2037-04-16"},0,null,"2037-04-16",0,0,0,0,0]
[{"$f":"+Flujos!A175","v":"2037-05-16"},0,null,"2037-05-16",0,0,0,0,0]
[{"$f":"+Flujos!A176","v":"2037-06-16"},0,null,"2037-06-16",0,0,0,0,0]
[{"$f":"+Flujos!A177","v":"2037-07-16"},0,null,"2037-07-16",0,0,0,0,0]
[{"$f":"+Flujos!A178","v":"2037-08-16"},0,null,"2037-08-16",0,0,0,0,0]
[{"$f":"+Flujos!A179","v":"2037-09-16"},0,null,"2037-09-16",0,0,0,0,0]
[{"$f":"+Flujos!A180","v":"2037-10-16"},0,null,"2037-10-16",0,0,0,0,0]
[{"$f":"+Flujos!A181","v":"2037-11-16"},0,null,"2037-11-16",0,0,0,0,0]
[{"$f":"+Flujos!A182","v":"2037-12-16"},0,null,"2037-12-16",0,0,0,0,0]
[null,{"$f":"SUM(B3:B182)","v":0.99999999999999967},null,null,{"$f":"SUM(E3:E182)","v":1.0000000000000002},{"$f":"SUM(F3:F182)","v":0.99999999999999956},{"$f":"SUM(G3:G182)","v":1.0000000000000004},{"$f":"SUM(H3:H182)","v":1},{"$f":"SUM(I3:I182)","v":0.99999999999999967}]
[null,{"$f":"1-B183","v":0},null,null,{"$f":"1-E183","v":0},{"$f":"1-F183","v":0},{"$f":"1-G183","v":0},{"$f":"1-H183","v":0},{"$f":"1-I183","v":0}]

{"sheet":"Tablas","index":7,"n_rows":181,"n_cols":5,"rows_kept":181,"cut":false,"hidden":true,"merged":[]}
["FECHA",{"$f":"+CALCULADORA!C11","v":"TIPS UVR U-6 A 2037"},"Valoración"]
[{"$f":"+'Tabla de Amortizacion'!A3","v":"2023-01-16"},{"$f":"+ROUND(C2,8)","v":1.013202E-2},{"$f":"+VLOOKUP(A2,'Tabla de Amortizacion'!$D$2:$I$182,MATCH(Tablas!$B$1,'Tabla de Amortizacion'!$D$2:$I$2,0))","v":1.013202E-2},null,{"$f":"IF(CALCULADORA!#REF!=\"Contractual\",ROUND('Tabla de Amortizacion'!C3,8),IF(CALCULADORA!#REF!=\"6% (Medio)\",ROUND('Tabla de Amortizacion'!F3,8),IF(CALCULADORA!#REF!=\"10% (Medio Alto)\",ROUND('Tabla de Amortizacion'!H3,8),IF(CALCULADORA!#REF!=\"14% (Alto)\",ROUND('Tabla de Amortizacion'!#REF!,8),IF(CALCULADORA!#REF!=20%,ROUND('Tabla de Amortizacion'!#REF!,8),ROUND('Tabla de Amortizacion'!K3,8))))))","v":{"$error":"#REF!"}}]
[{"$f":"EDATE(A2,1)","v":"2023-02-16"},{"$f":"+ROUND(C3,8)","v":6.7386900000000003E-3},{"$f":"+VLOOKUP(A3,'Tabla de Amortizacion'!$D$2:$I$182,MATCH(Tablas!$B$1,'Tabla de Amortizacion'!$D$2:$I$2,0))","v":6.7386900000000003E-3},null,{"$f":"IF(CALCULADORA!#REF!=\"Contractual\",ROUND('Tabla de Amortizacion'!C4,8),IF(CALCULADORA!#REF!=\"6% (Medio)\",ROUND('Tabla de Amortizacion'!F4,8),IF(CALCULADORA!#REF!=\"10% (Medio Alto)\",ROUND('Tabla de Amortizacion'!H4,8),IF(CALCULADORA!#REF!=\"14% (Alto)\",ROUND('Tabla de Amortizacion'!#REF!,8),IF(CALCULADORA!#REF!=20%,ROUND('Tabla de Amortizacion'!#REF!,8),ROUND('Tabla de Amortizacion'!K4,8))))))","v":{"$error":"#REF!"}}]
["2023-03-16",1.048377E-2,{"$f":"+VLOOKUP(A4,'Tabla de Amortizacion'!$D$2:$I$182,MATCH(Tablas!$B$1,'Tabla de Amortizacion'!$D$2:$I$2,0))","v":1.048377E-2},null,{"$f":"IF(CALCULADORA!#REF!=\"Contractual\",ROUND('Tabla de Amortizacion'!C5,8),IF(CALCULADORA!#REF!=\"6% (Medio)\",ROUND('Tabla de Amortizacion'!F5,8),IF(CALCULADORA!#REF!=\"10% (Medio Alto)\",ROUND('Tabla de Amortizacion'!H5,8),IF(CALCULADORA!#REF!=\"14% (Alto)\",ROUND('Tabla de Amortizacion'!#REF!,8),IF(CALCULADORA!#REF!=20%,ROUND('Tabla de Amortizacion'!#REF!,8),ROUND('Tabla de Amortizacion'!K5,8))))))","v":{"$error":"#REF!"}}]
["2023-04-16",5.95883E-3,{"$f":"+VLOOKUP(A5,'Tabla de Amortizacion'!$D$2:$I$182,MATCH(Tablas!$B$1,'Tabla de Amortizacion'!$D$2:$I$2,0))","v":5.95883E-3},null,{"$f":"IF(CALCULADORA!#REF!=\"Contractual\",ROUND('Tabla de Amortizacion'!C6,8),IF(CALCULADORA!#REF!=\"6% (Medio)\",ROUND('Tabla de Amortizacion'!F6,8),IF(CALCULADORA!#REF!=\"10% (Medio Alto)\",ROUND('Tabla de Amortizacion'!H6,8),IF(CALCULADORA!#REF!=\"14% (Alto)\",ROUND('Tabla de Amortizacion'!#REF!,8),IF(CALCULADORA!#REF!=20%,ROUND('Tabla de Amortizacion'!#REF!,8),ROUND('Tabla de Amortizacion'!K6,8))))))","v":{"$error":"#REF!"}}]
["2023-05-16",8.6504000000000008E-3,{"$f":"+VLOOKUP(A6,'Tabla de Amortizacion'!$D$2:$I$182,MATCH(Tablas!$B$1,'Tabla de Amortizacion'!$D$2:$I$2,0))","v":8.6504000000000008E-3},null,{"$f":"IF(CALCULADORA!#REF!=\"Contractual\",ROUND('Tabla de Amortizacion'!C7,8),IF(CALCULADORA!#REF!=\"6% (Medio)\",ROUND('Tabla de Amortizacion'!F7,8),IF(CALCULADORA!#REF!=\"10% (Medio Alto)\",ROUND('Tabla de Amortizacion'!H7,8),IF(CALCULADORA!#REF!=\"14% (Alto)\",ROUND('Tabla de Amortizacion'!#REF!,8),IF(CALCULADORA!#REF!=20%,ROUND('Tabla de Amortizacion'!#REF!,8),ROUND('Tabla de Amortizacion'!K7,8))))))","v":{"$error":"#REF!"}}]
["2023-06-16",1.1264980000000001E-2,{"$f":"+VLOOKUP(A7,'Tabla de Amortizacion'!$D$2:$I$182,MATCH(Tablas!$B$1,'Tabla de Amortizacion'!$D$2:$I$2,0))","v":1.1264980000000001E-2},null,{"$f":"IF(CALCULADORA!#REF!=\"Contractual\",ROUND('Tabla de Amortizacion'!C8,8),IF(CALCULADORA!#REF!=\"6% (Medio)\",ROUND('Tabla de Amortizacion'!F8,8),IF(CALCULADORA!#REF!=\"10% (Medio Alto)\",ROUND('Tabla de Amortizacion'!H8,8),IF(CALCULADORA!#REF!=\"14% (Alto)\",ROUND('Tabla de Amortizacion'!#REF!,8),IF(CALCULADORA!#REF!=20%,ROUND('Tabla de Amortizacion'!#REF!,8),ROUND('Tabla de Amortizacion'!K8,8))))))","v":{"$error":"#REF!"}}]
["2023-07-16",8.9572300000000001E-3,{"$f":"+VLOOKUP(A8,'Tabla de Amortizacion'!$D$2:$I$182,MATCH(Tablas!$B$1,'Tabla de Amortizacion'!$D$2:$I$2,0))","v":8.9572300000000001E-3},null,{"$f":"IF(CALCULADORA!#REF!=\"Contractual\",ROUND('Tabla de Amortizacion'!C9,8),IF(CALCULADORA!#REF!=\"6% (Medio)\",ROUND('Tabla de Amortizacion'!F9,8),IF(CALCULADORA!#REF!=\"10% (Medio Alto)\",ROUND('Tabla de Amortizacion'!H9,8),IF(CALCULADORA!#REF!=\"14% (Alto)\",ROUND('Tabla de Amortizacion'!#REF!,8),IF(CALCULADORA!#REF!=20%,ROUND('Tabla de Amortizacion'!#REF!,8),ROUND('Tabla de Amortizacion'!K9,8))))))","v":{"$error":"#REF!"}}]
["2023-08-16",7.1490199999999999E-3,{"$f":"+VLOOKUP(A9,'Tabla de Amortizacion'!$D$2:$I$182,MATCH(Tablas!$B$1,'Tabla de Amortizacion'!$D$2:$I$2,0))","v":7.1490199999999999E-3},null,{"$f":"IF(CALCULADORA!#REF!=\"Contractual\",ROUND('Tabla de Amortizacion'!C10,8),IF(CALCULADORA!#REF!=\"6% (Medio)\",ROUND('Tabla de Amortizacion'!F10,8),IF(CALCULADORA!#REF!=\"10% (Medio Alto)\",ROUND('Tabla de Amortizacion'!H10,8),IF(CALCULADORA!#REF!=\"14% (Alto)\",ROUND('Tabla de Amortizacion'!#REF!,8),IF(CALCULADORA!#REF!=20%,ROUND('Tabla de Amortizacion'!#REF!,8),ROUND('Tabla de Amortizacion'!K10,8))))))","v":{"$error":"#REF!"}}]
["2023-09-16",8.6948200000000007E-3,{"$f":"+VLOOKUP(A10,'Tabla de Amortizacion'!$D$2:$I$182,MATCH(Tablas!$B$1,'Tabla de Amortizacion'!$D$2:$I$2,0))","v":8.6948200000000007E-3},null,{"$f":"IF(CALCULADORA!#REF!=\"Contractual\",ROUND('Tabla de Amortizacion'!C11,8),IF(CALCULADORA!#REF!=\"6% (Medio)\",ROUND('Tabla de Amortizacion'!F11,8),IF(CALCULADORA!#REF!=\"10% (Medio Alto)\",ROUND('Tabla de Amortizacion'!H11,8),IF(CALCULADORA!#REF!=\"14% (Alto)\",ROUND('Tabla de Amortizacion'!#REF!,8),IF(CALCULADORA!#REF!=20%,ROUND('Tabla de Amortizacion'!#REF!,8),ROUND('Tabla de Amortizacion'!K11,8))))))","v":{"$error":"#REF!"}}]
["2023-10-16",4.2568500000000004E-3,{"$f":"+VLOOKUP(A11,'Tabla de Amortizacion'!$D$2:$I$182,MATCH(Tablas!$B$1,'Tabla de Amortizacion'!$D$2:$I$2,0))","v":4.2568500000000004E-3},null,{"$f":"IF(CALCULADORA!#REF!=\"Contractual\",ROUND('Tabla de Amortizacion'!C12,8),IF(CALCULADORA!#REF!=\"6% (Medio)\",ROUND('Tabla de Amortizacion'!F12,8),IF(CALCULADORA!#REF!=\"10% (Medio Alto)\",ROUND('Tabla de Amortizacion'!H12,8),IF(CALCULADORA!#REF!=\"14% (Alto)\",ROUND('Tabla de Amortizacion'!#REF!,8),IF(CALCULADORA!#REF!=20%,ROUND('Tabla de Amortizacion'!#REF!,8),ROUND('Tabla de Amortizacion'!K12,8))))))","v":{"$error":"#REF!"}}]
["2023-11-16",1.0520750000000001E-2,{"$f":"+VLOOKUP(A12,'Tabla de Amortizacion'!$D$2:$I$182,MATCH(Tablas!$B$1,'Tabla de Amortizacion'!$D$2:$I$2,0))","v":1.0520750000000001E-2},null,{"$f":"IF(CALCULADORA!#REF!=\"Contractual\",ROUND('Tabla de Amortizacion'!C13,8),IF(CALCULADORA!#REF!=\"6% (Medio)\",ROUND('Tabla de Amortizacion'!F13,8),IF(CALCULADORA!#REF!=\"10% (Medio Alto)\",ROUND('Tabla de Amortizacion'!H13,8),IF(CALCULADORA!#REF!=\"14% (Alto)\",ROUND('Tabla de Amortizacion'!#REF!,8),IF(CALCULADORA!#REF!=20%,ROUND('Tabla de Amortizacion'!#REF!,8),ROUND('Tabla de Amortizacion'!K13,8))))))","v":{"$error":"#REF!"}}]
["2023-12-16",7.7276000000000003E-3,{"$f":"+VLOOKUP(A13,'Tabla de Amortizacion'!$D$2:$I$182,MATCH(Tablas!$B$1,'Tabla de Amortizacion'!$D$2:$I$2,0))","v":7.7276000000000003E-3},null,{"$f":"IF(CALCULADORA!#REF!=\"Contractual\",ROUND('Tabla de Amortizacion'!C14,8),IF(CALCULADORA!#REF!=\"6% (Medio)\",ROUND('Tabla de Amortizacion'!F14,8),IF(CALCULADORA!#REF!=\"10% (Medio Alto)\",ROUND('Tabla de Amortizacion'!H14,8),IF(CALCULADORA!#REF!=\"14% (Alto)\",ROUND('Tabla de Amortizacion'!#REF!,8),IF(CALCULADORA!#REF!=20%,ROUND('Tabla de Amortizacion'!#REF!,8),ROUND('Tabla de Amortizacion'!K14,8))))))","v":{"$error":"#REF!"}}]
["2024-01-16",1.009764E-2,{"$f":"+VLOOKUP(A14,'Tabla de Amortizacion'!$D$2:$I$182,MATCH(Tablas!$B$1,'Tabla de Amortizacion'!$D$2:$I$2,0))","v":1.009764E-2},null,{"$f":"IF(CALCULADORA!#REF!=\"Contractual\",ROUND('Tabla de Amortizacion'!C15,8),IF(CALCULADORA!#REF!=\"6% (Medio)\",ROUND('Tabla de Amortizacion'!F15,8),IF(CALCULADORA!#REF!=\"10% (Medio Alto)\",ROUND('Tabla de Amortizacion'!H15,8),IF(CALCULADORA!#REF!=\"14% (Alto)\",ROUND('Tabla de Amortizacion'!#REF!,8),IF(CALCULADORA!#REF!=20%,ROUND('Tabla de Amortizacion'!#REF!,8),ROUND('Tabla de Amortizacion'!K15,8))))))","v":{"$error":"#REF!"}}]
["2024-02-16",1.548427E-2,{"$f":"+VLOOKUP(A15,'Tabla de Amortizacion'!$D$2:$I$182,MATCH(Tablas!$B$1,'Tabla de Amortizacion'!$D$2:$I$2,0))","v":1.548427E-2},null,{"$f":"IF(CALCULADORA!#REF!=\"Contractual\",ROUND('Tabla de Amortizacion'!C16,8),IF(CALCULADORA!#REF!=\"6% (Medio)\",ROUND('Tabla de Amortizacion'!F16,8),IF(CALCULADORA!#REF!=\"10% (Medio Alto)\",ROUND('Tabla de Amortizacion'!H16,8),IF(CALCULADORA!#REF!=\"14% (Alto)\",ROUND('Tabla de Amortizacion'!#REF!,8),IF(CALCULADORA!#REF!=20%,ROUND('Tabla de Amortizacion'!#REF!,8),ROUND('Tabla de Amortizacion'!K16,8))))))","v":{"$error":"#REF!"}}]
["2024-03-16",9.2886300000000008E-3,{"$f":"+VLOOKUP(A16,'Tabla de Amortizacion'!$D$2:$I$182,MATCH(Tablas!$B$1,'Tabla de Amortizacion'!$D$2:$I$2,0))","v":9.2886300000000008E-3},null,{"$f":"IF(CALCULADORA!#REF!=\"Contractual\",ROUND('Tabla de Amortizacion'!C17,8),IF(CALCULADORA!#REF!=\"6% (Medio)\",ROUND('Tabla de Amortizacion'!F17,8),IF(CALCULADORA!#REF!=\"10% (Medio Alto)\",ROUND('Tabla de Amortizacion'!H17,8),IF(CALCULADORA!#REF!=\"14% (Alto)\",ROUND('Tabla de Amortizacion'!#REF!,8),IF(CALCULADORA!#REF!=20%,ROUND('Tabla de Amortizacion'!#REF!,8),ROUND('Tabla de Amortizacion'!K17,8))))))","v":{"$error":"#REF!"}}]
["2024-04-16",7.5426800000000004E-3,{"$f":"+VLOOKUP(A17,'Tabla de Amortizacion'!$D$2:$I$182,MATCH(Tablas!$B$1,'Tabla de Amortizacion'!$D$2:$I$2,0))","v":7.5426800000000004E-3},null,{"$f":"IF(CALCULADORA!#REF!=\"Contractual\",ROUND('Tabla de Amortizacion'!C18,8),IF(CALCULADORA!#REF!=\"6% (Medio)\",ROUND('Tabla de Amortizacion'!F18,8),IF(CALCULADORA!#REF!=\"10% (Medio Alto)\",ROUND('Tabla de Amortizacion'!H18,8),IF(CALCULADORA!#REF!=\"14% (Alto)\",ROUND('Tabla de Amortizacion'!#REF!,8),IF(CALCULADORA!#REF!=20%,ROUND('Tabla de Amortizacion'!#REF!,8),ROUND('Tabla de Amortizacion'!K18,8))))))","v":{"$error":"#REF!"}}]
["2024-05-16",1.463474E-2,{"$f":"+VLOOKUP(A18,'Tabla de Amortizacion'!$D$2:$I$182,MATCH(Tablas!$B$1,'Tabla de Amortizacion'!$D$2:$I$2,0))","v":1.463474E-2},null,{"$f":"IF(CALCULADORA!#REF!=\"Contractual\",ROUND('Tabla de Amortizacion'!C19,8),IF(CALCULADORA!#REF!=\"6% (Medio)\",ROUND('Tabla de Amortizacion'!F19,8),IF(CALCULADORA!#REF!=\"10% (Medio Alto)\",ROUND('Tabla de Amortizacion'!H19,8),IF(CALCULADORA!#REF!=\"14% (Alto)\",ROUND('Tabla de Amortizacion'!#REF!,8),IF(CALCULADORA!#REF!=20%,ROUND('Tabla de Amortizacion'!#REF!,8),ROUND('Tabla de Amortizacion'!K19,8))))))","v":{"$error":"#REF!"}}]
["2024-06-16",1.2428130000000001E-2,{"$f":"+VLOOKUP(A19,'Tabla de Amortizacion'!$D$2:$I$182,MATCH(Tablas!$B$1,'Tabla de Amortizacion'!$D$2:$I$2,0))","v":1.2428130000000001E-2},null,{"$f":"IF(CALCULADORA!#REF!=\"Contractual\",ROUND('Tabla de Amortizacion'!C20,8),IF(CALCULADORA!#REF!=\"6% (Medio)\",ROUND('Tabla de Amortizacion'!F20,8),IF(CALCULADORA!#REF!=\"10% (Medio Alto)\",ROUND('Tabla de Amortizacion'!H20,8),IF(CALCULADORA!#REF!=\"14% (Alto)\",ROUND('Tabla de Amortizacion'!#REF!,8),IF(CALCULADORA!#REF!=20%,ROUND('Tabla de Amortizacion'!#REF!,8),ROUND('Tabla de Amortizacion'!K20,8))))))","v":{"$error":"#REF!"}}]
["2024-07-16",9.6018200000000005E-3,{"$f":"+VLOOKUP(A20,'Tabla de Amortizacion'!$D$2:$I$182,MATCH(Tablas!$B$1,'Tabla de Amortizacion'!$D$2:$I$2,0))","v":9.6018200000000005E-3},null,{"$f":"IF(CALCULADORA!#REF!=\"Contractual\",ROUND('Tabla de Amortizacion'!C21,8),IF(CALCULADORA!#REF!=\"6% (Medio)\",ROUND('Tabla de Amortizacion'!F21,8),IF(CALCULADORA!#REF!=\"10% (Medio Alto)\",ROUND('Tabla de Amortizacion'!H21,8),IF(CALCULADORA!#REF!=\"14% (Alto)\",ROUND('Tabla de Amortizacion'!#REF!,8),IF(CALCULADORA!#REF!=20%,ROUND('Tabla de Amortizacion'!#REF!,8),ROUND('Tabla de Amortizacion'!K21,8))))))","v":{"$error":"#REF!"}}]
["2024-08-16",7.3403499999999998E-3,{"$f":"+VLOOKUP(A21,'Tabla de Amortizacion'!$D$2:$I$182,MATCH(Tablas!$B$1,'Tabla de Amortizacion'!$D$2:$I$2,0))","v":7.3403499999999998E-3},null,{"$f":"IF(CALCULADORA!#REF!=\"Contractual\",ROUND('Tabla de Amortizacion'!C22,8),IF(CALCULADORA!#REF!=\"6% (Medio)\",ROUND('Tabla de Amortizacion'!F22,8),IF(CALCULADORA!#REF!=\"10% (Medio Alto)\",ROUND('Tabla de Amortizacion'!H22,8),IF(CALCULADORA!#REF!=\"14% (Alto)\",ROUND('Tabla de Amortizacion'!#REF!,8),IF(CALCULADORA!#REF!=20%,ROUND('Tabla de Amortizacion'!#REF!,8),ROUND('Tabla de Amortizacion'!K22,8))))))","v":{"$error":"#REF!"}}]
["2024-09-16",1.5514790000000001E-2,{"$f":"+VLOOKUP(A22,'Tabla de Amortizacion'!$D$2:$I$182,MATCH(Tablas!$B$1,'Tabla de Amortizacion'!$D$2:$I$2,0))","v":1.5514790000000001E-2},null,{"$f":"IF(CALCULADORA!#REF!=\"Contractual\",ROUND('Tabla de Amortizacion'!C23,8),IF(CALCULADORA!#REF!=\"6% (Medio)\",ROUND('Tabla de Amortizacion'!F23,8),IF(CALCULADORA!#REF!=\"10% (Medio Alto)\",ROUND('Tabla de Amortizacion'!H23,8),IF(CALCULADORA!#REF!=\"14% (Alto)\",ROUND('Tabla de Amortizacion'!#REF!,8),IF(CALCULADORA!#REF!=20%,ROUND('Tabla de Amortizacion'!#REF!,8),ROUND('Tabla de Amortizacion'!K23,8))))))","v":{"$error":"#REF!"}}]
["2024-10-16",1.5878860000000002E-2,{"$f":"+VLOOKUP(A23,'Tabla de Amortizacion'!$D$2:$I$182,MATCH(Tablas!$B$1,'Tabla de Amortizacion'!$D$2:$I$2,0))","v":1.5878860000000002E-2},null,{"$f":"IF(CALCULADORA!#REF!=\"Contractual\",ROUND('Tabla de Amortizacion'!C24,8),IF(CALCULADORA!#REF!=\"6% (Medio)\",ROUND('Tabla de Amortizacion'!F24,8),IF(CALCULADORA!#REF!=\"10% (Medio Alto)\",ROUND('Tabla de Amortizacion'!H24,8),IF(CALCULADORA!#REF!=\"14% (Alto)\",ROUND('Tabla de Amortizacion'!#REF!,8),IF(CALCULADORA!#REF!=20%,ROUND('Tabla de Amortizacion'!#REF!,8),ROUND('Tabla de Amortizacion'!K24,8))))))","v":{"$error":"#REF!"}}]
["2024-11-16",1.2802610000000001E-2,{"$f":"+VLOOKUP(A24,'Tabla de Amortizacion'!$D$2:$I$182,MATCH(Tablas!$B$1,'Tabla de Amortizacion'!$D$2:$I$2,0))","v":1.2802610000000001E-2},null,{"$f":"IF(CALCULADORA!#REF!=\"Contractual\",ROUND('Tabla de Amortizacion'!C25,8),IF(CALCULADORA!#REF!=\"6% (Medio)\",ROUND('Tabla de Amortizacion'!F25,8),IF(CALCULADORA!#REF!=\"10% (Medio Alto)\",ROUND('Tabla de Amortizacion'!H25,8),IF(CALCULADORA!#REF!=\"14% (Alto)\",ROUND('Tabla de Amortizacion'!#REF!,8),IF(CALCULADORA!#REF!=20%,ROUND('Tabla de Amortizacion'!#REF!,8),ROUND('Tabla de Amortizacion'!K25,8))))))","v":{"$error":"#REF!"}}]
["2024-12-16",1.2297829999999999E-2,{"$f":"+VLOOKUP(A25,'Tabla de Amortizacion'!$D$2:$I$182,MATCH(Tablas!$B$1,'Tabla de Amortizacion'!$D$2:$I$2,0))","v":1.2297829999999999E-2},null,{"$f":"IF(CALCULADORA!#REF!=\"Contractual\",ROUND('Tabla de Amortizacion'!C26,8),IF(CALCULADORA!#REF!=\"6% (Medio)\",ROUND('Tabla de Amortizacion'!F26,8),IF(CALCULADORA!#REF!=\"10% (Medio Alto)\",ROUND('Tabla de Amortizacion'!H26,8),IF(CALCULADORA!#REF!=\"14% (Alto)\",ROUND('Tabla de Amortizacion'!#REF!,8),IF(CALCULADORA!#REF!=20%,ROUND('Tabla de Amortizacion'!#REF!,8),ROUND('Tabla de Amortizacion'!K26,8))))))","v":{"$error":"#REF!"}}]
["2025-01-16",1.399737E-2,{"$f":"+VLOOKUP(A26,'Tabla de Amortizacion'!$D$2:$I$182,MATCH(Tablas!$B$1,'Tabla de Amortizacion'!$D$2:$I$2,0))","v":1.399737E-2},null,{"$f":"IF(CALCULADORA!#REF!=\"Contractual\",ROUND('Tabla de Amortizacion'!C27,8),IF(CALCULADORA!#REF!=\"6% (Medio)\",ROUND('Tabla de Amortizacion'!F27,8),IF(CALCULADORA!#REF!=\"10% (Medio Alto)\",ROUND('Tabla de Amortizacion'!H27,8),IF(CALCULADORA!#REF!=\"14% (Alto)\",ROUND('Tabla de Amortizacion'!#REF!,8),IF(CALCULADORA!#REF!=20%,ROUND('Tabla de Amortizacion'!#REF!,8),ROUND('Tabla de Amortizacion'!K27,8))))))","v":{"$error":"#REF!"}}]
["2025-02-16",1.5820130000000002E-2,{"$f":"+VLOOKUP(A27,'Tabla de Amortizacion'!$D$2:$I$182,MATCH(Tablas!$B$1,'Tabla de Amortizacion'!$D$2:$I$2,0))","v":1.5820130000000002E-2},null,{"$f":"IF(CALCULADORA!#REF!=\"Contractual\",ROUND('Tabla de Amortizacion'!C28,8),IF(CALCULADORA!#REF!=\"6% (Medio)\",ROUND('Tabla de Amortizacion'!F28,8),IF(CALCULADORA!#REF!=\"10% (Medio Alto)\",ROUND('Tabla de Amortizacion'!H28,8),IF(CALCULADORA!#REF!=\"14% (Alto)\",ROUND('Tabla de Amortizacion'!#REF!,8),IF(CALCULADORA!#REF!=20%,ROUND('Tabla de Amortizacion'!#REF!,8),ROUND('Tabla de Amortizacion'!K28,8))))))","v":{"$error":"#REF!"}}]
["2025-03-16",1.340969E-2,{"$f":"+VLOOKUP(A28,'Tabla de Amortizacion'!$D$2:$I$182,MATCH(Tablas!$B$1,'Tabla de Amortizacion'!$D$2:$I$2,0))","v":1.340969E-2},null,{"$f":"IF(CALCULADORA!#REF!=\"Contractual\",ROUND('Tabla de Amortizacion'!C29,8),IF(CALCULADORA!#REF!=\"6% (Medio)\",ROUND('Tabla de Amortizacion'!F29,8),IF(CALCULADORA!#REF!=\"10% (Medio Alto)\",ROUND('Tabla de Amortizacion'!H29,8),IF(CALCULADORA!#REF!=\"14% (Alto)\",ROUND('Tabla de Amortizacion'!#REF!,8),IF(CALCULADORA!#REF!=20%,ROUND('Tabla de Amortizacion'!#REF!,8),ROUND('Tabla de Amortizacion'!K29,8))))))","v":{"$error":"#REF!"}}]
["2025-04-16",1.0733120000000001E-2,{"$f":"+VLOOKUP(A29,'Tabla de Amortizacion'!$D$2:$I$182,MATCH(Tablas!$B$1,'Tabla de Amortizacion'!$D$2:$I$2,0))","v":1.0733120000000001E-2},null,{"$f":"IF(CALCULADORA!#REF!=\"Contractual\",ROUND('Tabla de Amortizacion'!C30,8),IF(CALCULADORA!#REF!=\"6% (Medio)\",ROUND('Tabla de Amortizacion'!F30,8),IF(CALCULADORA!#REF!=\"10% (Medio Alto)\",ROUND('Tabla de Amortizacion'!H30,8),IF(CALCULADORA!#REF!=\"14% (Alto)\",ROUND('Tabla de Amortizacion'!#REF!,8),IF(CALCULADORA!#REF!=20%,ROUND('Tabla de Amortizacion'!#REF!,8),ROUND('Tabla de Amortizacion'!K30,8))))))","v":{"$error":"#REF!"}}]
["2025-05-16",1.0678989999999999E-2,{"$f":"+VLOOKUP(A30,'Tabla de Amortizacion'!$D$2:$I$182,MATCH(Tablas!$B$1,'Tabla de Amortizacion'!$D$2:$I$2,0))","v":1.0678989999999999E-2},null,{"$f":"IF(CALCULADORA!#REF!=\"Contractual\",ROUND('Tabla de Amortizacion'!C31,8),IF(CALCULADORA!#REF!=\"6% (Medio)\",ROUND('Tabla de Amortizacion'!F31,8),IF(CALCULADORA!#REF!=\"10% (Medio Alto)\",ROUND('Tabla de Amortizacion'!H31,8),IF(CALCULADORA!#REF!=\"14% (Alto)\",ROUND('Tabla de Amortizacion'!#REF!,8),IF(CALCULADORA!#REF!=20%,ROUND('Tabla de Amortizacion'!#REF!,8),ROUND('Tabla de Amortizacion'!K31,8))))))","v":{"$error":"#REF!"}}]
["2025-06-16",1.0669680000000001E-2,{"$f":"+VLOOKUP(A31,'Tabla de Amortizacion'!$D$2:$I$182,MATCH(Tablas!$B$1,'Tabla de Amortizacion'!$D$2:$I$2,0))","v":1.0669680000000001E-2},null,{"$f":"IF(CALCULADORA!#REF!=\"Contractual\",ROUND('Tabla de Amortizacion'!C32,8),IF(CALCULADORA!#REF!=\"6% (Medio)\",ROUND('Tabla de Amortizacion'!F32,8),IF(CALCULADORA!#REF!=\"10% (Medio Alto)\",ROUND('Tabla de Amortizacion'!H32,8),IF(CALCULADORA!#REF!=\"14% (Alto)\",ROUND('Tabla de Amortizacion'!#REF!,8),IF(CALCULADORA!#REF!=20%,ROUND('Tabla de Amortizacion'!#REF!,8),ROUND('Tabla de Amortizacion'!K32,8))))))","v":{"$error":"#REF!"}}]
["2025-07-16",1.0596400000000001E-2,{"$f":"+VLOOKUP(A32,'Tabla de Amortizacion'!$D$2:$I$182,MATCH(Tablas!$B$1,'Tabla de Amortizacion'!$D$2:$I$2,0))","v":1.0596400000000001E-2},null,{"$f":"IF(CALCULADORA!#REF!=\"Contractual\",ROUND('Tabla de Amortizacion'!C33,8),IF(CALCULADORA!#REF!=\"6% (Medio)\",ROUND('Tabla de Amortizacion'!F33,8),IF(CALCULADORA!#REF!=\"10% (Medio Alto)\",ROUND('Tabla de Amortizacion'!H33,8),IF(CALCULADORA!#REF!=\"14% (Alto)\",ROUND('Tabla de Amortizacion'!#REF!,8),IF(CALCULADORA!#REF!=20%,ROUND('Tabla de Amortizacion'!#REF!,8),ROUND('Tabla de Amortizacion'!K33,8))))))","v":{"$error":"#REF!"}}]
["2025-08-16",1.048296E-2,{"$f":"+VLOOKUP(A33,'Tabla de Amortizacion'!$D$2:$I$182,MATCH(Tablas!$B$1,'Tabla de Amortizacion'!$D$2:$I$2,0))","v":1.048296E-2},null,{"$f":"IF(CALCULADORA!#REF!=\"Contractual\",ROUND('Tabla de Amortizacion'!C34,8),IF(CALCULADORA!#REF!=\"6% (Medio)\",ROUND('Tabla de Amortizacion'!F34,8),IF(CALCULADORA!#REF!=\"10% (Medio Alto)\",ROUND('Tabla de Amortizacion'!H34,8),IF(CALCULADORA!#REF!=\"14% (Alto)\",ROUND('Tabla de Amortizacion'!#REF!,8),IF(CALCULADORA!#REF!=20%,ROUND('Tabla de Amortizacion'!#REF!,8),ROUND('Tabla de Amortizacion'!K34,8))))))","v":{"$error":"#REF!"}}]
["2025-09-16",1.047287E-2,{"$f":"+VLOOKUP(A34,'Tabla de Amortizacion'!$D$2:$I$182,MATCH(Tablas!$B$1,'Tabla de Amortizacion'!$D$2:$I$2,0))","v":1.047287E-2},null,{"$f":"IF(CALCULADORA!#REF!=\"Contractual\",ROUND('Tabla de Amortizacion'!C35,8),IF(CALCULADORA!#REF!=\"6% (Medio)\",ROUND('Tabla de Amortizacion'!F35,8),IF(CALCULADORA!#REF!=\"10% (Medio Alto)\",ROUND('Tabla de Amortizacion'!H35,8),IF(CALCULADORA!#REF!=\"14% (Alto)\",ROUND('Tabla de Amortizacion'!#REF!,8),IF(CALCULADORA!#REF!=20%,ROUND('Tabla de Amortizacion'!#REF!,8),ROUND('Tabla de Amortizacion'!K35,8))))))","v":{"$error":"#REF!"}}]
[{"$f":"EDATE(A34,1)","v":"2025-10-16"},1.043738E-2,{"$f":"+VLOOKUP(A35,'Tabla de Amortizacion'!$D$2:$I$182,MATCH(Tablas!$B$1,'Tabla de Amortizacion'!$D$2:$I$2,0))","v":1.043738E-2},null,{"$f":"IF(CALCULADORA!#REF!=\"Contractual\",ROUND('Tabla de Amortizacion'!C36,8),IF(CALCULADORA!#REF!=\"6% (Medio)\",ROUND('Tabla de Amortizacion'!F36,8),IF(CALCULADORA!#REF!=\"10% (Medio Alto)\",ROUND('Tabla de Amortizacion'!H36,8),IF(CALCULADORA!#REF!=\"14% (Alto)\",ROUND('Tabla de Amortizacion'!#REF!,8),IF(CALCULADORA!#REF!=20%,ROUND('Tabla de Amortizacion'!#REF!,8),ROUND('Tabla de Amortizacion'!K36,8))))))","v":{"$error":"#REF!"}}]
["2025-11-16",1.039328E-2,{"$f":"+VLOOKUP(A36,'Tabla de Amortizacion'!$D$2:$I$182,MATCH(Tablas!$B$1,'Tabla de Amortizacion'!$D$2:$I$2,0))","v":1.039328E-2},null,{"$f":"IF(CALCULADORA!#REF!=\"Contractual\",ROUND('Tabla de Amortizacion'!C37,8),IF(CALCULADORA!#REF!=\"6% (Medio)\",ROUND('Tabla de Amortizacion'!F37,8),IF(CALCULADORA!#REF!=\"10% (Medio Alto)\",ROUND('Tabla de Amortizacion'!H37,8),IF(CALCULADORA!#REF!=\"14% (Alto)\",ROUND('Tabla de Amortizacion'!#REF!,8),IF(CALCULADORA!#REF!=20%,ROUND('Tabla de Amortizacion'!#REF!,8),ROUND('Tabla de Amortizacion'!K37,8))))))","v":{"$error":"#REF!"}}]
["2025-12-16",9.37524E-3,{"$f":"+VLOOKUP(A37,'Tabla de Amortizacion'!$D$2:$I$182,MATCH(Tablas!$B$1,'Tabla de Amortizacion'!$D$2:$I$2,0))","v":9.37524E-3},null,{"$f":"IF(CALCULADORA!#REF!=\"Contractual\",ROUND('Tabla de Amortizacion'!C38,8),IF(CALCULADORA!#REF!=\"6% (Medio)\",ROUND('Tabla de Amortizacion'!F38,8),IF(CALCULADORA!#REF!=\"10% (Medio Alto)\",ROUND('Tabla de Amortizacion'!H38,8),IF(CALCULADORA!#REF!=\"14% (Alto)\",ROUND('Tabla de Amortizacion'!#REF!,8),IF(CALCULADORA!#REF!=20%,ROUND('Tabla de Amortizacion'!#REF!,8),ROUND('Tabla de Amortizacion'!K38,8))))))","v":{"$error":"#REF!"}}]
["2026-01-16",1.026734E-2,{"$f":"+VLOOKUP(A38,'Tabla de Amortizacion'!$D$2:$I$182,MATCH(Tablas!$B$1,'Tabla de Amortizacion'!$D$2:$I$2,0))","v":1.026734E-2},null,{"$f":"IF(CALCULADORA!#REF!=\"Contractual\",ROUND('Tabla de Amortizacion'!C39,8),IF(CALCULADORA!#REF!=\"6% (Medio)\",ROUND('Tabla de Amortizacion'!F39,8),IF(CALCULADORA!#REF!=\"10% (Medio Alto)\",ROUND('Tabla de Amortizacion'!H39,8),IF(CALCULADORA!#REF!=\"14% (Alto)\",ROUND('Tabla de Amortizacion'!#REF!,8),IF(CALCULADORA!#REF!=20%,ROUND('Tabla de Amortizacion'!#REF!,8),ROUND('Tabla de Amortizacion'!K39,8))))))","v":{"$error":"#REF!"}}]
["2026-02-16",1.0297250000000001E-2,{"$f":"+VLOOKUP(A39,'Tabla de Amortizacion'!$D$2:$I$182,MATCH(Tablas!$B$1,'Tabla de Amortizacion'!$D$2:$I$2,0))","v":1.0297250000000001E-2},null,{"$f":"IF(CALCULADORA!#REF!=\"Contractual\",ROUND('Tabla de Amortizacion'!C40,8),IF(CALCULADORA!#REF!=\"6% (Medio)\",ROUND('Tabla de Amortizacion'!F40,8),IF(CALCULADORA!#REF!=\"10% (Medio Alto)\",ROUND('Tabla de Amortizacion'!H40,8),IF(CALCULADORA!#REF!=\"14% (Alto)\",ROUND('Tabla de Amortizacion'!#REF!,8),IF(CALCULADORA!#REF!=20%,ROUND('Tabla de Amortizacion'!#REF!,8),ROUND('Tabla de Amortizacion'!K40,8))))))","v":{"$error":"#REF!"}}]
["2026-03-16",1.0179519999999999E-2,{"$f":"+VLOOKUP(A40,'Tabla de Amortizacion'!$D$2:$I$182,MATCH(Tablas!$B$1,'Tabla de Amortizacion'!$D$2:$I$2,0))","v":1.0179519999999999E-2},null,{"$f":"IF(CALCULADORA!#REF!=\"Contractual\",ROUND('Tabla de Amortizacion'!C41,8),IF(CALCULADORA!#REF!=\"6% (Medio)\",ROUND('Tabla de Amortizacion'!F41,8),IF(CALCULADORA!#REF!=\"10% (Medio Alto)\",ROUND('Tabla de Amortizacion'!H41,8),IF(CALCULADORA!#REF!=\"14% (Alto)\",ROUND('Tabla de Amortizacion'!#REF!,8),IF(CALCULADORA!#REF!=20%,ROUND('Tabla de Amortizacion'!#REF!,8),ROUND('Tabla de Amortizacion'!K41,8))))))","v":{"$error":"#REF!"}}]
["2026-04-16",1.0187460000000001E-2,{"$f":"+VLOOKUP(A41,'Tabla de Amortizacion'!$D$2:$I$182,MATCH(Tablas!$B$1,'Tabla de Amortizacion'!$D$2:$I$2,0))","v":1.0187460000000001E-2},null,{"$f":"IF(CALCULADORA!#REF!=\"Contractual\",ROUND('Tabla de Amortizacion'!C42,8),IF(CALCULADORA!#REF!=\"6% (Medio)\",ROUND('Tabla de Amortizacion'!F42,8),IF(CALCULADORA!#REF!=\"10% (Medio Alto)\",ROUND('Tabla de Amortizacion'!H42,8),IF(CALCULADORA!#REF!=\"14% (Alto)\",ROUND('Tabla de Amortizacion'!#REF!,8),IF(CALCULADORA!#REF!=20%,ROUND('Tabla de Amortizacion'!#REF!,8),ROUND('Tabla de Amortizacion'!K42,8))))))","v":{"$error":"#REF!"}}]
["2026-05-16",1.0141010000000001E-2,{"$f":"+VLOOKUP(A42,'Tabla de Amortizacion'!$D$2:$I$182,MATCH(Tablas!$B$1,'Tabla de Amortizacion'!$D$2:$I$2,0))","v":1.0141010000000001E-2},null,{"$f":"IF(CALCULADORA!#REF!=\"Contractual\",ROUND('Tabla de Amortizacion'!C43,8),IF(CALCULADORA!#REF!=\"6% (Medio)\",ROUND('Tabla de Amortizacion'!F43,8),IF(CALCULADORA!#REF!=\"10% (Medio Alto)\",ROUND('Tabla de Amortizacion'!H43,8),IF(CALCULADORA!#REF!=\"14% (Alto)\",ROUND('Tabla de Amortizacion'!#REF!,8),IF(CALCULADORA!#REF!=20%,ROUND('Tabla de Amortizacion'!#REF!,8),ROUND('Tabla de Amortizacion'!K43,8))))))","v":{"$error":"#REF!"}}]
["2026-06-16",1.007983E-2,{"$f":"+VLOOKUP(A43,'Tabla de Amortizacion'!$D$2:$I$182,MATCH(Tablas!$B$1,'Tabla de Amortizacion'!$D$2:$I$2,0))","v":1.007983E-2},null,{"$f":"IF(CALCULADORA!#REF!=\"Contractual\",ROUND('Tabla de Amortizacion'!C44,8),IF(CALCULADORA!#REF!=\"6% (Medio)\",ROUND('Tabla de Amortizacion'!F44,8),IF(CALCULADORA!#REF!=\"10% (Medio Alto)\",ROUND('Tabla de Amortizacion'!H44,8),IF(CALCULADORA!#REF!=\"14% (Alto)\",ROUND('Tabla de Amortizacion'!#REF!,8),IF(CALCULADORA!#REF!=20%,ROUND('Tabla de Amortizacion'!#REF!,8),ROUND('Tabla de Amortizacion'!K44,8))))))","v":{"$error":"#REF!"}}]
["2026-07-16",1.005705E-2,{"$f":"+VLOOKUP(A44,'Tabla de Amortizacion'!$D$2:$I$182,MATCH(Tablas!$B$1,'Tabla de Amortizacion'!$D$2:$I$2,0))","v":1.005705E-2},null,{"$f":"IF(CALCULADORA!#REF!=\"Contractual\",ROUND('Tabla de Amortizacion'!C45,8),IF(CALCULADORA!#REF!=\"6% (Medio)\",ROUND('Tabla de Amortizacion'!F45,8),IF(CALCULADORA!#REF!=\"10% (Medio Alto)\",ROUND('Tabla de Amortizacion'!H45,8),IF(CALCULADORA!#REF!=\"14% (Alto)\",ROUND('Tabla de Amortizacion'!#REF!,8),IF(CALCULADORA!#REF!=20%,ROUND('Tabla de Amortizacion'!#REF!,8),ROUND('Tabla de Amortizacion'!K45,8))))))","v":{"$error":"#REF!"}}]
["2026-08-16",1.006308E-2,{"$f":"+VLOOKUP(A45,'Tabla de Amortizacion'!$D$2:$I$182,MATCH(Tablas!$B$1,'Tabla de Amortizacion'!$D$2:$I$2,0))","v":1.006308E-2},null,{"$f":"IF(CALCULADORA!#REF!=\"Contractual\",ROUND('Tabla de Amortizacion'!C46,8),IF(CALCULADORA!#REF!=\"6% (Medio)\",ROUND('Tabla de Amortizacion'!F46,8),IF(CALCULADORA!#REF!=\"10% (Medio Alto)\",ROUND('Tabla de Amortizacion'!H46,8),IF(CALCULADORA!#REF!=\"14% (Alto)\",ROUND('Tabla de Amortizacion'!#REF!,8),IF(CALCULADORA!#REF!=20%,ROUND('Tabla de Amortizacion'!#REF!,8),ROUND('Tabla de Amortizacion'!K46,8))))))","v":{"$error":"#REF!"}}]
["2026-09-16",9.9862200000000005E-3,{"$f":"+VLOOKUP(A46,'Tabla de Amortizacion'!$D$2:$I$182,MATCH(Tablas!$B$1,'Tabla de Amortizacion'!$D$2:$I$2,0))","v":9.9862200000000005E-3},null,{"$f":"IF(CALCULADORA!#REF!=\"Contractual\",ROUND('Tabla de Amortizacion'!C47,8),IF(CALCULADORA!#REF!=\"6% (Medio)\",ROUND('Tabla de Amortizacion'!F47,8),IF(CALCULADORA!#REF!=\"10% (Medio Alto)\",ROUND('Tabla de Amortizacion'!H47,8),IF(CALCULADORA!#REF!=\"14% (Alto)\",ROUND('Tabla de Amortizacion'!#REF!,8),IF(CALCULADORA!#REF!=20%,ROUND('Tabla de Amortizacion'!#REF!,8),ROUND('Tabla de Amortizacion'!K47,8))))))","v":{"$error":"#REF!"}}]
["2026-10-16",9.9255999999999997E-3,{"$f":"+VLOOKUP(A47,'Tabla de Amortizacion'!$D$2:$I$182,MATCH(Tablas!$B$1,'Tabla de Amortizacion'!$D$2:$I$2,0))","v":9.9255999999999997E-3},null,{"$f":"IF(CALCULADORA!#REF!=\"Contractual\",ROUND('Tabla de Amortizacion'!C48,8),IF(CALCULADORA!#REF!=\"6% (Medio)\",ROUND('Tabla de Amortizacion'!F48,8),IF(CALCULADORA!#REF!=\"10% (Medio Alto)\",ROUND('Tabla de Amortizacion'!H48,8),IF(CALCULADORA!#REF!=\"14% (Alto)\",ROUND('Tabla de Amortizacion'!#REF!,8),IF(CALCULADORA!#REF!=20%,ROUND('Tabla de Amortizacion'!#REF!,8),ROUND('Tabla de Amortizacion'!K48,8))))))","v":{"$error":"#REF!"}}]
["2026-11-16",9.8783699999999992E-3,{"$f":"+VLOOKUP(A48,'Tabla de Amortizacion'!$D$2:$I$182,MATCH(Tablas!$B$1,'Tabla de Amortizacion'!$D$2:$I$2,0))","v":9.8783699999999992E-3},null,{"$f":"IF(CALCULADORA!#REF!=\"Contractual\",ROUND('Tabla de Amortizacion'!C49,8),IF(CALCULADORA!#REF!=\"6% (Medio)\",ROUND('Tabla de Amortizacion'!F49,8),IF(CALCULADORA!#REF!=\"10% (Medio Alto)\",ROUND('Tabla de Amortizacion'!H49,8),IF(CALCULADORA!#REF!=\"14% (Alto)\",ROUND('Tabla de Amortizacion'!#REF!,8),IF(CALCULADORA!#REF!=20%,ROUND('Tabla de Amortizacion'!#REF!,8),ROUND('Tabla de Amortizacion'!K49,8))))))","v":{"$error":"#REF!"}}]
["2026-12-16",8.7763200000000006E-3,{"$f":"+VLOOKUP(A49,'Tabla de Amortizacion'!$D$2:$I$182,MATCH(Tablas!$B$1,'Tabla de Amortizacion'!$D$2:$I$2,0))","v":8.7763200000000006E-3},null,{"$f":"IF(CALCULADORA!#REF!=\"Contractual\",ROUND('Tabla de Amortizacion'!C50,8),IF(CALCULADORA!#REF!=\"6% (Medio)\",ROUND('Tabla de Amortizacion'!F50,8),IF(CALCULADORA!#REF!=\"10% (Medio Alto)\",ROUND('Tabla de Amortizacion'!H50,8),IF(CALCULADORA!#REF!=\"14% (Alto)\",ROUND('Tabla de Amortizacion'!#REF!,8),IF(CALCULADORA!#REF!=20%,ROUND('Tabla de Amortizacion'!#REF!,8),ROUND('Tabla de Amortizacion'!K50,8))))))","v":{"$error":"#REF!"}}]
["2027-01-16",9.7390900000000006E-3,{"$f":"+VLOOKUP(A50,'Tabla de Amortizacion'!$D$2:$I$182,MATCH(Tablas!$B$1,'Tabla de Amortizacion'!$D$2:$I$2,0))","v":9.7390900000000006E-3},null,{"$f":"IF(CALCULADORA!#REF!=\"Contractual\",ROUND('Tabla de Amortizacion'!C51,8),IF(CALCULADORA!#REF!=\"6% (Medio)\",ROUND('Tabla de Amortizacion'!F51,8),IF(CALCULADORA!#REF!=\"10% (Medio Alto)\",ROUND('Tabla de Amortizacion'!H51,8),IF(CALCULADORA!#REF!=\"14% (Alto)\",ROUND('Tabla de Amortizacion'!#REF!,8),IF(CALCULADORA!#REF!=20%,ROUND('Tabla de Amortizacion'!#REF!,8),ROUND('Tabla de Amortizacion'!K51,8))))))","v":{"$error":"#REF!"}}]
["2027-02-16",9.6124399999999999E-3,{"$f":"+VLOOKUP(A51,'Tabla de Amortizacion'!$D$2:$I$182,MATCH(Tablas!$B$1,'Tabla de Amortizacion'!$D$2:$I$2,0))","v":9.6124399999999999E-3},null,{"$f":"IF(CALCULADORA!#REF!=\"Contractual\",ROUND('Tabla de Amortizacion'!C52,8),IF(CALCULADORA!#REF!=\"6% (Medio)\",ROUND('Tabla de Amortizacion'!F52,8),IF(CALCULADORA!#REF!=\"10% (Medio Alto)\",ROUND('Tabla de Amortizacion'!H52,8),IF(CALCULADORA!#REF!=\"14% (Alto)\",ROUND('Tabla de Amortizacion'!#REF!,8),IF(CALCULADORA!#REF!=20%,ROUND('Tabla de Amortizacion'!#REF!,8),ROUND('Tabla de Amortizacion'!K52,8))))))","v":{"$error":"#REF!"}}]
["2027-03-16",9.4827699999999997E-3,{"$f":"+VLOOKUP(A52,'Tabla de Amortizacion'!$D$2:$I$182,MATCH(Tablas!$B$1,'Tabla de Amortizacion'!$D$2:$I$2,0))","v":9.4827699999999997E-3},null,{"$f":"IF(CALCULADORA!#REF!=\"Contractual\",ROUND('Tabla de Amortizacion'!C53,8),IF(CALCULADORA!#REF!=\"6% (Medio)\",ROUND('Tabla de Amortizacion'!F53,8),IF(CALCULADORA!#REF!=\"10% (Medio Alto)\",ROUND('Tabla de Amortizacion'!H53,8),IF(CALCULADORA!#REF!=\"14% (Alto)\",ROUND('Tabla de Amortizacion'!#REF!,8),IF(CALCULADORA!#REF!=20%,ROUND('Tabla de Amortizacion'!#REF!,8),ROUND('Tabla de Amortizacion'!K53,8))))))","v":{"$error":"#REF!"}}]
["2027-04-16",9.4523899999999998E-3,{"$f":"+VLOOKUP(A53,'Tabla de Amortizacion'!$D$2:$I$182,MATCH(Tablas!$B$1,'Tabla de Amortizacion'!$D$2:$I$2,0))","v":9.4523899999999998E-3},null,{"$f":"IF(CALCULADORA!#REF!=\"Contractual\",ROUND('Tabla de Amortizacion'!C54,8),IF(CALCULADORA!#REF!=\"6% (Medio)\",ROUND('Tabla de Amortizacion'!F54,8),IF(CALCULADORA!#REF!=\"10% (Medio Alto)\",ROUND('Tabla de Amortizacion'!H54,8),IF(CALCULADORA!#REF!=\"14% (Alto)\",ROUND('Tabla de Amortizacion'!#REF!,8),IF(CALCULADORA!#REF!=20%,ROUND('Tabla de Amortizacion'!#REF!,8),ROUND('Tabla de Amortizacion'!K54,8))))))","v":{"$error":"#REF!"}}]
["2027-05-16",9.3506400000000003E-3,{"$f":"+VLOOKUP(A54,'Tabla de Amortizacion'!$D$2:$I$182,MATCH(Tablas!$B$1,'Tabla de Amortizacion'!$D$2:$I$2,0))","v":9.3506400000000003E-3},null,{"$f":"IF(CALCULADORA!#REF!=\"Contractual\",ROUND('Tabla de Amortizacion'!C55,8),IF(CALCULADORA!#REF!=\"6% (Medio)\",ROUND('Tabla de Amortizacion'!F55,8),IF(CALCULADORA!#REF!=\"10% (Medio Alto)\",ROUND('Tabla de Amortizacion'!H55,8),IF(CALCULADORA!#REF!=\"14% (Alto)\",ROUND('Tabla de Amortizacion'!#REF!,8),IF(CALCULADORA!#REF!=20%,ROUND('Tabla de Amortizacion'!#REF!,8),ROUND('Tabla de Amortizacion'!K55,8))))))","v":{"$error":"#REF!"}}]
["2027-06-16",9.2965700000000005E-3,{"$f":"+VLOOKUP(A55,'Tabla de Amortizacion'!$D$2:$I$182,MATCH(Tablas!$B$1,'Tabla de Amortizacion'!$D$2:$I$2,0))","v":9.2965700000000005E-3},null,{"$f":"IF(CALCULADORA!#REF!=\"Contractual\",ROUND('Tabla de Amortizacion'!C56,8),IF(CALCULADORA!#REF!=\"6% (Medio)\",ROUND('Tabla de Amortizacion'!F56,8),IF(CALCULADORA!#REF!=\"10% (Medio Alto)\",ROUND('Tabla de Amortizacion'!H56,8),IF(CALCULADORA!#REF!=\"14% (Alto)\",ROUND('Tabla de Amortizacion'!#REF!,8),IF(CALCULADORA!#REF!=20%,ROUND('Tabla de Amortizacion'!#REF!,8),ROUND('Tabla de Amortizacion'!K56,8))))))","v":{"$error":"#REF!"}}]
["2027-07-16",9.1769399999999998E-3,{"$f":"+VLOOKUP(A56,'Tabla de Amortizacion'!$D$2:$I$182,MATCH(Tablas!$B$1,'Tabla de Amortizacion'!$D$2:$I$2,0))","v":9.1769399999999998E-3},null,{"$f":"IF(CALCULADORA!#REF!=\"Contractual\",ROUND('Tabla de Amortizacion'!C57,8),IF(CALCULADORA!#REF!=\"6% (Medio)\",ROUND('Tabla de Amortizacion'!F57,8),IF(CALCULADORA!#REF!=\"10% (Medio Alto)\",ROUND('Tabla de Amortizacion'!H57,8),IF(CALCULADORA!#REF!=\"14% (Alto)\",ROUND('Tabla de Amortizacion'!#REF!,8),IF(CALCULADORA!#REF!=20%,ROUND('Tabla de Amortizacion'!#REF!,8),ROUND('Tabla de Amortizacion'!K57,8))))))","v":{"$error":"#REF!"}}]
["2027-08-16",9.1304400000000001E-3,{"$f":"+VLOOKUP(A57,'Tabla de Amortizacion'!$D$2:$I$182,MATCH(Tablas!$B$1,'Tabla de Amortizacion'!$D$2:$I$2,0))","v":9.1304400000000001E-3},null,{"$f":"IF(CALCULADORA!#REF!=\"Contractual\",ROUND('Tabla de Amortizacion'!C58,8),IF(CALCULADORA!#REF!=\"6% (Medio)\",ROUND('Tabla de Amortizacion'!F58,8),IF(CALCULADORA!#REF!=\"10% (Medio Alto)\",ROUND('Tabla de Amortizacion'!H58,8),IF(CALCULADORA!#REF!=\"14% (Alto)\",ROUND('Tabla de Amortizacion'!#REF!,8),IF(CALCULADORA!#REF!=20%,ROUND('Tabla de Amortizacion'!#REF!,8),ROUND('Tabla de Amortizacion'!K58,8))))))","v":{"$error":"#REF!"}}]
["2027-09-16",9.01128E-3,{"$f":"+VLOOKUP(A58,'Tabla de Amortizacion'!$D$2:$I$182,MATCH(Tablas!$B$1,'Tabla de Amortizacion'!$D$2:$I$2,0))","v":9.01128E-3},null,{"$f":"IF(CALCULADORA!#REF!=\"Contractual\",ROUND('Tabla de Amortizacion'!C59,8),IF(CALCULADORA!#REF!=\"6% (Medio)\",ROUND('Tabla de Amortizacion'!F59,8),IF(CALCULADORA!#REF!=\"10% (Medio Alto)\",ROUND('Tabla de Amortizacion'!H59,8),IF(CALCULADORA!#REF!=\"14% (Alto)\",ROUND('Tabla de Amortizacion'!#REF!,8),IF(CALCULADORA!#REF!=20%,ROUND('Tabla de Amortizacion'!#REF!,8),ROUND('Tabla de Amortizacion'!K59,8))))))","v":{"$error":"#REF!"}}]
["2027-10-16",8.9400199999999999E-3,{"$f":"+VLOOKUP(A59,'Tabla de Amortizacion'!$D$2:$I$182,MATCH(Tablas!$B$1,'Tabla de Amortizacion'!$D$2:$I$2,0))","v":8.9400199999999999E-3},null,{"$f":"IF(CALCULADORA!#REF!=\"Contractual\",ROUND('Tabla de Amortizacion'!C60,8),IF(CALCULADORA!#REF!=\"6% (Medio)\",ROUND('Tabla de Amortizacion'!F60,8),IF(CALCULADORA!#REF!=\"10% (Medio Alto)\",ROUND('Tabla de Amortizacion'!H60,8),IF(CALCULADORA!#REF!=\"14% (Alto)\",ROUND('Tabla de Amortizacion'!#REF!,8),IF(CALCULADORA!#REF!=20%,ROUND('Tabla de Amortizacion'!#REF!,8),ROUND('Tabla de Amortizacion'!K60,8))))))","v":{"$error":"#REF!"}}]
["2027-11-16",8.8245200000000006E-3,{"$f":"+VLOOKUP(A60,'Tabla de Amortizacion'!$D$2:$I$182,MATCH(Tablas!$B$1,'Tabla de Amortizacion'!$D$2:$I$2,0))","v":8.8245200000000006E-3},null,{"$f":"IF(CALCULADORA!#REF!=\"Contractual\",ROUND('Tabla de Amortizacion'!C61,8),IF(CALCULADORA!#REF!=\"6% (Medio)\",ROUND('Tabla de Amortizacion'!F61,8),IF(CALCULADORA!#REF!=\"10% (Medio Alto)\",ROUND('Tabla de Amortizacion'!H61,8),IF(CALCULADORA!#REF!=\"14% (Alto)\",ROUND('Tabla de Amortizacion'!#REF!,8),IF(CALCULADORA!#REF!=20%,ROUND('Tabla de Amortizacion'!#REF!,8),ROUND('Tabla de Amortizacion'!K61,8))))))","v":{"$error":"#REF!"}}]
["2027-12-16",7.6692000000000001E-3,{"$f":"+VLOOKUP(A61,'Tabla de Amortizacion'!$D$2:$I$182,MATCH(Tablas!$B$1,'Tabla de Amortizacion'!$D$2:$I$2,0))","v":7.6692000000000001E-3},null,{"$f":"IF(CALCULADORA!#REF!=\"Contractual\",ROUND('Tabla de Amortizacion'!C62,8),IF(CALCULADORA!#REF!=\"6% (Medio)\",ROUND('Tabla de Amortizacion'!F62,8),IF(CALCULADORA!#REF!=\"10% (Medio Alto)\",ROUND('Tabla de Amortizacion'!H62,8),IF(CALCULADORA!#REF!=\"14% (Alto)\",ROUND('Tabla de Amortizacion'!#REF!,8),IF(CALCULADORA!#REF!=20%,ROUND('Tabla de Amortizacion'!#REF!,8),ROUND('Tabla de Amortizacion'!K62,8))))))","v":{"$error":"#REF!"}}]
["2028-01-16",8.5573300000000001E-3,{"$f":"+VLOOKUP(A62,'Tabla de Amortizacion'!$D$2:$I$182,MATCH(Tablas!$B$1,'Tabla de Amortizacion'!$D$2:$I$2,0))","v":8.5573300000000001E-3},null,{"$f":"IF(CALCULADORA!#REF!=\"Contractual\",ROUND('Tabla de Amortizacion'!C63,8),IF(CALCULADORA!#REF!=\"6% (Medio)\",ROUND('Tabla de Amortizacion'!F63,8),IF(CALCULADORA!#REF!=\"10% (Medio Alto)\",ROUND('Tabla de Amortizacion'!H63,8),IF(CALCULADORA!#REF!=\"14% (Alto)\",ROUND('Tabla de Amortizacion'!#REF!,8),IF(CALCULADORA!#REF!=20%,ROUND('Tabla de Amortizacion'!#REF!,8),ROUND('Tabla de Amortizacion'!K63,8))))))","v":{"$error":"#REF!"}}]
["2028-02-16",8.3971099999999993E-3,{"$f":"+VLOOKUP(A63,'Tabla de Amortizacion'!$D$2:$I$182,MATCH(Tablas!$B$1,'Tabla de Amortizacion'!$D$2:$I$2,0))","v":8.3971099999999993E-3},null,{"$f":"IF(CALCULADORA!#REF!=\"Contractual\",ROUND('Tabla de Amortizacion'!C64,8),IF(CALCULADORA!#REF!=\"6% (Medio)\",ROUND('Tabla de Amortizacion'!F64,8),IF(CALCULADORA!#REF!=\"10% (Medio Alto)\",ROUND('Tabla de Amortizacion'!H64,8),IF(CALCULADORA!#REF!=\"14% (Alto)\",ROUND('Tabla de Amortizacion'!#REF!,8),IF(CALCULADORA!#REF!=20%,ROUND('Tabla de Amortizacion'!#REF!,8),ROUND('Tabla de Amortizacion'!K64,8))))))","v":{"$error":"#REF!"}}]
["2028-03-16",8.3030599999999993E-3,{"$f":"+VLOOKUP(A64,'Tabla de Amortizacion'!$D$2:$I$182,MATCH(Tablas!$B$1,'Tabla de Amortizacion'!$D$2:$I$2,0))","v":8.3030599999999993E-3},null,{"$f":"IF(CALCULADORA!#REF!=\"Contractual\",ROUND('Tabla de Amortizacion'!C65,8),IF(CALCULADORA!#REF!=\"6% (Medio)\",ROUND('Tabla de Amortizacion'!F65,8),IF(CALCULADORA!#REF!=\"10% (Medio Alto)\",ROUND('Tabla de Amortizacion'!H65,8),IF(CALCULADORA!#REF!=\"14% (Alto)\",ROUND('Tabla de Amortizacion'!#REF!,8),IF(CALCULADORA!#REF!=20%,ROUND('Tabla de Amortizacion'!#REF!,8),ROUND('Tabla de Amortizacion'!K65,8))))))","v":{"$error":"#REF!"}}]
["2028-04-16",8.2190800000000001E-3,{"$f":"+VLOOKUP(A65,'Tabla de Amortizacion'!$D$2:$I$182,MATCH(Tablas!$B$1,'Tabla de Amortizacion'!$D$2:$I$2,0))","v":8.2190800000000001E-3},null,{"$f":"IF(CALCULADORA!#REF!=\"Contractual\",ROUND('Tabla de Amortizacion'!C66,8),IF(CALCULADORA!#REF!=\"6% (Medio)\",ROUND('Tabla de Amortizacion'!F66,8),IF(CALCULADORA!#REF!=\"10% (Medio Alto)\",ROUND('Tabla de Amortizacion'!H66,8),IF(CALCULADORA!#REF!=\"14% (Alto)\",ROUND('Tabla de Amortizacion'!#REF!,8),IF(CALCULADORA!#REF!=20%,ROUND('Tabla de Amortizacion'!#REF!,8),ROUND('Tabla de Amortizacion'!K66,8))))))","v":{"$error":"#REF!"}}]
["2028-05-16",8.1051300000000003E-3,{"$f":"+VLOOKUP(A66,'Tabla de Amortizacion'!$D$2:$I$182,MATCH(Tablas!$B$1,'Tabla de Amortizacion'!$D$2:$I$2,0))","v":8.1051300000000003E-3},null,{"$f":"IF(CALCULADORA!#REF!=\"Contractual\",ROUND('Tabla de Amortizacion'!C67,8),IF(CALCULADORA!#REF!=\"6% (Medio)\",ROUND('Tabla de Amortizacion'!F67,8),IF(CALCULADORA!#REF!=\"10% (Medio Alto)\",ROUND('Tabla de Amortizacion'!H67,8),IF(CALCULADORA!#REF!=\"14% (Alto)\",ROUND('Tabla de Amortizacion'!#REF!,8),IF(CALCULADORA!#REF!=20%,ROUND('Tabla de Amortizacion'!#REF!,8),ROUND('Tabla de Amortizacion'!K67,8))))))","v":{"$error":"#REF!"}}]
[{"$f":"EDATE(A66,1)","v":"2028-06-16"},{"$f":"+ROUND(C67,8)","v":7.9514500000000005E-3},{"$f":"+VLOOKUP(A67,'Tabla de Amortizacion'!$D$2:$I$182,MATCH(Tablas!$B$1,'Tabla de Amortizacion'!$D$2:$I$2,0))","v":7.9514500000000005E-3},null,{"$f":"IF(CALCULADORA!#REF!=\"Contractual\",ROUND('Tabla de Amortizacion'!C68,8),IF(CALCULADORA!#REF!=\"6% (Medio)\",ROUND('Tabla de Amortizacion'!F68,8),IF(CALCULADORA!#REF!=\"10% (Medio Alto)\",ROUND('Tabla de Amortizacion'!H68,8),IF(CALCULADORA!#REF!=\"14% (Alto)\",ROUND('Tabla de Amortizacion'!#REF!,8),IF(CALCULADORA!#REF!=20%,ROUND('Tabla de Amortizacion'!#REF!,8),ROUND('Tabla de Amortizacion'!K68,8))))))","v":{"$error":"#REF!"}}]
["2028-07-16",7.8276999999999999E-3,{"$f":"+VLOOKUP(A68,'Tabla de Amortizacion'!$D$2:$I$182,MATCH(Tablas!$B$1,'Tabla de Amortizacion'!$D$2:$I$2,0))","v":7.8276999999999999E-3},null,{"$f":"IF(CALCULADORA!#REF!=\"Contractual\",ROUND('Tabla de Amortizacion'!C69,8),IF(CALCULADORA!#REF!=\"6% (Medio)\",ROUND('Tabla de Amortizacion'!F69,8),IF(CALCULADORA!#REF!=\"10% (Medio Alto)\",ROUND('Tabla de Amortizacion'!H69,8),IF(CALCULADORA!#REF!=\"14% (Alto)\",ROUND('Tabla de Amortizacion'!#REF!,8),IF(CALCULADORA!#REF!=20%,ROUND('Tabla de Amortizacion'!#REF!,8),ROUND('Tabla de Amortizacion'!K69,8))))))","v":{"$error":"#REF!"}}]
["2028-08-16",7.7417199999999997E-3,{"$f":"+VLOOKUP(A69,'Tabla de Amortizacion'!$D$2:$I$182,MATCH(Tablas!$B$1,'Tabla de Amortizacion'!$D$2:$I$2,0))","v":7.7417199999999997E-3},null,{"$f":"IF(CALCULADORA!#REF!=\"Contractual\",ROUND('Tabla de Amortizacion'!C70,8),IF(CALCULADORA!#REF!=\"6% (Medio)\",ROUND('Tabla de Amortizacion'!F70,8),IF(CALCULADORA!#REF!=\"10% (Medio Alto)\",ROUND('Tabla de Amortizacion'!H70,8),IF(CALCULADORA!#REF!=\"14% (Alto)\",ROUND('Tabla de Amortizacion'!#REF!,8),IF(CALCULADORA!#REF!=20%,ROUND('Tabla de Amortizacion'!#REF!,8),ROUND('Tabla de Amortizacion'!K70,8))))))","v":{"$error":"#REF!"}}]
["2028-09-16",7.6557300000000003E-3,{"$f":"+VLOOKUP(A70,'Tabla de Amortizacion'!$D$2:$I$182,MATCH(Tablas!$B$1,'Tabla de Amortizacion'!$D$2:$I$2,0))","v":7.6557300000000003E-3},null,{"$f":"IF(CALCULADORA!#REF!=\"Contractual\",ROUND('Tabla de Amortizacion'!C71,8),IF(CALCULADORA!#REF!=\"6% (Medio)\",ROUND('Tabla de Amortizacion'!F71,8),IF(CALCULADORA!#REF!=\"10% (Medio Alto)\",ROUND('Tabla de Amortizacion'!H71,8),IF(CALCULADORA!#REF!=\"14% (Alto)\",ROUND('Tabla de Amortizacion'!#REF!,8),IF(CALCULADORA!#REF!=20%,ROUND('Tabla de Amortizacion'!#REF!,8),ROUND('Tabla de Amortizacion'!K71,8))))))","v":{"$error":"#REF!"}}]
["2028-10-16",7.5446899999999997E-3,{"$f":"+VLOOKUP(A71,'Tabla de Amortizacion'!$D$2:$I$182,MATCH(Tablas!$B$1,'Tabla de Amortizacion'!$D$2:$I$2,0))","v":7.5446899999999997E-3},null,{"$f":"IF(CALCULADORA!#REF!=\"Contractual\",ROUND('Tabla de Amortizacion'!C72,8),IF(CALCULADORA!#REF!=\"6% (Medio)\",ROUND('Tabla de Amortizacion'!F72,8),IF(CALCULADORA!#REF!=\"10% (Medio Alto)\",ROUND('Tabla de Amortizacion'!H72,8),IF(CALCULADORA!#REF!=\"14% (Alto)\",ROUND('Tabla de Amortizacion'!#REF!,8),IF(CALCULADORA!#REF!=20%,ROUND('Tabla de Amortizacion'!#REF!,8),ROUND('Tabla de Amortizacion'!K72,8))))))","v":{"$error":"#REF!"}}]
["2028-11-16",7.4390999999999997E-3,{"$f":"+VLOOKUP(A72,'Tabla de Amortizacion'!$D$2:$I$182,MATCH(Tablas!$B$1,'Tabla de Amortizacion'!$D$2:$I$2,0))","v":7.4390999999999997E-3},null,{"$f":"IF(CALCULADORA!#REF!=\"Contractual\",ROUND('Tabla de Amortizacion'!C73,8),IF(CALCULADORA!#REF!=\"6% (Medio)\",ROUND('Tabla de Amortizacion'!F73,8),IF(CALCULADORA!#REF!=\"10% (Medio Alto)\",ROUND('Tabla de Amortizacion'!H73,8),IF(CALCULADORA!#REF!=\"14% (Alto)\",ROUND('Tabla de Amortizacion'!#REF!,8),IF(CALCULADORA!#REF!=20%,ROUND('Tabla de Amortizacion'!#REF!,8),ROUND('Tabla de Amortizacion'!K73,8))))))","v":{"$error":"#REF!"}}]
["2028-12-16",6.2479800000000002E-3,{"$f":"+VLOOKUP(A73,'Tabla de Amortizacion'!$D$2:$I$182,MATCH(Tablas!$B$1,'Tabla de Amortizacion'!$D$2:$I$2,0))","v":6.2479800000000002E-3},null,{"$f":"IF(CALCULADORA!#REF!=\"Contractual\",ROUND('Tabla de Amortizacion'!C74,8),IF(CALCULADORA!#REF!=\"6% (Medio)\",ROUND('Tabla de Amortizacion'!F74,8),IF(CALCULADORA!#REF!=\"10% (Medio Alto)\",ROUND('Tabla de Amortizacion'!H74,8),IF(CALCULADORA!#REF!=\"14% (Alto)\",ROUND('Tabla de Amortizacion'!#REF!,8),IF(CALCULADORA!#REF!=20%,ROUND('Tabla de Amortizacion'!#REF!,8),ROUND('Tabla de Amortizacion'!K74,8))))))","v":{"$error":"#REF!"}}]
["2029-01-16",7.1897000000000003E-3,{"$f":"+VLOOKUP(A74,'Tabla de Amortizacion'!$D$2:$I$182,MATCH(Tablas!$B$1,'Tabla de Amortizacion'!$D$2:$I$2,0))","v":7.1897000000000003E-3},null,{"$f":"IF(CALCULADORA!#REF!=\"Contractual\",ROUND('Tabla de Amortizacion'!C75,8),IF(CALCULADORA!#REF!=\"6% (Medio)\",ROUND('Tabla de Amortizacion'!F75,8),IF(CALCULADORA!#REF!=\"10% (Medio Alto)\",ROUND('Tabla de Amortizacion'!H75,8),IF(CALCULADORA!#REF!=\"14% (Alto)\",ROUND('Tabla de Amortizacion'!#REF!,8),IF(CALCULADORA!#REF!=20%,ROUND('Tabla de Amortizacion'!#REF!,8),ROUND('Tabla de Amortizacion'!K75,8))))))","v":{"$error":"#REF!"}}]
["2029-02-16",7.0945899999999996E-3,{"$f":"+VLOOKUP(A75,'Tabla de Amortizacion'!$D$2:$I$182,MATCH(Tablas!$B$1,'Tabla de Amortizacion'!$D$2:$I$2,0))","v":7.0945899999999996E-3},null,{"$f":"IF(CALCULADORA!#REF!=\"Contractual\",ROUND('Tabla de Amortizacion'!C76,8),IF(CALCULADORA!#REF!=\"6% (Medio)\",ROUND('Tabla de Amortizacion'!F76,8),IF(CALCULADORA!#REF!=\"10% (Medio Alto)\",ROUND('Tabla de Amortizacion'!H76,8),IF(CALCULADORA!#REF!=\"14% (Alto)\",ROUND('Tabla de Amortizacion'!#REF!,8),IF(CALCULADORA!#REF!=20%,ROUND('Tabla de Amortizacion'!#REF!,8),ROUND('Tabla de Amortizacion'!K76,8))))))","v":{"$error":"#REF!"}}]
["2029-03-16",6.9927599999999998E-3,{"$f":"+VLOOKUP(A76,'Tabla de Amortizacion'!$D$2:$I$182,MATCH(Tablas!$B$1,'Tabla de Amortizacion'!$D$2:$I$2,0))","v":6.9927599999999998E-3},null,{"$f":"IF(CALCULADORA!#REF!=\"Contractual\",ROUND('Tabla de Amortizacion'!C77,8),IF(CALCULADORA!#REF!=\"6% (Medio)\",ROUND('Tabla de Amortizacion'!F77,8),IF(CALCULADORA!#REF!=\"10% (Medio Alto)\",ROUND('Tabla de Amortizacion'!H77,8),IF(CALCULADORA!#REF!=\"14% (Alto)\",ROUND('Tabla de Amortizacion'!#REF!,8),IF(CALCULADORA!#REF!=20%,ROUND('Tabla de Amortizacion'!#REF!,8),ROUND('Tabla de Amortizacion'!K77,8))))))","v":{"$error":"#REF!"}}]
["2029-04-16",6.9260099999999998E-3,{"$f":"+VLOOKUP(A77,'Tabla de Amortizacion'!$D$2:$I$182,MATCH(Tablas!$B$1,'Tabla de Amortizacion'!$D$2:$I$2,0))","v":6.9260099999999998E-3},null,{"$f":"IF(CALCULADORA!#REF!=\"Contractual\",ROUND('Tabla de Amortizacion'!C78,8),IF(CALCULADORA!#REF!=\"6% (Medio)\",ROUND('Tabla de Amortizacion'!F78,8),IF(CALCULADORA!#REF!=\"10% (Medio Alto)\",ROUND('Tabla de Amortizacion'!H78,8),IF(CALCULADORA!#REF!=\"14% (Alto)\",ROUND('Tabla de Amortizacion'!#REF!,8),IF(CALCULADORA!#REF!=20%,ROUND('Tabla de Amortizacion'!#REF!,8),ROUND('Tabla de Amortizacion'!K78,8))))))","v":{"$error":"#REF!"}}]
["2029-05-16",6.8545300000000002E-3,{"$f":"+VLOOKUP(A78,'Tabla de Amortizacion'!$D$2:$I$182,MATCH(Tablas!$B$1,'Tabla de Amortizacion'!$D$2:$I$2,0))","v":6.8545300000000002E-3},null,{"$f":"IF(CALCULADORA!#REF!=\"Contractual\",ROUND('Tabla de Amortizacion'!C79,8),IF(CALCULADORA!#REF!=\"6% (Medio)\",ROUND('Tabla de Amortizacion'!F79,8),IF(CALCULADORA!#REF!=\"10% (Medio Alto)\",ROUND('Tabla de Amortizacion'!H79,8),IF(CALCULADORA!#REF!=\"14% (Alto)\",ROUND('Tabla de Amortizacion'!#REF!,8),IF(CALCULADORA!#REF!=20%,ROUND('Tabla de Amortizacion'!#REF!,8),ROUND('Tabla de Amortizacion'!K79,8))))))","v":{"$error":"#REF!"}}]
["2029-06-16",6.7874399999999996E-3,{"$f":"+VLOOKUP(A79,'Tabla de Amortizacion'!$D$2:$I$182,MATCH(Tablas!$B$1,'Tabla de Amortizacion'!$D$2:$I$2,0))","v":6.7874399999999996E-3},null,{"$f":"IF(CALCULADORA!#REF!=\"Contractual\",ROUND('Tabla de Amortizacion'!C80,8),IF(CALCULADORA!#REF!=\"6% (Medio)\",ROUND('Tabla de Amortizacion'!F80,8),IF(CALCULADORA!#REF!=\"10% (Medio Alto)\",ROUND('Tabla de Amortizacion'!H80,8),IF(CALCULADORA!#REF!=\"14% (Alto)\",ROUND('Tabla de Amortizacion'!#REF!,8),IF(CALCULADORA!#REF!=20%,ROUND('Tabla de Amortizacion'!#REF!,8),ROUND('Tabla de Amortizacion'!K80,8))))))","v":{"$error":"#REF!"}}]
["2029-07-16",6.7162699999999999E-3,{"$f":"+VLOOKUP(A80,'Tabla de Amortizacion'!$D$2:$I$182,MATCH(Tablas!$B$1,'Tabla de Amortizacion'!$D$2:$I$2,0))","v":6.7162699999999999E-3},null,{"$f":"IF(CALCULADORA!#REF!=\"Contractual\",ROUND('Tabla de Amortizacion'!C81,8),IF(CALCULADORA!#REF!=\"6% (Medio)\",ROUND('Tabla de Amortizacion'!F81,8),IF(CALCULADORA!#REF!=\"10% (Medio Alto)\",ROUND('Tabla de Amortizacion'!H81,8),IF(CALCULADORA!#REF!=\"14% (Alto)\",ROUND('Tabla de Amortizacion'!#REF!,8),IF(CALCULADORA!#REF!=20%,ROUND('Tabla de Amortizacion'!#REF!,8),ROUND('Tabla de Amortizacion'!K81,8))))))","v":{"$error":"#REF!"}}]
["2029-08-16",6.6741400000000003E-3,{"$f":"+VLOOKUP(A81,'Tabla de Amortizacion'!$D$2:$I$182,MATCH(Tablas!$B$1,'Tabla de Amortizacion'!$D$2:$I$2,0))","v":6.6741400000000003E-3},null,{"$f":"IF(CALCULADORA!#REF!=\"Contractual\",ROUND('Tabla de Amortizacion'!C82,8),IF(CALCULADORA!#REF!=\"6% (Medio)\",ROUND('Tabla de Amortizacion'!F82,8),IF(CALCULADORA!#REF!=\"10% (Medio Alto)\",ROUND('Tabla de Amortizacion'!H82,8),IF(CALCULADORA!#REF!=\"14% (Alto)\",ROUND('Tabla de Amortizacion'!#REF!,8),IF(CALCULADORA!#REF!=20%,ROUND('Tabla de Amortizacion'!#REF!,8),ROUND('Tabla de Amortizacion'!K82,8))))))","v":{"$error":"#REF!"}}]
["2029-09-16",6.6208899999999999E-3,{"$f":"+VLOOKUP(A82,'Tabla de Amortizacion'!$D$2:$I$182,MATCH(Tablas!$B$1,'Tabla de Amortizacion'!$D$2:$I$2,0))","v":6.6208899999999999E-3},null,{"$f":"IF(CALCULADORA!#REF!=\"Contractual\",ROUND('Tabla de Amortizacion'!C83,8),IF(CALCULADORA!#REF!=\"6% (Medio)\",ROUND('Tabla de Amortizacion'!F83,8),IF(CALCULADORA!#REF!=\"10% (Medio Alto)\",ROUND('Tabla de Amortizacion'!H83,8),IF(CALCULADORA!#REF!=\"14% (Alto)\",ROUND('Tabla de Amortizacion'!#REF!,8),IF(CALCULADORA!#REF!=20%,ROUND('Tabla de Amortizacion'!#REF!,8),ROUND('Tabla de Amortizacion'!K83,8))))))","v":{"$error":"#REF!"}}]
["2029-10-16",6.5896799999999997E-3,{"$f":"+VLOOKUP(A83,'Tabla de Amortizacion'!$D$2:$I$182,MATCH(Tablas!$B$1,'Tabla de Amortizacion'!$D$2:$I$2,0))","v":6.5896799999999997E-3},null,{"$f":"IF(CALCULADORA!#REF!=\"Contractual\",ROUND('Tabla de Amortizacion'!C84,8),IF(CALCULADORA!#REF!=\"6% (Medio)\",ROUND('Tabla de Amortizacion'!F84,8),IF(CALCULADORA!#REF!=\"10% (Medio Alto)\",ROUND('Tabla de Amortizacion'!H84,8),IF(CALCULADORA!#REF!=\"14% (Alto)\",ROUND('Tabla de Amortizacion'!#REF!,8),IF(CALCULADORA!#REF!=20%,ROUND('Tabla de Amortizacion'!#REF!,8),ROUND('Tabla de Amortizacion'!K84,8))))))","v":{"$error":"#REF!"}}]
["2029-11-16",6.5582799999999997E-3,{"$f":"+VLOOKUP(A84,'Tabla de Amortizacion'!$D$2:$I$182,MATCH(Tablas!$B$1,'Tabla de Amortizacion'!$D$2:$I$2,0))","v":6.5582799999999997E-3},null,{"$f":"IF(CALCULADORA!#REF!=\"Contractual\",ROUND('Tabla de Amortizacion'!C85,8),IF(CALCULADORA!#REF!=\"6% (Medio)\",ROUND('Tabla de Amortizacion'!F85,8),IF(CALCULADORA!#REF!=\"10% (Medio Alto)\",ROUND('Tabla de Amortizacion'!H85,8),IF(CALCULADORA!#REF!=\"14% (Alto)\",ROUND('Tabla de Amortizacion'!#REF!,8),IF(CALCULADORA!#REF!=20%,ROUND('Tabla de Amortizacion'!#REF!,8),ROUND('Tabla de Amortizacion'!K85,8))))))","v":{"$error":"#REF!"}}]
["2029-12-16",5.4421900000000004E-3,{"$f":"+VLOOKUP(A85,'Tabla de Amortizacion'!$D$2:$I$182,MATCH(Tablas!$B$1,'Tabla de Amortizacion'!$D$2:$I$2,0))","v":5.4421900000000004E-3},null,{"$f":"IF(CALCULADORA!#REF!=\"Contractual\",ROUND('Tabla de Amortizacion'!C86,8),IF(CALCULADORA!#REF!=\"6% (Medio)\",ROUND('Tabla de Amortizacion'!F86,8),IF(CALCULADORA!#REF!=\"10% (Medio Alto)\",ROUND('Tabla de Amortizacion'!H86,8),IF(CALCULADORA!#REF!=\"14% (Alto)\",ROUND('Tabla de Amortizacion'!#REF!,8),IF(CALCULADORA!#REF!=20%,ROUND('Tabla de Amortizacion'!#REF!,8),ROUND('Tabla de Amortizacion'!K86,8))))))","v":{"$error":"#REF!"}}]
["2030-01-16",6.4758999999999997E-3,{"$f":"+VLOOKUP(A86,'Tabla de Amortizacion'!$D$2:$I$182,MATCH(Tablas!$B$1,'Tabla de Amortizacion'!$D$2:$I$2,0))","v":6.4758999999999997E-3},null,{"$f":"IF(CALCULADORA!#REF!=\"Contractual\",ROUND('Tabla de Amortizacion'!C87,8),IF(CALCULADORA!#REF!=\"6% (Medio)\",ROUND('Tabla de Amortizacion'!F87,8),IF(CALCULADORA!#REF!=\"10% (Medio Alto)\",ROUND('Tabla de Amortizacion'!H87,8),IF(CALCULADORA!#REF!=\"14% (Alto)\",ROUND('Tabla de Amortizacion'!#REF!,8),IF(CALCULADORA!#REF!=20%,ROUND('Tabla de Amortizacion'!#REF!,8),ROUND('Tabla de Amortizacion'!K87,8))))))","v":{"$error":"#REF!"}}]
["2030-02-16",6.4227700000000004E-3,{"$f":"+VLOOKUP(A87,'Tabla de Amortizacion'!$D$2:$I$182,MATCH(Tablas!$B$1,'Tabla de Amortizacion'!$D$2:$I$2,0))","v":6.4227700000000004E-3},null,{"$f":"IF(CALCULADORA!#REF!=\"Contractual\",ROUND('Tabla de Amortizacion'!C88,8),IF(CALCULADORA!#REF!=\"6% (Medio)\",ROUND('Tabla de Amortizacion'!F88,8),IF(CALCULADORA!#REF!=\"10% (Medio Alto)\",ROUND('Tabla de Amortizacion'!H88,8),IF(CALCULADORA!#REF!=\"14% (Alto)\",ROUND('Tabla de Amortizacion'!#REF!,8),IF(CALCULADORA!#REF!=20%,ROUND('Tabla de Amortizacion'!#REF!,8),ROUND('Tabla de Amortizacion'!K88,8))))))","v":{"$error":"#REF!"}}]
["2030-03-16",6.3734799999999999E-3,{"$f":"+VLOOKUP(A88,'Tabla de Amortizacion'!$D$2:$I$182,MATCH(Tablas!$B$1,'Tabla de Amortizacion'!$D$2:$I$2,0))","v":6.3734799999999999E-3},null,{"$f":"IF(CALCULADORA!#REF!=\"Contractual\",ROUND('Tabla de Amortizacion'!C89,8),IF(CALCULADORA!#REF!=\"6% (Medio)\",ROUND('Tabla de Amortizacion'!F89,8),IF(CALCULADORA!#REF!=\"10% (Medio Alto)\",ROUND('Tabla de Amortizacion'!H89,8),IF(CALCULADORA!#REF!=\"14% (Alto)\",ROUND('Tabla de Amortizacion'!#REF!,8),IF(CALCULADORA!#REF!=20%,ROUND('Tabla de Amortizacion'!#REF!,8),ROUND('Tabla de Amortizacion'!K89,8))))))","v":{"$error":"#REF!"}}]
["2030-04-16",6.2885700000000003E-3,{"$f":"+VLOOKUP(A89,'Tabla de Amortizacion'!$D$2:$I$182,MATCH(Tablas!$B$1,'Tabla de Amortizacion'!$D$2:$I$2,0))","v":6.2885700000000003E-3},null,{"$f":"IF(CALCULADORA!#REF!=\"Contractual\",ROUND('Tabla de Amortizacion'!C90,8),IF(CALCULADORA!#REF!=\"6% (Medio)\",ROUND('Tabla de Amortizacion'!F90,8),IF(CALCULADORA!#REF!=\"10% (Medio Alto)\",ROUND('Tabla de Amortizacion'!H90,8),IF(CALCULADORA!#REF!=\"14% (Alto)\",ROUND('Tabla de Amortizacion'!#REF!,8),IF(CALCULADORA!#REF!=20%,ROUND('Tabla de Amortizacion'!#REF!,8),ROUND('Tabla de Amortizacion'!K90,8))))))","v":{"$error":"#REF!"}}]
["2030-05-16",6.2375599999999996E-3,{"$f":"+VLOOKUP(A90,'Tabla de Amortizacion'!$D$2:$I$182,MATCH(Tablas!$B$1,'Tabla de Amortizacion'!$D$2:$I$2,0))","v":6.2375599999999996E-3},null,{"$f":"IF(CALCULADORA!#REF!=\"Contractual\",ROUND('Tabla de Amortizacion'!C91,8),IF(CALCULADORA!#REF!=\"6% (Medio)\",ROUND('Tabla de Amortizacion'!F91,8),IF(CALCULADORA!#REF!=\"10% (Medio Alto)\",ROUND('Tabla de Amortizacion'!H91,8),IF(CALCULADORA!#REF!=\"14% (Alto)\",ROUND('Tabla de Amortizacion'!#REF!,8),IF(CALCULADORA!#REF!=20%,ROUND('Tabla de Amortizacion'!#REF!,8),ROUND('Tabla de Amortizacion'!K91,8))))))","v":{"$error":"#REF!"}}]
["2030-06-16",6.1893900000000003E-3,{"$f":"+VLOOKUP(A91,'Tabla de Amortizacion'!$D$2:$I$182,MATCH(Tablas!$B$1,'Tabla de Amortizacion'!$D$2:$I$2,0))","v":6.1893900000000003E-3},null,{"$f":"IF(CALCULADORA!#REF!=\"Contractual\",ROUND('Tabla de Amortizacion'!C92,8),IF(CALCULADORA!#REF!=\"6% (Medio)\",ROUND('Tabla de Amortizacion'!F92,8),IF(CALCULADORA!#REF!=\"10% (Medio Alto)\",ROUND('Tabla de Amortizacion'!H92,8),IF(CALCULADORA!#REF!=\"14% (Alto)\",ROUND('Tabla de Amortizacion'!#REF!,8),IF(CALCULADORA!#REF!=20%,ROUND('Tabla de Amortizacion'!#REF!,8),ROUND('Tabla de Amortizacion'!K92,8))))))","v":{"$error":"#REF!"}}]
["2030-07-16",6.14899E-3,{"$f":"+VLOOKUP(A92,'Tabla de Amortizacion'!$D$2:$I$182,MATCH(Tablas!$B$1,'Tabla de Amortizacion'!$D$2:$I$2,0))","v":6.14899E-3},null,{"$f":"IF(CALCULADORA!#REF!=\"Contractual\",ROUND('Tabla de Amortizacion'!C93,8),IF(CALCULADORA!#REF!=\"6% (Medio)\",ROUND('Tabla de Amortizacion'!F93,8),IF(CALCULADORA!#REF!=\"10% (Medio Alto)\",ROUND('Tabla de Amortizacion'!H93,8),IF(CALCULADORA!#REF!=\"14% (Alto)\",ROUND('Tabla de Amortizacion'!#REF!,8),IF(CALCULADORA!#REF!=20%,ROUND('Tabla de Amortizacion'!#REF!,8),ROUND('Tabla de Amortizacion'!K93,8))))))","v":{"$error":"#REF!"}}]
["2030-08-16",6.1029600000000002E-3,{"$f":"+VLOOKUP(A93,'Tabla de Amortizacion'!$D$2:$I$182,MATCH(Tablas!$B$1,'Tabla de Amortizacion'!$D$2:$I$2,0))","v":6.1029600000000002E-3},null,{"$f":"IF(CALCULADORA!#REF!=\"Contractual\",ROUND('Tabla de Amortizacion'!C94,8),IF(CALCULADORA!#REF!=\"6% (Medio)\",ROUND('Tabla de Amortizacion'!F94,8),IF(CALCULADORA!#REF!=\"10% (Medio Alto)\",ROUND('Tabla de Amortizacion'!H94,8),IF(CALCULADORA!#REF!=\"14% (Alto)\",ROUND('Tabla de Amortizacion'!#REF!,8),IF(CALCULADORA!#REF!=20%,ROUND('Tabla de Amortizacion'!#REF!,8),ROUND('Tabla de Amortizacion'!K94,8))))))","v":{"$error":"#REF!"}}]
["2030-09-16",6.0347300000000003E-3,{"$f":"+VLOOKUP(A94,'Tabla de Amortizacion'!$D$2:$I$182,MATCH(Tablas!$B$1,'Tabla de Amortizacion'!$D$2:$I$2,0))","v":6.0347300000000003E-3},null,{"$f":"IF(CALCULADORA!#REF!=\"Contractual\",ROUND('Tabla de Amortizacion'!C95,8),IF(CALCULADORA!#REF!=\"6% (Medio)\",ROUND('Tabla de Amortizacion'!F95,8),IF(CALCULADORA!#REF!=\"10% (Medio Alto)\",ROUND('Tabla de Amortizacion'!H95,8),IF(CALCULADORA!#REF!=\"14% (Alto)\",ROUND('Tabla de Amortizacion'!#REF!,8),IF(CALCULADORA!#REF!=20%,ROUND('Tabla de Amortizacion'!#REF!,8),ROUND('Tabla de Amortizacion'!K95,8))))))","v":{"$error":"#REF!"}}]
["2030-10-16",5.9394799999999996E-3,{"$f":"+VLOOKUP(A95,'Tabla de Amortizacion'!$D$2:$I$182,MATCH(Tablas!$B$1,'Tabla de Amortizacion'!$D$2:$I$2,0))","v":5.9394799999999996E-3},null,{"$f":"IF(CALCULADORA!#REF!=\"Contractual\",ROUND('Tabla de Amortizacion'!C96,8),IF(CALCULADORA!#REF!=\"6% (Medio)\",ROUND('Tabla de Amortizacion'!F96,8),IF(CALCULADORA!#REF!=\"10% (Medio Alto)\",ROUND('Tabla de Amortizacion'!H96,8),IF(CALCULADORA!#REF!=\"14% (Alto)\",ROUND('Tabla de Amortizacion'!#REF!,8),IF(CALCULADORA!#REF!=20%,ROUND('Tabla de Amortizacion'!#REF!,8),ROUND('Tabla de Amortizacion'!K96,8))))))","v":{"$error":"#REF!"}}]
["2030-11-16",5.8843100000000002E-3,{"$f":"+VLOOKUP(A96,'Tabla de Amortizacion'!$D$2:$I$182,MATCH(Tablas!$B$1,'Tabla de Amortizacion'!$D$2:$I$2,0))","v":5.8843100000000002E-3},null,{"$f":"IF(CALCULADORA!#REF!=\"Contractual\",ROUND('Tabla de Amortizacion'!C97,8),IF(CALCULADORA!#REF!=\"6% (Medio)\",ROUND('Tabla de Amortizacion'!F97,8),IF(CALCULADORA!#REF!=\"10% (Medio Alto)\",ROUND('Tabla de Amortizacion'!H97,8),IF(CALCULADORA!#REF!=\"14% (Alto)\",ROUND('Tabla de Amortizacion'!#REF!,8),IF(CALCULADORA!#REF!=20%,ROUND('Tabla de Amortizacion'!#REF!,8),ROUND('Tabla de Amortizacion'!K97,8))))))","v":{"$error":"#REF!"}}]
["2030-12-16",4.7071300000000003E-3,{"$f":"+VLOOKUP(A97,'Tabla de Amortizacion'!$D$2:$I$182,MATCH(Tablas!$B$1,'Tabla de Amortizacion'!$D$2:$I$2,0))","v":4.7071300000000003E-3},null,{"$f":"IF(CALCULADORA!#REF!=\"Contractual\",ROUND('Tabla de Amortizacion'!C98,8),IF(CALCULADORA!#REF!=\"6% (Medio)\",ROUND('Tabla de Amortizacion'!F98,8),IF(CALCULADORA!#REF!=\"10% (Medio Alto)\",ROUND('Tabla de Amortizacion'!H98,8),IF(CALCULADORA!#REF!=\"14% (Alto)\",ROUND('Tabla de Amortizacion'!#REF!,8),IF(CALCULADORA!#REF!=20%,ROUND('Tabla de Amortizacion'!#REF!,8),ROUND('Tabla de Amortizacion'!K98,8))))))","v":{"$error":"#REF!"}}]
["2031-01-16",5.6815700000000004E-3,{"$f":"+VLOOKUP(A98,'Tabla de Amortizacion'!$D$2:$I$182,MATCH(Tablas!$B$1,'Tabla de Amortizacion'!$D$2:$I$2,0))","v":5.6815700000000004E-3},null,{"$f":"IF(CALCULADORA!#REF!=\"Contractual\",ROUND('Tabla de Amortizacion'!C99,8),IF(CALCULADORA!#REF!=\"6% (Medio)\",ROUND('Tabla de Amortizacion'!F99,8),IF(CALCULADORA!#REF!=\"10% (Medio Alto)\",ROUND('Tabla de Amortizacion'!H99,8),IF(CALCULADORA!#REF!=\"14% (Alto)\",ROUND('Tabla de Amortizacion'!#REF!,8),IF(CALCULADORA!#REF!=20%,ROUND('Tabla de Amortizacion'!#REF!,8),ROUND('Tabla de Amortizacion'!K99,8))))))","v":{"$error":"#REF!"}}]
[{"$f":"EDATE(A98,1)","v":"2031-02-16"},5.5966499999999999E-3,{"$f":"+VLOOKUP(A99,'Tabla de Amortizacion'!$D$2:$I$182,MATCH(Tablas!$B$1,'Tabla de Amortizacion'!$D$2:$I$2,0))","v":5.5966499999999999E-3},null,{"$f":"IF(CALCULADORA!#REF!=\"Contractual\",ROUND('Tabla de Amortizacion'!C100,8),IF(CALCULADORA!#REF!=\"6% (Medio)\",ROUND('Tabla de Amortizacion'!F100,8),IF(CALCULADORA!#REF!=\"10% (Medio Alto)\",ROUND('Tabla de Amortizacion'!H100,8),IF(CALCULADORA!#REF!=\"14% (Alto)\",ROUND('Tabla de Amortizacion'!#REF!,8),IF(CALCULADORA!#REF!=20%,ROUND('Tabla de Amortizacion'!#REF!,8),ROUND('Tabla de Amortizacion'!K100,8))))))","v":{"$error":"#REF!"}}]
["2031-03-16",5.54844E-3,{"$f":"+VLOOKUP(A100,'Tabla de Amortizacion'!$D$2:$I$182,MATCH(Tablas!$B$1,'Tabla de Amortizacion'!$D$2:$I$2,0))","v":5.54844E-3},null,{"$f":"IF(CALCULADORA!#REF!=\"Contractual\",ROUND('Tabla de Amortizacion'!C101,8),IF(CALCULADORA!#REF!=\"6% (Medio)\",ROUND('Tabla de Amortizacion'!F101,8),IF(CALCULADORA!#REF!=\"10% (Medio Alto)\",ROUND('Tabla de Amortizacion'!H101,8),IF(CALCULADORA!#REF!=\"14% (Alto)\",ROUND('Tabla de Amortizacion'!#REF!,8),IF(CALCULADORA!#REF!=20%,ROUND('Tabla de Amortizacion'!#REF!,8),ROUND('Tabla de Amortizacion'!K101,8))))))","v":{"$error":"#REF!"}}]
["2031-04-16",5.4979399999999998E-3,{"$f":"+VLOOKUP(A101,'Tabla de Amortizacion'!$D$2:$I$182,MATCH(Tablas!$B$1,'Tabla de Amortizacion'!$D$2:$I$2,0))","v":5.4979399999999998E-3},null,{"$f":"IF(CALCULADORA!#REF!=\"Contractual\",ROUND('Tabla de Amortizacion'!C102,8),IF(CALCULADORA!#REF!=\"6% (Medio)\",ROUND('Tabla de Amortizacion'!F102,8),IF(CALCULADORA!#REF!=\"10% (Medio Alto)\",ROUND('Tabla de Amortizacion'!H102,8),IF(CALCULADORA!#REF!=\"14% (Alto)\",ROUND('Tabla de Amortizacion'!#REF!,8),IF(CALCULADORA!#REF!=20%,ROUND('Tabla de Amortizacion'!#REF!,8),ROUND('Tabla de Amortizacion'!K102,8))))))","v":{"$error":"#REF!"}}]
["2031-05-16",5.4505700000000001E-3,{"$f":"+VLOOKUP(A102,'Tabla de Amortizacion'!$D$2:$I$182,MATCH(Tablas!$B$1,'Tabla de Amortizacion'!$D$2:$I$2,0))","v":5.4505700000000001E-3},null,{"$f":"IF(CALCULADORA!#REF!=\"Contractual\",ROUND('Tabla de Amortizacion'!C103,8),IF(CALCULADORA!#REF!=\"6% (Medio)\",ROUND('Tabla de Amortizacion'!F103,8),IF(CALCULADORA!#REF!=\"10% (Medio Alto)\",ROUND('Tabla de Amortizacion'!H103,8),IF(CALCULADORA!#REF!=\"14% (Alto)\",ROUND('Tabla de Amortizacion'!#REF!,8),IF(CALCULADORA!#REF!=20%,ROUND('Tabla de Amortizacion'!#REF!,8),ROUND('Tabla de Amortizacion'!K103,8))))))","v":{"$error":"#REF!"}}]
["2031-06-16",5.4137500000000002E-3,{"$f":"+VLOOKUP(A103,'Tabla de Amortizacion'!$D$2:$I$182,MATCH(Tablas!$B$1,'Tabla de Amortizacion'!$D$2:$I$2,0))","v":5.4137500000000002E-3},null,{"$f":"IF(CALCULADORA!#REF!=\"Contractual\",ROUND('Tabla de Amortizacion'!C104,8),IF(CALCULADORA!#REF!=\"6% (Medio)\",ROUND('Tabla de Amortizacion'!F104,8),IF(CALCULADORA!#REF!=\"10% (Medio Alto)\",ROUND('Tabla de Amortizacion'!H104,8),IF(CALCULADORA!#REF!=\"14% (Alto)\",ROUND('Tabla de Amortizacion'!#REF!,8),IF(CALCULADORA!#REF!=20%,ROUND('Tabla de Amortizacion'!#REF!,8),ROUND('Tabla de Amortizacion'!K104,8))))))","v":{"$error":"#REF!"}}]
["2031-07-16",5.3798300000000004E-3,{"$f":"+VLOOKUP(A104,'Tabla de Amortizacion'!$D$2:$I$182,MATCH(Tablas!$B$1,'Tabla de Amortizacion'!$D$2:$I$2,0))","v":5.3798300000000004E-3},null,{"$f":"IF(CALCULADORA!#REF!=\"Contractual\",ROUND('Tabla de Amortizacion'!C105,8),IF(CALCULADORA!#REF!=\"6% (Medio)\",ROUND('Tabla de Amortizacion'!F105,8),IF(CALCULADORA!#REF!=\"10% (Medio Alto)\",ROUND('Tabla de Amortizacion'!H105,8),IF(CALCULADORA!#REF!=\"14% (Alto)\",ROUND('Tabla de Amortizacion'!#REF!,8),IF(CALCULADORA!#REF!=20%,ROUND('Tabla de Amortizacion'!#REF!,8),ROUND('Tabla de Amortizacion'!K105,8))))))","v":{"$error":"#REF!"}}]
["2031-08-16",5.3444800000000004E-3,{"$f":"+VLOOKUP(A105,'Tabla de Amortizacion'!$D$2:$I$182,MATCH(Tablas!$B$1,'Tabla de Amortizacion'!$D$2:$I$2,0))","v":5.3444800000000004E-3},null,{"$f":"IF(CALCULADORA!#REF!=\"Contractual\",ROUND('Tabla de Amortizacion'!C106,8),IF(CALCULADORA!#REF!=\"6% (Medio)\",ROUND('Tabla de Amortizacion'!F106,8),IF(CALCULADORA!#REF!=\"10% (Medio Alto)\",ROUND('Tabla de Amortizacion'!H106,8),IF(CALCULADORA!#REF!=\"14% (Alto)\",ROUND('Tabla de Amortizacion'!#REF!,8),IF(CALCULADORA!#REF!=20%,ROUND('Tabla de Amortizacion'!#REF!,8),ROUND('Tabla de Amortizacion'!K106,8))))))","v":{"$error":"#REF!"}}]
["2031-09-16",5.3076699999999996E-3,{"$f":"+VLOOKUP(A106,'Tabla de Amortizacion'!$D$2:$I$182,MATCH(Tablas!$B$1,'Tabla de Amortizacion'!$D$2:$I$2,0))","v":5.3076699999999996E-3},null,{"$f":"IF(CALCULADORA!#REF!=\"Contractual\",ROUND('Tabla de Amortizacion'!C107,8),IF(CALCULADORA!#REF!=\"6% (Medio)\",ROUND('Tabla de Amortizacion'!F107,8),IF(CALCULADORA!#REF!=\"10% (Medio Alto)\",ROUND('Tabla de Amortizacion'!H107,8),IF(CALCULADORA!#REF!=\"14% (Alto)\",ROUND('Tabla de Amortizacion'!#REF!,8),IF(CALCULADORA!#REF!=20%,ROUND('Tabla de Amortizacion'!#REF!,8),ROUND('Tabla de Amortizacion'!K107,8))))))","v":{"$error":"#REF!"}}]
["2031-10-16",5.2732200000000003E-3,{"$f":"+VLOOKUP(A107,'Tabla de Amortizacion'!$D$2:$I$182,MATCH(Tablas!$B$1,'Tabla de Amortizacion'!$D$2:$I$2,0))","v":5.2732200000000003E-3},null,{"$f":"IF(CALCULADORA!#REF!=\"Contractual\",ROUND('Tabla de Amortizacion'!C108,8),IF(CALCULADORA!#REF!=\"6% (Medio)\",ROUND('Tabla de Amortizacion'!F108,8),IF(CALCULADORA!#REF!=\"10% (Medio Alto)\",ROUND('Tabla de Amortizacion'!H108,8),IF(CALCULADORA!#REF!=\"14% (Alto)\",ROUND('Tabla de Amortizacion'!#REF!,8),IF(CALCULADORA!#REF!=20%,ROUND('Tabla de Amortizacion'!#REF!,8),ROUND('Tabla de Amortizacion'!K108,8))))))","v":{"$error":"#REF!"}}]
["2031-11-16",5.2463900000000001E-3,{"$f":"+VLOOKUP(A108,'Tabla de Amortizacion'!$D$2:$I$182,MATCH(Tablas!$B$1,'Tabla de Amortizacion'!$D$2:$I$2,0))","v":5.2463900000000001E-3},null,{"$f":"IF(CALCULADORA!#REF!=\"Contractual\",ROUND('Tabla de Amortizacion'!C109,8),IF(CALCULADORA!#REF!=\"6% (Medio)\",ROUND('Tabla de Amortizacion'!F109,8),IF(CALCULADORA!#REF!=\"10% (Medio Alto)\",ROUND('Tabla de Amortizacion'!H109,8),IF(CALCULADORA!#REF!=\"14% (Alto)\",ROUND('Tabla de Amortizacion'!#REF!,8),IF(CALCULADORA!#REF!=20%,ROUND('Tabla de Amortizacion'!#REF!,8),ROUND('Tabla de Amortizacion'!K109,8))))))","v":{"$error":"#REF!"}}]
["2031-12-16",4.0574000000000001E-3,{"$f":"+VLOOKUP(A109,'Tabla de Amortizacion'!$D$2:$I$182,MATCH(Tablas!$B$1,'Tabla de Amortizacion'!$D$2:$I$2,0))","v":4.0574000000000001E-3},null,{"$f":"IF(CALCULADORA!#REF!=\"Contractual\",ROUND('Tabla de Amortizacion'!C110,8),IF(CALCULADORA!#REF!=\"6% (Medio)\",ROUND('Tabla de Amortizacion'!F110,8),IF(CALCULADORA!#REF!=\"10% (Medio Alto)\",ROUND('Tabla de Amortizacion'!H110,8),IF(CALCULADORA!#REF!=\"14% (Alto)\",ROUND('Tabla de Amortizacion'!#REF!,8),IF(CALCULADORA!#REF!=20%,ROUND('Tabla de Amortizacion'!#REF!,8),ROUND('Tabla de Amortizacion'!K110,8))))))","v":{"$error":"#REF!"}}]
["2032-01-16",5.1535799999999996E-3,{"$f":"+VLOOKUP(A110,'Tabla de Amortizacion'!$D$2:$I$182,MATCH(Tablas!$B$1,'Tabla de Amortizacion'!$D$2:$I$2,0))","v":5.1535799999999996E-3},null,{"$f":"IF(CALCULADORA!#REF!=\"Contractual\",ROUND('Tabla de Amortizacion'!C111,8),IF(CALCULADORA!#REF!=\"6% (Medio)\",ROUND('Tabla de Amortizacion'!F111,8),IF(CALCULADORA!#REF!=\"10% (Medio Alto)\",ROUND('Tabla de Amortizacion'!H111,8),IF(CALCULADORA!#REF!=\"14% (Alto)\",ROUND('Tabla de Amortizacion'!#REF!,8),IF(CALCULADORA!#REF!=20%,ROUND('Tabla de Amortizacion'!#REF!,8),ROUND('Tabla de Amortizacion'!K111,8))))))","v":{"$error":"#REF!"}}]
["2032-02-16",5.0872699999999996E-3,{"$f":"+VLOOKUP(A111,'Tabla de Amortizacion'!$D$2:$I$182,MATCH(Tablas!$B$1,'Tabla de Amortizacion'!$D$2:$I$2,0))","v":5.0872699999999996E-3},null,{"$f":"IF(CALCULADORA!#REF!=\"Contractual\",ROUND('Tabla de Amortizacion'!C112,8),IF(CALCULADORA!#REF!=\"6% (Medio)\",ROUND('Tabla de Amortizacion'!F112,8),IF(CALCULADORA!#REF!=\"10% (Medio Alto)\",ROUND('Tabla de Amortizacion'!H112,8),IF(CALCULADORA!#REF!=\"14% (Alto)\",ROUND('Tabla de Amortizacion'!#REF!,8),IF(CALCULADORA!#REF!=20%,ROUND('Tabla de Amortizacion'!#REF!,8),ROUND('Tabla de Amortizacion'!K112,8))))))","v":{"$error":"#REF!"}}]
["2032-03-16",5.0219100000000001E-3,{"$f":"+VLOOKUP(A112,'Tabla de Amortizacion'!$D$2:$I$182,MATCH(Tablas!$B$1,'Tabla de Amortizacion'!$D$2:$I$2,0))","v":5.0219100000000001E-3},null,{"$f":"IF(CALCULADORA!#REF!=\"Contractual\",ROUND('Tabla de Amortizacion'!C113,8),IF(CALCULADORA!#REF!=\"6% (Medio)\",ROUND('Tabla de Amortizacion'!F113,8),IF(CALCULADORA!#REF!=\"10% (Medio Alto)\",ROUND('Tabla de Amortizacion'!H113,8),IF(CALCULADORA!#REF!=\"14% (Alto)\",ROUND('Tabla de Amortizacion'!#REF!,8),IF(CALCULADORA!#REF!=20%,ROUND('Tabla de Amortizacion'!#REF!,8),ROUND('Tabla de Amortizacion'!K113,8))))))","v":{"$error":"#REF!"}}]
["2032-04-16",3.9646000000000004E-3,{"$f":"+VLOOKUP(A113,'Tabla de Amortizacion'!$D$2:$I$182,MATCH(Tablas!$B$1,'Tabla de Amortizacion'!$D$2:$I$2,0))","v":3.9646000000000004E-3},null,{"$f":"IF(CALCULADORA!#REF!=\"Contractual\",ROUND('Tabla de Amortizacion'!C114,8),IF(CALCULADORA!#REF!=\"6% (Medio)\",ROUND('Tabla de Amortizacion'!F114,8),IF(CALCULADORA!#REF!=\"10% (Medio Alto)\",ROUND('Tabla de Amortizacion'!H114,8),IF(CALCULADORA!#REF!=\"14% (Alto)\",ROUND('Tabla de Amortizacion'!#REF!,8),IF(CALCULADORA!#REF!=20%,ROUND('Tabla de Amortizacion'!#REF!,8),ROUND('Tabla de Amortizacion'!K114,8))))))","v":{"$error":"#REF!"}}]
["2032-05-16",3.49125E-3,{"$f":"+VLOOKUP(A114,'Tabla de Amortizacion'!$D$2:$I$182,MATCH(Tablas!$B$1,'Tabla de Amortizacion'!$D$2:$I$2,0))","v":3.49125E-3},null,{"$f":"IF(CALCULADORA!#REF!=\"Contractual\",ROUND('Tabla de Amortizacion'!C115,8),IF(CALCULADORA!#REF!=\"6% (Medio)\",ROUND('Tabla de Amortizacion'!F115,8),IF(CALCULADORA!#REF!=\"10% (Medio Alto)\",ROUND('Tabla de Amortizacion'!H115,8),IF(CALCULADORA!#REF!=\"14% (Alto)\",ROUND('Tabla de Amortizacion'!#REF!,8),IF(CALCULADORA!#REF!=20%,ROUND('Tabla de Amortizacion'!#REF!,8),ROUND('Tabla de Amortizacion'!K115,8))))))","v":{"$error":"#REF!"}}]
["2032-06-16",3.4118400000000002E-3,{"$f":"+VLOOKUP(A115,'Tabla de Amortizacion'!$D$2:$I$182,MATCH(Tablas!$B$1,'Tabla de Amortizacion'!$D$2:$I$2,0))","v":3.4118400000000002E-3},null,{"$f":"IF(CALCULADORA!#REF!=\"Contractual\",ROUND('Tabla de Amortizacion'!C116,8),IF(CALCULADORA!#REF!=\"6% (Medio)\",ROUND('Tabla de Amortizacion'!F116,8),IF(CALCULADORA!#REF!=\"10% (Medio Alto)\",ROUND('Tabla de Amortizacion'!H116,8),IF(CALCULADORA!#REF!=\"14% (Alto)\",ROUND('Tabla de Amortizacion'!#REF!,8),IF(CALCULADORA!#REF!=20%,ROUND('Tabla de Amortizacion'!#REF!,8),ROUND('Tabla de Amortizacion'!K116,8))))))","v":{"$error":"#REF!"}}]
["2032-07-16",3.3483599999999999E-3,{"$f":"+VLOOKUP(A116,'Tabla de Amortizacion'!$D$2:$I$182,MATCH(Tablas!$B$1,'Tabla de Amortizacion'!$D$2:$I$2,0))","v":3.3483599999999999E-3},null,{"$f":"IF(CALCULADORA!#REF!=\"Contractual\",ROUND('Tabla de Amortizacion'!C117,8),IF(CALCULADORA!#REF!=\"6% (Medio)\",ROUND('Tabla de Amortizacion'!F117,8),IF(CALCULADORA!#REF!=\"10% (Medio Alto)\",ROUND('Tabla de Amortizacion'!H117,8),IF(CALCULADORA!#REF!=\"14% (Alto)\",ROUND('Tabla de Amortizacion'!#REF!,8),IF(CALCULADORA!#REF!=20%,ROUND('Tabla de Amortizacion'!#REF!,8),ROUND('Tabla de Amortizacion'!K117,8))))))","v":{"$error":"#REF!"}}]
["2032-08-16",3.28999E-3,{"$f":"+VLOOKUP(A117,'Tabla de Amortizacion'!$D$2:$I$182,MATCH(Tablas!$B$1,'Tabla de Amortizacion'!$D$2:$I$2,0))","v":3.28999E-3},null,{"$f":"IF(CALCULADORA!#REF!=\"Contractual\",ROUND('Tabla de Amortizacion'!C118,8),IF(CALCULADORA!#REF!=\"6% (Medio)\",ROUND('Tabla de Amortizacion'!F118,8),IF(CALCULADORA!#REF!=\"10% (Medio Alto)\",ROUND('Tabla de Amortizacion'!H118,8),IF(CALCULADORA!#REF!=\"14% (Alto)\",ROUND('Tabla de Amortizacion'!#REF!,8),IF(CALCULADORA!#REF!=20%,ROUND('Tabla de Amortizacion'!#REF!,8),ROUND('Tabla de Amortizacion'!K118,8))))))","v":{"$error":"#REF!"}}]
["2032-09-16",3.2190000000000001E-3,{"$f":"+VLOOKUP(A118,'Tabla de Amortizacion'!$D$2:$I$182,MATCH(Tablas!$B$1,'Tabla de Amortizacion'!$D$2:$I$2,0))","v":3.2190000000000001E-3},null,{"$f":"IF(CALCULADORA!#REF!=\"Contractual\",ROUND('Tabla de Amortizacion'!C119,8),IF(CALCULADORA!#REF!=\"6% (Medio)\",ROUND('Tabla de Amortizacion'!F119,8),IF(CALCULADORA!#REF!=\"10% (Medio Alto)\",ROUND('Tabla de Amortizacion'!H119,8),IF(CALCULADORA!#REF!=\"14% (Alto)\",ROUND('Tabla de Amortizacion'!#REF!,8),IF(CALCULADORA!#REF!=20%,ROUND('Tabla de Amortizacion'!#REF!,8),ROUND('Tabla de Amortizacion'!K119,8))))))","v":{"$error":"#REF!"}}]
["2032-10-16",3.1506500000000001E-3,{"$f":"+VLOOKUP(A119,'Tabla de Amortizacion'!$D$2:$I$182,MATCH(Tablas!$B$1,'Tabla de Amortizacion'!$D$2:$I$2,0))","v":3.1506500000000001E-3},null,{"$f":"IF(CALCULADORA!#REF!=\"Contractual\",ROUND('Tabla de Amortizacion'!C120,8),IF(CALCULADORA!#REF!=\"6% (Medio)\",ROUND('Tabla de Amortizacion'!F120,8),IF(CALCULADORA!#REF!=\"10% (Medio Alto)\",ROUND('Tabla de Amortizacion'!H120,8),IF(CALCULADORA!#REF!=\"14% (Alto)\",ROUND('Tabla de Amortizacion'!#REF!,8),IF(CALCULADORA!#REF!=20%,ROUND('Tabla de Amortizacion'!#REF!,8),ROUND('Tabla de Amortizacion'!K120,8))))))","v":{"$error":"#REF!"}}]
["2032-11-16",2.9396700000000001E-3,{"$f":"+VLOOKUP(A120,'Tabla de Amortizacion'!$D$2:$I$182,MATCH(Tablas!$B$1,'Tabla de Amortizacion'!$D$2:$I$2,0))","v":2.9396700000000001E-3},null,{"$f":"IF(CALCULADORA!#REF!=\"Contractual\",ROUND('Tabla de Amortizacion'!C121,8),IF(CALCULADORA!#REF!=\"6% (Medio)\",ROUND('Tabla de Amortizacion'!F121,8),IF(CALCULADORA!#REF!=\"10% (Medio Alto)\",ROUND('Tabla de Amortizacion'!H121,8),IF(CALCULADORA!#REF!=\"14% (Alto)\",ROUND('Tabla de Amortizacion'!#REF!,8),IF(CALCULADORA!#REF!=20%,ROUND('Tabla de Amortizacion'!#REF!,8),ROUND('Tabla de Amortizacion'!K121,8))))))","v":{"$error":"#REF!"}}]
["2032-12-16",2.9396700000000001E-3,{"$f":"+VLOOKUP(A121,'Tabla de Amortizacion'!$D$2:$I$182,MATCH(Tablas!$B$1,'Tabla de Amortizacion'!$D$2:$I$2,0))","v":2.9396700000000001E-3},null,{"$f":"IF(CALCULADORA!#REF!=\"Contractual\",ROUND('Tabla de Amortizacion'!C122,8),IF(CALCULADORA!#REF!=\"6% (Medio)\",ROUND('Tabla de Amortizacion'!F122,8),IF(CALCULADORA!#REF!=\"10% (Medio Alto)\",ROUND('Tabla de Amortizacion'!H122,8),IF(CALCULADORA!#REF!=\"14% (Alto)\",ROUND('Tabla de Amortizacion'!#REF!,8),IF(CALCULADORA!#REF!=20%,ROUND('Tabla de Amortizacion'!#REF!,8),ROUND('Tabla de Amortizacion'!K122,8))))))","v":{"$error":"#REF!"}}]
["2033-01-16",2.9396700000000001E-3,{"$f":"+VLOOKUP(A122,'Tabla de Amortizacion'!$D$2:$I$182,MATCH(Tablas!$B$1,'Tabla de Amortizacion'!$D$2:$I$2,0))","v":2.9396700000000001E-3},null,{"$f":"IF(CALCULADORA!#REF!=\"Contractual\",ROUND('Tabla de Amortizacion'!C123,8),IF(CALCULADORA!#REF!=\"6% (Medio)\",ROUND('Tabla de Amortizacion'!F123,8),IF(CALCULADORA!#REF!=\"10% (Medio Alto)\",ROUND('Tabla de Amortizacion'!H123,8),IF(CALCULADORA!#REF!=\"14% (Alto)\",ROUND('Tabla de Amortizacion'!#REF!,8),IF(CALCULADORA!#REF!=20%,ROUND('Tabla de Amortizacion'!#REF!,8),ROUND('Tabla de Amortizacion'!K123,8))))))","v":{"$error":"#REF!"}}]
["2033-02-16",2.9396700000000001E-3,{"$f":"+VLOOKUP(A123,'Tabla de Amortizacion'!$D$2:$I$182,MATCH(Tablas!$B$1,'Tabla de Amortizacion'!$D$2:$I$2,0))","v":2.9396700000000001E-3},null,{"$f":"IF(CALCULADORA!#REF!=\"Contractual\",ROUND('Tabla de Amortizacion'!C124,8),IF(CALCULADORA!#REF!=\"6% (Medio)\",ROUND('Tabla de Amortizacion'!F124,8),IF(CALCULADORA!#REF!=\"10% (Medio Alto)\",ROUND('Tabla de Amortizacion'!H124,8),IF(CALCULADORA!#REF!=\"14% (Alto)\",ROUND('Tabla de Amortizacion'!#REF!,8),IF(CALCULADORA!#REF!=20%,ROUND('Tabla de Amortizacion'!#REF!,8),ROUND('Tabla de Amortizacion'!K124,8))))))","v":{"$error":"#REF!"}}]
["2033-03-16",2.9396700000000001E-3,{"$f":"+VLOOKUP(A124,'Tabla de Amortizacion'!$D$2:$I$182,MATCH(Tablas!$B$1,'Tabla de Amortizacion'!$D$2:$I$2,0))","v":2.9396700000000001E-3},null,{"$f":"IF(CALCULADORA!#REF!=\"Contractual\",ROUND('Tabla de Amortizacion'!C125,8),IF(CALCULADORA!#REF!=\"6% (Medio)\",ROUND('Tabla de Amortizacion'!F125,8),IF(CALCULADORA!#REF!=\"10% (Medio Alto)\",ROUND('Tabla de Amortizacion'!H125,8),IF(CALCULADORA!#REF!=\"14% (Alto)\",ROUND('Tabla de Amortizacion'!#REF!,8),IF(CALCULADORA!#REF!=20%,ROUND('Tabla de Amortizacion'!#REF!,8),ROUND('Tabla de Amortizacion'!K125,8))))))","v":{"$error":"#REF!"}}]
["2033-04-16",2.9396700000000001E-3,{"$f":"+VLOOKUP(A125,'Tabla de Amortizacion'!$D$2:$I$182,MATCH(Tablas!$B$1,'Tabla de Amortizacion'!$D$2:$I$2,0))","v":2.9396700000000001E-3},null,{"$f":"IF(CALCULADORA!#REF!=\"Contractual\",ROUND('Tabla de Amortizacion'!C126,8),IF(CALCULADORA!#REF!=\"6% (Medio)\",ROUND('Tabla de Amortizacion'!F126,8),IF(CALCULADORA!#REF!=\"10% (Medio Alto)\",ROUND('Tabla de Amortizacion'!H126,8),IF(CALCULADORA!#REF!=\"14% (Alto)\",ROUND('Tabla de Amortizacion'!#REF!,8),IF(CALCULADORA!#REF!=20%,ROUND('Tabla de Amortizacion'!#REF!,8),ROUND('Tabla de Amortizacion'!K126,8))))))","v":{"$error":"#REF!"}}]
["2033-05-16",2.9396700000000001E-3,{"$f":"+VLOOKUP(A126,'Tabla de Amortizacion'!$D$2:$I$182,MATCH(Tablas!$B$1,'Tabla de Amortizacion'!$D$2:$I$2,0))","v":2.9396700000000001E-3},null,{"$f":"IF(CALCULADORA!#REF!=\"Contractual\",ROUND('Tabla de Amortizacion'!C127,8),IF(CALCULADORA!#REF!=\"6% (Medio)\",ROUND('Tabla de Amortizacion'!F127,8),IF(CALCULADORA!#REF!=\"10% (Medio Alto)\",ROUND('Tabla de Amortizacion'!H127,8),IF(CALCULADORA!#REF!=\"14% (Alto)\",ROUND('Tabla de Amortizacion'!#REF!,8),IF(CALCULADORA!#REF!=20%,ROUND('Tabla de Amortizacion'!#REF!,8),ROUND('Tabla de Amortizacion'!K127,8))))))","v":{"$error":"#REF!"}}]
["2033-06-16",2.74348E-3,{"$f":"+VLOOKUP(A127,'Tabla de Amortizacion'!$D$2:$I$182,MATCH(Tablas!$B$1,'Tabla de Amortizacion'!$D$2:$I$2,0))","v":2.74348E-3},null,{"$f":"IF(CALCULADORA!#REF!=\"Contractual\",ROUND('Tabla de Amortizacion'!C128,8),IF(CALCULADORA!#REF!=\"6% (Medio)\",ROUND('Tabla de Amortizacion'!F128,8),IF(CALCULADORA!#REF!=\"10% (Medio Alto)\",ROUND('Tabla de Amortizacion'!H128,8),IF(CALCULADORA!#REF!=\"14% (Alto)\",ROUND('Tabla de Amortizacion'!#REF!,8),IF(CALCULADORA!#REF!=20%,ROUND('Tabla de Amortizacion'!#REF!,8),ROUND('Tabla de Amortizacion'!K128,8))))))","v":{"$error":"#REF!"}}]
["2033-07-16",2.74348E-3,{"$f":"+VLOOKUP(A128,'Tabla de Amortizacion'!$D$2:$I$182,MATCH(Tablas!$B$1,'Tabla de Amortizacion'!$D$2:$I$2,0))","v":2.74348E-3},null,{"$f":"IF(CALCULADORA!#REF!=\"Contractual\",ROUND('Tabla de Amortizacion'!C129,8),IF(CALCULADORA!#REF!=\"6% (Medio)\",ROUND('Tabla de Amortizacion'!F129,8),IF(CALCULADORA!#REF!=\"10% (Medio Alto)\",ROUND('Tabla de Amortizacion'!H129,8),IF(CALCULADORA!#REF!=\"14% (Alto)\",ROUND('Tabla de Amortizacion'!#REF!,8),IF(CALCULADORA!#REF!=20%,ROUND('Tabla de Amortizacion'!#REF!,8),ROUND('Tabla de Amortizacion'!K129,8))))))","v":{"$error":"#REF!"}}]
["2033-08-16",2.74348E-3,{"$f":"+VLOOKUP(A129,'Tabla de Amortizacion'!$D$2:$I$182,MATCH(Tablas!$B$1,'Tabla de Amortizacion'!$D$2:$I$2,0))","v":2.74348E-3},null,{"$f":"IF(CALCULADORA!#REF!=\"Contractual\",ROUND('Tabla de Amortizacion'!C130,8),IF(CALCULADORA!#REF!=\"6% (Medio)\",ROUND('Tabla de Amortizacion'!F130,8),IF(CALCULADORA!#REF!=\"10% (Medio Alto)\",ROUND('Tabla de Amortizacion'!H130,8),IF(CALCULADORA!#REF!=\"14% (Alto)\",ROUND('Tabla de Amortizacion'!#REF!,8),IF(CALCULADORA!#REF!=20%,ROUND('Tabla de Amortizacion'!#REF!,8),ROUND('Tabla de Amortizacion'!K130,8))))))","v":{"$error":"#REF!"}}]
["2033-09-16",2.74348E-3,{"$f":"+VLOOKUP(A130,'Tabla de Amortizacion'!$D$2:$I$182,MATCH(Tablas!$B$1,'Tabla de Amortizacion'!$D$2:$I$2,0))","v":2.74348E-3},null,{"$f":"IF(CALCULADORA!#REF!=\"Contractual\",ROUND('Tabla de Amortizacion'!C131,8),IF(CALCULADORA!#REF!=\"6% (Medio)\",ROUND('Tabla de Amortizacion'!F131,8),IF(CALCULADORA!#REF!=\"10% (Medio Alto)\",ROUND('Tabla de Amortizacion'!H131,8),IF(CALCULADORA!#REF!=\"14% (Alto)\",ROUND('Tabla de Amortizacion'!#REF!,8),IF(CALCULADORA!#REF!=20%,ROUND('Tabla de Amortizacion'!#REF!,8),ROUND('Tabla de Amortizacion'!K131,8))))))","v":{"$error":"#REF!"}}]
[{"$f":"EDATE(A130,1)","v":"2033-10-16"},{"$f":"+ROUND(C131,8)","v":2.74348E-3},{"$f":"+VLOOKUP(A131,'Tabla de Amortizacion'!$D$2:$I$182,MATCH(Tablas!$B$1,'Tabla de Amortizacion'!$D$2:$I$2,0))","v":2.74348E-3},null,{"$f":"IF(CALCULADORA!#REF!=\"Contractual\",ROUND('Tabla de Amortizacion'!C132,8),IF(CALCULADORA!#REF!=\"6% (Medio)\",ROUND('Tabla de Amortizacion'!F132,8),IF(CALCULADORA!#REF!=\"10% (Medio Alto)\",ROUND('Tabla de Amortizacion'!H132,8),IF(CALCULADORA!#REF!=\"14% (Alto)\",ROUND('Tabla de Amortizacion'!#REF!,8),IF(CALCULADORA!#REF!=20%,ROUND('Tabla de Amortizacion'!#REF!,8),ROUND('Tabla de Amortizacion'!K132,8))))))","v":{"$error":"#REF!"}}]
["2033-11-16",2.74348E-3,{"$f":"+VLOOKUP(A132,'Tabla de Amortizacion'!$D$2:$I$182,MATCH(Tablas!$B$1,'Tabla de Amortizacion'!$D$2:$I$2,0))","v":2.74348E-3},null,{"$f":"IF(CALCULADORA!#REF!=\"Contractual\",ROUND('Tabla de Amortizacion'!C133,8),IF(CALCULADORA!#REF!=\"6% (Medio)\",ROUND('Tabla de Amortizacion'!F133,8),IF(CALCULADORA!#REF!=\"10% (Medio Alto)\",ROUND('Tabla de Amortizacion'!H133,8),IF(CALCULADORA!#REF!=\"14% (Alto)\",ROUND('Tabla de Amortizacion'!#REF!,8),IF(CALCULADORA!#REF!=20%,ROUND('Tabla de Amortizacion'!#REF!,8),ROUND('Tabla de Amortizacion'!K133,8))))))","v":{"$error":"#REF!"}}]
["2033-12-16",2.74347E-3,{"$f":"+VLOOKUP(A133,'Tabla de Amortizacion'!$D$2:$I$182,MATCH(Tablas!$B$1,'Tabla de Amortizacion'!$D$2:$I$2,0))","v":2.74347E-3},null,{"$f":"IF(CALCULADORA!#REF!=\"Contractual\",ROUND('Tabla de Amortizacion'!C134,8),IF(CALCULADORA!#REF!=\"6% (Medio)\",ROUND('Tabla de Amortizacion'!F134,8),IF(CALCULADORA!#REF!=\"10% (Medio Alto)\",ROUND('Tabla de Amortizacion'!H134,8),IF(CALCULADORA!#REF!=\"14% (Alto)\",ROUND('Tabla de Amortizacion'!#REF!,8),IF(CALCULADORA!#REF!=20%,ROUND('Tabla de Amortizacion'!#REF!,8),ROUND('Tabla de Amortizacion'!K134,8))))))","v":{"$error":"#REF!"}}]
["2034-01-16",0,{"$f":"+VLOOKUP(A134,'Tabla de Amortizacion'!$D$2:$I$182,MATCH(Tablas!$B$1,'Tabla de Amortizacion'!$D$2:$I$2,0))","v":0},null,{"$f":"IF(CALCULADORA!#REF!=\"Contractual\",ROUND('Tabla de Amortizacion'!C135,8),IF(CALCULADORA!#REF!=\"6% (Medio)\",ROUND('Tabla de Amortizacion'!F135,8),IF(CALCULADORA!#REF!=\"10% (Medio Alto)\",ROUND('Tabla de Amortizacion'!H135,8),IF(CALCULADORA!#REF!=\"14% (Alto)\",ROUND('Tabla de Amortizacion'!#REF!,8),IF(CALCULADORA!#REF!=20%,ROUND('Tabla de Amortizacion'!#REF!,8),ROUND('Tabla de Amortizacion'!K135,8))))))","v":{"$error":"#REF!"}}]
["2034-02-16",0,{"$f":"+VLOOKUP(A135,'Tabla de Amortizacion'!$D$2:$I$182,MATCH(Tablas!$B$1,'Tabla de Amortizacion'!$D$2:$I$2,0))","v":0},null,{"$f":"IF(CALCULADORA!#REF!=\"Contractual\",ROUND('Tabla de Amortizacion'!C136,8),IF(CALCULADORA!#REF!=\"6% (Medio)\",ROUND('Tabla de Amortizacion'!F136,8),IF(CALCULADORA!#REF!=\"10% (Medio Alto)\",ROUND('Tabla de Amortizacion'!H136,8),IF(CALCULADORA!#REF!=\"14% (Alto)\",ROUND('Tabla de Amortizacion'!#REF!,8),IF(CALCULADORA!#REF!=20%,ROUND('Tabla de Amortizacion'!#REF!,8),ROUND('Tabla de Amortizacion'!K136,8))))))","v":{"$error":"#REF!"}}]
["2034-03-16",0,{"$f":"+VLOOKUP(A136,'Tabla de Amortizacion'!$D$2:$I$182,MATCH(Tablas!$B$1,'Tabla de Amortizacion'!$D$2:$I$2,0))","v":0},null,{"$f":"IF(CALCULADORA!#REF!=\"Contractual\",ROUND('Tabla de Amortizacion'!C137,8),IF(CALCULADORA!#REF!=\"6% (Medio)\",ROUND('Tabla de Amortizacion'!F137,8),IF(CALCULADORA!#REF!=\"10% (Medio Alto)\",ROUND('Tabla de Amortizacion'!H137,8),IF(CALCULADORA!#REF!=\"14% (Alto)\",ROUND('Tabla de Amortizacion'!#REF!,8),IF(CALCULADORA!#REF!=20%,ROUND('Tabla de Amortizacion'!#REF!,8),ROUND('Tabla de Amortizacion'!K137,8))))))","v":{"$error":"#REF!"}}]
["2034-04-16",0,{"$f":"+VLOOKUP(A137,'Tabla de Amortizacion'!$D$2:$I$182,MATCH(Tablas!$B$1,'Tabla de Amortizacion'!$D$2:$I$2,0))","v":0},null,{"$f":"IF(CALCULADORA!#REF!=\"Contractual\",ROUND('Tabla de Amortizacion'!C138,8),IF(CALCULADORA!#REF!=\"6% (Medio)\",ROUND('Tabla de Amortizacion'!F138,8),IF(CALCULADORA!#REF!=\"10% (Medio Alto)\",ROUND('Tabla de Amortizacion'!H138,8),IF(CALCULADORA!#REF!=\"14% (Alto)\",ROUND('Tabla de Amortizacion'!#REF!,8),IF(CALCULADORA!#REF!=20%,ROUND('Tabla de Amortizacion'!#REF!,8),ROUND('Tabla de Amortizacion'!K138,8))))))","v":{"$error":"#REF!"}}]
["2034-05-16",0,{"$f":"+VLOOKUP(A138,'Tabla de Amortizacion'!$D$2:$I$182,MATCH(Tablas!$B$1,'Tabla de Amortizacion'!$D$2:$I$2,0))","v":0},null,{"$f":"IF(CALCULADORA!#REF!=\"Contractual\",ROUND('Tabla de Amortizacion'!C139,8),IF(CALCULADORA!#REF!=\"6% (Medio)\",ROUND('Tabla de Amortizacion'!F139,8),IF(CALCULADORA!#REF!=\"10% (Medio Alto)\",ROUND('Tabla de Amortizacion'!H139,8),IF(CALCULADORA!#REF!=\"14% (Alto)\",ROUND('Tabla de Amortizacion'!#REF!,8),IF(CALCULADORA!#REF!=20%,ROUND('Tabla de Amortizacion'!#REF!,8),ROUND('Tabla de Amortizacion'!K139,8))))))","v":{"$error":"#REF!"}}]
["2034-06-16",0,{"$f":"+VLOOKUP(A139,'Tabla de Amortizacion'!$D$2:$I$182,MATCH(Tablas!$B$1,'Tabla de Amortizacion'!$D$2:$I$2,0))","v":0},null,{"$f":"IF(CALCULADORA!#REF!=\"Contractual\",ROUND('Tabla de Amortizacion'!C140,8),IF(CALCULADORA!#REF!=\"6% (Medio)\",ROUND('Tabla de Amortizacion'!F140,8),IF(CALCULADORA!#REF!=\"10% (Medio Alto)\",ROUND('Tabla de Amortizacion'!H140,8),IF(CALCULADORA!#REF!=\"14% (Alto)\",ROUND('Tabla de Amortizacion'!#REF!,8),IF(CALCULADORA!#REF!=20%,ROUND('Tabla de Amortizacion'!#REF!,8),ROUND('Tabla de Amortizacion'!K140,8))))))","v":{"$error":"#REF!"}}]
["2034-07-16",0,{"$f":"+VLOOKUP(A140,'Tabla de Amortizacion'!$D$2:$I$182,MATCH(Tablas!$B$1,'Tabla de Amortizacion'!$D$2:$I$2,0))","v":0},null,{"$f":"IF(CALCULADORA!#REF!=\"Contractual\",ROUND('Tabla de Amortizacion'!C141,8),IF(CALCULADORA!#REF!=\"6% (Medio)\",ROUND('Tabla de Amortizacion'!F141,8),IF(CALCULADORA!#REF!=\"10% (Medio Alto)\",ROUND('Tabla de Amortizacion'!H141,8),IF(CALCULADORA!#REF!=\"14% (Alto)\",ROUND('Tabla de Amortizacion'!#REF!,8),IF(CALCULADORA!#REF!=20%,ROUND('Tabla de Amortizacion'!#REF!,8),ROUND('Tabla de Amortizacion'!K141,8))))))","v":{"$error":"#REF!"}}]
["2034-08-16",0,{"$f":"+VLOOKUP(A141,'Tabla de Amortizacion'!$D$2:$I$182,MATCH(Tablas!$B$1,'Tabla de Amortizacion'!$D$2:$I$2,0))","v":0},null,{"$f":"IF(CALCULADORA!#REF!=\"Contractual\",ROUND('Tabla de Amortizacion'!C142,8),IF(CALCULADORA!#REF!=\"6% (Medio)\",ROUND('Tabla de Amortizacion'!F142,8),IF(CALCULADORA!#REF!=\"10% (Medio Alto)\",ROUND('Tabla de Amortizacion'!H142,8),IF(CALCULADORA!#REF!=\"14% (Alto)\",ROUND('Tabla de Amortizacion'!#REF!,8),IF(CALCULADORA!#REF!=20%,ROUND('Tabla de Amortizacion'!#REF!,8),ROUND('Tabla de Amortizacion'!K142,8))))))","v":{"$error":"#REF!"}}]
["2034-09-16",0,{"$f":"+VLOOKUP(A142,'Tabla de Amortizacion'!$D$2:$I$182,MATCH(Tablas!$B$1,'Tabla de Amortizacion'!$D$2:$I$2,0))","v":0},null,{"$f":"IF(CALCULADORA!#REF!=\"Contractual\",ROUND('Tabla de Amortizacion'!C143,8),IF(CALCULADORA!#REF!=\"6% (Medio)\",ROUND('Tabla de Amortizacion'!F143,8),IF(CALCULADORA!#REF!=\"10% (Medio Alto)\",ROUND('Tabla de Amortizacion'!H143,8),IF(CALCULADORA!#REF!=\"14% (Alto)\",ROUND('Tabla de Amortizacion'!#REF!,8),IF(CALCULADORA!#REF!=20%,ROUND('Tabla de Amortizacion'!#REF!,8),ROUND('Tabla de Amortizacion'!K143,8))))))","v":{"$error":"#REF!"}}]
["2034-10-16",0,{"$f":"+VLOOKUP(A143,'Tabla de Amortizacion'!$D$2:$I$182,MATCH(Tablas!$B$1,'Tabla de Amortizacion'!$D$2:$I$2,0))","v":0},null,{"$f":"IF(CALCULADORA!#REF!=\"Contractual\",ROUND('Tabla de Amortizacion'!C144,8),IF(CALCULADORA!#REF!=\"6% (Medio)\",ROUND('Tabla de Amortizacion'!F144,8),IF(CALCULADORA!#REF!=\"10% (Medio Alto)\",ROUND('Tabla de Amortizacion'!H144,8),IF(CALCULADORA!#REF!=\"14% (Alto)\",ROUND('Tabla de Amortizacion'!#REF!,8),IF(CALCULADORA!#REF!=20%,ROUND('Tabla de Amortizacion'!#REF!,8),ROUND('Tabla de Amortizacion'!K144,8))))))","v":{"$error":"#REF!"}}]
["2034-11-16",0,{"$f":"+VLOOKUP(A144,'Tabla de Amortizacion'!$D$2:$I$182,MATCH(Tablas!$B$1,'Tabla de Amortizacion'!$D$2:$I$2,0))","v":0},null,{"$f":"IF(CALCULADORA!#REF!=\"Contractual\",ROUND('Tabla de Amortizacion'!C145,8),IF(CALCULADORA!#REF!=\"6% (Medio)\",ROUND('Tabla de Amortizacion'!F145,8),IF(CALCULADORA!#REF!=\"10% (Medio Alto)\",ROUND('Tabla de Amortizacion'!H145,8),IF(CALCULADORA!#REF!=\"14% (Alto)\",ROUND('Tabla de Amortizacion'!#REF!,8),IF(CALCULADORA!#REF!=20%,ROUND('Tabla de Amortizacion'!#REF!,8),ROUND('Tabla de Amortizacion'!K145,8))))))","v":{"$error":"#REF!"}}]
["2034-12-16",0,{"$f":"+VLOOKUP(A145,'Tabla de Amortizacion'!$D$2:$I$182,MATCH(Tablas!$B$1,'Tabla de Amortizacion'!$D$2:$I$2,0))","v":0},null,{"$f":"IF(CALCULADORA!#REF!=\"Contractual\",ROUND('Tabla de Amortizacion'!C146,8),IF(CALCULADORA!#REF!=\"6% (Medio)\",ROUND('Tabla de Amortizacion'!F146,8),IF(CALCULADORA!#REF!=\"10% (Medio Alto)\",ROUND('Tabla de Amortizacion'!H146,8),IF(CALCULADORA!#REF!=\"14% (Alto)\",ROUND('Tabla de Amortizacion'!#REF!,8),IF(CALCULADORA!#REF!=20%,ROUND('Tabla de Amortizacion'!#REF!,8),ROUND('Tabla de Amortizacion'!K146,8))))))","v":{"$error":"#REF!"}}]
["2035-01-16",0,{"$f":"+VLOOKUP(A146,'Tabla de Amortizacion'!$D$2:$I$182,MATCH(Tablas!$B$1,'Tabla de Amortizacion'!$D$2:$I$2,0))","v":0},null,{"$f":"IF(CALCULADORA!#REF!=\"Contractual\",ROUND('Tabla de Amortizacion'!C147,8),IF(CALCULADORA!#REF!=\"6% (Medio)\",ROUND('Tabla de Amortizacion'!F147,8),IF(CALCULADORA!#REF!=\"10% (Medio Alto)\",ROUND('Tabla de Amortizacion'!H147,8),IF(CALCULADORA!#REF!=\"14% (Alto)\",ROUND('Tabla de Amortizacion'!#REF!,8),IF(CALCULADORA!#REF!=20%,ROUND('Tabla de Amortizacion'!#REF!,8),ROUND('Tabla de Amortizacion'!K147,8))))))","v":{"$error":"#REF!"}}]
["2035-02-16",0,{"$f":"+VLOOKUP(A147,'Tabla de Amortizacion'!$D$2:$I$182,MATCH(Tablas!$B$1,'Tabla de Amortizacion'!$D$2:$I$2,0))","v":0},null,{"$f":"IF(CALCULADORA!#REF!=\"Contractual\",ROUND('Tabla de Amortizacion'!C148,8),IF(CALCULADORA!#REF!=\"6% (Medio)\",ROUND('Tabla de Amortizacion'!F148,8),IF(CALCULADORA!#REF!=\"10% (Medio Alto)\",ROUND('Tabla de Amortizacion'!H148,8),IF(CALCULADORA!#REF!=\"14% (Alto)\",ROUND('Tabla de Amortizacion'!#REF!,8),IF(CALCULADORA!#REF!=20%,ROUND('Tabla de Amortizacion'!#REF!,8),ROUND('Tabla de Amortizacion'!K148,8))))))","v":{"$error":"#REF!"}}]
["2035-03-16",0,{"$f":"+VLOOKUP(A148,'Tabla de Amortizacion'!$D$2:$I$182,MATCH(Tablas!$B$1,'Tabla de Amortizacion'!$D$2:$I$2,0))","v":0},null,{"$f":"IF(CALCULADORA!#REF!=\"Contractual\",ROUND('Tabla de Amortizacion'!C149,8),IF(CALCULADORA!#REF!=\"6% (Medio)\",ROUND('Tabla de Amortizacion'!F149,8),IF(CALCULADORA!#REF!=\"10% (Medio Alto)\",ROUND('Tabla de Amortizacion'!H149,8),IF(CALCULADORA!#REF!=\"14% (Alto)\",ROUND('Tabla de Amortizacion'!#REF!,8),IF(CALCULADORA!#REF!=20%,ROUND('Tabla de Amortizacion'!#REF!,8),ROUND('Tabla de Amortizacion'!K149,8))))))","v":{"$error":"#REF!"}}]
["2035-04-16",0,{"$f":"+VLOOKUP(A149,'Tabla de Amortizacion'!$D$2:$I$182,MATCH(Tablas!$B$1,'Tabla de Amortizacion'!$D$2:$I$2,0))","v":0},null,{"$f":"IF(CALCULADORA!#REF!=\"Contractual\",ROUND('Tabla de Amortizacion'!C150,8),IF(CALCULADORA!#REF!=\"6% (Medio)\",ROUND('Tabla de Amortizacion'!F150,8),IF(CALCULADORA!#REF!=\"10% (Medio Alto)\",ROUND('Tabla de Amortizacion'!H150,8),IF(CALCULADORA!#REF!=\"14% (Alto)\",ROUND('Tabla de Amortizacion'!#REF!,8),IF(CALCULADORA!#REF!=20%,ROUND('Tabla de Amortizacion'!#REF!,8),ROUND('Tabla de Amortizacion'!K150,8))))))","v":{"$error":"#REF!"}}]
["2035-05-16",0,{"$f":"+VLOOKUP(A150,'Tabla de Amortizacion'!$D$2:$I$182,MATCH(Tablas!$B$1,'Tabla de Amortizacion'!$D$2:$I$2,0))","v":0},null,{"$f":"IF(CALCULADORA!#REF!=\"Contractual\",ROUND('Tabla de Amortizacion'!C151,8),IF(CALCULADORA!#REF!=\"6% (Medio)\",ROUND('Tabla de Amortizacion'!F151,8),IF(CALCULADORA!#REF!=\"10% (Medio Alto)\",ROUND('Tabla de Amortizacion'!H151,8),IF(CALCULADORA!#REF!=\"14% (Alto)\",ROUND('Tabla de Amortizacion'!#REF!,8),IF(CALCULADORA!#REF!=20%,ROUND('Tabla de Amortizacion'!#REF!,8),ROUND('Tabla de Amortizacion'!K151,8))))))","v":{"$error":"#REF!"}}]
["2035-06-16",0,{"$f":"+VLOOKUP(A151,'Tabla de Amortizacion'!$D$2:$I$182,MATCH(Tablas!$B$1,'Tabla de Amortizacion'!$D$2:$I$2,0))","v":0},null,{"$f":"IF(CALCULADORA!#REF!=\"Contractual\",ROUND('Tabla de Amortizacion'!C152,8),IF(CALCULADORA!#REF!=\"6% (Medio)\",ROUND('Tabla de Amortizacion'!F152,8),IF(CALCULADORA!#REF!=\"10% (Medio Alto)\",ROUND('Tabla de Amortizacion'!H152,8),IF(CALCULADORA!#REF!=\"14% (Alto)\",ROUND('Tabla de Amortizacion'!#REF!,8),IF(CALCULADORA!#REF!=20%,ROUND('Tabla de Amortizacion'!#REF!,8),ROUND('Tabla de Amortizacion'!K152,8))))))","v":{"$error":"#REF!"}}]
["2035-07-16",0,{"$f":"+VLOOKUP(A152,'Tabla de Amortizacion'!$D$2:$I$182,MATCH(Tablas!$B$1,'Tabla de Amortizacion'!$D$2:$I$2,0))","v":0},null,{"$f":"IF(CALCULADORA!#REF!=\"Contractual\",ROUND('Tabla de Amortizacion'!C153,8),IF(CALCULADORA!#REF!=\"6% (Medio)\",ROUND('Tabla de Amortizacion'!F153,8),IF(CALCULADORA!#REF!=\"10% (Medio Alto)\",ROUND('Tabla de Amortizacion'!H153,8),IF(CALCULADORA!#REF!=\"14% (Alto)\",ROUND('Tabla de Amortizacion'!#REF!,8),IF(CALCULADORA!#REF!=20%,ROUND('Tabla de Amortizacion'!#REF!,8),ROUND('Tabla de Amortizacion'!K153,8))))))","v":{"$error":"#REF!"}}]
["2035-08-16",0,{"$f":"+VLOOKUP(A153,'Tabla de Amortizacion'!$D$2:$I$182,MATCH(Tablas!$B$1,'Tabla de Amortizacion'!$D$2:$I$2,0))","v":0},null,{"$f":"IF(CALCULADORA!#REF!=\"Contractual\",ROUND('Tabla de Amortizacion'!C154,8),IF(CALCULADORA!#REF!=\"6% (Medio)\",ROUND('Tabla de Amortizacion'!F154,8),IF(CALCULADORA!#REF!=\"10% (Medio Alto)\",ROUND('Tabla de Amortizacion'!H154,8),IF(CALCULADORA!#REF!=\"14% (Alto)\",ROUND('Tabla de Amortizacion'!#REF!,8),IF(CALCULADORA!#REF!=20%,ROUND('Tabla de Amortizacion'!#REF!,8),ROUND('Tabla de Amortizacion'!K154,8))))))","v":{"$error":"#REF!"}}]
["2035-09-16",0,{"$f":"+VLOOKUP(A154,'Tabla de Amortizacion'!$D$2:$I$182,MATCH(Tablas!$B$1,'Tabla de Amortizacion'!$D$2:$I$2,0))","v":0},null,{"$f":"IF(CALCULADORA!#REF!=\"Contractual\",ROUND('Tabla de Amortizacion'!C155,8),IF(CALCULADORA!#REF!=\"6% (Medio)\",ROUND('Tabla de Amortizacion'!F155,8),IF(CALCULADORA!#REF!=\"10% (Medio Alto)\",ROUND('Tabla de Amortizacion'!H155,8),IF(CALCULADORA!#REF!=\"14% (Alto)\",ROUND('Tabla de Amortizacion'!#REF!,8),IF(CALCULADORA!#REF!=20%,ROUND('Tabla de Amortizacion'!#REF!,8),ROUND('Tabla de Amortizacion'!K155,8))))))","v":{"$error":"#REF!"}}]
["2035-10-16",0,{"$f":"+VLOOKUP(A155,'Tabla de Amortizacion'!$D$2:$I$182,MATCH(Tablas!$B$1,'Tabla de Amortizacion'!$D$2:$I$2,0))","v":0},null,{"$f":"IF(CALCULADORA!#REF!=\"Contractual\",ROUND('Tabla de Amortizacion'!C156,8),IF(CALCULADORA!#REF!=\"6% (Medio)\",ROUND('Tabla de Amortizacion'!F156,8),IF(CALCULADORA!#REF!=\"10% (Medio Alto)\",ROUND('Tabla de Amortizacion'!H156,8),IF(CALCULADORA!#REF!=\"14% (Alto)\",ROUND('Tabla de Amortizacion'!#REF!,8),IF(CALCULADORA!#REF!=20%,ROUND('Tabla de Amortizacion'!#REF!,8),ROUND('Tabla de Amortizacion'!K156,8))))))","v":{"$error":"#REF!"}}]
["2035-11-16",0,{"$f":"+VLOOKUP(A156,'Tabla de Amortizacion'!$D$2:$I$182,MATCH(Tablas!$B$1,'Tabla de Amortizacion'!$D$2:$I$2,0))","v":0},null,{"$f":"IF(CALCULADORA!#REF!=\"Contractual\",ROUND('Tabla de Amortizacion'!C157,8),IF(CALCULADORA!#REF!=\"6% (Medio)\",ROUND('Tabla de Amortizacion'!F157,8),IF(CALCULADORA!#REF!=\"10% (Medio Alto)\",ROUND('Tabla de Amortizacion'!H157,8),IF(CALCULADORA!#REF!=\"14% (Alto)\",ROUND('Tabla de Amortizacion'!#REF!,8),IF(CALCULADORA!#REF!=20%,ROUND('Tabla de Amortizacion'!#REF!,8),ROUND('Tabla de Amortizacion'!K157,8))))))","v":{"$error":"#REF!"}}]
["2035-12-16",0,{"$f":"+VLOOKUP(A157,'Tabla de Amortizacion'!$D$2:$I$182,MATCH(Tablas!$B$1,'Tabla de Amortizacion'!$D$2:$I$2,0))","v":0},null,{"$f":"IF(CALCULADORA!#REF!=\"Contractual\",ROUND('Tabla de Amortizacion'!C158,8),IF(CALCULADORA!#REF!=\"6% (Medio)\",ROUND('Tabla de Amortizacion'!F158,8),IF(CALCULADORA!#REF!=\"10% (Medio Alto)\",ROUND('Tabla de Amortizacion'!H158,8),IF(CALCULADORA!#REF!=\"14% (Alto)\",ROUND('Tabla de Amortizacion'!#REF!,8),IF(CALCULADORA!#REF!=20%,ROUND('Tabla de Amortizacion'!#REF!,8),ROUND('Tabla de Amortizacion'!K158,8))))))","v":{"$error":"#REF!"}}]
["2036-01-16",0,{"$f":"+VLOOKUP(A158,'Tabla de Amortizacion'!$D$2:$I$182,MATCH(Tablas!$B$1,'Tabla de Amortizacion'!$D$2:$I$2,0))","v":0},null,{"$f":"IF(CALCULADORA!#REF!=\"Contractual\",ROUND('Tabla de Amortizacion'!C159,8),IF(CALCULADORA!#REF!=\"6% (Medio)\",ROUND('Tabla de Amortizacion'!F159,8),IF(CALCULADORA!#REF!=\"10% (Medio Alto)\",ROUND('Tabla de Amortizacion'!H159,8),IF(CALCULADORA!#REF!=\"14% (Alto)\",ROUND('Tabla de Amortizacion'!#REF!,8),IF(CALCULADORA!#REF!=20%,ROUND('Tabla de Amortizacion'!#REF!,8),ROUND('Tabla de Amortizacion'!K159,8))))))","v":{"$error":"#REF!"}}]
["2036-02-16",0,{"$f":"+VLOOKUP(A159,'Tabla de Amortizacion'!$D$2:$I$182,MATCH(Tablas!$B$1,'Tabla de Amortizacion'!$D$2:$I$2,0))","v":0},null,{"$f":"IF(CALCULADORA!#REF!=\"Contractual\",ROUND('Tabla de Amortizacion'!C160,8),IF(CALCULADORA!#REF!=\"6% (Medio)\",ROUND('Tabla de Amortizacion'!F160,8),IF(CALCULADORA!#REF!=\"10% (Medio Alto)\",ROUND('Tabla de Amortizacion'!H160,8),IF(CALCULADORA!#REF!=\"14% (Alto)\",ROUND('Tabla de Amortizacion'!#REF!,8),IF(CALCULADORA!#REF!=20%,ROUND('Tabla de Amortizacion'!#REF!,8),ROUND('Tabla de Amortizacion'!K160,8))))))","v":{"$error":"#REF!"}}]
["2036-03-16",0,{"$f":"+VLOOKUP(A160,'Tabla de Amortizacion'!$D$2:$I$182,MATCH(Tablas!$B$1,'Tabla de Amortizacion'!$D$2:$I$2,0))","v":0},null,{"$f":"IF(CALCULADORA!#REF!=\"Contractual\",ROUND('Tabla de Amortizacion'!C161,8),IF(CALCULADORA!#REF!=\"6% (Medio)\",ROUND('Tabla de Amortizacion'!F161,8),IF(CALCULADORA!#REF!=\"10% (Medio Alto)\",ROUND('Tabla de Amortizacion'!H161,8),IF(CALCULADORA!#REF!=\"14% (Alto)\",ROUND('Tabla de Amortizacion'!#REF!,8),IF(CALCULADORA!#REF!=20%,ROUND('Tabla de Amortizacion'!#REF!,8),ROUND('Tabla de Amortizacion'!K161,8))))))","v":{"$error":"#REF!"}}]
["2036-04-16",0,{"$f":"+VLOOKUP(A161,'Tabla de Amortizacion'!$D$2:$I$182,MATCH(Tablas!$B$1,'Tabla de Amortizacion'!$D$2:$I$2,0))","v":0},null,{"$f":"IF(CALCULADORA!#REF!=\"Contractual\",ROUND('Tabla de Amortizacion'!C162,8),IF(CALCULADORA!#REF!=\"6% (Medio)\",ROUND('Tabla de Amortizacion'!F162,8),IF(CALCULADORA!#REF!=\"10% (Medio Alto)\",ROUND('Tabla de Amortizacion'!H162,8),IF(CALCULADORA!#REF!=\"14% (Alto)\",ROUND('Tabla de Amortizacion'!#REF!,8),IF(CALCULADORA!#REF!=20%,ROUND('Tabla de Amortizacion'!#REF!,8),ROUND('Tabla de Amortizacion'!K162,8))))))","v":{"$error":"#REF!"}}]
["2036-05-16",0,{"$f":"+VLOOKUP(A162,'Tabla de Amortizacion'!$D$2:$I$182,MATCH(Tablas!$B$1,'Tabla de Amortizacion'!$D$2:$I$2,0))","v":0},null,{"$f":"IF(CALCULADORA!#REF!=\"Contractual\",ROUND('Tabla de Amortizacion'!C163,8),IF(CALCULADORA!#REF!=\"6% (Medio)\",ROUND('Tabla de Amortizacion'!F163,8),IF(CALCULADORA!#REF!=\"10% (Medio Alto)\",ROUND('Tabla de Amortizacion'!H163,8),IF(CALCULADORA!#REF!=\"14% (Alto)\",ROUND('Tabla de Amortizacion'!#REF!,8),IF(CALCULADORA!#REF!=20%,ROUND('Tabla de Amortizacion'!#REF!,8),ROUND('Tabla de Amortizacion'!K163,8))))))","v":{"$error":"#REF!"}}]
[{"$f":"EDATE(A162,1)","v":"2036-06-16"},0,{"$f":"+VLOOKUP(A163,'Tabla de Amortizacion'!$D$2:$I$182,MATCH(Tablas!$B$1,'Tabla de Amortizacion'!$D$2:$I$2,0))","v":0},null,{"$f":"IF(CALCULADORA!#REF!=\"Contractual\",ROUND('Tabla de Amortizacion'!C164,8),IF(CALCULADORA!#REF!=\"6% (Medio)\",ROUND('Tabla de Amortizacion'!F164,8),IF(CALCULADORA!#REF!=\"10% (Medio Alto)\",ROUND('Tabla de Amortizacion'!H164,8),IF(CALCULADORA!#REF!=\"14% (Alto)\",ROUND('Tabla de Amortizacion'!#REF!,8),IF(CALCULADORA!#REF!=20%,ROUND('Tabla de Amortizacion'!#REF!,8),ROUND('Tabla de Amortizacion'!K164,8))))))","v":{"$error":"#REF!"}}]
["2036-07-16",0,{"$f":"+VLOOKUP(A164,'Tabla de Amortizacion'!$D$2:$I$182,MATCH(Tablas!$B$1,'Tabla de Amortizacion'!$D$2:$I$2,0))","v":0},null,{"$f":"IF(CALCULADORA!#REF!=\"Contractual\",ROUND('Tabla de Amortizacion'!C165,8),IF(CALCULADORA!#REF!=\"6% (Medio)\",ROUND('Tabla de Amortizacion'!F165,8),IF(CALCULADORA!#REF!=\"10% (Medio Alto)\",ROUND('Tabla de Amortizacion'!H165,8),IF(CALCULADORA!#REF!=\"14% (Alto)\",ROUND('Tabla de Amortizacion'!#REF!,8),IF(CALCULADORA!#REF!=20%,ROUND('Tabla de Amortizacion'!#REF!,8),ROUND('Tabla de Amortizacion'!K165,8))))))","v":{"$error":"#REF!"}}]
["2036-08-16",0,{"$f":"+VLOOKUP(A165,'Tabla de Amortizacion'!$D$2:$I$182,MATCH(Tablas!$B$1,'Tabla de Amortizacion'!$D$2:$I$2,0))","v":0},null,{"$f":"IF(CALCULADORA!#REF!=\"Contractual\",ROUND('Tabla de Amortizacion'!C166,8),IF(CALCULADORA!#REF!=\"6% (Medio)\",ROUND('Tabla de Amortizacion'!F166,8),IF(CALCULADORA!#REF!=\"10% (Medio Alto)\",ROUND('Tabla de Amortizacion'!H166,8),IF(CALCULADORA!#REF!=\"14% (Alto)\",ROUND('Tabla de Amortizacion'!#REF!,8),IF(CALCULADORA!#REF!=20%,ROUND('Tabla de Amortizacion'!#REF!,8),ROUND('Tabla de Amortizacion'!K166,8))))))","v":{"$error":"#REF!"}}]
["2036-09-16",0,{"$f":"+VLOOKUP(A166,'Tabla de Amortizacion'!$D$2:$I$182,MATCH(Tablas!$B$1,'Tabla de Amortizacion'!$D$2:$I$2,0))","v":0},null,{"$f":"IF(CALCULADORA!#REF!=\"Contractual\",ROUND('Tabla de Amortizacion'!C167,8),IF(CALCULADORA!#REF!=\"6% (Medio)\",ROUND('Tabla de Amortizacion'!F167,8),IF(CALCULADORA!#REF!=\"10% (Medio Alto)\",ROUND('Tabla de Amortizacion'!H167,8),IF(CALCULADORA!#REF!=\"14% (Alto)\",ROUND('Tabla de Amortizacion'!#REF!,8),IF(CALCULADORA!#REF!=20%,ROUND('Tabla de Amortizacion'!#REF!,8),ROUND('Tabla de Amortizacion'!K167,8))))))","v":{"$error":"#REF!"}}]
["2036-10-16",0,{"$f":"+VLOOKUP(A167,'Tabla de Amortizacion'!$D$2:$I$182,MATCH(Tablas!$B$1,'Tabla de Amortizacion'!$D$2:$I$2,0))","v":0},null,{"$f":"IF(CALCULADORA!#REF!=\"Contractual\",ROUND('Tabla de Amortizacion'!C168,8),IF(CALCULADORA!#REF!=\"6% (Medio)\",ROUND('Tabla de Amortizacion'!F168,8),IF(CALCULADORA!#REF!=\"10% (Medio Alto)\",ROUND('Tabla de Amortizacion'!H168,8),IF(CALCULADORA!#REF!=\"14% (Alto)\",ROUND('Tabla de Amortizacion'!#REF!,8),IF(CALCULADORA!#REF!=20%,ROUND('Tabla de Amortizacion'!#REF!,8),ROUND('Tabla de Amortizacion'!K168,8))))))","v":{"$error":"#REF!"}}]
["2036-11-16",0,{"$f":"+VLOOKUP(A168,'Tabla de Amortizacion'!$D$2:$I$182,MATCH(Tablas!$B$1,'Tabla de Amortizacion'!$D$2:$I$2,0))","v":0},null,{"$f":"IF(CALCULADORA!#REF!=\"Contractual\",ROUND('Tabla de Amortizacion'!C169,8),IF(CALCULADORA!#REF!=\"6% (Medio)\",ROUND('Tabla de Amortizacion'!F169,8),IF(CALCULADORA!#REF!=\"10% (Medio Alto)\",ROUND('Tabla de Amortizacion'!H169,8),IF(CALCULADORA!#REF!=\"14% (Alto)\",ROUND('Tabla de Amortizacion'!#REF!,8),IF(CALCULADORA!#REF!=20%,ROUND('Tabla de Amortizacion'!#REF!,8),ROUND('Tabla de Amortizacion'!K169,8))))))","v":{"$error":"#REF!"}}]
["2036-12-16",0,{"$f":"+VLOOKUP(A169,'Tabla de Amortizacion'!$D$2:$I$182,MATCH(Tablas!$B$1,'Tabla de Amortizacion'!$D$2:$I$2,0))","v":0},null,{"$f":"IF(CALCULADORA!#REF!=\"Contractual\",ROUND('Tabla de Amortizacion'!C170,8),IF(CALCULADORA!#REF!=\"6% (Medio)\",ROUND('Tabla de Amortizacion'!F170,8),IF(CALCULADORA!#REF!=\"10% (Medio Alto)\",ROUND('Tabla de Amortizacion'!H170,8),IF(CALCULADORA!#REF!=\"14% (Alto)\",ROUND('Tabla de Amortizacion'!#REF!,8),IF(CALCULADORA!#REF!=20%,ROUND('Tabla de Amortizacion'!#REF!,8),ROUND('Tabla de Amortizacion'!K170,8))))))","v":{"$error":"#REF!"}}]
["2037-01-16",0,{"$f":"+VLOOKUP(A170,'Tabla de Amortizacion'!$D$2:$I$182,MATCH(Tablas!$B$1,'Tabla de Amortizacion'!$D$2:$I$2,0))","v":0},null,{"$f":"IF(CALCULADORA!#REF!=\"Contractual\",ROUND('Tabla de Amortizacion'!C171,8),IF(CALCULADORA!#REF!=\"6% (Medio)\",ROUND('Tabla de Amortizacion'!F171,8),IF(CALCULADORA!#REF!=\"10% (Medio Alto)\",ROUND('Tabla de Amortizacion'!H171,8),IF(CALCULADORA!#REF!=\"14% (Alto)\",ROUND('Tabla de Amortizacion'!#REF!,8),IF(CALCULADORA!#REF!=20%,ROUND('Tabla de Amortizacion'!#REF!,8),ROUND('Tabla de Amortizacion'!K171,8))))))","v":{"$error":"#REF!"}}]
["2037-02-16",0,{"$f":"+VLOOKUP(A171,'Tabla de Amortizacion'!$D$2:$I$182,MATCH(Tablas!$B$1,'Tabla de Amortizacion'!$D$2:$I$2,0))","v":0},null,{"$f":"IF(CALCULADORA!#REF!=\"Contractual\",ROUND('Tabla de Amortizacion'!C172,8),IF(CALCULADORA!#REF!=\"6% (Medio)\",ROUND('Tabla de Amortizacion'!F172,8),IF(CALCULADORA!#REF!=\"10% (Medio Alto)\",ROUND('Tabla de Amortizacion'!H172,8),IF(CALCULADORA!#REF!=\"14% (Alto)\",ROUND('Tabla de Amortizacion'!#REF!,8),IF(CALCULADORA!#REF!=20%,ROUND('Tabla de Amortizacion'!#REF!,8),ROUND('Tabla de Amortizacion'!K172,8))))))","v":{"$error":"#REF!"}}]
["2037-03-16",0,{"$f":"+VLOOKUP(A172,'Tabla de Amortizacion'!$D$2:$I$182,MATCH(Tablas!$B$1,'Tabla de Amortizacion'!$D$2:$I$2,0))","v":0},null,{"$f":"IF(CALCULADORA!#REF!=\"Contractual\",ROUND('Tabla de Amortizacion'!C173,8),IF(CALCULADORA!#REF!=\"6% (Medio)\",ROUND('Tabla de Amortizacion'!F173,8),IF(CALCULADORA!#REF!=\"10% (Medio Alto)\",ROUND('Tabla de Amortizacion'!H173,8),IF(CALCULADORA!#REF!=\"14% (Alto)\",ROUND('Tabla de Amortizacion'!#REF!,8),IF(CALCULADORA!#REF!=20%,ROUND('Tabla de Amortizacion'!#REF!,8),ROUND('Tabla de Amortizacion'!K173,8))))))","v":{"$error":"#REF!"}}]
["2037-04-16",0,{"$f":"+VLOOKUP(A173,'Tabla de Amortizacion'!$D$2:$I$182,MATCH(Tablas!$B$1,'Tabla de Amortizacion'!$D$2:$I$2,0))","v":0},null,{"$f":"IF(CALCULADORA!#REF!=\"Contractual\",ROUND('Tabla de Amortizacion'!C174,8),IF(CALCULADORA!#REF!=\"6% (Medio)\",ROUND('Tabla de Amortizacion'!F174,8),IF(CALCULADORA!#REF!=\"10% (Medio Alto)\",ROUND('Tabla de Amortizacion'!H174,8),IF(CALCULADORA!#REF!=\"14% (Alto)\",ROUND('Tabla de Amortizacion'!#REF!,8),IF(CALCULADORA!#REF!=20%,ROUND('Tabla de Amortizacion'!#REF!,8),ROUND('Tabla de Amortizacion'!K174,8))))))","v":{"$error":"#REF!"}}]
["2037-05-16",0,{"$f":"+VLOOKUP(A174,'Tabla de Amortizacion'!$D$2:$I$182,MATCH(Tablas!$B$1,'Tabla de Amortizacion'!$D$2:$I$2,0))","v":0},null,{"$f":"IF(CALCULADORA!#REF!=\"Contractual\",ROUND('Tabla de Amortizacion'!C175,8),IF(CALCULADORA!#REF!=\"6% (Medio)\",ROUND('Tabla de Amortizacion'!F175,8),IF(CALCULADORA!#REF!=\"10% (Medio Alto)\",ROUND('Tabla de Amortizacion'!H175,8),IF(CALCULADORA!#REF!=\"14% (Alto)\",ROUND('Tabla de Amortizacion'!#REF!,8),IF(CALCULADORA!#REF!=20%,ROUND('Tabla de Amortizacion'!#REF!,8),ROUND('Tabla de Amortizacion'!K175,8))))))","v":{"$error":"#REF!"}}]
["2037-06-16",0,{"$f":"+VLOOKUP(A175,'Tabla de Amortizacion'!$D$2:$I$182,MATCH(Tablas!$B$1,'Tabla de Amortizacion'!$D$2:$I$2,0))","v":0},null,{"$f":"IF(CALCULADORA!#REF!=\"Contractual\",ROUND('Tabla de Amortizacion'!C176,8),IF(CALCULADORA!#REF!=\"6% (Medio)\",ROUND('Tabla de Amortizacion'!F176,8),IF(CALCULADORA!#REF!=\"10% (Medio Alto)\",ROUND('Tabla de Amortizacion'!H176,8),IF(CALCULADORA!#REF!=\"14% (Alto)\",ROUND('Tabla de Amortizacion'!#REF!,8),IF(CALCULADORA!#REF!=20%,ROUND('Tabla de Amortizacion'!#REF!,8),ROUND('Tabla de Amortizacion'!K176,8))))))","v":{"$error":"#REF!"}}]
["2037-07-16",0,{"$f":"+VLOOKUP(A176,'Tabla de Amortizacion'!$D$2:$I$182,MATCH(Tablas!$B$1,'Tabla de Amortizacion'!$D$2:$I$2,0))","v":0},null,{"$f":"IF(CALCULADORA!#REF!=\"Contractual\",ROUND('Tabla de Amortizacion'!C177,8),IF(CALCULADORA!#REF!=\"6% (Medio)\",ROUND('Tabla de Amortizacion'!F177,8),IF(CALCULADORA!#REF!=\"10% (Medio Alto)\",ROUND('Tabla de Amortizacion'!H177,8),IF(CALCULADORA!#REF!=\"14% (Alto)\",ROUND('Tabla de Amortizacion'!#REF!,8),IF(CALCULADORA!#REF!=20%,ROUND('Tabla de Amortizacion'!#REF!,8),ROUND('Tabla de Amortizacion'!K177,8))))))","v":{"$error":"#REF!"}}]
["2037-08-16",0,{"$f":"+VLOOKUP(A177,'Tabla de Amortizacion'!$D$2:$I$182,MATCH(Tablas!$B$1,'Tabla de Amortizacion'!$D$2:$I$2,0))","v":0},null,{"$f":"IF(CALCULADORA!#REF!=\"Contractual\",ROUND('Tabla de Amortizacion'!C178,8),IF(CALCULADORA!#REF!=\"6% (Medio)\",ROUND('Tabla de Amortizacion'!F178,8),IF(CALCULADORA!#REF!=\"10% (Medio Alto)\",ROUND('Tabla de Amortizacion'!H178,8),IF(CALCULADORA!#REF!=\"14% (Alto)\",ROUND('Tabla de Amortizacion'!#REF!,8),IF(CALCULADORA!#REF!=20%,ROUND('Tabla de Amortizacion'!#REF!,8),ROUND('Tabla de Amortizacion'!K178,8))))))","v":{"$error":"#REF!"}}]
["2037-09-16",0,{"$f":"+VLOOKUP(A178,'Tabla de Amortizacion'!$D$2:$I$182,MATCH(Tablas!$B$1,'Tabla de Amortizacion'!$D$2:$I$2,0))","v":0},null,{"$f":"IF(CALCULADORA!#REF!=\"Contractual\",ROUND('Tabla de Amortizacion'!C179,8),IF(CALCULADORA!#REF!=\"6% (Medio)\",ROUND('Tabla de Amortizacion'!F179,8),IF(CALCULADORA!#REF!=\"10% (Medio Alto)\",ROUND('Tabla de Amortizacion'!H179,8),IF(CALCULADORA!#REF!=\"14% (Alto)\",ROUND('Tabla de Amortizacion'!#REF!,8),IF(CALCULADORA!#REF!=20%,ROUND('Tabla de Amortizacion'!#REF!,8),ROUND('Tabla de Amortizacion'!K179,8))))))","v":{"$error":"#REF!"}}]
["2037-10-16",0,{"$f":"+VLOOKUP(A179,'Tabla de Amortizacion'!$D$2:$I$182,MATCH(Tablas!$B$1,'Tabla de Amortizacion'!$D$2:$I$2,0))","v":0},null,{"$f":"IF(CALCULADORA!#REF!=\"Contractual\",ROUND('Tabla de Amortizacion'!C180,8),IF(CALCULADORA!#REF!=\"6% (Medio)\",ROUND('Tabla de Amortizacion'!F180,8),IF(CALCULADORA!#REF!=\"10% (Medio Alto)\",ROUND('Tabla de Amortizacion'!H180,8),IF(CALCULADORA!#REF!=\"14% (Alto)\",ROUND('Tabla de Amortizacion'!#REF!,8),IF(CALCULADORA!#REF!=20%,ROUND('Tabla de Amortizacion'!#REF!,8),ROUND('Tabla de Amortizacion'!K180,8))))))","v":{"$error":"#REF!"}}]
["2037-11-16",0,{"$f":"+VLOOKUP(A180,'Tabla de Amortizacion'!$D$2:$I$182,MATCH(Tablas!$B$1,'Tabla de Amortizacion'!$D$2:$I$2,0))","v":0},null,{"$f":"IF(CALCULADORA!#REF!=\"Contractual\",ROUND('Tabla de Amortizacion'!C181,8),IF(CALCULADORA!#REF!=\"6% (Medio)\",ROUND('Tabla de Amortizacion'!F181,8),IF(CALCULADORA!#REF!=\"10% (Medio Alto)\",ROUND('Tabla de Amortizacion'!H181,8),IF(CALCULADORA!#REF!=\"14% (Alto)\",ROUND('Tabla de Amortizacion'!#REF!,8),IF(CALCULADORA!#REF!=20%,ROUND('Tabla de Amortizacion'!#REF!,8),ROUND('Tabla de Amortizacion'!K181,8))))))","v":{"$error":"#REF!"}}]
["2037-12-16",0,{"$f":"+VLOOKUP(A181,'Tabla de Amortizacion'!$D$2:$I$182,MATCH(Tablas!$B$1,'Tabla de Amortizacion'!$D$2:$I$2,0))","v":0},null,{"$f":"IF(CALCULADORA!#REF!=\"Contractual\",ROUND('Tabla de Amortizacion'!C182,8),IF(CALCULADORA!#REF!=\"6% (Medio)\",ROUND('Tabla de Amortizacion'!F182,8),IF(CALCULADORA!#REF!=\"10% (Medio Alto)\",ROUND('Tabla de Amortizacion'!H182,8),IF(CALCULADORA!#REF!=\"14% (Alto)\",ROUND('Tabla de Amortizacion'!#REF!,8),IF(CALCULADORA!#REF!=20%,ROUND('Tabla de Amortizacion'!#REF!,8),ROUND('Tabla de Amortizacion'!K182,8))))))","v":{"$error":"#REF!"}}]